{"text_format":"1","workbook":"xlsx","n_sheets":8,"sheets":["Instructions","NR-PI 2.0 Structure","P Index Inputs","Calculations","Results","PSt Calculator","Cell References","Soils Info"],"not_rendered":{"charts":2,"images":2,"macros":1,"external_links":4,"defined_names":150,"comments":0,"pivot_tables":0},"unopened":[],"bounds":{"document_bytes":16777216,"sheet_cells":100000,"rows_first":2000,"rows_last":500,"rows_between":2000,"halvings":0,"cell_chars":16384,"cell_head_chars":4096},"cells_cut":0,"cells_raw":0,"read":"whole","date_system":"1900"}

{"sheet":"Instructions","index":0,"n_rows":0,"n_cols":0,"rows_kept":0,"cut":false,"hidden":false,"merged":[]}

{"sheet":"NR-PI 2.0 Structure","index":1,"n_rows":45,"n_cols":15,"rows_kept":45,"cut":false,"hidden":false,"merged":[[44,1,44,4],[42,1,42,4],[41,1,41,4],[20,5,20,7],[0,9,0,14],[20,9,20,14],[22,9,23,14],[0,5,0,7],[2,5,2,7],[2,11,2,14],[0,1,0,4],[2,1,2,3],[29,1,29,3],[9,1,9,2],[17,1,17,3]]}
[null,"1) Transport factors",null,null,null,"2) Best/beneficial management practices (BMPs)",null,null,null,"3) Overall interpretation"]
[]
[null,"Flow distance (FD) to stream or ditch",null,null,null,"Method of applications",null,null,null,"P loss risk","Final PI score","Morgan soil test P (lbs/acre)"]
[null,"Class","Distance (ft)","Coefficient",null,"Class","Value","Coefficient",null,null,null,"< 40","40-100","101-160","≥ 160"]
[null,"Far","> 500",0,null,"Surface spread without setback","Surface",1,null,"Low","< 50","N-based","N-based","P-based","Zero P"]
[null,"Medium","301 - 500",4,null,"Surface spread with 100 ft setback","Surface + setback",0.8,null,"Medium","50 to 74","N-based","P-based","Zero P","Zero P"]
[null,"Close","101 - 300",6,null,"Surface spread with managed (sod, harvested) vegetative setback","Surface + veg. setback",0.7,null,"High","75 to 99","P-based","P-based","Zero P","Zero P"]
[null,"Very close"," ≤ 100",8,null,"Incorporation (within 24 h and with 15 ft setback)","Incorporation",0.7,null,"Very high","≥ 100","Zero P","Zero P","Zero P","Zero P"]
[null,null,null,null,null,"Injection (with 15 ft setback)","Injection",0.5]
[null,"Flooding Frequency (FF)"]
[null,"Class","Coefficient"]
[null,"Rare",0,null,null,"Ground cover and timing"]
[null,"None",0,null,null,"Class","Value","Coefficient"]
[null,"Never",0,null,null,"Bare ground and more than 2 weeks from planting","Outside 2 wk of plant",1]
[null,"Occasional",2,null,null,"Bare ground and within 2 weeks of planting (in spring)","Within 2 wk of plant",0.8]
[null,"Frequent",5,null,null,"Winter-hardy cover crop (fall/winter)","Cover crop",0.8]
[null,null,null,null,null,"Whole-plant corn residue (fall/winter)","Corn residue",0.7]
[null,"Untreated Concentrated flow (CF)",null,null,null,"Sod after last cutting (fall/winter)","Sod after cutting",0.6]
[null,"Class","Value","Coefficient",null,"Growing sod or row crop/planting green","Growing sod or crop",0.5]
[null,"Absent",false,0]
[null,"Present",true,4,null,"BMP score = method × ground cover and timing score",null,null,null,"Final PI score = raw transport factor score‡ × 10⁺ × BMP score"]
[null,null,null,null,null,null,null,null,null,"⁺Raw Transport Factor Score x 10 = Total Raw P Index Score"]
[null,"Hydrologic Soil Group (HSG)",null,null,null,null,null,null,null,"‡ The management implication is determined by the greater of the two DP and PP scores in (1). Both scores must be below 100 for manure or fertilizer P to be applied."]
[null,"Class","DP † Coefficient","PP † Coefficient"]
[null,"A",0,0]
[null,"B",4,1]
[null,"C",6,3]
[null,"D",8,5]
[]
[null,"Erosion (E)"]
[null,"Class","Value (tons/acre)","Coefficient"]
[null,"Low"," ≤ 1",0]
[null,"Medium",">1 - 3",1]
[null,"High",">3 - 5",3]
[null,"Very high","> 5",5]
[]
[null,"Vegetated buffer (VB)",null,"DP †","PP †"]
[null,"Class","Distance (ft)","Coefficient","Coefficient"]
[null,"Absent","< 35",0,0]
[null,"Present","≥ 35",-2,-4]
[]
[null,"DP score = FD + FF + CF + HSG-DP + VBDP"]
[null,"PP score = FD + FF + CF + HSGPP + E + VBPP"]
[]
[null,"† DP = dissolved phosphorus; PP = particulate phosphorus"]

{"sheet":"P Index Inputs","index":2,"n_rows":305,"n_cols":36,"rows_kept":305,"cut":false,"hidden":false,"merged":[[3,2,3,8],[2,28,2,30],[2,31,2,33],[2,25,2,27],[3,20,3,21],[3,22,3,24],[3,17,3,19],[3,9,3,16]]}
[]
[]
["Fill in gray cells.",null,"Light gray cells are inputs that do not affect P Index results.",null,null,null,null,"Dark gray cells are inputs that do affect P Index results.",null,null,null,null,null,null,null,null,null,null,null,null,null,null,null,null,null,"Implication in total acres",null,null,"Implication acres sod crops",null,null,"Implication acres row crops"]
["Select State",null,"Field Information",null,null,null,null,null,null,"Transport factors",null,null,null,null,null,null,null,"Best/Beneficial Management Practices",null,null,"Raw P Index",null,"Overall P Index",null,null,"N-based","P-based","Zero P","N-based","P-based","Zero P","N-based","P-based","Zero P"]
["Year ","Grower ","Field ID","Crop","Crop Type","Field size Acres","Soil Survey Area","Soil Type","Soil test P lbs/acre (Morgan or Modified Morgan)","Flow Distance (ft)","Flooding Frequency","Selected Flooding Frequency","Untreated Concentrated Flow","Hydrologic Soil Group","Selected Hydrologic Soil Group","Erosion","Vegetated Flow Distance (ft)","BMP: Method of Applications","BMP: Ground Cover/Timing","Final BMP score","Raw PI score","Raw P Loss Risk","Overall PI Score","P loss risk","Management Implication",{"$f":"Calculations!AI3","v":0},{"$f":"Calculations!AJ3","v":0},{"$f":"Calculations!AK3","v":0},{"$f":"Calculations!AL3","v":0},{"$f":"Calculations!AM3","v":0},{"$f":"Calculations!AN3","v":0},{"$f":"Calculations!AO3","v":0},{"$f":"Calculations!AP3","v":0},{"$f":"Calculations!AQ3","v":0}]
[null,null,null,null,null,null,null,null,null,null,{"$f":"IFERROR(IF(ISBLANK(VLOOKUP($G6&\" \"&$H6,States_Soils,3,FALSE)),\"-\",(VLOOKUP($G6&\" \"&$H6,States_Soils,3,FALSE))),\"-\")","v":"-"},null,null,{"$f":"IFERROR(IF(ISBLANK(VLOOKUP($G6&\" \"&$H6,States_Soils,4,FALSE)),\"-\",(VLOOKUP($G6&\" \"&$H6,States_Soils,4,FALSE))),\"-\")","v":"-"},null,null,null,null,null,{"$f":"Calculations!AE4","v":"-"},{"$f":"Calculations!Y4","v":"-"},{"$f":"Calculations!Z4","v":"N/A"},{"$f":"Calculations!AF4","v":"-"},{"$f":"Calculations!AG4","v":"N/A"},{"$f":"Calculations!AH4","v":"N/A"},{"$f":"Calculations!AI4","v":0},{"$f":"Calculations!AJ4","v":0},{"$f":"Calculations!AK4","v":0},{"$f":"Calculations!AL4","v":0},{"$f":"Calculations!AM4","v":0},{"$f":"Calculations!AN4","v":0},{"$f":"Calculations!AO4","v":0},{"$f":"Calculations!AP4","v":0},{"$f":"Calculations!AQ4","v":0},"Total P index"]
[null,null,null,null,null,null,null,null,null,null,"-",null,null,"-",null,null,null,null,null,{"$f":"Calculations!AE5","v":"-"},{"$f":"Calculations!Y5","v":"-"},{"$f":"Calculations!Z5","v":"N/A"},{"$f":"Calculations!AF5","v":"-"},{"$f":"Calculations!AG5","v":"N/A"},{"$f":"Calculations!AH5","v":"N/A"},{"$f":"Calculations!AI5","v":0},{"$f":"Calculations!AJ5","v":0},{"$f":"Calculations!AK5","v":0},{"$f":"Calculations!AL5","v":0},{"$f":"Calculations!AM5","v":0},{"$f":"Calculations!AN5","v":0},{"$f":"Calculations!AO5","v":0},{"$f":"Calculations!AP5","v":0},{"$f":"Calculations!AQ5","v":0},"N-based",{"$f":"(Z5/SUM(Z5:AB5)*100)","v":{"$error":"#DIV/0!"}}]
[null,null,null,null,null,null,null,null,null,null,"-",null,null,"-",null,null,null,null,null,{"$f":"Calculations!AE6","v":"-"},{"$f":"Calculations!Y6","v":"-"},{"$f":"Calculations!Z6","v":"N/A"},{"$f":"Calculations!AF6","v":"-"},{"$f":"Calculations!AG6","v":"N/A"},{"$f":"Calculations!AH6","v":"N/A"},{"$f":"Calculations!AI6","v":0},{"$f":"Calculations!AJ6","v":0},{"$f":"Calculations!AK6","v":0},{"$f":"Calculations!AL6","v":0},{"$f":"Calculations!AM6","v":0},{"$f":"Calculations!AN6","v":0},{"$f":"Calculations!AO6","v":0},{"$f":"Calculations!AP6","v":0},{"$f":"Calculations!AQ6","v":0},"P-based",{"$f":"(AA5/SUM(Z5:AB5)*100)","v":{"$error":"#DIV/0!"}}]
[null,null,null,null,null,null,null,null,null,null,"-",null,null,"-",null,null,null,null,null,{"$f":"Calculations!AE7","v":"-"},{"$f":"Calculations!Y7","v":"-"},{"$f":"Calculations!Z7","v":"N/A"},{"$f":"Calculations!AF7","v":"-"},{"$f":"Calculations!AG7","v":"N/A"},{"$f":"Calculations!AH7","v":"N/A"},{"$f":"Calculations!AI7","v":0},{"$f":"Calculations!AJ7","v":0},{"$f":"Calculations!AK7","v":0},{"$f":"Calculations!AL7","v":0},{"$f":"Calculations!AM7","v":0},{"$f":"Calculations!AN7","v":0},{"$f":"Calculations!AO7","v":0},{"$f":"Calculations!AP7","v":0},{"$f":"Calculations!AQ7","v":0},"Zero P",{"$f":"(AB5/SUM(Z5:AB5)*100)","v":{"$error":"#DIV/0!"}}]
[null,null,null,null,null,null,null,null,null,null,"-",null,null,"-",null,null,null,null,null,{"$f":"Calculations!AE8","v":"-"},{"$f":"Calculations!Y8","v":"-"},{"$f":"Calculations!Z8","v":"N/A"},{"$f":"Calculations!AF8","v":"-"},{"$f":"Calculations!AG8","v":"N/A"},{"$f":"Calculations!AH8","v":"N/A"},{"$f":"Calculations!AI8","v":0},{"$f":"Calculations!AJ8","v":0},{"$f":"Calculations!AK8","v":0},{"$f":"Calculations!AL8","v":0},{"$f":"Calculations!AM8","v":0},{"$f":"Calculations!AN8","v":0},{"$f":"Calculations!AO8","v":0},{"$f":"Calculations!AP8","v":0},{"$f":"Calculations!AQ8","v":0}]
[null,null,null,null,null,null,null,null,null,null,"-",null,null,"-",null,null,null,null,null,{"$f":"Calculations!AE9","v":"-"},{"$f":"Calculations!Y9","v":"-"},{"$f":"Calculations!Z9","v":"N/A"},{"$f":"Calculations!AF9","v":"-"},{"$f":"Calculations!AG9","v":"N/A"},{"$f":"Calculations!AH9","v":"N/A"},{"$f":"Calculations!AI9","v":0},{"$f":"Calculations!AJ9","v":0},{"$f":"Calculations!AK9","v":0},{"$f":"Calculations!AL9","v":0},{"$f":"Calculations!AM9","v":0},{"$f":"Calculations!AN9","v":0},{"$f":"Calculations!AO9","v":0},{"$f":"Calculations!AP9","v":0},{"$f":"Calculations!AQ9","v":0},"Sod crops P index"]
[null,null,null,null,null,null,null,null,null,null,"-",null,null,"-",null,null,null,null,null,{"$f":"Calculations!AE10","v":"-"},{"$f":"Calculations!Y10","v":"-"},{"$f":"Calculations!Z10","v":"N/A"},{"$f":"Calculations!AF10","v":"-"},{"$f":"Calculations!AG10","v":"N/A"},{"$f":"Calculations!AH10","v":"N/A"},{"$f":"Calculations!AI10","v":0},{"$f":"Calculations!AJ10","v":0},{"$f":"Calculations!AK10","v":0},{"$f":"Calculations!AL10","v":0},{"$f":"Calculations!AM10","v":0},{"$f":"Calculations!AN10","v":0},{"$f":"Calculations!AO10","v":0},{"$f":"Calculations!AP10","v":0},{"$f":"Calculations!AQ10","v":0},"N-based",{"$f":"AC5/SUM(AC5:AE5)*100","v":{"$error":"#DIV/0!"}}]
[null,null,null,null,null,null,null,null,null,null,"-",null,null,"-",null,null,null,null,null,{"$f":"Calculations!AE11","v":"-"},{"$f":"Calculations!Y11","v":"-"},{"$f":"Calculations!Z11","v":"N/A"},{"$f":"Calculations!AF11","v":"-"},{"$f":"Calculations!AG11","v":"N/A"},{"$f":"Calculations!AH11","v":"N/A"},{"$f":"Calculations!AI11","v":0},{"$f":"Calculations!AJ11","v":0},{"$f":"Calculations!AK11","v":0},{"$f":"Calculations!AL11","v":0},{"$f":"Calculations!AM11","v":0},{"$f":"Calculations!AN11","v":0},{"$f":"Calculations!AO11","v":0},{"$f":"Calculations!AP11","v":0},{"$f":"Calculations!AQ11","v":0},"P-based",{"$f":"AD5/SUM(AC5:AE5)*100","v":{"$error":"#DIV/0!"}}]
[null,null,null,null,null,null,null,null,null,null,"-",null,null,"-",null,null,null,null,null,{"$f":"Calculations!AE12","v":"-"},{"$f":"Calculations!Y12","v":"-"},{"$f":"Calculations!Z12","v":"N/A"},{"$f":"Calculations!AF12","v":"-"},{"$f":"Calculations!AG12","v":"N/A"},{"$f":"Calculations!AH12","v":"N/A"},{"$f":"Calculations!AI12","v":0},{"$f":"Calculations!AJ12","v":0},{"$f":"Calculations!AK12","v":0},{"$f":"Calculations!AL12","v":0},{"$f":"Calculations!AM12","v":0},{"$f":"Calculations!AN12","v":0},{"$f":"Calculations!AO12","v":0},{"$f":"Calculations!AP12","v":0},{"$f":"Calculations!AQ12","v":0},"Zero P",{"$f":"AE5/SUM(AC5:AE5)*100","v":{"$error":"#DIV/0!"}}]
[null,null,null,null,null,null,null,null,null,null,"-",null,null,"-",null,null,null,null,null,{"$f":"Calculations!AE13","v":"-"},{"$f":"Calculations!Y13","v":"-"},{"$f":"Calculations!Z13","v":"N/A"},{"$f":"Calculations!AF13","v":"-"},{"$f":"Calculations!AG13","v":"N/A"},{"$f":"Calculations!AH13","v":"N/A"},{"$f":"Calculations!AI13","v":0},{"$f":"Calculations!AJ13","v":0},{"$f":"Calculations!AK13","v":0},{"$f":"Calculations!AL13","v":0},{"$f":"Calculations!AM13","v":0},{"$f":"Calculations!AN13","v":0},{"$f":"Calculations!AO13","v":0},{"$f":"Calculations!AP13","v":0},{"$f":"Calculations!AQ13","v":0}]
[null,null,null,null,null,null,null,null,null,null,"-",null,null,"-",null,null,null,null,null,{"$f":"Calculations!AE14","v":"-"},{"$f":"Calculations!Y14","v":"-"},{"$f":"Calculations!Z14","v":"N/A"},{"$f":"Calculations!AF14","v":"-"},{"$f":"Calculations!AG14","v":"N/A"},{"$f":"Calculations!AH14","v":"N/A"},{"$f":"Calculations!AI14","v":0},{"$f":"Calculations!AJ14","v":0},{"$f":"Calculations!AK14","v":0},{"$f":"Calculations!AL14","v":0},{"$f":"Calculations!AM14","v":0},{"$f":"Calculations!AN14","v":0},{"$f":"Calculations!AO14","v":0},{"$f":"Calculations!AP14","v":0},{"$f":"Calculations!AQ14","v":0},"Row crops P index"]
[null,null,null,null,null,null,null,null,null,null,"-",null,null,"-",null,null,null,null,null,{"$f":"Calculations!AE15","v":"-"},{"$f":"Calculations!Y15","v":"-"},{"$f":"Calculations!Z15","v":"N/A"},{"$f":"Calculations!AF15","v":"-"},{"$f":"Calculations!AG15","v":"N/A"},{"$f":"Calculations!AH15","v":"N/A"},{"$f":"Calculations!AI15","v":0},{"$f":"Calculations!AJ15","v":0},{"$f":"Calculations!AK15","v":0},{"$f":"Calculations!AL15","v":0},{"$f":"Calculations!AM15","v":0},{"$f":"Calculations!AN15","v":0},{"$f":"Calculations!AO15","v":0},{"$f":"Calculations!AP15","v":0},{"$f":"Calculations!AQ15","v":0},"N-based",{"$f":"AF5/SUM(AF5:AH5)*100","v":{"$error":"#DIV/0!"}}]
[null,null,null,null,null,null,null,null,null,null,"-",null,null,"-",null,null,null,null,null,{"$f":"Calculations!AE16","v":"-"},{"$f":"Calculations!Y16","v":"-"},{"$f":"Calculations!Z16","v":"N/A"},{"$f":"Calculations!AF16","v":"-"},{"$f":"Calculations!AG16","v":"N/A"},{"$f":"Calculations!AH16","v":"N/A"},{"$f":"Calculations!AI16","v":0},{"$f":"Calculations!AJ16","v":0},{"$f":"Calculations!AK16","v":0},{"$f":"Calculations!AL16","v":0},{"$f":"Calculations!AM16","v":0},{"$f":"Calculations!AN16","v":0},{"$f":"Calculations!AO16","v":0},{"$f":"Calculations!AP16","v":0},{"$f":"Calculations!AQ16","v":0},"P-based",{"$f":"AG5/SUM(AF5:AH5)*100","v":{"$error":"#DIV/0!"}}]
[null,null,null,null,null,null,null,null,null,null,"-",null,null,"-",null,null,null,null,null,{"$f":"Calculations!AE17","v":"-"},{"$f":"Calculations!Y17","v":"-"},{"$f":"Calculations!Z17","v":"N/A"},{"$f":"Calculations!AF17","v":"-"},{"$f":"Calculations!AG17","v":"N/A"},{"$f":"Calculations!AH17","v":"N/A"},{"$f":"Calculations!AI17","v":0},{"$f":"Calculations!AJ17","v":0},{"$f":"Calculations!AK17","v":0},{"$f":"Calculations!AL17","v":0},{"$f":"Calculations!AM17","v":0},{"$f":"Calculations!AN17","v":0},{"$f":"Calculations!AO17","v":0},{"$f":"Calculations!AP17","v":0},{"$f":"Calculations!AQ17","v":0},"Zero P",{"$f":"AH5/SUM(AF5:AH5)*100","v":{"$error":"#DIV/0!"}}]
[null,null,null,null,null,null,null,null,null,null,null,null,null,"-",null,null,null,null,null,{"$f":"Calculations!AE18","v":"-"},{"$f":"Calculations!Y18","v":"-"},{"$f":"Calculations!Z18","v":"N/A"},{"$f":"Calculations!AF18","v":"-"},{"$f":"Calculations!AG18","v":"N/A"},{"$f":"Calculations!AH18","v":"N/A"},{"$f":"Calculations!AI18","v":0},{"$f":"Calculations!AJ18","v":0},{"$f":"Calculations!AK18","v":0},{"$f":"Calculations!AL18","v":0},{"$f":"Calculations!AM18","v":0},{"$f":"Calculations!AN18","v":0},{"$f":"Calculations!AO18","v":0},{"$f":"Calculations!AP18","v":0},{"$f":"Calculations!AQ18","v":0}]
[null,null,null,null,null,null,null,null,null,null,"-",null,null,"-",null,null,null,null,null,{"$f":"Calculations!AE19","v":"-"},{"$f":"Calculations!Y19","v":"-"},{"$f":"Calculations!Z19","v":"N/A"},{"$f":"Calculations!AF19","v":"-"},{"$f":"Calculations!AG19","v":"N/A"},{"$f":"Calculations!AH19","v":"N/A"},{"$f":"Calculations!AI19","v":0},{"$f":"Calculations!AJ19","v":0},{"$f":"Calculations!AK19","v":0},{"$f":"Calculations!AL19","v":0},{"$f":"Calculations!AM19","v":0},{"$f":"Calculations!AN19","v":0},{"$f":"Calculations!AO19","v":0},{"$f":"Calculations!AP19","v":0},{"$f":"Calculations!AQ19","v":0}]
[null,null,null,null,null,null,null,null,null,null,"-",null,null,"-",null,null,null,null,null,{"$f":"Calculations!AE20","v":"-"},{"$f":"Calculations!Y20","v":"-"},{"$f":"Calculations!Z20","v":"N/A"},{"$f":"Calculations!AF20","v":"-"},{"$f":"Calculations!AG20","v":"N/A"},{"$f":"Calculations!AH20","v":"N/A"},{"$f":"Calculations!AI20","v":0},{"$f":"Calculations!AJ20","v":0},{"$f":"Calculations!AK20","v":0},{"$f":"Calculations!AL20","v":0},{"$f":"Calculations!AM20","v":0},{"$f":"Calculations!AN20","v":0},{"$f":"Calculations!AO20","v":0},{"$f":"Calculations!AP20","v":0},{"$f":"Calculations!AQ20","v":0}]
[null,null,null,null,null,null,null,null,null,null,"-",null,null,"-",null,null,null,null,null,{"$f":"Calculations!AE21","v":"-"},{"$f":"Calculations!Y21","v":"-"},{"$f":"Calculations!Z21","v":"N/A"},{"$f":"Calculations!AF21","v":"-"},{"$f":"Calculations!AG21","v":"N/A"},{"$f":"Calculations!AH21","v":"N/A"},{"$f":"Calculations!AI21","v":0},{"$f":"Calculations!AJ21","v":0},{"$f":"Calculations!AK21","v":0},{"$f":"Calculations!AL21","v":0},{"$f":"Calculations!AM21","v":0},{"$f":"Calculations!AN21","v":0},{"$f":"Calculations!AO21","v":0},{"$f":"Calculations!AP21","v":0},{"$f":"Calculations!AQ21","v":0}]
[null,null,null,null,null,null,null,null,null,null,"-",null,null,"-",null,null,null,null,null,{"$f":"Calculations!AE22","v":"-"},{"$f":"Calculations!Y22","v":"-"},{"$f":"Calculations!Z22","v":"N/A"},{"$f":"Calculations!AF22","v":"-"},{"$f":"Calculations!AG22","v":"N/A"},{"$f":"Calculations!AH22","v":"N/A"},{"$f":"Calculations!AI22","v":0},{"$f":"Calculations!AJ22","v":0},{"$f":"Calculations!AK22","v":0},{"$f":"Calculations!AL22","v":0},{"$f":"Calculations!AM22","v":0},{"$f":"Calculations!AN22","v":0},{"$f":"Calculations!AO22","v":0},{"$f":"Calculations!AP22","v":0},{"$f":"Calculations!AQ22","v":0}]
[null,null,null,null,null,null,null,null,null,null,"-",null,null,"-",null,null,null,null,null,{"$f":"Calculations!AE23","v":"-"},{"$f":"Calculations!Y23","v":"-"},{"$f":"Calculations!Z23","v":"N/A"},{"$f":"Calculations!AF23","v":"-"},{"$f":"Calculations!AG23","v":"N/A"},{"$f":"Calculations!AH23","v":"N/A"},{"$f":"Calculations!AI23","v":0},{"$f":"Calculations!AJ23","v":0},{"$f":"Calculations!AK23","v":0},{"$f":"Calculations!AL23","v":0},{"$f":"Calculations!AM23","v":0},{"$f":"Calculations!AN23","v":0},{"$f":"Calculations!AO23","v":0},{"$f":"Calculations!AP23","v":0},{"$f":"Calculations!AQ23","v":0}]
[null,null,null,null,null,null,null,null,null,null,"-",null,null,"-",null,null,null,null,null,{"$f":"Calculations!AE24","v":"-"},{"$f":"Calculations!Y24","v":"-"},{"$f":"Calculations!Z24","v":"N/A"},{"$f":"Calculations!AF24","v":"-"},{"$f":"Calculations!AG24","v":"N/A"},{"$f":"Calculations!AH24","v":"N/A"},{"$f":"Calculations!AI24","v":0},{"$f":"Calculations!AJ24","v":0},{"$f":"Calculations!AK24","v":0},{"$f":"Calculations!AL24","v":0},{"$f":"Calculations!AM24","v":0},{"$f":"Calculations!AN24","v":0},{"$f":"Calculations!AO24","v":0},{"$f":"Calculations!AP24","v":0},{"$f":"Calculations!AQ24","v":0}]
[null,null,null,null,null,null,null,null,null,null,"-",null,null,"-",null,null,null,null,null,{"$f":"Calculations!AE25","v":"-"},{"$f":"Calculations!Y25","v":"-"},{"$f":"Calculations!Z25","v":"N/A"},{"$f":"Calculations!AF25","v":"-"},{"$f":"Calculations!AG25","v":"N/A"},{"$f":"Calculations!AH25","v":"N/A"},{"$f":"Calculations!AI25","v":0},{"$f":"Calculations!AJ25","v":0},{"$f":"Calculations!AK25","v":0},{"$f":"Calculations!AL25","v":0},{"$f":"Calculations!AM25","v":0},{"$f":"Calculations!AN25","v":0},{"$f":"Calculations!AO25","v":0},{"$f":"Calculations!AP25","v":0},{"$f":"Calculations!AQ25","v":0}]
[null,null,null,null,null,null,null,null,null,null,"-",null,null,"-",null,null,null,null,null,{"$f":"Calculations!AE26","v":"-"},{"$f":"Calculations!Y26","v":"-"},{"$f":"Calculations!Z26","v":"N/A"},{"$f":"Calculations!AF26","v":"-"},{"$f":"Calculations!AG26","v":"N/A"},{"$f":"Calculations!AH26","v":"N/A"},{"$f":"Calculations!AI26","v":0},{"$f":"Calculations!AJ26","v":0},{"$f":"Calculations!AK26","v":0},{"$f":"Calculations!AL26","v":0},{"$f":"Calculations!AM26","v":0},{"$f":"Calculations!AN26","v":0},{"$f":"Calculations!AO26","v":0},{"$f":"Calculations!AP26","v":0},{"$f":"Calculations!AQ26","v":0}]
[null,null,null,null,null,null,null,null,null,null,"-",null,null,"-",null,null,null,null,null,{"$f":"Calculations!AE27","v":"-"},{"$f":"Calculations!Y27","v":"-"},{"$f":"Calculations!Z27","v":"N/A"},{"$f":"Calculations!AF27","v":"-"},{"$f":"Calculations!AG27","v":"N/A"},{"$f":"Calculations!AH27","v":"N/A"},{"$f":"Calculations!AI27","v":0},{"$f":"Calculations!AJ27","v":0},{"$f":"Calculations!AK27","v":0},{"$f":"Calculations!AL27","v":0},{"$f":"Calculations!AM27","v":0},{"$f":"Calculations!AN27","v":0},{"$f":"Calculations!AO27","v":0},{"$f":"Calculations!AP27","v":0},{"$f":"Calculations!AQ27","v":0}]
[null,null,null,null,null,null,null,null,null,null,"-",null,null,"-",null,null,null,null,null,{"$f":"Calculations!AE28","v":"-"},{"$f":"Calculations!Y28","v":"-"},{"$f":"Calculations!Z28","v":"N/A"},{"$f":"Calculations!AF28","v":"-"},{"$f":"Calculations!AG28","v":"N/A"},{"$f":"Calculations!AH28","v":"N/A"},{"$f":"Calculations!AI28","v":0},{"$f":"Calculations!AJ28","v":0},{"$f":"Calculations!AK28","v":0},{"$f":"Calculations!AL28","v":0},{"$f":"Calculations!AM28","v":0},{"$f":"Calculations!AN28","v":0},{"$f":"Calculations!AO28","v":0},{"$f":"Calculations!AP28","v":0},{"$f":"Calculations!AQ28","v":0}]
[null,null,null,null,null,null,null,null,null,null,"-",null,null,"-",null,null,null,null,null,{"$f":"Calculations!AE29","v":"-"},{"$f":"Calculations!Y29","v":"-"},{"$f":"Calculations!Z29","v":"N/A"},{"$f":"Calculations!AF29","v":"-"},{"$f":"Calculations!AG29","v":"N/A"},{"$f":"Calculations!AH29","v":"N/A"},{"$f":"Calculations!AI29","v":0},{"$f":"Calculations!AJ29","v":0},{"$f":"Calculations!AK29","v":0},{"$f":"Calculations!AL29","v":0},{"$f":"Calculations!AM29","v":0},{"$f":"Calculations!AN29","v":0},{"$f":"Calculations!AO29","v":0},{"$f":"Calculations!AP29","v":0},{"$f":"Calculations!AQ29","v":0}]
[null,null,null,null,null,null,null,null,null,null,"-",null,null,"-",null,null,null,null,null,{"$f":"Calculations!AE30","v":"-"},{"$f":"Calculations!Y30","v":"-"},{"$f":"Calculations!Z30","v":"N/A"},{"$f":"Calculations!AF30","v":"-"},{"$f":"Calculations!AG30","v":"N/A"},{"$f":"Calculations!AH30","v":"N/A"},{"$f":"Calculations!AI30","v":0},{"$f":"Calculations!AJ30","v":0},{"$f":"Calculations!AK30","v":0},{"$f":"Calculations!AL30","v":0},{"$f":"Calculations!AM30","v":0},{"$f":"Calculations!AN30","v":0},{"$f":"Calculations!AO30","v":0},{"$f":"Calculations!AP30","v":0},{"$f":"Calculations!AQ30","v":0}]
[null,null,null,null,null,null,null,null,null,null,"-",null,null,"-",null,null,null,null,null,{"$f":"Calculations!AE31","v":"-"},{"$f":"Calculations!Y31","v":"-"},{"$f":"Calculations!Z31","v":"N/A"},{"$f":"Calculations!AF31","v":"-"},{"$f":"Calculations!AG31","v":"N/A"},{"$f":"Calculations!AH31","v":"N/A"},{"$f":"Calculations!AI31","v":0},{"$f":"Calculations!AJ31","v":0},{"$f":"Calculations!AK31","v":0},{"$f":"Calculations!AL31","v":0},{"$f":"Calculations!AM31","v":0},{"$f":"Calculations!AN31","v":0},{"$f":"Calculations!AO31","v":0},{"$f":"Calculations!AP31","v":0},{"$f":"Calculations!AQ31","v":0}]
[null,null,null,null,null,null,null,null,null,null,"-",null,null,"-",null,null,null,null,null,{"$f":"Calculations!AE32","v":"-"},{"$f":"Calculations!Y32","v":"-"},{"$f":"Calculations!Z32","v":"N/A"},{"$f":"Calculations!AF32","v":"-"},{"$f":"Calculations!AG32","v":"N/A"},{"$f":"Calculations!AH32","v":"N/A"},{"$f":"Calculations!AI32","v":0},{"$f":"Calculations!AJ32","v":0},{"$f":"Calculations!AK32","v":0},{"$f":"Calculations!AL32","v":0},{"$f":"Calculations!AM32","v":0},{"$f":"Calculations!AN32","v":0},{"$f":"Calculations!AO32","v":0},{"$f":"Calculations!AP32","v":0},{"$f":"Calculations!AQ32","v":0}]
[null,null,null,null,null,null,null,null,null,null,"-",null,null,"-",null,null,null,null,null,{"$f":"Calculations!AE33","v":"-"},{"$f":"Calculations!Y33","v":"-"},{"$f":"Calculations!Z33","v":"N/A"},{"$f":"Calculations!AF33","v":"-"},{"$f":"Calculations!AG33","v":"N/A"},{"$f":"Calculations!AH33","v":"N/A"},{"$f":"Calculations!AI33","v":0},{"$f":"Calculations!AJ33","v":0},{"$f":"Calculations!AK33","v":0},{"$f":"Calculations!AL33","v":0},{"$f":"Calculations!AM33","v":0},{"$f":"Calculations!AN33","v":0},{"$f":"Calculations!AO33","v":0},{"$f":"Calculations!AP33","v":0},{"$f":"Calculations!AQ33","v":0}]
[null,null,null,null,null,null,null,null,null,null,"-",null,null,"-",null,null,null,null,null,{"$f":"Calculations!AE34","v":"-"},{"$f":"Calculations!Y34","v":"-"},{"$f":"Calculations!Z34","v":"N/A"},{"$f":"Calculations!AF34","v":"-"},{"$f":"Calculations!AG34","v":"N/A"},{"$f":"Calculations!AH34","v":"N/A"},{"$f":"Calculations!AI34","v":0},{"$f":"Calculations!AJ34","v":0},{"$f":"Calculations!AK34","v":0},{"$f":"Calculations!AL34","v":0},{"$f":"Calculations!AM34","v":0},{"$f":"Calculations!AN34","v":0},{"$f":"Calculations!AO34","v":0},{"$f":"Calculations!AP34","v":0},{"$f":"Calculations!AQ34","v":0}]
[null,null,null,null,null,null,null,null,null,null,"-",null,null,"-",null,null,null,null,null,{"$f":"Calculations!AE35","v":"-"},{"$f":"Calculations!Y35","v":"-"},{"$f":"Calculations!Z35","v":"N/A"},{"$f":"Calculations!AF35","v":"-"},{"$f":"Calculations!AG35","v":"N/A"},{"$f":"Calculations!AH35","v":"N/A"},{"$f":"Calculations!AI35","v":0},{"$f":"Calculations!AJ35","v":0},{"$f":"Calculations!AK35","v":0},{"$f":"Calculations!AL35","v":0},{"$f":"Calculations!AM35","v":0},{"$f":"Calculations!AN35","v":0},{"$f":"Calculations!AO35","v":0},{"$f":"Calculations!AP35","v":0},{"$f":"Calculations!AQ35","v":0}]
[null,null,null,null,null,null,null,null,null,null,"-",null,null,"-",null,null,null,null,null,{"$f":"Calculations!AE36","v":"-"},{"$f":"Calculations!Y36","v":"-"},{"$f":"Calculations!Z36","v":"N/A"},{"$f":"Calculations!AF36","v":"-"},{"$f":"Calculations!AG36","v":"N/A"},{"$f":"Calculations!AH36","v":"N/A"},{"$f":"Calculations!AI36","v":0},{"$f":"Calculations!AJ36","v":0},{"$f":"Calculations!AK36","v":0},{"$f":"Calculations!AL36","v":0},{"$f":"Calculations!AM36","v":0},{"$f":"Calculations!AN36","v":0},{"$f":"Calculations!AO36","v":0},{"$f":"Calculations!AP36","v":0},{"$f":"Calculations!AQ36","v":0}]
[null,null,null,null,null,null,null,null,null,null,"-",null,null,"-",null,null,null,null,null,{"$f":"Calculations!AE37","v":"-"},{"$f":"Calculations!Y37","v":"-"},{"$f":"Calculations!Z37","v":"N/A"},{"$f":"Calculations!AF37","v":"-"},{"$f":"Calculations!AG37","v":"N/A"},{"$f":"Calculations!AH37","v":"N/A"},{"$f":"Calculations!AI37","v":0},{"$f":"Calculations!AJ37","v":0},{"$f":"Calculations!AK37","v":0},{"$f":"Calculations!AL37","v":0},{"$f":"Calculations!AM37","v":0},{"$f":"Calculations!AN37","v":0},{"$f":"Calculations!AO37","v":0},{"$f":"Calculations!AP37","v":0},{"$f":"Calculations!AQ37","v":0}]
[null,null,null,null,null,null,null,null,null,null,"-",null,null,"-",null,null,null,null,null,{"$f":"Calculations!AE38","v":"-"},{"$f":"Calculations!Y38","v":"-"},{"$f":"Calculations!Z38","v":"N/A"},{"$f":"Calculations!AF38","v":"-"},{"$f":"Calculations!AG38","v":"N/A"},{"$f":"Calculations!AH38","v":"N/A"},{"$f":"Calculations!AI38","v":0},{"$f":"Calculations!AJ38","v":0},{"$f":"Calculations!AK38","v":0},{"$f":"Calculations!AL38","v":0},{"$f":"Calculations!AM38","v":0},{"$f":"Calculations!AN38","v":0},{"$f":"Calculations!AO38","v":0},{"$f":"Calculations!AP38","v":0},{"$f":"Calculations!AQ38","v":0}]
[null,null,null,null,null,null,null,null,null,null,"-",null,null,"-",null,null,null,null,null,{"$f":"Calculations!AE39","v":"-"},{"$f":"Calculations!Y39","v":"-"},{"$f":"Calculations!Z39","v":"N/A"},{"$f":"Calculations!AF39","v":"-"},{"$f":"Calculations!AG39","v":"N/A"},{"$f":"Calculations!AH39","v":"N/A"},{"$f":"Calculations!AI39","v":0},{"$f":"Calculations!AJ39","v":0},{"$f":"Calculations!AK39","v":0},{"$f":"Calculations!AL39","v":0},{"$f":"Calculations!AM39","v":0},{"$f":"Calculations!AN39","v":0},{"$f":"Calculations!AO39","v":0},{"$f":"Calculations!AP39","v":0},{"$f":"Calculations!AQ39","v":0}]
[null,null,null,null,null,null,null,null,null,null,"-",null,null,"-",null,null,null,null,null,{"$f":"Calculations!AE40","v":"-"},{"$f":"Calculations!Y40","v":"-"},{"$f":"Calculations!Z40","v":"N/A"},{"$f":"Calculations!AF40","v":"-"},{"$f":"Calculations!AG40","v":"N/A"},{"$f":"Calculations!AH40","v":"N/A"},{"$f":"Calculations!AI40","v":0},{"$f":"Calculations!AJ40","v":0},{"$f":"Calculations!AK40","v":0},{"$f":"Calculations!AL40","v":0},{"$f":"Calculations!AM40","v":0},{"$f":"Calculations!AN40","v":0},{"$f":"Calculations!AO40","v":0},{"$f":"Calculations!AP40","v":0},{"$f":"Calculations!AQ40","v":0}]
[null,null,null,null,null,null,null,null,null,null,"-",null,null,"-",null,null,null,null,null,{"$f":"Calculations!AE41","v":"-"},{"$f":"Calculations!Y41","v":"-"},{"$f":"Calculations!Z41","v":"N/A"},{"$f":"Calculations!AF41","v":"-"},{"$f":"Calculations!AG41","v":"N/A"},{"$f":"Calculations!AH41","v":"N/A"},{"$f":"Calculations!AI41","v":0},{"$f":"Calculations!AJ41","v":0},{"$f":"Calculations!AK41","v":0},{"$f":"Calculations!AL41","v":0},{"$f":"Calculations!AM41","v":0},{"$f":"Calculations!AN41","v":0},{"$f":"Calculations!AO41","v":0},{"$f":"Calculations!AP41","v":0},{"$f":"Calculations!AQ41","v":0}]
[null,null,null,null,null,null,null,null,null,null,"-",null,null,"-",null,null,null,null,null,{"$f":"Calculations!AE42","v":"-"},{"$f":"Calculations!Y42","v":"-"},{"$f":"Calculations!Z42","v":"N/A"},{"$f":"Calculations!AF42","v":"-"},{"$f":"Calculations!AG42","v":"N/A"},{"$f":"Calculations!AH42","v":"N/A"},{"$f":"Calculations!AI42","v":0},{"$f":"Calculations!AJ42","v":0},{"$f":"Calculations!AK42","v":0},{"$f":"Calculations!AL42","v":0},{"$f":"Calculations!AM42","v":0},{"$f":"Calculations!AN42","v":0},{"$f":"Calculations!AO42","v":0},{"$f":"Calculations!AP42","v":0},{"$f":"Calculations!AQ42","v":0}]
[null,null,null,null,null,null,null,null,null,null,"-",null,null,"-",null,null,null,null,null,{"$f":"Calculations!AE43","v":"-"},{"$f":"Calculations!Y43","v":"-"},{"$f":"Calculations!Z43","v":"N/A"},{"$f":"Calculations!AF43","v":"-"},{"$f":"Calculations!AG43","v":"N/A"},{"$f":"Calculations!AH43","v":"N/A"},{"$f":"Calculations!AI43","v":0},{"$f":"Calculations!AJ43","v":0},{"$f":"Calculations!AK43","v":0},{"$f":"Calculations!AL43","v":0},{"$f":"Calculations!AM43","v":0},{"$f":"Calculations!AN43","v":0},{"$f":"Calculations!AO43","v":0},{"$f":"Calculations!AP43","v":0},{"$f":"Calculations!AQ43","v":0}]
[null,null,null,null,null,null,null,null,null,null,"-",null,null,"-",null,null,null,null,null,{"$f":"Calculations!AE44","v":"-"},{"$f":"Calculations!Y44","v":"-"},{"$f":"Calculations!Z44","v":"N/A"},{"$f":"Calculations!AF44","v":"-"},{"$f":"Calculations!AG44","v":"N/A"},{"$f":"Calculations!AH44","v":"N/A"},{"$f":"Calculations!AI44","v":0},{"$f":"Calculations!AJ44","v":0},{"$f":"Calculations!AK44","v":0},{"$f":"Calculations!AL44","v":0},{"$f":"Calculations!AM44","v":0},{"$f":"Calculations!AN44","v":0},{"$f":"Calculations!AO44","v":0},{"$f":"Calculations!AP44","v":0},{"$f":"Calculations!AQ44","v":0}]
[null,null,null,null,null,null,null,null,null,null,"-",null,null,"-",null,null,null,null,null,{"$f":"Calculations!AE45","v":"-"},{"$f":"Calculations!Y45","v":"-"},{"$f":"Calculations!Z45","v":"N/A"},{"$f":"Calculations!AF45","v":"-"},{"$f":"Calculations!AG45","v":"N/A"},{"$f":"Calculations!AH45","v":"N/A"},{"$f":"Calculations!AI45","v":0},{"$f":"Calculations!AJ45","v":0},{"$f":"Calculations!AK45","v":0},{"$f":"Calculations!AL45","v":0},{"$f":"Calculations!AM45","v":0},{"$f":"Calculations!AN45","v":0},{"$f":"Calculations!AO45","v":0},{"$f":"Calculations!AP45","v":0},{"$f":"Calculations!AQ45","v":0}]
[null,null,null,null,null,null,null,null,null,null,"-",null,null,"-",null,null,null,null,null,{"$f":"Calculations!AE46","v":"-"},{"$f":"Calculations!Y46","v":"-"},{"$f":"Calculations!Z46","v":"N/A"},{"$f":"Calculations!AF46","v":"-"},{"$f":"Calculations!AG46","v":"N/A"},{"$f":"Calculations!AH46","v":"N/A"},{"$f":"Calculations!AI46","v":0},{"$f":"Calculations!AJ46","v":0},{"$f":"Calculations!AK46","v":0},{"$f":"Calculations!AL46","v":0},{"$f":"Calculations!AM46","v":0},{"$f":"Calculations!AN46","v":0},{"$f":"Calculations!AO46","v":0},{"$f":"Calculations!AP46","v":0},{"$f":"Calculations!AQ46","v":0}]
[null,null,null,null,null,null,null,null,null,null,"-",null,null,"-",null,null,null,null,null,{"$f":"Calculations!AE47","v":"-"},{"$f":"Calculations!Y47","v":"-"},{"$f":"Calculations!Z47","v":"N/A"},{"$f":"Calculations!AF47","v":"-"},{"$f":"Calculations!AG47","v":"N/A"},{"$f":"Calculations!AH47","v":"N/A"},{"$f":"Calculations!AI47","v":0},{"$f":"Calculations!AJ47","v":0},{"$f":"Calculations!AK47","v":0},{"$f":"Calculations!AL47","v":0},{"$f":"Calculations!AM47","v":0},{"$f":"Calculations!AN47","v":0},{"$f":"Calculations!AO47","v":0},{"$f":"Calculations!AP47","v":0},{"$f":"Calculations!AQ47","v":0}]
[null,null,null,null,null,null,null,null,null,null,"-",null,null,"-",null,null,null,null,null,{"$f":"Calculations!AE48","v":"-"},{"$f":"Calculations!Y48","v":"-"},{"$f":"Calculations!Z48","v":"N/A"},{"$f":"Calculations!AF48","v":"-"},{"$f":"Calculations!AG48","v":"N/A"},{"$f":"Calculations!AH48","v":"N/A"},{"$f":"Calculations!AI48","v":0},{"$f":"Calculations!AJ48","v":0},{"$f":"Calculations!AK48","v":0},{"$f":"Calculations!AL48","v":0},{"$f":"Calculations!AM48","v":0},{"$f":"Calculations!AN48","v":0},{"$f":"Calculations!AO48","v":0},{"$f":"Calculations!AP48","v":0},{"$f":"Calculations!AQ48","v":0}]
[null,null,null,null,null,null,null,null,null,null,"-",null,null,"-",null,null,null,null,null,{"$f":"Calculations!AE49","v":"-"},{"$f":"Calculations!Y49","v":"-"},{"$f":"Calculations!Z49","v":"N/A"},{"$f":"Calculations!AF49","v":"-"},{"$f":"Calculations!AG49","v":"N/A"},{"$f":"Calculations!AH49","v":"N/A"},{"$f":"Calculations!AI49","v":0},{"$f":"Calculations!AJ49","v":0},{"$f":"Calculations!AK49","v":0},{"$f":"Calculations!AL49","v":0},{"$f":"Calculations!AM49","v":0},{"$f":"Calculations!AN49","v":0},{"$f":"Calculations!AO49","v":0},{"$f":"Calculations!AP49","v":0},{"$f":"Calculations!AQ49","v":0}]
[null,null,null,null,null,null,null,null,null,null,"-",null,null,"-",null,null,null,null,null,{"$f":"Calculations!AE50","v":"-"},{"$f":"Calculations!Y50","v":"-"},{"$f":"Calculations!Z50","v":"N/A"},{"$f":"Calculations!AF50","v":"-"},{"$f":"Calculations!AG50","v":"N/A"},{"$f":"Calculations!AH50","v":"N/A"},{"$f":"Calculations!AI50","v":0},{"$f":"Calculations!AJ50","v":0},{"$f":"Calculations!AK50","v":0},{"$f":"Calculations!AL50","v":0},{"$f":"Calculations!AM50","v":0},{"$f":"Calculations!AN50","v":0},{"$f":"Calculations!AO50","v":0},{"$f":"Calculations!AP50","v":0},{"$f":"Calculations!AQ50","v":0}]
[null,null,null,null,null,null,null,null,null,null,"-",null,null,"-",null,null,null,null,null,{"$f":"Calculations!AE51","v":"-"},{"$f":"Calculations!Y51","v":"-"},{"$f":"Calculations!Z51","v":"N/A"},{"$f":"Calculations!AF51","v":"-"},{"$f":"Calculations!AG51","v":"N/A"},{"$f":"Calculations!AH51","v":"N/A"},{"$f":"Calculations!AI51","v":0},{"$f":"Calculations!AJ51","v":0},{"$f":"Calculations!AK51","v":0},{"$f":"Calculations!AL51","v":0},{"$f":"Calculations!AM51","v":0},{"$f":"Calculations!AN51","v":0},{"$f":"Calculations!AO51","v":0},{"$f":"Calculations!AP51","v":0},{"$f":"Calculations!AQ51","v":0}]
[null,null,null,null,null,null,null,null,null,null,"-",null,null,"-",null,null,null,null,null,{"$f":"Calculations!AE52","v":"-"},{"$f":"Calculations!Y52","v":"-"},{"$f":"Calculations!Z52","v":"N/A"},{"$f":"Calculations!AF52","v":"-"},{"$f":"Calculations!AG52","v":"N/A"},{"$f":"Calculations!AH52","v":"N/A"},{"$f":"Calculations!AI52","v":0},{"$f":"Calculations!AJ52","v":0},{"$f":"Calculations!AK52","v":0},{"$f":"Calculations!AL52","v":0},{"$f":"Calculations!AM52","v":0},{"$f":"Calculations!AN52","v":0},{"$f":"Calculations!AO52","v":0},{"$f":"Calculations!AP52","v":0},{"$f":"Calculations!AQ52","v":0}]
[null,null,null,null,null,null,null,null,null,null,"-",null,null,"-",null,null,null,null,null,{"$f":"Calculations!AE53","v":"-"},{"$f":"Calculations!Y53","v":"-"},{"$f":"Calculations!Z53","v":"N/A"},{"$f":"Calculations!AF53","v":"-"},{"$f":"Calculations!AG53","v":"N/A"},{"$f":"Calculations!AH53","v":"N/A"},{"$f":"Calculations!AI53","v":0},{"$f":"Calculations!AJ53","v":0},{"$f":"Calculations!AK53","v":0},{"$f":"Calculations!AL53","v":0},{"$f":"Calculations!AM53","v":0},{"$f":"Calculations!AN53","v":0},{"$f":"Calculations!AO53","v":0},{"$f":"Calculations!AP53","v":0},{"$f":"Calculations!AQ53","v":0}]
[null,null,null,null,null,null,null,null,null,null,"-",null,null,"-",null,null,null,null,null,{"$f":"Calculations!AE54","v":"-"},{"$f":"Calculations!Y54","v":"-"},{"$f":"Calculations!Z54","v":"N/A"},{"$f":"Calculations!AF54","v":"-"},{"$f":"Calculations!AG54","v":"N/A"},{"$f":"Calculations!AH54","v":"N/A"},{"$f":"Calculations!AI54","v":0},{"$f":"Calculations!AJ54","v":0},{"$f":"Calculations!AK54","v":0},{"$f":"Calculations!AL54","v":0},{"$f":"Calculations!AM54","v":0},{"$f":"Calculations!AN54","v":0},{"$f":"Calculations!AO54","v":0},{"$f":"Calculations!AP54","v":0},{"$f":"Calculations!AQ54","v":0}]
[null,null,null,null,null,null,null,null,null,null,"-",null,null,"-",null,null,null,null,null,{"$f":"Calculations!AE55","v":"-"},{"$f":"Calculations!Y55","v":"-"},{"$f":"Calculations!Z55","v":"N/A"},{"$f":"Calculations!AF55","v":"-"},{"$f":"Calculations!AG55","v":"N/A"},{"$f":"Calculations!AH55","v":"N/A"},{"$f":"Calculations!AI55","v":0},{"$f":"Calculations!AJ55","v":0},{"$f":"Calculations!AK55","v":0},{"$f":"Calculations!AL55","v":0},{"$f":"Calculations!AM55","v":0},{"$f":"Calculations!AN55","v":0},{"$f":"Calculations!AO55","v":0},{"$f":"Calculations!AP55","v":0},{"$f":"Calculations!AQ55","v":0}]
[null,null,null,null,null,null,null,null,null,null,"-",null,null,"-",null,null,null,null,null,{"$f":"Calculations!AE56","v":"-"},{"$f":"Calculations!Y56","v":"-"},{"$f":"Calculations!Z56","v":"N/A"},{"$f":"Calculations!AF56","v":"-"},{"$f":"Calculations!AG56","v":"N/A"},{"$f":"Calculations!AH56","v":"N/A"},{"$f":"Calculations!AI56","v":0},{"$f":"Calculations!AJ56","v":0},{"$f":"Calculations!AK56","v":0},{"$f":"Calculations!AL56","v":0},{"$f":"Calculations!AM56","v":0},{"$f":"Calculations!AN56","v":0},{"$f":"Calculations!AO56","v":0},{"$f":"Calculations!AP56","v":0},{"$f":"Calculations!AQ56","v":0}]
[null,null,null,null,null,null,null,null,null,null,"-",null,null,"-",null,null,null,null,null,{"$f":"Calculations!AE57","v":"-"},{"$f":"Calculations!Y57","v":"-"},{"$f":"Calculations!Z57","v":"N/A"},{"$f":"Calculations!AF57","v":"-"},{"$f":"Calculations!AG57","v":"N/A"},{"$f":"Calculations!AH57","v":"N/A"},{"$f":"Calculations!AI57","v":0},{"$f":"Calculations!AJ57","v":0},{"$f":"Calculations!AK57","v":0},{"$f":"Calculations!AL57","v":0},{"$f":"Calculations!AM57","v":0},{"$f":"Calculations!AN57","v":0},{"$f":"Calculations!AO57","v":0},{"$f":"Calculations!AP57","v":0},{"$f":"Calculations!AQ57","v":0}]
[null,null,null,null,null,null,null,null,null,null,"-",null,null,"-",null,null,null,null,null,{"$f":"Calculations!AE58","v":"-"},{"$f":"Calculations!Y58","v":"-"},{"$f":"Calculations!Z58","v":"N/A"},{"$f":"Calculations!AF58","v":"-"},{"$f":"Calculations!AG58","v":"N/A"},{"$f":"Calculations!AH58","v":"N/A"},{"$f":"Calculations!AI58","v":0},{"$f":"Calculations!AJ58","v":0},{"$f":"Calculations!AK58","v":0},{"$f":"Calculations!AL58","v":0},{"$f":"Calculations!AM58","v":0},{"$f":"Calculations!AN58","v":0},{"$f":"Calculations!AO58","v":0},{"$f":"Calculations!AP58","v":0},{"$f":"Calculations!AQ58","v":0}]
[null,null,null,null,null,null,null,null,null,null,"-",null,null,"-",null,null,null,null,null,{"$f":"Calculations!AE59","v":"-"},{"$f":"Calculations!Y59","v":"-"},{"$f":"Calculations!Z59","v":"N/A"},{"$f":"Calculations!AF59","v":"-"},{"$f":"Calculations!AG59","v":"N/A"},{"$f":"Calculations!AH59","v":"N/A"},{"$f":"Calculations!AI59","v":0},{"$f":"Calculations!AJ59","v":0},{"$f":"Calculations!AK59","v":0},{"$f":"Calculations!AL59","v":0},{"$f":"Calculations!AM59","v":0},{"$f":"Calculations!AN59","v":0},{"$f":"Calculations!AO59","v":0},{"$f":"Calculations!AP59","v":0},{"$f":"Calculations!AQ59","v":0}]
[null,null,null,null,null,null,null,null,null,null,"-",null,null,"-",null,null,null,null,null,{"$f":"Calculations!AE60","v":"-"},{"$f":"Calculations!Y60","v":"-"},{"$f":"Calculations!Z60","v":"N/A"},{"$f":"Calculations!AF60","v":"-"},{"$f":"Calculations!AG60","v":"N/A"},{"$f":"Calculations!AH60","v":"N/A"},{"$f":"Calculations!AI60","v":0},{"$f":"Calculations!AJ60","v":0},{"$f":"Calculations!AK60","v":0},{"$f":"Calculations!AL60","v":0},{"$f":"Calculations!AM60","v":0},{"$f":"Calculations!AN60","v":0},{"$f":"Calculations!AO60","v":0},{"$f":"Calculations!AP60","v":0},{"$f":"Calculations!AQ60","v":0}]
[null,null,null,null,null,null,null,null,null,null,"-",null,null,"-",null,null,null,null,null,{"$f":"Calculations!AE61","v":"-"},{"$f":"Calculations!Y61","v":"-"},{"$f":"Calculations!Z61","v":"N/A"},{"$f":"Calculations!AF61","v":"-"},{"$f":"Calculations!AG61","v":"N/A"},{"$f":"Calculations!AH61","v":"N/A"},{"$f":"Calculations!AI61","v":0},{"$f":"Calculations!AJ61","v":0},{"$f":"Calculations!AK61","v":0},{"$f":"Calculations!AL61","v":0},{"$f":"Calculations!AM61","v":0},{"$f":"Calculations!AN61","v":0},{"$f":"Calculations!AO61","v":0},{"$f":"Calculations!AP61","v":0},{"$f":"Calculations!AQ61","v":0}]
[null,null,null,null,null,null,null,null,null,null,"-",null,null,"-",null,null,null,null,null,{"$f":"Calculations!AE62","v":"-"},{"$f":"Calculations!Y62","v":"-"},{"$f":"Calculations!Z62","v":"N/A"},{"$f":"Calculations!AF62","v":"-"},{"$f":"Calculations!AG62","v":"N/A"},{"$f":"Calculations!AH62","v":"N/A"},{"$f":"Calculations!AI62","v":0},{"$f":"Calculations!AJ62","v":0},{"$f":"Calculations!AK62","v":0},{"$f":"Calculations!AL62","v":0},{"$f":"Calculations!AM62","v":0},{"$f":"Calculations!AN62","v":0},{"$f":"Calculations!AO62","v":0},{"$f":"Calculations!AP62","v":0},{"$f":"Calculations!AQ62","v":0}]
[null,null,null,null,null,null,null,null,null,null,"-",null,null,"-",null,null,null,null,null,{"$f":"Calculations!AE63","v":"-"},{"$f":"Calculations!Y63","v":"-"},{"$f":"Calculations!Z63","v":"N/A"},{"$f":"Calculations!AF63","v":"-"},{"$f":"Calculations!AG63","v":"N/A"},{"$f":"Calculations!AH63","v":"N/A"},{"$f":"Calculations!AI63","v":0},{"$f":"Calculations!AJ63","v":0},{"$f":"Calculations!AK63","v":0},{"$f":"Calculations!AL63","v":0},{"$f":"Calculations!AM63","v":0},{"$f":"Calculations!AN63","v":0},{"$f":"Calculations!AO63","v":0},{"$f":"Calculations!AP63","v":0},{"$f":"Calculations!AQ63","v":0}]
[null,null,null,null,null,null,null,null,null,null,"-",null,null,"-",null,null,null,null,null,{"$f":"Calculations!AE64","v":"-"},{"$f":"Calculations!Y64","v":"-"},{"$f":"Calculations!Z64","v":"N/A"},{"$f":"Calculations!AF64","v":"-"},{"$f":"Calculations!AG64","v":"N/A"},{"$f":"Calculations!AH64","v":"N/A"},{"$f":"Calculations!AI64","v":0},{"$f":"Calculations!AJ64","v":0},{"$f":"Calculations!AK64","v":0},{"$f":"Calculations!AL64","v":0},{"$f":"Calculations!AM64","v":0},{"$f":"Calculations!AN64","v":0},{"$f":"Calculations!AO64","v":0},{"$f":"Calculations!AP64","v":0},{"$f":"Calculations!AQ64","v":0}]
[null,null,null,null,null,null,null,null,null,null,"-",null,null,"-",null,null,null,null,null,{"$f":"Calculations!AE65","v":"-"},{"$f":"Calculations!Y65","v":"-"},{"$f":"Calculations!Z65","v":"N/A"},{"$f":"Calculations!AF65","v":"-"},{"$f":"Calculations!AG65","v":"N/A"},{"$f":"Calculations!AH65","v":"N/A"},{"$f":"Calculations!AI65","v":0},{"$f":"Calculations!AJ65","v":0},{"$f":"Calculations!AK65","v":0},{"$f":"Calculations!AL65","v":0},{"$f":"Calculations!AM65","v":0},{"$f":"Calculations!AN65","v":0},{"$f":"Calculations!AO65","v":0},{"$f":"Calculations!AP65","v":0},{"$f":"Calculations!AQ65","v":0}]
[null,null,null,null,null,null,null,null,null,null,"-",null,null,"-",null,null,null,null,null,{"$f":"Calculations!AE66","v":"-"},{"$f":"Calculations!Y66","v":"-"},{"$f":"Calculations!Z66","v":"N/A"},{"$f":"Calculations!AF66","v":"-"},{"$f":"Calculations!AG66","v":"N/A"},{"$f":"Calculations!AH66","v":"N/A"},{"$f":"Calculations!AI66","v":0},{"$f":"Calculations!AJ66","v":0},{"$f":"Calculations!AK66","v":0},{"$f":"Calculations!AL66","v":0},{"$f":"Calculations!AM66","v":0},{"$f":"Calculations!AN66","v":0},{"$f":"Calculations!AO66","v":0},{"$f":"Calculations!AP66","v":0},{"$f":"Calculations!AQ66","v":0}]
[null,null,null,null,null,null,null,null,null,null,"-",null,null,"-",null,null,null,null,null,{"$f":"Calculations!AE67","v":"-"},{"$f":"Calculations!Y67","v":"-"},{"$f":"Calculations!Z67","v":"N/A"},{"$f":"Calculations!AF67","v":"-"},{"$f":"Calculations!AG67","v":"N/A"},{"$f":"Calculations!AH67","v":"N/A"},{"$f":"Calculations!AI67","v":0},{"$f":"Calculations!AJ67","v":0},{"$f":"Calculations!AK67","v":0},{"$f":"Calculations!AL67","v":0},{"$f":"Calculations!AM67","v":0},{"$f":"Calculations!AN67","v":0},{"$f":"Calculations!AO67","v":0},{"$f":"Calculations!AP67","v":0},{"$f":"Calculations!AQ67","v":0}]
[null,null,null,null,null,null,null,null,null,null,{"$f":"IFERROR(IF(ISBLANK(VLOOKUP($G70&\" \"&$H70,States_Soils,3,FALSE)),\"-\",(VLOOKUP($G70&\" \"&$H70,States_Soils,3,FALSE))),\"-\")","v":"-"},null,null,{"$f":"IFERROR(IF(ISBLANK(VLOOKUP($G70&\" \"&$H70,States_Soils,4,FALSE)),\"-\",(VLOOKUP($G70&\" \"&$H70,States_Soils,4,FALSE))),\"-\")","v":"-"},null,null,null,null,null,{"$f":"Calculations!AE68","v":"-"},{"$f":"Calculations!Y68","v":"-"},{"$f":"Calculations!Z68","v":"N/A"},{"$f":"Calculations!AF68","v":"-"},{"$f":"Calculations!AG68","v":"N/A"},{"$f":"Calculations!AH68","v":"N/A"},{"$f":"Calculations!AI68","v":0},{"$f":"Calculations!AJ68","v":0},{"$f":"Calculations!AK68","v":0},{"$f":"Calculations!AL68","v":0},{"$f":"Calculations!AM68","v":0},{"$f":"Calculations!AN68","v":0},{"$f":"Calculations!AO68","v":0},{"$f":"Calculations!AP68","v":0},{"$f":"Calculations!AQ68","v":0}]
[null,null,null,null,null,null,null,null,null,null,"-",null,null,"-",null,null,null,null,null,{"$f":"Calculations!AE69","v":"-"},{"$f":"Calculations!Y69","v":"-"},{"$f":"Calculations!Z69","v":"N/A"},{"$f":"Calculations!AF69","v":"-"},{"$f":"Calculations!AG69","v":"N/A"},{"$f":"Calculations!AH69","v":"N/A"},{"$f":"Calculations!AI69","v":0},{"$f":"Calculations!AJ69","v":0},{"$f":"Calculations!AK69","v":0},{"$f":"Calculations!AL69","v":0},{"$f":"Calculations!AM69","v":0},{"$f":"Calculations!AN69","v":0},{"$f":"Calculations!AO69","v":0},{"$f":"Calculations!AP69","v":0},{"$f":"Calculations!AQ69","v":0}]
[null,null,null,null,null,null,null,null,null,null,"-",null,null,"-",null,null,null,null,null,{"$f":"Calculations!AE70","v":"-"},{"$f":"Calculations!Y70","v":"-"},{"$f":"Calculations!Z70","v":"N/A"},{"$f":"Calculations!AF70","v":"-"},{"$f":"Calculations!AG70","v":"N/A"},{"$f":"Calculations!AH70","v":"N/A"},{"$f":"Calculations!AI70","v":0},{"$f":"Calculations!AJ70","v":0},{"$f":"Calculations!AK70","v":0},{"$f":"Calculations!AL70","v":0},{"$f":"Calculations!AM70","v":0},{"$f":"Calculations!AN70","v":0},{"$f":"Calculations!AO70","v":0},{"$f":"Calculations!AP70","v":0},{"$f":"Calculations!AQ70","v":0}]
[null,null,null,null,null,null,null,null,null,null,"-",null,null,"-",null,null,null,null,null,{"$f":"Calculations!AE71","v":"-"},{"$f":"Calculations!Y71","v":"-"},{"$f":"Calculations!Z71","v":"N/A"},{"$f":"Calculations!AF71","v":"-"},{"$f":"Calculations!AG71","v":"N/A"},{"$f":"Calculations!AH71","v":"N/A"},{"$f":"Calculations!AI71","v":0},{"$f":"Calculations!AJ71","v":0},{"$f":"Calculations!AK71","v":0},{"$f":"Calculations!AL71","v":0},{"$f":"Calculations!AM71","v":0},{"$f":"Calculations!AN71","v":0},{"$f":"Calculations!AO71","v":0},{"$f":"Calculations!AP71","v":0},{"$f":"Calculations!AQ71","v":0}]
[null,null,null,null,null,null,null,null,null,null,"-",null,null,"-",null,null,null,null,null,{"$f":"Calculations!AE72","v":"-"},{"$f":"Calculations!Y72","v":"-"},{"$f":"Calculations!Z72","v":"N/A"},{"$f":"Calculations!AF72","v":"-"},{"$f":"Calculations!AG72","v":"N/A"},{"$f":"Calculations!AH72","v":"N/A"},{"$f":"Calculations!AI72","v":0},{"$f":"Calculations!AJ72","v":0},{"$f":"Calculations!AK72","v":0},{"$f":"Calculations!AL72","v":0},{"$f":"Calculations!AM72","v":0},{"$f":"Calculations!AN72","v":0},{"$f":"Calculations!AO72","v":0},{"$f":"Calculations!AP72","v":0},{"$f":"Calculations!AQ72","v":0}]
[null,null,null,null,null,null,null,null,null,null,"-",null,null,"-",null,null,null,null,null,{"$f":"Calculations!AE73","v":"-"},{"$f":"Calculations!Y73","v":"-"},{"$f":"Calculations!Z73","v":"N/A"},{"$f":"Calculations!AF73","v":"-"},{"$f":"Calculations!AG73","v":"N/A"},{"$f":"Calculations!AH73","v":"N/A"},{"$f":"Calculations!AI73","v":0},{"$f":"Calculations!AJ73","v":0},{"$f":"Calculations!AK73","v":0},{"$f":"Calculations!AL73","v":0},{"$f":"Calculations!AM73","v":0},{"$f":"Calculations!AN73","v":0},{"$f":"Calculations!AO73","v":0},{"$f":"Calculations!AP73","v":0},{"$f":"Calculations!AQ73","v":0}]
[null,null,null,null,null,null,null,null,null,null,"-",null,null,"-",null,null,null,null,null,{"$f":"Calculations!AE74","v":"-"},{"$f":"Calculations!Y74","v":"-"},{"$f":"Calculations!Z74","v":"N/A"},{"$f":"Calculations!AF74","v":"-"},{"$f":"Calculations!AG74","v":"N/A"},{"$f":"Calculations!AH74","v":"N/A"},{"$f":"Calculations!AI74","v":0},{"$f":"Calculations!AJ74","v":0},{"$f":"Calculations!AK74","v":0},{"$f":"Calculations!AL74","v":0},{"$f":"Calculations!AM74","v":0},{"$f":"Calculations!AN74","v":0},{"$f":"Calculations!AO74","v":0},{"$f":"Calculations!AP74","v":0},{"$f":"Calculations!AQ74","v":0}]
[null,null,null,null,null,null,null,null,null,null,"-",null,null,"-",null,null,null,null,null,{"$f":"Calculations!AE75","v":"-"},{"$f":"Calculations!Y75","v":"-"},{"$f":"Calculations!Z75","v":"N/A"},{"$f":"Calculations!AF75","v":"-"},{"$f":"Calculations!AG75","v":"N/A"},{"$f":"Calculations!AH75","v":"N/A"},{"$f":"Calculations!AI75","v":0},{"$f":"Calculations!AJ75","v":0},{"$f":"Calculations!AK75","v":0},{"$f":"Calculations!AL75","v":0},{"$f":"Calculations!AM75","v":0},{"$f":"Calculations!AN75","v":0},{"$f":"Calculations!AO75","v":0},{"$f":"Calculations!AP75","v":0},{"$f":"Calculations!AQ75","v":0}]
[null,null,null,null,null,null,null,null,null,null,"-",null,null,"-",null,null,null,null,null,{"$f":"Calculations!AE76","v":"-"},{"$f":"Calculations!Y76","v":"-"},{"$f":"Calculations!Z76","v":"N/A"},{"$f":"Calculations!AF76","v":"-"},{"$f":"Calculations!AG76","v":"N/A"},{"$f":"Calculations!AH76","v":"N/A"},{"$f":"Calculations!AI76","v":0},{"$f":"Calculations!AJ76","v":0},{"$f":"Calculations!AK76","v":0},{"$f":"Calculations!AL76","v":0},{"$f":"Calculations!AM76","v":0},{"$f":"Calculations!AN76","v":0},{"$f":"Calculations!AO76","v":0},{"$f":"Calculations!AP76","v":0},{"$f":"Calculations!AQ76","v":0}]
[null,null,null,null,null,null,null,null,null,null,"-",null,null,"-",null,null,null,null,null,{"$f":"Calculations!AE77","v":"-"},{"$f":"Calculations!Y77","v":"-"},{"$f":"Calculations!Z77","v":"N/A"},{"$f":"Calculations!AF77","v":"-"},{"$f":"Calculations!AG77","v":"N/A"},{"$f":"Calculations!AH77","v":"N/A"},{"$f":"Calculations!AI77","v":0},{"$f":"Calculations!AJ77","v":0},{"$f":"Calculations!AK77","v":0},{"$f":"Calculations!AL77","v":0},{"$f":"Calculations!AM77","v":0},{"$f":"Calculations!AN77","v":0},{"$f":"Calculations!AO77","v":0},{"$f":"Calculations!AP77","v":0},{"$f":"Calculations!AQ77","v":0}]
[null,null,null,null,null,null,null,null,null,null,"-",null,null,"-",null,null,null,null,null,{"$f":"Calculations!AE78","v":"-"},{"$f":"Calculations!Y78","v":"-"},{"$f":"Calculations!Z78","v":"N/A"},{"$f":"Calculations!AF78","v":"-"},{"$f":"Calculations!AG78","v":"N/A"},{"$f":"Calculations!AH78","v":"N/A"},{"$f":"Calculations!AI78","v":0},{"$f":"Calculations!AJ78","v":0},{"$f":"Calculations!AK78","v":0},{"$f":"Calculations!AL78","v":0},{"$f":"Calculations!AM78","v":0},{"$f":"Calculations!AN78","v":0},{"$f":"Calculations!AO78","v":0},{"$f":"Calculations!AP78","v":0},{"$f":"Calculations!AQ78","v":0}]
[null,null,null,null,null,null,null,null,null,null,"-",null,null,"-",null,null,null,null,null,{"$f":"Calculations!AE79","v":"-"},{"$f":"Calculations!Y79","v":"-"},{"$f":"Calculations!Z79","v":"N/A"},{"$f":"Calculations!AF79","v":"-"},{"$f":"Calculations!AG79","v":"N/A"},{"$f":"Calculations!AH79","v":"N/A"},{"$f":"Calculations!AI79","v":0},{"$f":"Calculations!AJ79","v":0},{"$f":"Calculations!AK79","v":0},{"$f":"Calculations!AL79","v":0},{"$f":"Calculations!AM79","v":0},{"$f":"Calculations!AN79","v":0},{"$f":"Calculations!AO79","v":0},{"$f":"Calculations!AP79","v":0},{"$f":"Calculations!AQ79","v":0}]
[null,null,null,null,null,null,null,null,null,null,"-",null,null,"-",null,null,null,null,null,{"$f":"Calculations!AE80","v":"-"},{"$f":"Calculations!Y80","v":"-"},{"$f":"Calculations!Z80","v":"N/A"},{"$f":"Calculations!AF80","v":"-"},{"$f":"Calculations!AG80","v":"N/A"},{"$f":"Calculations!AH80","v":"N/A"},{"$f":"Calculations!AI80","v":0},{"$f":"Calculations!AJ80","v":0},{"$f":"Calculations!AK80","v":0},{"$f":"Calculations!AL80","v":0},{"$f":"Calculations!AM80","v":0},{"$f":"Calculations!AN80","v":0},{"$f":"Calculations!AO80","v":0},{"$f":"Calculations!AP80","v":0},{"$f":"Calculations!AQ80","v":0}]
[null,null,null,null,null,null,null,null,null,null,"-",null,null,"-",null,null,null,null,null,{"$f":"Calculations!AE81","v":"-"},{"$f":"Calculations!Y81","v":"-"},{"$f":"Calculations!Z81","v":"N/A"},{"$f":"Calculations!AF81","v":"-"},{"$f":"Calculations!AG81","v":"N/A"},{"$f":"Calculations!AH81","v":"N/A"},{"$f":"Calculations!AI81","v":0},{"$f":"Calculations!AJ81","v":0},{"$f":"Calculations!AK81","v":0},{"$f":"Calculations!AL81","v":0},{"$f":"Calculations!AM81","v":0},{"$f":"Calculations!AN81","v":0},{"$f":"Calculations!AO81","v":0},{"$f":"Calculations!AP81","v":0},{"$f":"Calculations!AQ81","v":0}]
[null,null,null,null,null,null,null,null,null,null,"-",null,null,"-",null,null,null,null,null,{"$f":"Calculations!AE82","v":"-"},{"$f":"Calculations!Y82","v":"-"},{"$f":"Calculations!Z82","v":"N/A"},{"$f":"Calculations!AF82","v":"-"},{"$f":"Calculations!AG82","v":"N/A"},{"$f":"Calculations!AH82","v":"N/A"},{"$f":"Calculations!AI82","v":0},{"$f":"Calculations!AJ82","v":0},{"$f":"Calculations!AK82","v":0},{"$f":"Calculations!AL82","v":0},{"$f":"Calculations!AM82","v":0},{"$f":"Calculations!AN82","v":0},{"$f":"Calculations!AO82","v":0},{"$f":"Calculations!AP82","v":0},{"$f":"Calculations!AQ82","v":0}]
[null,null,null,null,null,null,null,null,null,null,"-",null,null,"-",null,null,null,null,null,{"$f":"Calculations!AE83","v":"-"},{"$f":"Calculations!Y83","v":"-"},{"$f":"Calculations!Z83","v":"N/A"},{"$f":"Calculations!AF83","v":"-"},{"$f":"Calculations!AG83","v":"N/A"},{"$f":"Calculations!AH83","v":"N/A"},{"$f":"Calculations!AI83","v":0},{"$f":"Calculations!AJ83","v":0},{"$f":"Calculations!AK83","v":0},{"$f":"Calculations!AL83","v":0},{"$f":"Calculations!AM83","v":0},{"$f":"Calculations!AN83","v":0},{"$f":"Calculations!AO83","v":0},{"$f":"Calculations!AP83","v":0},{"$f":"Calculations!AQ83","v":0}]
[null,null,null,null,null,null,null,null,null,null,"-",null,null,"-",null,null,null,null,null,{"$f":"Calculations!AE84","v":"-"},{"$f":"Calculations!Y84","v":"-"},{"$f":"Calculations!Z84","v":"N/A"},{"$f":"Calculations!AF84","v":"-"},{"$f":"Calculations!AG84","v":"N/A"},{"$f":"Calculations!AH84","v":"N/A"},{"$f":"Calculations!AI84","v":0},{"$f":"Calculations!AJ84","v":0},{"$f":"Calculations!AK84","v":0},{"$f":"Calculations!AL84","v":0},{"$f":"Calculations!AM84","v":0},{"$f":"Calculations!AN84","v":0},{"$f":"Calculations!AO84","v":0},{"$f":"Calculations!AP84","v":0},{"$f":"Calculations!AQ84","v":0}]
[null,null,null,null,null,null,null,null,null,null,"-",null,null,"-",null,null,null,null,null,{"$f":"Calculations!AE85","v":"-"},{"$f":"Calculations!Y85","v":"-"},{"$f":"Calculations!Z85","v":"N/A"},{"$f":"Calculations!AF85","v":"-"},{"$f":"Calculations!AG85","v":"N/A"},{"$f":"Calculations!AH85","v":"N/A"},{"$f":"Calculations!AI85","v":0},{"$f":"Calculations!AJ85","v":0},{"$f":"Calculations!AK85","v":0},{"$f":"Calculations!AL85","v":0},{"$f":"Calculations!AM85","v":0},{"$f":"Calculations!AN85","v":0},{"$f":"Calculations!AO85","v":0},{"$f":"Calculations!AP85","v":0},{"$f":"Calculations!AQ85","v":0}]
[null,null,null,null,null,null,null,null,null,null,"-",null,null,"-",null,null,null,null,null,{"$f":"Calculations!AE86","v":"-"},{"$f":"Calculations!Y86","v":"-"},{"$f":"Calculations!Z86","v":"N/A"},{"$f":"Calculations!AF86","v":"-"},{"$f":"Calculations!AG86","v":"N/A"},{"$f":"Calculations!AH86","v":"N/A"},{"$f":"Calculations!AI86","v":0},{"$f":"Calculations!AJ86","v":0},{"$f":"Calculations!AK86","v":0},{"$f":"Calculations!AL86","v":0},{"$f":"Calculations!AM86","v":0},{"$f":"Calculations!AN86","v":0},{"$f":"Calculations!AO86","v":0},{"$f":"Calculations!AP86","v":0},{"$f":"Calculations!AQ86","v":0}]
[null,null,null,null,null,null,null,null,null,null,"-",null,null,"-",null,null,null,null,null,{"$f":"Calculations!AE87","v":"-"},{"$f":"Calculations!Y87","v":"-"},{"$f":"Calculations!Z87","v":"N/A"},{"$f":"Calculations!AF87","v":"-"},{"$f":"Calculations!AG87","v":"N/A"},{"$f":"Calculations!AH87","v":"N/A"},{"$f":"Calculations!AI87","v":0},{"$f":"Calculations!AJ87","v":0},{"$f":"Calculations!AK87","v":0},{"$f":"Calculations!AL87","v":0},{"$f":"Calculations!AM87","v":0},{"$f":"Calculations!AN87","v":0},{"$f":"Calculations!AO87","v":0},{"$f":"Calculations!AP87","v":0},{"$f":"Calculations!AQ87","v":0}]
[null,null,null,null,null,null,null,null,null,null,"-",null,null,"-",null,null,null,null,null,{"$f":"Calculations!AE88","v":"-"},{"$f":"Calculations!Y88","v":"-"},{"$f":"Calculations!Z88","v":"N/A"},{"$f":"Calculations!AF88","v":"-"},{"$f":"Calculations!AG88","v":"N/A"},{"$f":"Calculations!AH88","v":"N/A"},{"$f":"Calculations!AI88","v":0},{"$f":"Calculations!AJ88","v":0},{"$f":"Calculations!AK88","v":0},{"$f":"Calculations!AL88","v":0},{"$f":"Calculations!AM88","v":0},{"$f":"Calculations!AN88","v":0},{"$f":"Calculations!AO88","v":0},{"$f":"Calculations!AP88","v":0},{"$f":"Calculations!AQ88","v":0}]
[null,null,null,null,null,null,null,null,null,null,"-",null,null,"-",null,null,null,null,null,{"$f":"Calculations!AE89","v":"-"},{"$f":"Calculations!Y89","v":"-"},{"$f":"Calculations!Z89","v":"N/A"},{"$f":"Calculations!AF89","v":"-"},{"$f":"Calculations!AG89","v":"N/A"},{"$f":"Calculations!AH89","v":"N/A"},{"$f":"Calculations!AI89","v":0},{"$f":"Calculations!AJ89","v":0},{"$f":"Calculations!AK89","v":0},{"$f":"Calculations!AL89","v":0},{"$f":"Calculations!AM89","v":0},{"$f":"Calculations!AN89","v":0},{"$f":"Calculations!AO89","v":0},{"$f":"Calculations!AP89","v":0},{"$f":"Calculations!AQ89","v":0}]
[null,null,null,null,null,null,null,null,null,null,"-",null,null,"-",null,null,null,null,null,{"$f":"Calculations!AE90","v":"-"},{"$f":"Calculations!Y90","v":"-"},{"$f":"Calculations!Z90","v":"N/A"},{"$f":"Calculations!AF90","v":"-"},{"$f":"Calculations!AG90","v":"N/A"},{"$f":"Calculations!AH90","v":"N/A"},{"$f":"Calculations!AI90","v":0},{"$f":"Calculations!AJ90","v":0},{"$f":"Calculations!AK90","v":0},{"$f":"Calculations!AL90","v":0},{"$f":"Calculations!AM90","v":0},{"$f":"Calculations!AN90","v":0},{"$f":"Calculations!AO90","v":0},{"$f":"Calculations!AP90","v":0},{"$f":"Calculations!AQ90","v":0}]
[null,null,null,null,null,null,null,null,null,null,"-",null,null,"-",null,null,null,null,null,{"$f":"Calculations!AE91","v":"-"},{"$f":"Calculations!Y91","v":"-"},{"$f":"Calculations!Z91","v":"N/A"},{"$f":"Calculations!AF91","v":"-"},{"$f":"Calculations!AG91","v":"N/A"},{"$f":"Calculations!AH91","v":"N/A"},{"$f":"Calculations!AI91","v":0},{"$f":"Calculations!AJ91","v":0},{"$f":"Calculations!AK91","v":0},{"$f":"Calculations!AL91","v":0},{"$f":"Calculations!AM91","v":0},{"$f":"Calculations!AN91","v":0},{"$f":"Calculations!AO91","v":0},{"$f":"Calculations!AP91","v":0},{"$f":"Calculations!AQ91","v":0}]
[null,null,null,null,null,null,null,null,null,null,"-",null,null,"-",null,null,null,null,null,{"$f":"Calculations!AE92","v":"-"},{"$f":"Calculations!Y92","v":"-"},{"$f":"Calculations!Z92","v":"N/A"},{"$f":"Calculations!AF92","v":"-"},{"$f":"Calculations!AG92","v":"N/A"},{"$f":"Calculations!AH92","v":"N/A"},{"$f":"Calculations!AI92","v":0},{"$f":"Calculations!AJ92","v":0},{"$f":"Calculations!AK92","v":0},{"$f":"Calculations!AL92","v":0},{"$f":"Calculations!AM92","v":0},{"$f":"Calculations!AN92","v":0},{"$f":"Calculations!AO92","v":0},{"$f":"Calculations!AP92","v":0},{"$f":"Calculations!AQ92","v":0}]
[null,null,null,null,null,null,null,null,null,null,"-",null,null,"-",null,null,null,null,null,{"$f":"Calculations!AE93","v":"-"},{"$f":"Calculations!Y93","v":"-"},{"$f":"Calculations!Z93","v":"N/A"},{"$f":"Calculations!AF93","v":"-"},{"$f":"Calculations!AG93","v":"N/A"},{"$f":"Calculations!AH93","v":"N/A"},{"$f":"Calculations!AI93","v":0},{"$f":"Calculations!AJ93","v":0},{"$f":"Calculations!AK93","v":0},{"$f":"Calculations!AL93","v":0},{"$f":"Calculations!AM93","v":0},{"$f":"Calculations!AN93","v":0},{"$f":"Calculations!AO93","v":0},{"$f":"Calculations!AP93","v":0},{"$f":"Calculations!AQ93","v":0}]
[null,null,null,null,null,null,null,null,null,null,"-",null,null,"-",null,null,null,null,null,{"$f":"Calculations!AE94","v":"-"},{"$f":"Calculations!Y94","v":"-"},{"$f":"Calculations!Z94","v":"N/A"},{"$f":"Calculations!AF94","v":"-"},{"$f":"Calculations!AG94","v":"N/A"},{"$f":"Calculations!AH94","v":"N/A"},{"$f":"Calculations!AI94","v":0},{"$f":"Calculations!AJ94","v":0},{"$f":"Calculations!AK94","v":0},{"$f":"Calculations!AL94","v":0},{"$f":"Calculations!AM94","v":0},{"$f":"Calculations!AN94","v":0},{"$f":"Calculations!AO94","v":0},{"$f":"Calculations!AP94","v":0},{"$f":"Calculations!AQ94","v":0}]
[null,null,null,null,null,null,null,null,null,null,"-",null,null,"-",null,null,null,null,null,{"$f":"Calculations!AE95","v":"-"},{"$f":"Calculations!Y95","v":"-"},{"$f":"Calculations!Z95","v":"N/A"},{"$f":"Calculations!AF95","v":"-"},{"$f":"Calculations!AG95","v":"N/A"},{"$f":"Calculations!AH95","v":"N/A"},{"$f":"Calculations!AI95","v":0},{"$f":"Calculations!AJ95","v":0},{"$f":"Calculations!AK95","v":0},{"$f":"Calculations!AL95","v":0},{"$f":"Calculations!AM95","v":0},{"$f":"Calculations!AN95","v":0},{"$f":"Calculations!AO95","v":0},{"$f":"Calculations!AP95","v":0},{"$f":"Calculations!AQ95","v":0}]
[null,null,null,null,null,null,null,null,null,null,"-",null,null,"-",null,null,null,null,null,{"$f":"Calculations!AE96","v":"-"},{"$f":"Calculations!Y96","v":"-"},{"$f":"Calculations!Z96","v":"N/A"},{"$f":"Calculations!AF96","v":"-"},{"$f":"Calculations!AG96","v":"N/A"},{"$f":"Calculations!AH96","v":"N/A"},{"$f":"Calculations!AI96","v":0},{"$f":"Calculations!AJ96","v":0},{"$f":"Calculations!AK96","v":0},{"$f":"Calculations!AL96","v":0},{"$f":"Calculations!AM96","v":0},{"$f":"Calculations!AN96","v":0},{"$f":"Calculations!AO96","v":0},{"$f":"Calculations!AP96","v":0},{"$f":"Calculations!AQ96","v":0}]
[null,null,null,null,null,null,null,null,null,null,"-",null,null,"-",null,null,null,null,null,{"$f":"Calculations!AE97","v":"-"},{"$f":"Calculations!Y97","v":"-"},{"$f":"Calculations!Z97","v":"N/A"},{"$f":"Calculations!AF97","v":"-"},{"$f":"Calculations!AG97","v":"N/A"},{"$f":"Calculations!AH97","v":"N/A"},{"$f":"Calculations!AI97","v":0},{"$f":"Calculations!AJ97","v":0},{"$f":"Calculations!AK97","v":0},{"$f":"Calculations!AL97","v":0},{"$f":"Calculations!AM97","v":0},{"$f":"Calculations!AN97","v":0},{"$f":"Calculations!AO97","v":0},{"$f":"Calculations!AP97","v":0},{"$f":"Calculations!AQ97","v":0}]
[null,null,null,null,null,null,null,null,null,null,"-",null,null,"-",null,null,null,null,null,{"$f":"Calculations!AE98","v":"-"},{"$f":"Calculations!Y98","v":"-"},{"$f":"Calculations!Z98","v":"N/A"},{"$f":"Calculations!AF98","v":"-"},{"$f":"Calculations!AG98","v":"N/A"},{"$f":"Calculations!AH98","v":"N/A"},{"$f":"Calculations!AI98","v":0},{"$f":"Calculations!AJ98","v":0},{"$f":"Calculations!AK98","v":0},{"$f":"Calculations!AL98","v":0},{"$f":"Calculations!AM98","v":0},{"$f":"Calculations!AN98","v":0},{"$f":"Calculations!AO98","v":0},{"$f":"Calculations!AP98","v":0},{"$f":"Calculations!AQ98","v":0}]
[null,null,null,null,null,null,null,null,null,null,"-",null,null,"-",null,null,null,null,null,{"$f":"Calculations!AE99","v":"-"},{"$f":"Calculations!Y99","v":"-"},{"$f":"Calculations!Z99","v":"N/A"},{"$f":"Calculations!AF99","v":"-"},{"$f":"Calculations!AG99","v":"N/A"},{"$f":"Calculations!AH99","v":"N/A"},{"$f":"Calculations!AI99","v":0},{"$f":"Calculations!AJ99","v":0},{"$f":"Calculations!AK99","v":0},{"$f":"Calculations!AL99","v":0},{"$f":"Calculations!AM99","v":0},{"$f":"Calculations!AN99","v":0},{"$f":"Calculations!AO99","v":0},{"$f":"Calculations!AP99","v":0},{"$f":"Calculations!AQ99","v":0}]
[null,null,null,null,null,null,null,null,null,null,"-",null,null,"-",null,null,null,null,null,{"$f":"Calculations!AE100","v":"-"},{"$f":"Calculations!Y100","v":"-"},{"$f":"Calculations!Z100","v":"N/A"},{"$f":"Calculations!AF100","v":"-"},{"$f":"Calculations!AG100","v":"N/A"},{"$f":"Calculations!AH100","v":"N/A"},{"$f":"Calculations!AI100","v":0},{"$f":"Calculations!AJ100","v":0},{"$f":"Calculations!AK100","v":0},{"$f":"Calculations!AL100","v":0},{"$f":"Calculations!AM100","v":0},{"$f":"Calculations!AN100","v":0},{"$f":"Calculations!AO100","v":0},{"$f":"Calculations!AP100","v":0},{"$f":"Calculations!AQ100","v":0}]
[null,null,null,null,null,null,null,null,null,null,"-",null,null,"-",null,null,null,null,null,{"$f":"Calculations!AE101","v":"-"},{"$f":"Calculations!Y101","v":"-"},{"$f":"Calculations!Z101","v":"N/A"},{"$f":"Calculations!AF101","v":"-"},{"$f":"Calculations!AG101","v":"N/A"},{"$f":"Calculations!AH101","v":"N/A"},{"$f":"Calculations!AI101","v":0},{"$f":"Calculations!AJ101","v":0},{"$f":"Calculations!AK101","v":0},{"$f":"Calculations!AL101","v":0},{"$f":"Calculations!AM101","v":0},{"$f":"Calculations!AN101","v":0},{"$f":"Calculations!AO101","v":0},{"$f":"Calculations!AP101","v":0},{"$f":"Calculations!AQ101","v":0}]
[null,null,null,null,null,null,null,null,null,null,"-",null,null,"-",null,null,null,null,null,{"$f":"Calculations!AE102","v":"-"},{"$f":"Calculations!Y102","v":"-"},{"$f":"Calculations!Z102","v":"N/A"},{"$f":"Calculations!AF102","v":"-"},{"$f":"Calculations!AG102","v":"N/A"},{"$f":"Calculations!AH102","v":"N/A"},{"$f":"Calculations!AI102","v":0},{"$f":"Calculations!AJ102","v":0},{"$f":"Calculations!AK102","v":0},{"$f":"Calculations!AL102","v":0},{"$f":"Calculations!AM102","v":0},{"$f":"Calculations!AN102","v":0},{"$f":"Calculations!AO102","v":0},{"$f":"Calculations!AP102","v":0},{"$f":"Calculations!AQ102","v":0}]
[null,null,null,null,null,null,null,null,null,null,"-",null,null,"-",null,null,null,null,null,{"$f":"Calculations!AE103","v":"-"},{"$f":"Calculations!Y103","v":"-"},{"$f":"Calculations!Z103","v":"N/A"},{"$f":"Calculations!AF103","v":"-"},{"$f":"Calculations!AG103","v":"N/A"},{"$f":"Calculations!AH103","v":"N/A"},{"$f":"Calculations!AI103","v":0},{"$f":"Calculations!AJ103","v":0},{"$f":"Calculations!AK103","v":0},{"$f":"Calculations!AL103","v":0},{"$f":"Calculations!AM103","v":0},{"$f":"Calculations!AN103","v":0},{"$f":"Calculations!AO103","v":0},{"$f":"Calculations!AP103","v":0},{"$f":"Calculations!AQ103","v":0}]
[null,null,null,null,null,null,null,null,null,null,"-",null,null,"-",null,null,null,null,null,{"$f":"Calculations!AE104","v":"-"},{"$f":"Calculations!Y104","v":"-"},{"$f":"Calculations!Z104","v":"N/A"},{"$f":"Calculations!AF104","v":"-"},{"$f":"Calculations!AG104","v":"N/A"},{"$f":"Calculations!AH104","v":"N/A"},{"$f":"Calculations!AI104","v":0},{"$f":"Calculations!AJ104","v":0},{"$f":"Calculations!AK104","v":0},{"$f":"Calculations!AL104","v":0},{"$f":"Calculations!AM104","v":0},{"$f":"Calculations!AN104","v":0},{"$f":"Calculations!AO104","v":0},{"$f":"Calculations!AP104","v":0},{"$f":"Calculations!AQ104","v":0}]
[null,null,null,null,null,null,null,null,null,null,"-",null,null,"-",null,null,null,null,null,{"$f":"Calculations!AE105","v":"-"},{"$f":"Calculations!Y105","v":"-"},{"$f":"Calculations!Z105","v":"N/A"},{"$f":"Calculations!AF105","v":"-"},{"$f":"Calculations!AG105","v":"N/A"},{"$f":"Calculations!AH105","v":"N/A"},{"$f":"Calculations!AI105","v":0},{"$f":"Calculations!AJ105","v":0},{"$f":"Calculations!AK105","v":0},{"$f":"Calculations!AL105","v":0},{"$f":"Calculations!AM105","v":0},{"$f":"Calculations!AN105","v":0},{"$f":"Calculations!AO105","v":0},{"$f":"Calculations!AP105","v":0},{"$f":"Calculations!AQ105","v":0}]
[null,null,null,null,null,null,null,null,null,null,"-",null,null,"-",null,null,null,null,null,{"$f":"Calculations!AE106","v":"-"},{"$f":"Calculations!Y106","v":"-"},{"$f":"Calculations!Z106","v":"N/A"},{"$f":"Calculations!AF106","v":"-"},{"$f":"Calculations!AG106","v":"N/A"},{"$f":"Calculations!AH106","v":"N/A"},{"$f":"Calculations!AI106","v":0},{"$f":"Calculations!AJ106","v":0},{"$f":"Calculations!AK106","v":0},{"$f":"Calculations!AL106","v":0},{"$f":"Calculations!AM106","v":0},{"$f":"Calculations!AN106","v":0},{"$f":"Calculations!AO106","v":0},{"$f":"Calculations!AP106","v":0},{"$f":"Calculations!AQ106","v":0}]
[null,null,null,null,null,null,null,null,null,null,"-",null,null,"-",null,null,null,null,null,{"$f":"Calculations!AE107","v":"-"},{"$f":"Calculations!Y107","v":"-"},{"$f":"Calculations!Z107","v":"N/A"},{"$f":"Calculations!AF107","v":"-"},{"$f":"Calculations!AG107","v":"N/A"},{"$f":"Calculations!AH107","v":"N/A"},{"$f":"Calculations!AI107","v":0},{"$f":"Calculations!AJ107","v":0},{"$f":"Calculations!AK107","v":0},{"$f":"Calculations!AL107","v":0},{"$f":"Calculations!AM107","v":0},{"$f":"Calculations!AN107","v":0},{"$f":"Calculations!AO107","v":0},{"$f":"Calculations!AP107","v":0},{"$f":"Calculations!AQ107","v":0}]
[null,null,null,null,null,null,null,null,null,null,"-",null,null,"-",null,null,null,null,null,{"$f":"Calculations!AE108","v":"-"},{"$f":"Calculations!Y108","v":"-"},{"$f":"Calculations!Z108","v":"N/A"},{"$f":"Calculations!AF108","v":"-"},{"$f":"Calculations!AG108","v":"N/A"},{"$f":"Calculations!AH108","v":"N/A"},{"$f":"Calculations!AI108","v":0},{"$f":"Calculations!AJ108","v":0},{"$f":"Calculations!AK108","v":0},{"$f":"Calculations!AL108","v":0},{"$f":"Calculations!AM108","v":0},{"$f":"Calculations!AN108","v":0},{"$f":"Calculations!AO108","v":0},{"$f":"Calculations!AP108","v":0},{"$f":"Calculations!AQ108","v":0}]
[null,null,null,null,null,null,null,null,null,null,"-",null,null,"-",null,null,null,null,null,{"$f":"Calculations!AE109","v":"-"},{"$f":"Calculations!Y109","v":"-"},{"$f":"Calculations!Z109","v":"N/A"},{"$f":"Calculations!AF109","v":"-"},{"$f":"Calculations!AG109","v":"N/A"},{"$f":"Calculations!AH109","v":"N/A"},{"$f":"Calculations!AI109","v":0},{"$f":"Calculations!AJ109","v":0},{"$f":"Calculations!AK109","v":0},{"$f":"Calculations!AL109","v":0},{"$f":"Calculations!AM109","v":0},{"$f":"Calculations!AN109","v":0},{"$f":"Calculations!AO109","v":0},{"$f":"Calculations!AP109","v":0},{"$f":"Calculations!AQ109","v":0}]
[null,null,null,null,null,null,null,null,null,null,"-",null,null,"-",null,null,null,null,null,{"$f":"Calculations!AE110","v":"-"},{"$f":"Calculations!Y110","v":"-"},{"$f":"Calculations!Z110","v":"N/A"},{"$f":"Calculations!AF110","v":"-"},{"$f":"Calculations!AG110","v":"N/A"},{"$f":"Calculations!AH110","v":"N/A"},{"$f":"Calculations!AI110","v":0},{"$f":"Calculations!AJ110","v":0},{"$f":"Calculations!AK110","v":0},{"$f":"Calculations!AL110","v":0},{"$f":"Calculations!AM110","v":0},{"$f":"Calculations!AN110","v":0},{"$f":"Calculations!AO110","v":0},{"$f":"Calculations!AP110","v":0},{"$f":"Calculations!AQ110","v":0}]
[null,null,null,null,null,null,null,null,null,null,"-",null,null,"-",null,null,null,null,null,{"$f":"Calculations!AE111","v":"-"},{"$f":"Calculations!Y111","v":"-"},{"$f":"Calculations!Z111","v":"N/A"},{"$f":"Calculations!AF111","v":"-"},{"$f":"Calculations!AG111","v":"N/A"},{"$f":"Calculations!AH111","v":"N/A"},{"$f":"Calculations!AI111","v":0},{"$f":"Calculations!AJ111","v":0},{"$f":"Calculations!AK111","v":0},{"$f":"Calculations!AL111","v":0},{"$f":"Calculations!AM111","v":0},{"$f":"Calculations!AN111","v":0},{"$f":"Calculations!AO111","v":0},{"$f":"Calculations!AP111","v":0},{"$f":"Calculations!AQ111","v":0}]
[null,null,null,null,null,null,null,null,null,null,"-",null,null,"-",null,null,null,null,null,{"$f":"Calculations!AE112","v":"-"},{"$f":"Calculations!Y112","v":"-"},{"$f":"Calculations!Z112","v":"N/A"},{"$f":"Calculations!AF112","v":"-"},{"$f":"Calculations!AG112","v":"N/A"},{"$f":"Calculations!AH112","v":"N/A"},{"$f":"Calculations!AI112","v":0},{"$f":"Calculations!AJ112","v":0},{"$f":"Calculations!AK112","v":0},{"$f":"Calculations!AL112","v":0},{"$f":"Calculations!AM112","v":0},{"$f":"Calculations!AN112","v":0},{"$f":"Calculations!AO112","v":0},{"$f":"Calculations!AP112","v":0},{"$f":"Calculations!AQ112","v":0}]
[null,null,null,null,null,null,null,null,null,null,"-",null,null,"-",null,null,null,null,null,{"$f":"Calculations!AE113","v":"-"},{"$f":"Calculations!Y113","v":"-"},{"$f":"Calculations!Z113","v":"N/A"},{"$f":"Calculations!AF113","v":"-"},{"$f":"Calculations!AG113","v":"N/A"},{"$f":"Calculations!AH113","v":"N/A"},{"$f":"Calculations!AI113","v":0},{"$f":"Calculations!AJ113","v":0},{"$f":"Calculations!AK113","v":0},{"$f":"Calculations!AL113","v":0},{"$f":"Calculations!AM113","v":0},{"$f":"Calculations!AN113","v":0},{"$f":"Calculations!AO113","v":0},{"$f":"Calculations!AP113","v":0},{"$f":"Calculations!AQ113","v":0}]
[null,null,null,null,null,null,null,null,null,null,"-",null,null,"-",null,null,null,null,null,{"$f":"Calculations!AE114","v":"-"},{"$f":"Calculations!Y114","v":"-"},{"$f":"Calculations!Z114","v":"N/A"},{"$f":"Calculations!AF114","v":"-"},{"$f":"Calculations!AG114","v":"N/A"},{"$f":"Calculations!AH114","v":"N/A"},{"$f":"Calculations!AI114","v":0},{"$f":"Calculations!AJ114","v":0},{"$f":"Calculations!AK114","v":0},{"$f":"Calculations!AL114","v":0},{"$f":"Calculations!AM114","v":0},{"$f":"Calculations!AN114","v":0},{"$f":"Calculations!AO114","v":0},{"$f":"Calculations!AP114","v":0},{"$f":"Calculations!AQ114","v":0}]
[null,null,null,null,null,null,null,null,null,null,"-",null,null,"-",null,null,null,null,null,{"$f":"Calculations!AE115","v":"-"},{"$f":"Calculations!Y115","v":"-"},{"$f":"Calculations!Z115","v":"N/A"},{"$f":"Calculations!AF115","v":"-"},{"$f":"Calculations!AG115","v":"N/A"},{"$f":"Calculations!AH115","v":"N/A"},{"$f":"Calculations!AI115","v":0},{"$f":"Calculations!AJ115","v":0},{"$f":"Calculations!AK115","v":0},{"$f":"Calculations!AL115","v":0},{"$f":"Calculations!AM115","v":0},{"$f":"Calculations!AN115","v":0},{"$f":"Calculations!AO115","v":0},{"$f":"Calculations!AP115","v":0},{"$f":"Calculations!AQ115","v":0}]
[null,null,null,null,null,null,null,null,null,null,"-",null,null,"-",null,null,null,null,null,{"$f":"Calculations!AE116","v":"-"},{"$f":"Calculations!Y116","v":"-"},{"$f":"Calculations!Z116","v":"N/A"},{"$f":"Calculations!AF116","v":"-"},{"$f":"Calculations!AG116","v":"N/A"},{"$f":"Calculations!AH116","v":"N/A"},{"$f":"Calculations!AI116","v":0},{"$f":"Calculations!AJ116","v":0},{"$f":"Calculations!AK116","v":0},{"$f":"Calculations!AL116","v":0},{"$f":"Calculations!AM116","v":0},{"$f":"Calculations!AN116","v":0},{"$f":"Calculations!AO116","v":0},{"$f":"Calculations!AP116","v":0},{"$f":"Calculations!AQ116","v":0}]
[null,null,null,null,null,null,null,null,null,null,"-",null,null,"-",null,null,null,null,null,{"$f":"Calculations!AE117","v":"-"},{"$f":"Calculations!Y117","v":"-"},{"$f":"Calculations!Z117","v":"N/A"},{"$f":"Calculations!AF117","v":"-"},{"$f":"Calculations!AG117","v":"N/A"},{"$f":"Calculations!AH117","v":"N/A"},{"$f":"Calculations!AI117","v":0},{"$f":"Calculations!AJ117","v":0},{"$f":"Calculations!AK117","v":0},{"$f":"Calculations!AL117","v":0},{"$f":"Calculations!AM117","v":0},{"$f":"Calculations!AN117","v":0},{"$f":"Calculations!AO117","v":0},{"$f":"Calculations!AP117","v":0},{"$f":"Calculations!AQ117","v":0}]
[null,null,null,null,null,null,null,null,null,null,"-",null,null,"-",null,null,null,null,null,{"$f":"Calculations!AE118","v":"-"},{"$f":"Calculations!Y118","v":"-"},{"$f":"Calculations!Z118","v":"N/A"},{"$f":"Calculations!AF118","v":"-"},{"$f":"Calculations!AG118","v":"N/A"},{"$f":"Calculations!AH118","v":"N/A"},{"$f":"Calculations!AI118","v":0},{"$f":"Calculations!AJ118","v":0},{"$f":"Calculations!AK118","v":0},{"$f":"Calculations!AL118","v":0},{"$f":"Calculations!AM118","v":0},{"$f":"Calculations!AN118","v":0},{"$f":"Calculations!AO118","v":0},{"$f":"Calculations!AP118","v":0},{"$f":"Calculations!AQ118","v":0}]
[null,null,null,null,null,null,null,null,null,null,"-",null,null,"-",null,null,null,null,null,{"$f":"Calculations!AE119","v":"-"},{"$f":"Calculations!Y119","v":"-"},{"$f":"Calculations!Z119","v":"N/A"},{"$f":"Calculations!AF119","v":"-"},{"$f":"Calculations!AG119","v":"N/A"},{"$f":"Calculations!AH119","v":"N/A"},{"$f":"Calculations!AI119","v":0},{"$f":"Calculations!AJ119","v":0},{"$f":"Calculations!AK119","v":0},{"$f":"Calculations!AL119","v":0},{"$f":"Calculations!AM119","v":0},{"$f":"Calculations!AN119","v":0},{"$f":"Calculations!AO119","v":0},{"$f":"Calculations!AP119","v":0},{"$f":"Calculations!AQ119","v":0}]
[null,null,null,null,null,null,null,null,null,null,"-",null,null,"-",null,null,null,null,null,{"$f":"Calculations!AE120","v":"-"},{"$f":"Calculations!Y120","v":"-"},{"$f":"Calculations!Z120","v":"N/A"},{"$f":"Calculations!AF120","v":"-"},{"$f":"Calculations!AG120","v":"N/A"},{"$f":"Calculations!AH120","v":"N/A"},{"$f":"Calculations!AI120","v":0},{"$f":"Calculations!AJ120","v":0},{"$f":"Calculations!AK120","v":0},{"$f":"Calculations!AL120","v":0},{"$f":"Calculations!AM120","v":0},{"$f":"Calculations!AN120","v":0},{"$f":"Calculations!AO120","v":0},{"$f":"Calculations!AP120","v":0},{"$f":"Calculations!AQ120","v":0}]
[null,null,null,null,null,null,null,null,null,null,"-",null,null,"-",null,null,null,null,null,{"$f":"Calculations!AE121","v":"-"},{"$f":"Calculations!Y121","v":"-"},{"$f":"Calculations!Z121","v":"N/A"},{"$f":"Calculations!AF121","v":"-"},{"$f":"Calculations!AG121","v":"N/A"},{"$f":"Calculations!AH121","v":"N/A"},{"$f":"Calculations!AI121","v":0},{"$f":"Calculations!AJ121","v":0},{"$f":"Calculations!AK121","v":0},{"$f":"Calculations!AL121","v":0},{"$f":"Calculations!AM121","v":0},{"$f":"Calculations!AN121","v":0},{"$f":"Calculations!AO121","v":0},{"$f":"Calculations!AP121","v":0},{"$f":"Calculations!AQ121","v":0}]
[null,null,null,null,null,null,null,null,null,null,"-",null,null,"-",null,null,null,null,null,{"$f":"Calculations!AE122","v":"-"},{"$f":"Calculations!Y122","v":"-"},{"$f":"Calculations!Z122","v":"N/A"},{"$f":"Calculations!AF122","v":"-"},{"$f":"Calculations!AG122","v":"N/A"},{"$f":"Calculations!AH122","v":"N/A"},{"$f":"Calculations!AI122","v":0},{"$f":"Calculations!AJ122","v":0},{"$f":"Calculations!AK122","v":0},{"$f":"Calculations!AL122","v":0},{"$f":"Calculations!AM122","v":0},{"$f":"Calculations!AN122","v":0},{"$f":"Calculations!AO122","v":0},{"$f":"Calculations!AP122","v":0},{"$f":"Calculations!AQ122","v":0}]
[null,null,null,null,null,null,null,null,null,null,"-",null,null,"-",null,null,null,null,null,{"$f":"Calculations!AE123","v":"-"},{"$f":"Calculations!Y123","v":"-"},{"$f":"Calculations!Z123","v":"N/A"},{"$f":"Calculations!AF123","v":"-"},{"$f":"Calculations!AG123","v":"N/A"},{"$f":"Calculations!AH123","v":"N/A"},{"$f":"Calculations!AI123","v":0},{"$f":"Calculations!AJ123","v":0},{"$f":"Calculations!AK123","v":0},{"$f":"Calculations!AL123","v":0},{"$f":"Calculations!AM123","v":0},{"$f":"Calculations!AN123","v":0},{"$f":"Calculations!AO123","v":0},{"$f":"Calculations!AP123","v":0},{"$f":"Calculations!AQ123","v":0}]
[null,null,null,null,null,null,null,null,null,null,"-",null,null,"-",null,null,null,null,null,{"$f":"Calculations!AE124","v":"-"},{"$f":"Calculations!Y124","v":"-"},{"$f":"Calculations!Z124","v":"N/A"},{"$f":"Calculations!AF124","v":"-"},{"$f":"Calculations!AG124","v":"N/A"},{"$f":"Calculations!AH124","v":"N/A"},{"$f":"Calculations!AI124","v":0},{"$f":"Calculations!AJ124","v":0},{"$f":"Calculations!AK124","v":0},{"$f":"Calculations!AL124","v":0},{"$f":"Calculations!AM124","v":0},{"$f":"Calculations!AN124","v":0},{"$f":"Calculations!AO124","v":0},{"$f":"Calculations!AP124","v":0},{"$f":"Calculations!AQ124","v":0}]
[null,null,null,null,null,null,null,null,null,null,"-",null,null,"-",null,null,null,null,null,{"$f":"Calculations!AE125","v":"-"},{"$f":"Calculations!Y125","v":"-"},{"$f":"Calculations!Z125","v":"N/A"},{"$f":"Calculations!AF125","v":"-"},{"$f":"Calculations!AG125","v":"N/A"},{"$f":"Calculations!AH125","v":"N/A"},{"$f":"Calculations!AI125","v":0},{"$f":"Calculations!AJ125","v":0},{"$f":"Calculations!AK125","v":0},{"$f":"Calculations!AL125","v":0},{"$f":"Calculations!AM125","v":0},{"$f":"Calculations!AN125","v":0},{"$f":"Calculations!AO125","v":0},{"$f":"Calculations!AP125","v":0},{"$f":"Calculations!AQ125","v":0}]
[null,null,null,null,null,null,null,null,null,null,"-",null,null,"-",null,null,null,null,null,{"$f":"Calculations!AE126","v":"-"},{"$f":"Calculations!Y126","v":"-"},{"$f":"Calculations!Z126","v":"N/A"},{"$f":"Calculations!AF126","v":"-"},{"$f":"Calculations!AG126","v":"N/A"},{"$f":"Calculations!AH126","v":"N/A"},{"$f":"Calculations!AI126","v":0},{"$f":"Calculations!AJ126","v":0},{"$f":"Calculations!AK126","v":0},{"$f":"Calculations!AL126","v":0},{"$f":"Calculations!AM126","v":0},{"$f":"Calculations!AN126","v":0},{"$f":"Calculations!AO126","v":0},{"$f":"Calculations!AP126","v":0},{"$f":"Calculations!AQ126","v":0}]
[null,null,null,null,null,null,null,null,null,null,"-",null,null,"-",null,null,null,null,null,{"$f":"Calculations!AE127","v":"-"},{"$f":"Calculations!Y127","v":"-"},{"$f":"Calculations!Z127","v":"N/A"},{"$f":"Calculations!AF127","v":"-"},{"$f":"Calculations!AG127","v":"N/A"},{"$f":"Calculations!AH127","v":"N/A"},{"$f":"Calculations!AI127","v":0},{"$f":"Calculations!AJ127","v":0},{"$f":"Calculations!AK127","v":0},{"$f":"Calculations!AL127","v":0},{"$f":"Calculations!AM127","v":0},{"$f":"Calculations!AN127","v":0},{"$f":"Calculations!AO127","v":0},{"$f":"Calculations!AP127","v":0},{"$f":"Calculations!AQ127","v":0}]
[null,null,null,null,null,null,null,null,null,null,"-",null,null,"-",null,null,null,null,null,{"$f":"Calculations!AE128","v":"-"},{"$f":"Calculations!Y128","v":"-"},{"$f":"Calculations!Z128","v":"N/A"},{"$f":"Calculations!AF128","v":"-"},{"$f":"Calculations!AG128","v":"N/A"},{"$f":"Calculations!AH128","v":"N/A"},{"$f":"Calculations!AI128","v":0},{"$f":"Calculations!AJ128","v":0},{"$f":"Calculations!AK128","v":0},{"$f":"Calculations!AL128","v":0},{"$f":"Calculations!AM128","v":0},{"$f":"Calculations!AN128","v":0},{"$f":"Calculations!AO128","v":0},{"$f":"Calculations!AP128","v":0},{"$f":"Calculations!AQ128","v":0}]
[null,null,null,null,null,null,null,null,null,null,"-",null,null,"-",null,null,null,null,null,{"$f":"Calculations!AE129","v":"-"},{"$f":"Calculations!Y129","v":"-"},{"$f":"Calculations!Z129","v":"N/A"},{"$f":"Calculations!AF129","v":"-"},{"$f":"Calculations!AG129","v":"N/A"},{"$f":"Calculations!AH129","v":"N/A"},{"$f":"Calculations!AI129","v":0},{"$f":"Calculations!AJ129","v":0},{"$f":"Calculations!AK129","v":0},{"$f":"Calculations!AL129","v":0},{"$f":"Calculations!AM129","v":0},{"$f":"Calculations!AN129","v":0},{"$f":"Calculations!AO129","v":0},{"$f":"Calculations!AP129","v":0},{"$f":"Calculations!AQ129","v":0}]
[null,null,null,null,null,null,null,null,null,null,"-",null,null,"-",null,null,null,null,null,{"$f":"Calculations!AE130","v":"-"},{"$f":"Calculations!Y130","v":"-"},{"$f":"Calculations!Z130","v":"N/A"},{"$f":"Calculations!AF130","v":"-"},{"$f":"Calculations!AG130","v":"N/A"},{"$f":"Calculations!AH130","v":"N/A"},{"$f":"Calculations!AI130","v":0},{"$f":"Calculations!AJ130","v":0},{"$f":"Calculations!AK130","v":0},{"$f":"Calculations!AL130","v":0},{"$f":"Calculations!AM130","v":0},{"$f":"Calculations!AN130","v":0},{"$f":"Calculations!AO130","v":0},{"$f":"Calculations!AP130","v":0},{"$f":"Calculations!AQ130","v":0}]
[null,null,null,null,null,null,null,null,null,null,"-",null,null,"-",null,null,null,null,null,{"$f":"Calculations!AE131","v":"-"},{"$f":"Calculations!Y131","v":"-"},{"$f":"Calculations!Z131","v":"N/A"},{"$f":"Calculations!AF131","v":"-"},{"$f":"Calculations!AG131","v":"N/A"},{"$f":"Calculations!AH131","v":"N/A"},{"$f":"Calculations!AI131","v":0},{"$f":"Calculations!AJ131","v":0},{"$f":"Calculations!AK131","v":0},{"$f":"Calculations!AL131","v":0},{"$f":"Calculations!AM131","v":0},{"$f":"Calculations!AN131","v":0},{"$f":"Calculations!AO131","v":0},{"$f":"Calculations!AP131","v":0},{"$f":"Calculations!AQ131","v":0}]
[null,null,null,null,null,null,null,null,null,null,{"$f":"IFERROR(IF(ISBLANK(VLOOKUP($G134&\" \"&$H134,States_Soils,3,FALSE)),\"-\",(VLOOKUP($G134&\" \"&$H134,States_Soils,3,FALSE))),\"-\")","v":"-"},null,null,{"$f":"IFERROR(IF(ISBLANK(VLOOKUP($G134&\" \"&$H134,States_Soils,4,FALSE)),\"-\",(VLOOKUP($G134&\" \"&$H134,States_Soils,4,FALSE))),\"-\")","v":"-"},null,null,null,null,null,{"$f":"Calculations!AE132","v":"-"},{"$f":"Calculations!Y132","v":"-"},{"$f":"Calculations!Z132","v":"N/A"},{"$f":"Calculations!AF132","v":"-"},{"$f":"Calculations!AG132","v":"N/A"},{"$f":"Calculations!AH132","v":"N/A"},{"$f":"Calculations!AI132","v":0},{"$f":"Calculations!AJ132","v":0},{"$f":"Calculations!AK132","v":0},{"$f":"Calculations!AL132","v":0},{"$f":"Calculations!AM132","v":0},{"$f":"Calculations!AN132","v":0},{"$f":"Calculations!AO132","v":0},{"$f":"Calculations!AP132","v":0},{"$f":"Calculations!AQ132","v":0}]
[null,null,null,null,null,null,null,null,null,null,"-",null,null,"-",null,null,null,null,null,{"$f":"Calculations!AE133","v":"-"},{"$f":"Calculations!Y133","v":"-"},{"$f":"Calculations!Z133","v":"N/A"},{"$f":"Calculations!AF133","v":"-"},{"$f":"Calculations!AG133","v":"N/A"},{"$f":"Calculations!AH133","v":"N/A"},{"$f":"Calculations!AI133","v":0},{"$f":"Calculations!AJ133","v":0},{"$f":"Calculations!AK133","v":0},{"$f":"Calculations!AL133","v":0},{"$f":"Calculations!AM133","v":0},{"$f":"Calculations!AN133","v":0},{"$f":"Calculations!AO133","v":0},{"$f":"Calculations!AP133","v":0},{"$f":"Calculations!AQ133","v":0}]
[null,null,null,null,null,null,null,null,null,null,"-",null,null,"-",null,null,null,null,null,{"$f":"Calculations!AE134","v":"-"},{"$f":"Calculations!Y134","v":"-"},{"$f":"Calculations!Z134","v":"N/A"},{"$f":"Calculations!AF134","v":"-"},{"$f":"Calculations!AG134","v":"N/A"},{"$f":"Calculations!AH134","v":"N/A"},{"$f":"Calculations!AI134","v":0},{"$f":"Calculations!AJ134","v":0},{"$f":"Calculations!AK134","v":0},{"$f":"Calculations!AL134","v":0},{"$f":"Calculations!AM134","v":0},{"$f":"Calculations!AN134","v":0},{"$f":"Calculations!AO134","v":0},{"$f":"Calculations!AP134","v":0},{"$f":"Calculations!AQ134","v":0}]
[null,null,null,null,null,null,null,null,null,null,"-",null,null,"-",null,null,null,null,null,{"$f":"Calculations!AE135","v":"-"},{"$f":"Calculations!Y135","v":"-"},{"$f":"Calculations!Z135","v":"N/A"},{"$f":"Calculations!AF135","v":"-"},{"$f":"Calculations!AG135","v":"N/A"},{"$f":"Calculations!AH135","v":"N/A"},{"$f":"Calculations!AI135","v":0},{"$f":"Calculations!AJ135","v":0},{"$f":"Calculations!AK135","v":0},{"$f":"Calculations!AL135","v":0},{"$f":"Calculations!AM135","v":0},{"$f":"Calculations!AN135","v":0},{"$f":"Calculations!AO135","v":0},{"$f":"Calculations!AP135","v":0},{"$f":"Calculations!AQ135","v":0}]
[null,null,null,null,null,null,null,null,null,null,"-",null,null,"-",null,null,null,null,null,{"$f":"Calculations!AE136","v":"-"},{"$f":"Calculations!Y136","v":"-"},{"$f":"Calculations!Z136","v":"N/A"},{"$f":"Calculations!AF136","v":"-"},{"$f":"Calculations!AG136","v":"N/A"},{"$f":"Calculations!AH136","v":"N/A"},{"$f":"Calculations!AI136","v":0},{"$f":"Calculations!AJ136","v":0},{"$f":"Calculations!AK136","v":0},{"$f":"Calculations!AL136","v":0},{"$f":"Calculations!AM136","v":0},{"$f":"Calculations!AN136","v":0},{"$f":"Calculations!AO136","v":0},{"$f":"Calculations!AP136","v":0},{"$f":"Calculations!AQ136","v":0}]
[null,null,null,null,null,null,null,null,null,null,"-",null,null,"-",null,null,null,null,null,{"$f":"Calculations!AE137","v":"-"},{"$f":"Calculations!Y137","v":"-"},{"$f":"Calculations!Z137","v":"N/A"},{"$f":"Calculations!AF137","v":"-"},{"$f":"Calculations!AG137","v":"N/A"},{"$f":"Calculations!AH137","v":"N/A"},{"$f":"Calculations!AI137","v":0},{"$f":"Calculations!AJ137","v":0},{"$f":"Calculations!AK137","v":0},{"$f":"Calculations!AL137","v":0},{"$f":"Calculations!AM137","v":0},{"$f":"Calculations!AN137","v":0},{"$f":"Calculations!AO137","v":0},{"$f":"Calculations!AP137","v":0},{"$f":"Calculations!AQ137","v":0}]
[null,null,null,null,null,null,null,null,null,null,"-",null,null,"-",null,null,null,null,null,{"$f":"Calculations!AE138","v":"-"},{"$f":"Calculations!Y138","v":"-"},{"$f":"Calculations!Z138","v":"N/A"},{"$f":"Calculations!AF138","v":"-"},{"$f":"Calculations!AG138","v":"N/A"},{"$f":"Calculations!AH138","v":"N/A"},{"$f":"Calculations!AI138","v":0},{"$f":"Calculations!AJ138","v":0},{"$f":"Calculations!AK138","v":0},{"$f":"Calculations!AL138","v":0},{"$f":"Calculations!AM138","v":0},{"$f":"Calculations!AN138","v":0},{"$f":"Calculations!AO138","v":0},{"$f":"Calculations!AP138","v":0},{"$f":"Calculations!AQ138","v":0}]
[null,null,null,null,null,null,null,null,null,null,"-",null,null,"-",null,null,null,null,null,{"$f":"Calculations!AE139","v":"-"},{"$f":"Calculations!Y139","v":"-"},{"$f":"Calculations!Z139","v":"N/A"},{"$f":"Calculations!AF139","v":"-"},{"$f":"Calculations!AG139","v":"N/A"},{"$f":"Calculations!AH139","v":"N/A"},{"$f":"Calculations!AI139","v":0},{"$f":"Calculations!AJ139","v":0},{"$f":"Calculations!AK139","v":0},{"$f":"Calculations!AL139","v":0},{"$f":"Calculations!AM139","v":0},{"$f":"Calculations!AN139","v":0},{"$f":"Calculations!AO139","v":0},{"$f":"Calculations!AP139","v":0},{"$f":"Calculations!AQ139","v":0}]
[null,null,null,null,null,null,null,null,null,null,"-",null,null,"-",null,null,null,null,null,{"$f":"Calculations!AE140","v":"-"},{"$f":"Calculations!Y140","v":"-"},{"$f":"Calculations!Z140","v":"N/A"},{"$f":"Calculations!AF140","v":"-"},{"$f":"Calculations!AG140","v":"N/A"},{"$f":"Calculations!AH140","v":"N/A"},{"$f":"Calculations!AI140","v":0},{"$f":"Calculations!AJ140","v":0},{"$f":"Calculations!AK140","v":0},{"$f":"Calculations!AL140","v":0},{"$f":"Calculations!AM140","v":0},{"$f":"Calculations!AN140","v":0},{"$f":"Calculations!AO140","v":0},{"$f":"Calculations!AP140","v":0},{"$f":"Calculations!AQ140","v":0}]
[null,null,null,null,null,null,null,null,null,null,"-",null,null,"-",null,null,null,null,null,{"$f":"Calculations!AE141","v":"-"},{"$f":"Calculations!Y141","v":"-"},{"$f":"Calculations!Z141","v":"N/A"},{"$f":"Calculations!AF141","v":"-"},{"$f":"Calculations!AG141","v":"N/A"},{"$f":"Calculations!AH141","v":"N/A"},{"$f":"Calculations!AI141","v":0},{"$f":"Calculations!AJ141","v":0},{"$f":"Calculations!AK141","v":0},{"$f":"Calculations!AL141","v":0},{"$f":"Calculations!AM141","v":0},{"$f":"Calculations!AN141","v":0},{"$f":"Calculations!AO141","v":0},{"$f":"Calculations!AP141","v":0},{"$f":"Calculations!AQ141","v":0}]
[null,null,null,null,null,null,null,null,null,null,"-",null,null,"-",null,null,null,null,null,{"$f":"Calculations!AE142","v":"-"},{"$f":"Calculations!Y142","v":"-"},{"$f":"Calculations!Z142","v":"N/A"},{"$f":"Calculations!AF142","v":"-"},{"$f":"Calculations!AG142","v":"N/A"},{"$f":"Calculations!AH142","v":"N/A"},{"$f":"Calculations!AI142","v":0},{"$f":"Calculations!AJ142","v":0},{"$f":"Calculations!AK142","v":0},{"$f":"Calculations!AL142","v":0},{"$f":"Calculations!AM142","v":0},{"$f":"Calculations!AN142","v":0},{"$f":"Calculations!AO142","v":0},{"$f":"Calculations!AP142","v":0},{"$f":"Calculations!AQ142","v":0}]
[null,null,null,null,null,null,null,null,null,null,"-",null,null,"-",null,null,null,null,null,{"$f":"Calculations!AE143","v":"-"},{"$f":"Calculations!Y143","v":"-"},{"$f":"Calculations!Z143","v":"N/A"},{"$f":"Calculations!AF143","v":"-"},{"$f":"Calculations!AG143","v":"N/A"},{"$f":"Calculations!AH143","v":"N/A"},{"$f":"Calculations!AI143","v":0},{"$f":"Calculations!AJ143","v":0},{"$f":"Calculations!AK143","v":0},{"$f":"Calculations!AL143","v":0},{"$f":"Calculations!AM143","v":0},{"$f":"Calculations!AN143","v":0},{"$f":"Calculations!AO143","v":0},{"$f":"Calculations!AP143","v":0},{"$f":"Calculations!AQ143","v":0}]
[null,null,null,null,null,null,null,null,null,null,"-",null,null,"-",null,null,null,null,null,{"$f":"Calculations!AE144","v":"-"},{"$f":"Calculations!Y144","v":"-"},{"$f":"Calculations!Z144","v":"N/A"},{"$f":"Calculations!AF144","v":"-"},{"$f":"Calculations!AG144","v":"N/A"},{"$f":"Calculations!AH144","v":"N/A"},{"$f":"Calculations!AI144","v":0},{"$f":"Calculations!AJ144","v":0},{"$f":"Calculations!AK144","v":0},{"$f":"Calculations!AL144","v":0},{"$f":"Calculations!AM144","v":0},{"$f":"Calculations!AN144","v":0},{"$f":"Calculations!AO144","v":0},{"$f":"Calculations!AP144","v":0},{"$f":"Calculations!AQ144","v":0}]
[null,null,null,null,null,null,null,null,null,null,"-",null,null,"-",null,null,null,null,null,{"$f":"Calculations!AE145","v":"-"},{"$f":"Calculations!Y145","v":"-"},{"$f":"Calculations!Z145","v":"N/A"},{"$f":"Calculations!AF145","v":"-"},{"$f":"Calculations!AG145","v":"N/A"},{"$f":"Calculations!AH145","v":"N/A"},{"$f":"Calculations!AI145","v":0},{"$f":"Calculations!AJ145","v":0},{"$f":"Calculations!AK145","v":0},{"$f":"Calculations!AL145","v":0},{"$f":"Calculations!AM145","v":0},{"$f":"Calculations!AN145","v":0},{"$f":"Calculations!AO145","v":0},{"$f":"Calculations!AP145","v":0},{"$f":"Calculations!AQ145","v":0}]
[null,null,null,null,null,null,null,null,null,null,"-",null,null,"-",null,null,null,null,null,{"$f":"Calculations!AE146","v":"-"},{"$f":"Calculations!Y146","v":"-"},{"$f":"Calculations!Z146","v":"N/A"},{"$f":"Calculations!AF146","v":"-"},{"$f":"Calculations!AG146","v":"N/A"},{"$f":"Calculations!AH146","v":"N/A"},{"$f":"Calculations!AI146","v":0},{"$f":"Calculations!AJ146","v":0},{"$f":"Calculations!AK146","v":0},{"$f":"Calculations!AL146","v":0},{"$f":"Calculations!AM146","v":0},{"$f":"Calculations!AN146","v":0},{"$f":"Calculations!AO146","v":0},{"$f":"Calculations!AP146","v":0},{"$f":"Calculations!AQ146","v":0}]
[null,null,null,null,null,null,null,null,null,null,"-",null,null,"-",null,null,null,null,null,{"$f":"Calculations!AE147","v":"-"},{"$f":"Calculations!Y147","v":"-"},{"$f":"Calculations!Z147","v":"N/A"},{"$f":"Calculations!AF147","v":"-"},{"$f":"Calculations!AG147","v":"N/A"},{"$f":"Calculations!AH147","v":"N/A"},{"$f":"Calculations!AI147","v":0},{"$f":"Calculations!AJ147","v":0},{"$f":"Calculations!AK147","v":0},{"$f":"Calculations!AL147","v":0},{"$f":"Calculations!AM147","v":0},{"$f":"Calculations!AN147","v":0},{"$f":"Calculations!AO147","v":0},{"$f":"Calculations!AP147","v":0},{"$f":"Calculations!AQ147","v":0}]
[null,null,null,null,null,null,null,null,null,null,"-",null,null,"-",null,null,null,null,null,{"$f":"Calculations!AE148","v":"-"},{"$f":"Calculations!Y148","v":"-"},{"$f":"Calculations!Z148","v":"N/A"},{"$f":"Calculations!AF148","v":"-"},{"$f":"Calculations!AG148","v":"N/A"},{"$f":"Calculations!AH148","v":"N/A"},{"$f":"Calculations!AI148","v":0},{"$f":"Calculations!AJ148","v":0},{"$f":"Calculations!AK148","v":0},{"$f":"Calculations!AL148","v":0},{"$f":"Calculations!AM148","v":0},{"$f":"Calculations!AN148","v":0},{"$f":"Calculations!AO148","v":0},{"$f":"Calculations!AP148","v":0},{"$f":"Calculations!AQ148","v":0}]
[null,null,null,null,null,null,null,null,null,null,"-",null,null,"-",null,null,null,null,null,{"$f":"Calculations!AE149","v":"-"},{"$f":"Calculations!Y149","v":"-"},{"$f":"Calculations!Z149","v":"N/A"},{"$f":"Calculations!AF149","v":"-"},{"$f":"Calculations!AG149","v":"N/A"},{"$f":"Calculations!AH149","v":"N/A"},{"$f":"Calculations!AI149","v":0},{"$f":"Calculations!AJ149","v":0},{"$f":"Calculations!AK149","v":0},{"$f":"Calculations!AL149","v":0},{"$f":"Calculations!AM149","v":0},{"$f":"Calculations!AN149","v":0},{"$f":"Calculations!AO149","v":0},{"$f":"Calculations!AP149","v":0},{"$f":"Calculations!AQ149","v":0}]
[null,null,null,null,null,null,null,null,null,null,"-",null,null,"-",null,null,null,null,null,{"$f":"Calculations!AE150","v":"-"},{"$f":"Calculations!Y150","v":"-"},{"$f":"Calculations!Z150","v":"N/A"},{"$f":"Calculations!AF150","v":"-"},{"$f":"Calculations!AG150","v":"N/A"},{"$f":"Calculations!AH150","v":"N/A"},{"$f":"Calculations!AI150","v":0},{"$f":"Calculations!AJ150","v":0},{"$f":"Calculations!AK150","v":0},{"$f":"Calculations!AL150","v":0},{"$f":"Calculations!AM150","v":0},{"$f":"Calculations!AN150","v":0},{"$f":"Calculations!AO150","v":0},{"$f":"Calculations!AP150","v":0},{"$f":"Calculations!AQ150","v":0}]
[null,null,null,null,null,null,null,null,null,null,"-",null,null,"-",null,null,null,null,null,{"$f":"Calculations!AE151","v":"-"},{"$f":"Calculations!Y151","v":"-"},{"$f":"Calculations!Z151","v":"N/A"},{"$f":"Calculations!AF151","v":"-"},{"$f":"Calculations!AG151","v":"N/A"},{"$f":"Calculations!AH151","v":"N/A"},{"$f":"Calculations!AI151","v":0},{"$f":"Calculations!AJ151","v":0},{"$f":"Calculations!AK151","v":0},{"$f":"Calculations!AL151","v":0},{"$f":"Calculations!AM151","v":0},{"$f":"Calculations!AN151","v":0},{"$f":"Calculations!AO151","v":0},{"$f":"Calculations!AP151","v":0},{"$f":"Calculations!AQ151","v":0}]
[null,null,null,null,null,null,null,null,null,null,"-",null,null,"-",null,null,null,null,null,{"$f":"Calculations!AE152","v":"-"},{"$f":"Calculations!Y152","v":"-"},{"$f":"Calculations!Z152","v":"N/A"},{"$f":"Calculations!AF152","v":"-"},{"$f":"Calculations!AG152","v":"N/A"},{"$f":"Calculations!AH152","v":"N/A"},{"$f":"Calculations!AI152","v":0},{"$f":"Calculations!AJ152","v":0},{"$f":"Calculations!AK152","v":0},{"$f":"Calculations!AL152","v":0},{"$f":"Calculations!AM152","v":0},{"$f":"Calculations!AN152","v":0},{"$f":"Calculations!AO152","v":0},{"$f":"Calculations!AP152","v":0},{"$f":"Calculations!AQ152","v":0}]
[null,null,null,null,null,null,null,null,null,null,"-",null,null,"-",null,null,null,null,null,{"$f":"Calculations!AE153","v":"-"},{"$f":"Calculations!Y153","v":"-"},{"$f":"Calculations!Z153","v":"N/A"},{"$f":"Calculations!AF153","v":"-"},{"$f":"Calculations!AG153","v":"N/A"},{"$f":"Calculations!AH153","v":"N/A"},{"$f":"Calculations!AI153","v":0},{"$f":"Calculations!AJ153","v":0},{"$f":"Calculations!AK153","v":0},{"$f":"Calculations!AL153","v":0},{"$f":"Calculations!AM153","v":0},{"$f":"Calculations!AN153","v":0},{"$f":"Calculations!AO153","v":0},{"$f":"Calculations!AP153","v":0},{"$f":"Calculations!AQ153","v":0}]
[null,null,null,null,null,null,null,null,null,null,"-",null,null,"-",null,null,null,null,null,{"$f":"Calculations!AE154","v":"-"},{"$f":"Calculations!Y154","v":"-"},{"$f":"Calculations!Z154","v":"N/A"},{"$f":"Calculations!AF154","v":"-"},{"$f":"Calculations!AG154","v":"N/A"},{"$f":"Calculations!AH154","v":"N/A"},{"$f":"Calculations!AI154","v":0},{"$f":"Calculations!AJ154","v":0},{"$f":"Calculations!AK154","v":0},{"$f":"Calculations!AL154","v":0},{"$f":"Calculations!AM154","v":0},{"$f":"Calculations!AN154","v":0},{"$f":"Calculations!AO154","v":0},{"$f":"Calculations!AP154","v":0},{"$f":"Calculations!AQ154","v":0}]
[null,null,null,null,null,null,null,null,null,null,"-",null,null,"-",null,null,null,null,null,{"$f":"Calculations!AE155","v":"-"},{"$f":"Calculations!Y155","v":"-"},{"$f":"Calculations!Z155","v":"N/A"},{"$f":"Calculations!AF155","v":"-"},{"$f":"Calculations!AG155","v":"N/A"},{"$f":"Calculations!AH155","v":"N/A"},{"$f":"Calculations!AI155","v":0},{"$f":"Calculations!AJ155","v":0},{"$f":"Calculations!AK155","v":0},{"$f":"Calculations!AL155","v":0},{"$f":"Calculations!AM155","v":0},{"$f":"Calculations!AN155","v":0},{"$f":"Calculations!AO155","v":0},{"$f":"Calculations!AP155","v":0},{"$f":"Calculations!AQ155","v":0}]
[null,null,null,null,null,null,null,null,null,null,"-",null,null,"-",null,null,null,null,null,{"$f":"Calculations!AE156","v":"-"},{"$f":"Calculations!Y156","v":"-"},{"$f":"Calculations!Z156","v":"N/A"},{"$f":"Calculations!AF156","v":"-"},{"$f":"Calculations!AG156","v":"N/A"},{"$f":"Calculations!AH156","v":"N/A"},{"$f":"Calculations!AI156","v":0},{"$f":"Calculations!AJ156","v":0},{"$f":"Calculations!AK156","v":0},{"$f":"Calculations!AL156","v":0},{"$f":"Calculations!AM156","v":0},{"$f":"Calculations!AN156","v":0},{"$f":"Calculations!AO156","v":0},{"$f":"Calculations!AP156","v":0},{"$f":"Calculations!AQ156","v":0}]
[null,null,null,null,null,null,null,null,null,null,"-",null,null,"-",null,null,null,null,null,{"$f":"Calculations!AE157","v":"-"},{"$f":"Calculations!Y157","v":"-"},{"$f":"Calculations!Z157","v":"N/A"},{"$f":"Calculations!AF157","v":"-"},{"$f":"Calculations!AG157","v":"N/A"},{"$f":"Calculations!AH157","v":"N/A"},{"$f":"Calculations!AI157","v":0},{"$f":"Calculations!AJ157","v":0},{"$f":"Calculations!AK157","v":0},{"$f":"Calculations!AL157","v":0},{"$f":"Calculations!AM157","v":0},{"$f":"Calculations!AN157","v":0},{"$f":"Calculations!AO157","v":0},{"$f":"Calculations!AP157","v":0},{"$f":"Calculations!AQ157","v":0}]
[null,null,null,null,null,null,null,null,null,null,"-",null,null,"-",null,null,null,null,null,{"$f":"Calculations!AE158","v":"-"},{"$f":"Calculations!Y158","v":"-"},{"$f":"Calculations!Z158","v":"N/A"},{"$f":"Calculations!AF158","v":"-"},{"$f":"Calculations!AG158","v":"N/A"},{"$f":"Calculations!AH158","v":"N/A"},{"$f":"Calculations!AI158","v":0},{"$f":"Calculations!AJ158","v":0},{"$f":"Calculations!AK158","v":0},{"$f":"Calculations!AL158","v":0},{"$f":"Calculations!AM158","v":0},{"$f":"Calculations!AN158","v":0},{"$f":"Calculations!AO158","v":0},{"$f":"Calculations!AP158","v":0},{"$f":"Calculations!AQ158","v":0}]
[null,null,null,null,null,null,null,null,null,null,"-",null,null,"-",null,null,null,null,null,{"$f":"Calculations!AE159","v":"-"},{"$f":"Calculations!Y159","v":"-"},{"$f":"Calculations!Z159","v":"N/A"},{"$f":"Calculations!AF159","v":"-"},{"$f":"Calculations!AG159","v":"N/A"},{"$f":"Calculations!AH159","v":"N/A"},{"$f":"Calculations!AI159","v":0},{"$f":"Calculations!AJ159","v":0},{"$f":"Calculations!AK159","v":0},{"$f":"Calculations!AL159","v":0},{"$f":"Calculations!AM159","v":0},{"$f":"Calculations!AN159","v":0},{"$f":"Calculations!AO159","v":0},{"$f":"Calculations!AP159","v":0},{"$f":"Calculations!AQ159","v":0}]
[null,null,null,null,null,null,null,null,null,null,"-",null,null,"-",null,null,null,null,null,{"$f":"Calculations!AE160","v":"-"},{"$f":"Calculations!Y160","v":"-"},{"$f":"Calculations!Z160","v":"N/A"},{"$f":"Calculations!AF160","v":"-"},{"$f":"Calculations!AG160","v":"N/A"},{"$f":"Calculations!AH160","v":"N/A"},{"$f":"Calculations!AI160","v":0},{"$f":"Calculations!AJ160","v":0},{"$f":"Calculations!AK160","v":0},{"$f":"Calculations!AL160","v":0},{"$f":"Calculations!AM160","v":0},{"$f":"Calculations!AN160","v":0},{"$f":"Calculations!AO160","v":0},{"$f":"Calculations!AP160","v":0},{"$f":"Calculations!AQ160","v":0}]
[null,null,null,null,null,null,null,null,null,null,"-",null,null,"-",null,null,null,null,null,{"$f":"Calculations!AE161","v":"-"},{"$f":"Calculations!Y161","v":"-"},{"$f":"Calculations!Z161","v":"N/A"},{"$f":"Calculations!AF161","v":"-"},{"$f":"Calculations!AG161","v":"N/A"},{"$f":"Calculations!AH161","v":"N/A"},{"$f":"Calculations!AI161","v":0},{"$f":"Calculations!AJ161","v":0},{"$f":"Calculations!AK161","v":0},{"$f":"Calculations!AL161","v":0},{"$f":"Calculations!AM161","v":0},{"$f":"Calculations!AN161","v":0},{"$f":"Calculations!AO161","v":0},{"$f":"Calculations!AP161","v":0},{"$f":"Calculations!AQ161","v":0}]
[null,null,null,null,null,null,null,null,null,null,"-",null,null,"-",null,null,null,null,null,{"$f":"Calculations!AE162","v":"-"},{"$f":"Calculations!Y162","v":"-"},{"$f":"Calculations!Z162","v":"N/A"},{"$f":"Calculations!AF162","v":"-"},{"$f":"Calculations!AG162","v":"N/A"},{"$f":"Calculations!AH162","v":"N/A"},{"$f":"Calculations!AI162","v":0},{"$f":"Calculations!AJ162","v":0},{"$f":"Calculations!AK162","v":0},{"$f":"Calculations!AL162","v":0},{"$f":"Calculations!AM162","v":0},{"$f":"Calculations!AN162","v":0},{"$f":"Calculations!AO162","v":0},{"$f":"Calculations!AP162","v":0},{"$f":"Calculations!AQ162","v":0}]
[null,null,null,null,null,null,null,null,null,null,"-",null,null,"-",null,null,null,null,null,{"$f":"Calculations!AE163","v":"-"},{"$f":"Calculations!Y163","v":"-"},{"$f":"Calculations!Z163","v":"N/A"},{"$f":"Calculations!AF163","v":"-"},{"$f":"Calculations!AG163","v":"N/A"},{"$f":"Calculations!AH163","v":"N/A"},{"$f":"Calculations!AI163","v":0},{"$f":"Calculations!AJ163","v":0},{"$f":"Calculations!AK163","v":0},{"$f":"Calculations!AL163","v":0},{"$f":"Calculations!AM163","v":0},{"$f":"Calculations!AN163","v":0},{"$f":"Calculations!AO163","v":0},{"$f":"Calculations!AP163","v":0},{"$f":"Calculations!AQ163","v":0}]
[null,null,null,null,null,null,null,null,null,null,"-",null,null,"-",null,null,null,null,null,{"$f":"Calculations!AE164","v":"-"},{"$f":"Calculations!Y164","v":"-"},{"$f":"Calculations!Z164","v":"N/A"},{"$f":"Calculations!AF164","v":"-"},{"$f":"Calculations!AG164","v":"N/A"},{"$f":"Calculations!AH164","v":"N/A"},{"$f":"Calculations!AI164","v":0},{"$f":"Calculations!AJ164","v":0},{"$f":"Calculations!AK164","v":0},{"$f":"Calculations!AL164","v":0},{"$f":"Calculations!AM164","v":0},{"$f":"Calculations!AN164","v":0},{"$f":"Calculations!AO164","v":0},{"$f":"Calculations!AP164","v":0},{"$f":"Calculations!AQ164","v":0}]
[null,null,null,null,null,null,null,null,null,null,"-",null,null,"-",null,null,null,null,null,{"$f":"Calculations!AE165","v":"-"},{"$f":"Calculations!Y165","v":"-"},{"$f":"Calculations!Z165","v":"N/A"},{"$f":"Calculations!AF165","v":"-"},{"$f":"Calculations!AG165","v":"N/A"},{"$f":"Calculations!AH165","v":"N/A"},{"$f":"Calculations!AI165","v":0},{"$f":"Calculations!AJ165","v":0},{"$f":"Calculations!AK165","v":0},{"$f":"Calculations!AL165","v":0},{"$f":"Calculations!AM165","v":0},{"$f":"Calculations!AN165","v":0},{"$f":"Calculations!AO165","v":0},{"$f":"Calculations!AP165","v":0},{"$f":"Calculations!AQ165","v":0}]
[null,null,null,null,null,null,null,null,null,null,"-",null,null,"-",null,null,null,null,null,{"$f":"Calculations!AE166","v":"-"},{"$f":"Calculations!Y166","v":"-"},{"$f":"Calculations!Z166","v":"N/A"},{"$f":"Calculations!AF166","v":"-"},{"$f":"Calculations!AG166","v":"N/A"},{"$f":"Calculations!AH166","v":"N/A"},{"$f":"Calculations!AI166","v":0},{"$f":"Calculations!AJ166","v":0},{"$f":"Calculations!AK166","v":0},{"$f":"Calculations!AL166","v":0},{"$f":"Calculations!AM166","v":0},{"$f":"Calculations!AN166","v":0},{"$f":"Calculations!AO166","v":0},{"$f":"Calculations!AP166","v":0},{"$f":"Calculations!AQ166","v":0}]
[null,null,null,null,null,null,null,null,null,null,"-",null,null,"-",null,null,null,null,null,{"$f":"Calculations!AE167","v":"-"},{"$f":"Calculations!Y167","v":"-"},{"$f":"Calculations!Z167","v":"N/A"},{"$f":"Calculations!AF167","v":"-"},{"$f":"Calculations!AG167","v":"N/A"},{"$f":"Calculations!AH167","v":"N/A"},{"$f":"Calculations!AI167","v":0},{"$f":"Calculations!AJ167","v":0},{"$f":"Calculations!AK167","v":0},{"$f":"Calculations!AL167","v":0},{"$f":"Calculations!AM167","v":0},{"$f":"Calculations!AN167","v":0},{"$f":"Calculations!AO167","v":0},{"$f":"Calculations!AP167","v":0},{"$f":"Calculations!AQ167","v":0}]
[null,null,null,null,null,null,null,null,null,null,"-",null,null,"-",null,null,null,null,null,{"$f":"Calculations!AE168","v":"-"},{"$f":"Calculations!Y168","v":"-"},{"$f":"Calculations!Z168","v":"N/A"},{"$f":"Calculations!AF168","v":"-"},{"$f":"Calculations!AG168","v":"N/A"},{"$f":"Calculations!AH168","v":"N/A"},{"$f":"Calculations!AI168","v":0},{"$f":"Calculations!AJ168","v":0},{"$f":"Calculations!AK168","v":0},{"$f":"Calculations!AL168","v":0},{"$f":"Calculations!AM168","v":0},{"$f":"Calculations!AN168","v":0},{"$f":"Calculations!AO168","v":0},{"$f":"Calculations!AP168","v":0},{"$f":"Calculations!AQ168","v":0}]
[null,null,null,null,null,null,null,null,null,null,"-",null,null,"-",null,null,null,null,null,{"$f":"Calculations!AE169","v":"-"},{"$f":"Calculations!Y169","v":"-"},{"$f":"Calculations!Z169","v":"N/A"},{"$f":"Calculations!AF169","v":"-"},{"$f":"Calculations!AG169","v":"N/A"},{"$f":"Calculations!AH169","v":"N/A"},{"$f":"Calculations!AI169","v":0},{"$f":"Calculations!AJ169","v":0},{"$f":"Calculations!AK169","v":0},{"$f":"Calculations!AL169","v":0},{"$f":"Calculations!AM169","v":0},{"$f":"Calculations!AN169","v":0},{"$f":"Calculations!AO169","v":0},{"$f":"Calculations!AP169","v":0},{"$f":"Calculations!AQ169","v":0}]
[null,null,null,null,null,null,null,null,null,null,"-",null,null,"-",null,null,null,null,null,{"$f":"Calculations!AE170","v":"-"},{"$f":"Calculations!Y170","v":"-"},{"$f":"Calculations!Z170","v":"N/A"},{"$f":"Calculations!AF170","v":"-"},{"$f":"Calculations!AG170","v":"N/A"},{"$f":"Calculations!AH170","v":"N/A"},{"$f":"Calculations!AI170","v":0},{"$f":"Calculations!AJ170","v":0},{"$f":"Calculations!AK170","v":0},{"$f":"Calculations!AL170","v":0},{"$f":"Calculations!AM170","v":0},{"$f":"Calculations!AN170","v":0},{"$f":"Calculations!AO170","v":0},{"$f":"Calculations!AP170","v":0},{"$f":"Calculations!AQ170","v":0}]
[null,null,null,null,null,null,null,null,null,null,"-",null,null,"-",null,null,null,null,null,{"$f":"Calculations!AE171","v":"-"},{"$f":"Calculations!Y171","v":"-"},{"$f":"Calculations!Z171","v":"N/A"},{"$f":"Calculations!AF171","v":"-"},{"$f":"Calculations!AG171","v":"N/A"},{"$f":"Calculations!AH171","v":"N/A"},{"$f":"Calculations!AI171","v":0},{"$f":"Calculations!AJ171","v":0},{"$f":"Calculations!AK171","v":0},{"$f":"Calculations!AL171","v":0},{"$f":"Calculations!AM171","v":0},{"$f":"Calculations!AN171","v":0},{"$f":"Calculations!AO171","v":0},{"$f":"Calculations!AP171","v":0},{"$f":"Calculations!AQ171","v":0}]
[null,null,null,null,null,null,null,null,null,null,"-",null,null,"-",null,null,null,null,null,{"$f":"Calculations!AE172","v":"-"},{"$f":"Calculations!Y172","v":"-"},{"$f":"Calculations!Z172","v":"N/A"},{"$f":"Calculations!AF172","v":"-"},{"$f":"Calculations!AG172","v":"N/A"},{"$f":"Calculations!AH172","v":"N/A"},{"$f":"Calculations!AI172","v":0},{"$f":"Calculations!AJ172","v":0},{"$f":"Calculations!AK172","v":0},{"$f":"Calculations!AL172","v":0},{"$f":"Calculations!AM172","v":0},{"$f":"Calculations!AN172","v":0},{"$f":"Calculations!AO172","v":0},{"$f":"Calculations!AP172","v":0},{"$f":"Calculations!AQ172","v":0}]
[null,null,null,null,null,null,null,null,null,null,"-",null,null,"-",null,null,null,null,null,{"$f":"Calculations!AE173","v":"-"},{"$f":"Calculations!Y173","v":"-"},{"$f":"Calculations!Z173","v":"N/A"},{"$f":"Calculations!AF173","v":"-"},{"$f":"Calculations!AG173","v":"N/A"},{"$f":"Calculations!AH173","v":"N/A"},{"$f":"Calculations!AI173","v":0},{"$f":"Calculations!AJ173","v":0},{"$f":"Calculations!AK173","v":0},{"$f":"Calculations!AL173","v":0},{"$f":"Calculations!AM173","v":0},{"$f":"Calculations!AN173","v":0},{"$f":"Calculations!AO173","v":0},{"$f":"Calculations!AP173","v":0},{"$f":"Calculations!AQ173","v":0}]
[null,null,null,null,null,null,null,null,null,null,"-",null,null,"-",null,null,null,null,null,{"$f":"Calculations!AE174","v":"-"},{"$f":"Calculations!Y174","v":"-"},{"$f":"Calculations!Z174","v":"N/A"},{"$f":"Calculations!AF174","v":"-"},{"$f":"Calculations!AG174","v":"N/A"},{"$f":"Calculations!AH174","v":"N/A"},{"$f":"Calculations!AI174","v":0},{"$f":"Calculations!AJ174","v":0},{"$f":"Calculations!AK174","v":0},{"$f":"Calculations!AL174","v":0},{"$f":"Calculations!AM174","v":0},{"$f":"Calculations!AN174","v":0},{"$f":"Calculations!AO174","v":0},{"$f":"Calculations!AP174","v":0},{"$f":"Calculations!AQ174","v":0}]
[null,null,null,null,null,null,null,null,null,null,"-",null,null,"-",null,null,null,null,null,{"$f":"Calculations!AE175","v":"-"},{"$f":"Calculations!Y175","v":"-"},{"$f":"Calculations!Z175","v":"N/A"},{"$f":"Calculations!AF175","v":"-"},{"$f":"Calculations!AG175","v":"N/A"},{"$f":"Calculations!AH175","v":"N/A"},{"$f":"Calculations!AI175","v":0},{"$f":"Calculations!AJ175","v":0},{"$f":"Calculations!AK175","v":0},{"$f":"Calculations!AL175","v":0},{"$f":"Calculations!AM175","v":0},{"$f":"Calculations!AN175","v":0},{"$f":"Calculations!AO175","v":0},{"$f":"Calculations!AP175","v":0},{"$f":"Calculations!AQ175","v":0}]
[null,null,null,null,null,null,null,null,null,null,"-",null,null,"-",null,null,null,null,null,{"$f":"Calculations!AE176","v":"-"},{"$f":"Calculations!Y176","v":"-"},{"$f":"Calculations!Z176","v":"N/A"},{"$f":"Calculations!AF176","v":"-"},{"$f":"Calculations!AG176","v":"N/A"},{"$f":"Calculations!AH176","v":"N/A"},{"$f":"Calculations!AI176","v":0},{"$f":"Calculations!AJ176","v":0},{"$f":"Calculations!AK176","v":0},{"$f":"Calculations!AL176","v":0},{"$f":"Calculations!AM176","v":0},{"$f":"Calculations!AN176","v":0},{"$f":"Calculations!AO176","v":0},{"$f":"Calculations!AP176","v":0},{"$f":"Calculations!AQ176","v":0}]
[null,null,null,null,null,null,null,null,null,null,"-",null,null,"-",null,null,null,null,null,{"$f":"Calculations!AE177","v":"-"},{"$f":"Calculations!Y177","v":"-"},{"$f":"Calculations!Z177","v":"N/A"},{"$f":"Calculations!AF177","v":"-"},{"$f":"Calculations!AG177","v":"N/A"},{"$f":"Calculations!AH177","v":"N/A"},{"$f":"Calculations!AI177","v":0},{"$f":"Calculations!AJ177","v":0},{"$f":"Calculations!AK177","v":0},{"$f":"Calculations!AL177","v":0},{"$f":"Calculations!AM177","v":0},{"$f":"Calculations!AN177","v":0},{"$f":"Calculations!AO177","v":0},{"$f":"Calculations!AP177","v":0},{"$f":"Calculations!AQ177","v":0}]
[null,null,null,null,null,null,null,null,null,null,"-",null,null,"-",null,null,null,null,null,{"$f":"Calculations!AE178","v":"-"},{"$f":"Calculations!Y178","v":"-"},{"$f":"Calculations!Z178","v":"N/A"},{"$f":"Calculations!AF178","v":"-"},{"$f":"Calculations!AG178","v":"N/A"},{"$f":"Calculations!AH178","v":"N/A"},{"$f":"Calculations!AI178","v":0},{"$f":"Calculations!AJ178","v":0},{"$f":"Calculations!AK178","v":0},{"$f":"Calculations!AL178","v":0},{"$f":"Calculations!AM178","v":0},{"$f":"Calculations!AN178","v":0},{"$f":"Calculations!AO178","v":0},{"$f":"Calculations!AP178","v":0},{"$f":"Calculations!AQ178","v":0}]
[null,null,null,null,null,null,null,null,null,null,"-",null,null,"-",null,null,null,null,null,{"$f":"Calculations!AE179","v":"-"},{"$f":"Calculations!Y179","v":"-"},{"$f":"Calculations!Z179","v":"N/A"},{"$f":"Calculations!AF179","v":"-"},{"$f":"Calculations!AG179","v":"N/A"},{"$f":"Calculations!AH179","v":"N/A"},{"$f":"Calculations!AI179","v":0},{"$f":"Calculations!AJ179","v":0},{"$f":"Calculations!AK179","v":0},{"$f":"Calculations!AL179","v":0},{"$f":"Calculations!AM179","v":0},{"$f":"Calculations!AN179","v":0},{"$f":"Calculations!AO179","v":0},{"$f":"Calculations!AP179","v":0},{"$f":"Calculations!AQ179","v":0}]
[null,null,null,null,null,null,null,null,null,null,"-",null,null,"-",null,null,null,null,null,{"$f":"Calculations!AE180","v":"-"},{"$f":"Calculations!Y180","v":"-"},{"$f":"Calculations!Z180","v":"N/A"},{"$f":"Calculations!AF180","v":"-"},{"$f":"Calculations!AG180","v":"N/A"},{"$f":"Calculations!AH180","v":"N/A"},{"$f":"Calculations!AI180","v":0},{"$f":"Calculations!AJ180","v":0},{"$f":"Calculations!AK180","v":0},{"$f":"Calculations!AL180","v":0},{"$f":"Calculations!AM180","v":0},{"$f":"Calculations!AN180","v":0},{"$f":"Calculations!AO180","v":0},{"$f":"Calculations!AP180","v":0},{"$f":"Calculations!AQ180","v":0}]
[null,null,null,null,null,null,null,null,null,null,"-",null,null,"-",null,null,null,null,null,{"$f":"Calculations!AE181","v":"-"},{"$f":"Calculations!Y181","v":"-"},{"$f":"Calculations!Z181","v":"N/A"},{"$f":"Calculations!AF181","v":"-"},{"$f":"Calculations!AG181","v":"N/A"},{"$f":"Calculations!AH181","v":"N/A"},{"$f":"Calculations!AI181","v":0},{"$f":"Calculations!AJ181","v":0},{"$f":"Calculations!AK181","v":0},{"$f":"Calculations!AL181","v":0},{"$f":"Calculations!AM181","v":0},{"$f":"Calculations!AN181","v":0},{"$f":"Calculations!AO181","v":0},{"$f":"Calculations!AP181","v":0},{"$f":"Calculations!AQ181","v":0}]
[null,null,null,null,null,null,null,null,null,null,"-",null,null,"-",null,null,null,null,null,{"$f":"Calculations!AE182","v":"-"},{"$f":"Calculations!Y182","v":"-"},{"$f":"Calculations!Z182","v":"N/A"},{"$f":"Calculations!AF182","v":"-"},{"$f":"Calculations!AG182","v":"N/A"},{"$f":"Calculations!AH182","v":"N/A"},{"$f":"Calculations!AI182","v":0},{"$f":"Calculations!AJ182","v":0},{"$f":"Calculations!AK182","v":0},{"$f":"Calculations!AL182","v":0},{"$f":"Calculations!AM182","v":0},{"$f":"Calculations!AN182","v":0},{"$f":"Calculations!AO182","v":0},{"$f":"Calculations!AP182","v":0},{"$f":"Calculations!AQ182","v":0}]
[null,null,null,null,null,null,null,null,null,null,"-",null,null,"-",null,null,null,null,null,{"$f":"Calculations!AE183","v":"-"},{"$f":"Calculations!Y183","v":"-"},{"$f":"Calculations!Z183","v":"N/A"},{"$f":"Calculations!AF183","v":"-"},{"$f":"Calculations!AG183","v":"N/A"},{"$f":"Calculations!AH183","v":"N/A"},{"$f":"Calculations!AI183","v":0},{"$f":"Calculations!AJ183","v":0},{"$f":"Calculations!AK183","v":0},{"$f":"Calculations!AL183","v":0},{"$f":"Calculations!AM183","v":0},{"$f":"Calculations!AN183","v":0},{"$f":"Calculations!AO183","v":0},{"$f":"Calculations!AP183","v":0},{"$f":"Calculations!AQ183","v":0}]
[null,null,null,null,null,null,null,null,null,null,"-",null,null,"-",null,null,null,null,null,{"$f":"Calculations!AE184","v":"-"},{"$f":"Calculations!Y184","v":"-"},{"$f":"Calculations!Z184","v":"N/A"},{"$f":"Calculations!AF184","v":"-"},{"$f":"Calculations!AG184","v":"N/A"},{"$f":"Calculations!AH184","v":"N/A"},{"$f":"Calculations!AI184","v":0},{"$f":"Calculations!AJ184","v":0},{"$f":"Calculations!AK184","v":0},{"$f":"Calculations!AL184","v":0},{"$f":"Calculations!AM184","v":0},{"$f":"Calculations!AN184","v":0},{"$f":"Calculations!AO184","v":0},{"$f":"Calculations!AP184","v":0},{"$f":"Calculations!AQ184","v":0}]
[null,null,null,null,null,null,null,null,null,null,"-",null,null,"-",null,null,null,null,null,{"$f":"Calculations!AE185","v":"-"},{"$f":"Calculations!Y185","v":"-"},{"$f":"Calculations!Z185","v":"N/A"},{"$f":"Calculations!AF185","v":"-"},{"$f":"Calculations!AG185","v":"N/A"},{"$f":"Calculations!AH185","v":"N/A"},{"$f":"Calculations!AI185","v":0},{"$f":"Calculations!AJ185","v":0},{"$f":"Calculations!AK185","v":0},{"$f":"Calculations!AL185","v":0},{"$f":"Calculations!AM185","v":0},{"$f":"Calculations!AN185","v":0},{"$f":"Calculations!AO185","v":0},{"$f":"Calculations!AP185","v":0},{"$f":"Calculations!AQ185","v":0}]
[null,null,null,null,null,null,null,null,null,null,"-",null,null,"-",null,null,null,null,null,{"$f":"Calculations!AE186","v":"-"},{"$f":"Calculations!Y186","v":"-"},{"$f":"Calculations!Z186","v":"N/A"},{"$f":"Calculations!AF186","v":"-"},{"$f":"Calculations!AG186","v":"N/A"},{"$f":"Calculations!AH186","v":"N/A"},{"$f":"Calculations!AI186","v":0},{"$f":"Calculations!AJ186","v":0},{"$f":"Calculations!AK186","v":0},{"$f":"Calculations!AL186","v":0},{"$f":"Calculations!AM186","v":0},{"$f":"Calculations!AN186","v":0},{"$f":"Calculations!AO186","v":0},{"$f":"Calculations!AP186","v":0},{"$f":"Calculations!AQ186","v":0}]
[null,null,null,null,null,null,null,null,null,null,"-",null,null,"-",null,null,null,null,null,{"$f":"Calculations!AE187","v":"-"},{"$f":"Calculations!Y187","v":"-"},{"$f":"Calculations!Z187","v":"N/A"},{"$f":"Calculations!AF187","v":"-"},{"$f":"Calculations!AG187","v":"N/A"},{"$f":"Calculations!AH187","v":"N/A"},{"$f":"Calculations!AI187","v":0},{"$f":"Calculations!AJ187","v":0},{"$f":"Calculations!AK187","v":0},{"$f":"Calculations!AL187","v":0},{"$f":"Calculations!AM187","v":0},{"$f":"Calculations!AN187","v":0},{"$f":"Calculations!AO187","v":0},{"$f":"Calculations!AP187","v":0},{"$f":"Calculations!AQ187","v":0}]
[null,null,null,null,null,null,null,null,null,null,"-",null,null,"-",null,null,null,null,null,{"$f":"Calculations!AE188","v":"-"},{"$f":"Calculations!Y188","v":"-"},{"$f":"Calculations!Z188","v":"N/A"},{"$f":"Calculations!AF188","v":"-"},{"$f":"Calculations!AG188","v":"N/A"},{"$f":"Calculations!AH188","v":"N/A"},{"$f":"Calculations!AI188","v":0},{"$f":"Calculations!AJ188","v":0},{"$f":"Calculations!AK188","v":0},{"$f":"Calculations!AL188","v":0},{"$f":"Calculations!AM188","v":0},{"$f":"Calculations!AN188","v":0},{"$f":"Calculations!AO188","v":0},{"$f":"Calculations!AP188","v":0},{"$f":"Calculations!AQ188","v":0}]
[null,null,null,null,null,null,null,null,null,null,"-",null,null,"-",null,null,null,null,null,{"$f":"Calculations!AE189","v":"-"},{"$f":"Calculations!Y189","v":"-"},{"$f":"Calculations!Z189","v":"N/A"},{"$f":"Calculations!AF189","v":"-"},{"$f":"Calculations!AG189","v":"N/A"},{"$f":"Calculations!AH189","v":"N/A"},{"$f":"Calculations!AI189","v":0},{"$f":"Calculations!AJ189","v":0},{"$f":"Calculations!AK189","v":0},{"$f":"Calculations!AL189","v":0},{"$f":"Calculations!AM189","v":0},{"$f":"Calculations!AN189","v":0},{"$f":"Calculations!AO189","v":0},{"$f":"Calculations!AP189","v":0},{"$f":"Calculations!AQ189","v":0}]
[null,null,null,null,null,null,null,null,null,null,"-",null,null,"-",null,null,null,null,null,{"$f":"Calculations!AE190","v":"-"},{"$f":"Calculations!Y190","v":"-"},{"$f":"Calculations!Z190","v":"N/A"},{"$f":"Calculations!AF190","v":"-"},{"$f":"Calculations!AG190","v":"N/A"},{"$f":"Calculations!AH190","v":"N/A"},{"$f":"Calculations!AI190","v":0},{"$f":"Calculations!AJ190","v":0},{"$f":"Calculations!AK190","v":0},{"$f":"Calculations!AL190","v":0},{"$f":"Calculations!AM190","v":0},{"$f":"Calculations!AN190","v":0},{"$f":"Calculations!AO190","v":0},{"$f":"Calculations!AP190","v":0},{"$f":"Calculations!AQ190","v":0}]
[null,null,null,null,null,null,null,null,null,null,"-",null,null,"-",null,null,null,null,null,{"$f":"Calculations!AE191","v":"-"},{"$f":"Calculations!Y191","v":"-"},{"$f":"Calculations!Z191","v":"N/A"},{"$f":"Calculations!AF191","v":"-"},{"$f":"Calculations!AG191","v":"N/A"},{"$f":"Calculations!AH191","v":"N/A"},{"$f":"Calculations!AI191","v":0},{"$f":"Calculations!AJ191","v":0},{"$f":"Calculations!AK191","v":0},{"$f":"Calculations!AL191","v":0},{"$f":"Calculations!AM191","v":0},{"$f":"Calculations!AN191","v":0},{"$f":"Calculations!AO191","v":0},{"$f":"Calculations!AP191","v":0},{"$f":"Calculations!AQ191","v":0}]
[null,null,null,null,null,null,null,null,null,null,"-",null,null,"-",null,null,null,null,null,{"$f":"Calculations!AE192","v":"-"},{"$f":"Calculations!Y192","v":"-"},{"$f":"Calculations!Z192","v":"N/A"},{"$f":"Calculations!AF192","v":"-"},{"$f":"Calculations!AG192","v":"N/A"},{"$f":"Calculations!AH192","v":"N/A"},{"$f":"Calculations!AI192","v":0},{"$f":"Calculations!AJ192","v":0},{"$f":"Calculations!AK192","v":0},{"$f":"Calculations!AL192","v":0},{"$f":"Calculations!AM192","v":0},{"$f":"Calculations!AN192","v":0},{"$f":"Calculations!AO192","v":0},{"$f":"Calculations!AP192","v":0},{"$f":"Calculations!AQ192","v":0}]
[null,null,null,null,null,null,null,null,null,null,"-",null,null,"-",null,null,null,null,null,{"$f":"Calculations!AE193","v":"-"},{"$f":"Calculations!Y193","v":"-"},{"$f":"Calculations!Z193","v":"N/A"},{"$f":"Calculations!AF193","v":"-"},{"$f":"Calculations!AG193","v":"N/A"},{"$f":"Calculations!AH193","v":"N/A"},{"$f":"Calculations!AI193","v":0},{"$f":"Calculations!AJ193","v":0},{"$f":"Calculations!AK193","v":0},{"$f":"Calculations!AL193","v":0},{"$f":"Calculations!AM193","v":0},{"$f":"Calculations!AN193","v":0},{"$f":"Calculations!AO193","v":0},{"$f":"Calculations!AP193","v":0},{"$f":"Calculations!AQ193","v":0}]
[null,null,null,null,null,null,null,null,null,null,"-",null,null,"-",null,null,null,null,null,{"$f":"Calculations!AE194","v":"-"},{"$f":"Calculations!Y194","v":"-"},{"$f":"Calculations!Z194","v":"N/A"},{"$f":"Calculations!AF194","v":"-"},{"$f":"Calculations!AG194","v":"N/A"},{"$f":"Calculations!AH194","v":"N/A"},{"$f":"Calculations!AI194","v":0},{"$f":"Calculations!AJ194","v":0},{"$f":"Calculations!AK194","v":0},{"$f":"Calculations!AL194","v":0},{"$f":"Calculations!AM194","v":0},{"$f":"Calculations!AN194","v":0},{"$f":"Calculations!AO194","v":0},{"$f":"Calculations!AP194","v":0},{"$f":"Calculations!AQ194","v":0}]
[null,null,null,null,null,null,null,null,null,null,"-",null,null,"-",null,null,null,null,null,{"$f":"Calculations!AE195","v":"-"},{"$f":"Calculations!Y195","v":"-"},{"$f":"Calculations!Z195","v":"N/A"},{"$f":"Calculations!AF195","v":"-"},{"$f":"Calculations!AG195","v":"N/A"},{"$f":"Calculations!AH195","v":"N/A"},{"$f":"Calculations!AI195","v":0},{"$f":"Calculations!AJ195","v":0},{"$f":"Calculations!AK195","v":0},{"$f":"Calculations!AL195","v":0},{"$f":"Calculations!AM195","v":0},{"$f":"Calculations!AN195","v":0},{"$f":"Calculations!AO195","v":0},{"$f":"Calculations!AP195","v":0},{"$f":"Calculations!AQ195","v":0}]
[null,null,null,null,null,null,null,null,null,null,{"$f":"IFERROR(IF(ISBLANK(VLOOKUP($G198&\" \"&$H198,States_Soils,3,FALSE)),\"-\",(VLOOKUP($G198&\" \"&$H198,States_Soils,3,FALSE))),\"-\")","v":"-"},null,null,{"$f":"IFERROR(IF(ISBLANK(VLOOKUP($G198&\" \"&$H198,States_Soils,4,FALSE)),\"-\",(VLOOKUP($G198&\" \"&$H198,States_Soils,4,FALSE))),\"-\")","v":"-"},null,null,null,null,null,{"$f":"Calculations!AE196","v":"-"},{"$f":"Calculations!Y196","v":"-"},{"$f":"Calculations!Z196","v":"N/A"},{"$f":"Calculations!AF196","v":"-"},{"$f":"Calculations!AG196","v":"N/A"},{"$f":"Calculations!AH196","v":"N/A"},{"$f":"Calculations!AI196","v":0},{"$f":"Calculations!AJ196","v":0},{"$f":"Calculations!AK196","v":0},{"$f":"Calculations!AL196","v":0},{"$f":"Calculations!AM196","v":0},{"$f":"Calculations!AN196","v":0},{"$f":"Calculations!AO196","v":0},{"$f":"Calculations!AP196","v":0},{"$f":"Calculations!AQ196","v":0}]
[null,null,null,null,null,null,null,null,null,null,"-",null,null,"-",null,null,null,null,null,{"$f":"Calculations!AE197","v":"-"},{"$f":"Calculations!Y197","v":"-"},{"$f":"Calculations!Z197","v":"N/A"},{"$f":"Calculations!AF197","v":"-"},{"$f":"Calculations!AG197","v":"N/A"},{"$f":"Calculations!AH197","v":"N/A"},{"$f":"Calculations!AI197","v":0},{"$f":"Calculations!AJ197","v":0},{"$f":"Calculations!AK197","v":0},{"$f":"Calculations!AL197","v":0},{"$f":"Calculations!AM197","v":0},{"$f":"Calculations!AN197","v":0},{"$f":"Calculations!AO197","v":0},{"$f":"Calculations!AP197","v":0},{"$f":"Calculations!AQ197","v":0}]
[null,null,null,null,null,null,null,null,null,null,"-",null,null,"-",null,null,null,null,null,{"$f":"Calculations!AE198","v":"-"},{"$f":"Calculations!Y198","v":"-"},{"$f":"Calculations!Z198","v":"N/A"},{"$f":"Calculations!AF198","v":"-"},{"$f":"Calculations!AG198","v":"N/A"},{"$f":"Calculations!AH198","v":"N/A"},{"$f":"Calculations!AI198","v":0},{"$f":"Calculations!AJ198","v":0},{"$f":"Calculations!AK198","v":0},{"$f":"Calculations!AL198","v":0},{"$f":"Calculations!AM198","v":0},{"$f":"Calculations!AN198","v":0},{"$f":"Calculations!AO198","v":0},{"$f":"Calculations!AP198","v":0},{"$f":"Calculations!AQ198","v":0}]
[null,null,null,null,null,null,null,null,null,null,"-",null,null,"-",null,null,null,null,null,{"$f":"Calculations!AE199","v":"-"},{"$f":"Calculations!Y199","v":"-"},{"$f":"Calculations!Z199","v":"N/A"},{"$f":"Calculations!AF199","v":"-"},{"$f":"Calculations!AG199","v":"N/A"},{"$f":"Calculations!AH199","v":"N/A"},{"$f":"Calculations!AI199","v":0},{"$f":"Calculations!AJ199","v":0},{"$f":"Calculations!AK199","v":0},{"$f":"Calculations!AL199","v":0},{"$f":"Calculations!AM199","v":0},{"$f":"Calculations!AN199","v":0},{"$f":"Calculations!AO199","v":0},{"$f":"Calculations!AP199","v":0},{"$f":"Calculations!AQ199","v":0}]
[null,null,null,null,null,null,null,null,null,null,"-",null,null,"-",null,null,null,null,null,{"$f":"Calculations!AE200","v":"-"},{"$f":"Calculations!Y200","v":"-"},{"$f":"Calculations!Z200","v":"N/A"},{"$f":"Calculations!AF200","v":"-"},{"$f":"Calculations!AG200","v":"N/A"},{"$f":"Calculations!AH200","v":"N/A"},{"$f":"Calculations!AI200","v":0},{"$f":"Calculations!AJ200","v":0},{"$f":"Calculations!AK200","v":0},{"$f":"Calculations!AL200","v":0},{"$f":"Calculations!AM200","v":0},{"$f":"Calculations!AN200","v":0},{"$f":"Calculations!AO200","v":0},{"$f":"Calculations!AP200","v":0},{"$f":"Calculations!AQ200","v":0}]
[null,null,null,null,null,null,null,null,null,null,"-",null,null,"-",null,null,null,null,null,{"$f":"Calculations!AE201","v":"-"},{"$f":"Calculations!Y201","v":"-"},{"$f":"Calculations!Z201","v":"N/A"},{"$f":"Calculations!AF201","v":"-"},{"$f":"Calculations!AG201","v":"N/A"},{"$f":"Calculations!AH201","v":"N/A"},{"$f":"Calculations!AI201","v":0},{"$f":"Calculations!AJ201","v":0},{"$f":"Calculations!AK201","v":0},{"$f":"Calculations!AL201","v":0},{"$f":"Calculations!AM201","v":0},{"$f":"Calculations!AN201","v":0},{"$f":"Calculations!AO201","v":0},{"$f":"Calculations!AP201","v":0},{"$f":"Calculations!AQ201","v":0}]
[null,null,null,null,null,null,null,null,null,null,"-",null,null,"-",null,null,null,null,null,{"$f":"Calculations!AE202","v":"-"},{"$f":"Calculations!Y202","v":"-"},{"$f":"Calculations!Z202","v":"N/A"},{"$f":"Calculations!AF202","v":"-"},{"$f":"Calculations!AG202","v":"N/A"},{"$f":"Calculations!AH202","v":"N/A"},{"$f":"Calculations!AI202","v":0},{"$f":"Calculations!AJ202","v":0},{"$f":"Calculations!AK202","v":0},{"$f":"Calculations!AL202","v":0},{"$f":"Calculations!AM202","v":0},{"$f":"Calculations!AN202","v":0},{"$f":"Calculations!AO202","v":0},{"$f":"Calculations!AP202","v":0},{"$f":"Calculations!AQ202","v":0}]
[null,null,null,null,null,null,null,null,null,null,"-",null,null,"-",null,null,null,null,null,{"$f":"Calculations!AE203","v":"-"},{"$f":"Calculations!Y203","v":"-"},{"$f":"Calculations!Z203","v":"N/A"},{"$f":"Calculations!AF203","v":"-"},{"$f":"Calculations!AG203","v":"N/A"},{"$f":"Calculations!AH203","v":"N/A"},{"$f":"Calculations!AI203","v":0},{"$f":"Calculations!AJ203","v":0},{"$f":"Calculations!AK203","v":0},{"$f":"Calculations!AL203","v":0},{"$f":"Calculations!AM203","v":0},{"$f":"Calculations!AN203","v":0},{"$f":"Calculations!AO203","v":0},{"$f":"Calculations!AP203","v":0},{"$f":"Calculations!AQ203","v":0}]
[null,null,null,null,null,null,null,null,null,null,"-",null,null,"-",null,null,null,null,null,{"$f":"Calculations!AE204","v":"-"},{"$f":"Calculations!Y204","v":"-"},{"$f":"Calculations!Z204","v":"N/A"},{"$f":"Calculations!AF204","v":"-"},{"$f":"Calculations!AG204","v":"N/A"},{"$f":"Calculations!AH204","v":"N/A"},{"$f":"Calculations!AI204","v":0},{"$f":"Calculations!AJ204","v":0},{"$f":"Calculations!AK204","v":0},{"$f":"Calculations!AL204","v":0},{"$f":"Calculations!AM204","v":0},{"$f":"Calculations!AN204","v":0},{"$f":"Calculations!AO204","v":0},{"$f":"Calculations!AP204","v":0},{"$f":"Calculations!AQ204","v":0}]
[null,null,null,null,null,null,null,null,null,null,"-",null,null,"-",null,null,null,null,null,{"$f":"Calculations!AE205","v":"-"},{"$f":"Calculations!Y205","v":"-"},{"$f":"Calculations!Z205","v":"N/A"},{"$f":"Calculations!AF205","v":"-"},{"$f":"Calculations!AG205","v":"N/A"},{"$f":"Calculations!AH205","v":"N/A"},{"$f":"Calculations!AI205","v":0},{"$f":"Calculations!AJ205","v":0},{"$f":"Calculations!AK205","v":0},{"$f":"Calculations!AL205","v":0},{"$f":"Calculations!AM205","v":0},{"$f":"Calculations!AN205","v":0},{"$f":"Calculations!AO205","v":0},{"$f":"Calculations!AP205","v":0},{"$f":"Calculations!AQ205","v":0}]
[null,null,null,null,null,null,null,null,null,null,"-",null,null,"-",null,null,null,null,null,{"$f":"Calculations!AE206","v":"-"},{"$f":"Calculations!Y206","v":"-"},{"$f":"Calculations!Z206","v":"N/A"},{"$f":"Calculations!AF206","v":"-"},{"$f":"Calculations!AG206","v":"N/A"},{"$f":"Calculations!AH206","v":"N/A"},{"$f":"Calculations!AI206","v":0},{"$f":"Calculations!AJ206","v":0},{"$f":"Calculations!AK206","v":0},{"$f":"Calculations!AL206","v":0},{"$f":"Calculations!AM206","v":0},{"$f":"Calculations!AN206","v":0},{"$f":"Calculations!AO206","v":0},{"$f":"Calculations!AP206","v":0},{"$f":"Calculations!AQ206","v":0}]
[null,null,null,null,null,null,null,null,null,null,"-",null,null,"-",null,null,null,null,null,{"$f":"Calculations!AE207","v":"-"},{"$f":"Calculations!Y207","v":"-"},{"$f":"Calculations!Z207","v":"N/A"},{"$f":"Calculations!AF207","v":"-"},{"$f":"Calculations!AG207","v":"N/A"},{"$f":"Calculations!AH207","v":"N/A"},{"$f":"Calculations!AI207","v":0},{"$f":"Calculations!AJ207","v":0},{"$f":"Calculations!AK207","v":0},{"$f":"Calculations!AL207","v":0},{"$f":"Calculations!AM207","v":0},{"$f":"Calculations!AN207","v":0},{"$f":"Calculations!AO207","v":0},{"$f":"Calculations!AP207","v":0},{"$f":"Calculations!AQ207","v":0}]
[null,null,null,null,null,null,null,null,null,null,"-",null,null,"-",null,null,null,null,null,{"$f":"Calculations!AE208","v":"-"},{"$f":"Calculations!Y208","v":"-"},{"$f":"Calculations!Z208","v":"N/A"},{"$f":"Calculations!AF208","v":"-"},{"$f":"Calculations!AG208","v":"N/A"},{"$f":"Calculations!AH208","v":"N/A"},{"$f":"Calculations!AI208","v":0},{"$f":"Calculations!AJ208","v":0},{"$f":"Calculations!AK208","v":0},{"$f":"Calculations!AL208","v":0},{"$f":"Calculations!AM208","v":0},{"$f":"Calculations!AN208","v":0},{"$f":"Calculations!AO208","v":0},{"$f":"Calculations!AP208","v":0},{"$f":"Calculations!AQ208","v":0}]
[null,null,null,null,null,null,null,null,null,null,"-",null,null,"-",null,null,null,null,null,{"$f":"Calculations!AE209","v":"-"},{"$f":"Calculations!Y209","v":"-"},{"$f":"Calculations!Z209","v":"N/A"},{"$f":"Calculations!AF209","v":"-"},{"$f":"Calculations!AG209","v":"N/A"},{"$f":"Calculations!AH209","v":"N/A"},{"$f":"Calculations!AI209","v":0},{"$f":"Calculations!AJ209","v":0},{"$f":"Calculations!AK209","v":0},{"$f":"Calculations!AL209","v":0},{"$f":"Calculations!AM209","v":0},{"$f":"Calculations!AN209","v":0},{"$f":"Calculations!AO209","v":0},{"$f":"Calculations!AP209","v":0},{"$f":"Calculations!AQ209","v":0}]
[null,null,null,null,null,null,null,null,null,null,"-",null,null,"-",null,null,null,null,null,{"$f":"Calculations!AE210","v":"-"},{"$f":"Calculations!Y210","v":"-"},{"$f":"Calculations!Z210","v":"N/A"},{"$f":"Calculations!AF210","v":"-"},{"$f":"Calculations!AG210","v":"N/A"},{"$f":"Calculations!AH210","v":"N/A"},{"$f":"Calculations!AI210","v":0},{"$f":"Calculations!AJ210","v":0},{"$f":"Calculations!AK210","v":0},{"$f":"Calculations!AL210","v":0},{"$f":"Calculations!AM210","v":0},{"$f":"Calculations!AN210","v":0},{"$f":"Calculations!AO210","v":0},{"$f":"Calculations!AP210","v":0},{"$f":"Calculations!AQ210","v":0}]
[null,null,null,null,null,null,null,null,null,null,"-",null,null,"-",null,null,null,null,null,{"$f":"Calculations!AE211","v":"-"},{"$f":"Calculations!Y211","v":"-"},{"$f":"Calculations!Z211","v":"N/A"},{"$f":"Calculations!AF211","v":"-"},{"$f":"Calculations!AG211","v":"N/A"},{"$f":"Calculations!AH211","v":"N/A"},{"$f":"Calculations!AI211","v":0},{"$f":"Calculations!AJ211","v":0},{"$f":"Calculations!AK211","v":0},{"$f":"Calculations!AL211","v":0},{"$f":"Calculations!AM211","v":0},{"$f":"Calculations!AN211","v":0},{"$f":"Calculations!AO211","v":0},{"$f":"Calculations!AP211","v":0},{"$f":"Calculations!AQ211","v":0}]
[null,null,null,null,null,null,null,null,null,null,"-",null,null,"-",null,null,null,null,null,{"$f":"Calculations!AE212","v":"-"},{"$f":"Calculations!Y212","v":"-"},{"$f":"Calculations!Z212","v":"N/A"},{"$f":"Calculations!AF212","v":"-"},{"$f":"Calculations!AG212","v":"N/A"},{"$f":"Calculations!AH212","v":"N/A"},{"$f":"Calculations!AI212","v":0},{"$f":"Calculations!AJ212","v":0},{"$f":"Calculations!AK212","v":0},{"$f":"Calculations!AL212","v":0},{"$f":"Calculations!AM212","v":0},{"$f":"Calculations!AN212","v":0},{"$f":"Calculations!AO212","v":0},{"$f":"Calculations!AP212","v":0},{"$f":"Calculations!AQ212","v":0}]
[null,null,null,null,null,null,null,null,null,null,"-",null,null,"-",null,null,null,null,null,{"$f":"Calculations!AE213","v":"-"},{"$f":"Calculations!Y213","v":"-"},{"$f":"Calculations!Z213","v":"N/A"},{"$f":"Calculations!AF213","v":"-"},{"$f":"Calculations!AG213","v":"N/A"},{"$f":"Calculations!AH213","v":"N/A"},{"$f":"Calculations!AI213","v":0},{"$f":"Calculations!AJ213","v":0},{"$f":"Calculations!AK213","v":0},{"$f":"Calculations!AL213","v":0},{"$f":"Calculations!AM213","v":0},{"$f":"Calculations!AN213","v":0},{"$f":"Calculations!AO213","v":0},{"$f":"Calculations!AP213","v":0},{"$f":"Calculations!AQ213","v":0}]
[null,null,null,null,null,null,null,null,null,null,"-",null,null,"-",null,null,null,null,null,{"$f":"Calculations!AE214","v":"-"},{"$f":"Calculations!Y214","v":"-"},{"$f":"Calculations!Z214","v":"N/A"},{"$f":"Calculations!AF214","v":"-"},{"$f":"Calculations!AG214","v":"N/A"},{"$f":"Calculations!AH214","v":"N/A"},{"$f":"Calculations!AI214","v":0},{"$f":"Calculations!AJ214","v":0},{"$f":"Calculations!AK214","v":0},{"$f":"Calculations!AL214","v":0},{"$f":"Calculations!AM214","v":0},{"$f":"Calculations!AN214","v":0},{"$f":"Calculations!AO214","v":0},{"$f":"Calculations!AP214","v":0},{"$f":"Calculations!AQ214","v":0}]
[null,null,null,null,null,null,null,null,null,null,"-",null,null,"-",null,null,null,null,null,{"$f":"Calculations!AE215","v":"-"},{"$f":"Calculations!Y215","v":"-"},{"$f":"Calculations!Z215","v":"N/A"},{"$f":"Calculations!AF215","v":"-"},{"$f":"Calculations!AG215","v":"N/A"},{"$f":"Calculations!AH215","v":"N/A"},{"$f":"Calculations!AI215","v":0},{"$f":"Calculations!AJ215","v":0},{"$f":"Calculations!AK215","v":0},{"$f":"Calculations!AL215","v":0},{"$f":"Calculations!AM215","v":0},{"$f":"Calculations!AN215","v":0},{"$f":"Calculations!AO215","v":0},{"$f":"Calculations!AP215","v":0},{"$f":"Calculations!AQ215","v":0}]
[null,null,null,null,null,null,null,null,null,null,"-",null,null,"-",null,null,null,null,null,{"$f":"Calculations!AE216","v":"-"},{"$f":"Calculations!Y216","v":"-"},{"$f":"Calculations!Z216","v":"N/A"},{"$f":"Calculations!AF216","v":"-"},{"$f":"Calculations!AG216","v":"N/A"},{"$f":"Calculations!AH216","v":"N/A"},{"$f":"Calculations!AI216","v":0},{"$f":"Calculations!AJ216","v":0},{"$f":"Calculations!AK216","v":0},{"$f":"Calculations!AL216","v":0},{"$f":"Calculations!AM216","v":0},{"$f":"Calculations!AN216","v":0},{"$f":"Calculations!AO216","v":0},{"$f":"Calculations!AP216","v":0},{"$f":"Calculations!AQ216","v":0}]
[null,null,null,null,null,null,null,null,null,null,"-",null,null,"-",null,null,null,null,null,{"$f":"Calculations!AE217","v":"-"},{"$f":"Calculations!Y217","v":"-"},{"$f":"Calculations!Z217","v":"N/A"},{"$f":"Calculations!AF217","v":"-"},{"$f":"Calculations!AG217","v":"N/A"},{"$f":"Calculations!AH217","v":"N/A"},{"$f":"Calculations!AI217","v":0},{"$f":"Calculations!AJ217","v":0},{"$f":"Calculations!AK217","v":0},{"$f":"Calculations!AL217","v":0},{"$f":"Calculations!AM217","v":0},{"$f":"Calculations!AN217","v":0},{"$f":"Calculations!AO217","v":0},{"$f":"Calculations!AP217","v":0},{"$f":"Calculations!AQ217","v":0}]
[null,null,null,null,null,null,null,null,null,null,"-",null,null,"-",null,null,null,null,null,{"$f":"Calculations!AE218","v":"-"},{"$f":"Calculations!Y218","v":"-"},{"$f":"Calculations!Z218","v":"N/A"},{"$f":"Calculations!AF218","v":"-"},{"$f":"Calculations!AG218","v":"N/A"},{"$f":"Calculations!AH218","v":"N/A"},{"$f":"Calculations!AI218","v":0},{"$f":"Calculations!AJ218","v":0},{"$f":"Calculations!AK218","v":0},{"$f":"Calculations!AL218","v":0},{"$f":"Calculations!AM218","v":0},{"$f":"Calculations!AN218","v":0},{"$f":"Calculations!AO218","v":0},{"$f":"Calculations!AP218","v":0},{"$f":"Calculations!AQ218","v":0}]
[null,null,null,null,null,null,null,null,null,null,"-",null,null,"-",null,null,null,null,null,{"$f":"Calculations!AE219","v":"-"},{"$f":"Calculations!Y219","v":"-"},{"$f":"Calculations!Z219","v":"N/A"},{"$f":"Calculations!AF219","v":"-"},{"$f":"Calculations!AG219","v":"N/A"},{"$f":"Calculations!AH219","v":"N/A"},{"$f":"Calculations!AI219","v":0},{"$f":"Calculations!AJ219","v":0},{"$f":"Calculations!AK219","v":0},{"$f":"Calculations!AL219","v":0},{"$f":"Calculations!AM219","v":0},{"$f":"Calculations!AN219","v":0},{"$f":"Calculations!AO219","v":0},{"$f":"Calculations!AP219","v":0},{"$f":"Calculations!AQ219","v":0}]
[null,null,null,null,null,null,null,null,null,null,"-",null,null,"-",null,null,null,null,null,{"$f":"Calculations!AE220","v":"-"},{"$f":"Calculations!Y220","v":"-"},{"$f":"Calculations!Z220","v":"N/A"},{"$f":"Calculations!AF220","v":"-"},{"$f":"Calculations!AG220","v":"N/A"},{"$f":"Calculations!AH220","v":"N/A"},{"$f":"Calculations!AI220","v":0},{"$f":"Calculations!AJ220","v":0},{"$f":"Calculations!AK220","v":0},{"$f":"Calculations!AL220","v":0},{"$f":"Calculations!AM220","v":0},{"$f":"Calculations!AN220","v":0},{"$f":"Calculations!AO220","v":0},{"$f":"Calculations!AP220","v":0},{"$f":"Calculations!AQ220","v":0}]
[null,null,null,null,null,null,null,null,null,null,"-",null,null,"-",null,null,null,null,null,{"$f":"Calculations!AE221","v":"-"},{"$f":"Calculations!Y221","v":"-"},{"$f":"Calculations!Z221","v":"N/A"},{"$f":"Calculations!AF221","v":"-"},{"$f":"Calculations!AG221","v":"N/A"},{"$f":"Calculations!AH221","v":"N/A"},{"$f":"Calculations!AI221","v":0},{"$f":"Calculations!AJ221","v":0},{"$f":"Calculations!AK221","v":0},{"$f":"Calculations!AL221","v":0},{"$f":"Calculations!AM221","v":0},{"$f":"Calculations!AN221","v":0},{"$f":"Calculations!AO221","v":0},{"$f":"Calculations!AP221","v":0},{"$f":"Calculations!AQ221","v":0}]
[null,null,null,null,null,null,null,null,null,null,"-",null,null,"-",null,null,null,null,null,{"$f":"Calculations!AE222","v":"-"},{"$f":"Calculations!Y222","v":"-"},{"$f":"Calculations!Z222","v":"N/A"},{"$f":"Calculations!AF222","v":"-"},{"$f":"Calculations!AG222","v":"N/A"},{"$f":"Calculations!AH222","v":"N/A"},{"$f":"Calculations!AI222","v":0},{"$f":"Calculations!AJ222","v":0},{"$f":"Calculations!AK222","v":0},{"$f":"Calculations!AL222","v":0},{"$f":"Calculations!AM222","v":0},{"$f":"Calculations!AN222","v":0},{"$f":"Calculations!AO222","v":0},{"$f":"Calculations!AP222","v":0},{"$f":"Calculations!AQ222","v":0}]
[null,null,null,null,null,null,null,null,null,null,"-",null,null,"-",null,null,null,null,null,{"$f":"Calculations!AE223","v":"-"},{"$f":"Calculations!Y223","v":"-"},{"$f":"Calculations!Z223","v":"N/A"},{"$f":"Calculations!AF223","v":"-"},{"$f":"Calculations!AG223","v":"N/A"},{"$f":"Calculations!AH223","v":"N/A"},{"$f":"Calculations!AI223","v":0},{"$f":"Calculations!AJ223","v":0},{"$f":"Calculations!AK223","v":0},{"$f":"Calculations!AL223","v":0},{"$f":"Calculations!AM223","v":0},{"$f":"Calculations!AN223","v":0},{"$f":"Calculations!AO223","v":0},{"$f":"Calculations!AP223","v":0},{"$f":"Calculations!AQ223","v":0}]
[null,null,null,null,null,null,null,null,null,null,"-",null,null,"-",null,null,null,null,null,{"$f":"Calculations!AE224","v":"-"},{"$f":"Calculations!Y224","v":"-"},{"$f":"Calculations!Z224","v":"N/A"},{"$f":"Calculations!AF224","v":"-"},{"$f":"Calculations!AG224","v":"N/A"},{"$f":"Calculations!AH224","v":"N/A"},{"$f":"Calculations!AI224","v":0},{"$f":"Calculations!AJ224","v":0},{"$f":"Calculations!AK224","v":0},{"$f":"Calculations!AL224","v":0},{"$f":"Calculations!AM224","v":0},{"$f":"Calculations!AN224","v":0},{"$f":"Calculations!AO224","v":0},{"$f":"Calculations!AP224","v":0},{"$f":"Calculations!AQ224","v":0}]
[null,null,null,null,null,null,null,null,null,null,"-",null,null,"-",null,null,null,null,null,{"$f":"Calculations!AE225","v":"-"},{"$f":"Calculations!Y225","v":"-"},{"$f":"Calculations!Z225","v":"N/A"},{"$f":"Calculations!AF225","v":"-"},{"$f":"Calculations!AG225","v":"N/A"},{"$f":"Calculations!AH225","v":"N/A"},{"$f":"Calculations!AI225","v":0},{"$f":"Calculations!AJ225","v":0},{"$f":"Calculations!AK225","v":0},{"$f":"Calculations!AL225","v":0},{"$f":"Calculations!AM225","v":0},{"$f":"Calculations!AN225","v":0},{"$f":"Calculations!AO225","v":0},{"$f":"Calculations!AP225","v":0},{"$f":"Calculations!AQ225","v":0}]
[null,null,null,null,null,null,null,null,null,null,"-",null,null,"-",null,null,null,null,null,{"$f":"Calculations!AE226","v":"-"},{"$f":"Calculations!Y226","v":"-"},{"$f":"Calculations!Z226","v":"N/A"},{"$f":"Calculations!AF226","v":"-"},{"$f":"Calculations!AG226","v":"N/A"},{"$f":"Calculations!AH226","v":"N/A"},{"$f":"Calculations!AI226","v":0},{"$f":"Calculations!AJ226","v":0},{"$f":"Calculations!AK226","v":0},{"$f":"Calculations!AL226","v":0},{"$f":"Calculations!AM226","v":0},{"$f":"Calculations!AN226","v":0},{"$f":"Calculations!AO226","v":0},{"$f":"Calculations!AP226","v":0},{"$f":"Calculations!AQ226","v":0}]
[null,null,null,null,null,null,null,null,null,null,"-",null,null,"-",null,null,null,null,null,{"$f":"Calculations!AE227","v":"-"},{"$f":"Calculations!Y227","v":"-"},{"$f":"Calculations!Z227","v":"N/A"},{"$f":"Calculations!AF227","v":"-"},{"$f":"Calculations!AG227","v":"N/A"},{"$f":"Calculations!AH227","v":"N/A"},{"$f":"Calculations!AI227","v":0},{"$f":"Calculations!AJ227","v":0},{"$f":"Calculations!AK227","v":0},{"$f":"Calculations!AL227","v":0},{"$f":"Calculations!AM227","v":0},{"$f":"Calculations!AN227","v":0},{"$f":"Calculations!AO227","v":0},{"$f":"Calculations!AP227","v":0},{"$f":"Calculations!AQ227","v":0}]
[null,null,null,null,null,null,null,null,null,null,"-",null,null,"-",null,null,null,null,null,{"$f":"Calculations!AE228","v":"-"},{"$f":"Calculations!Y228","v":"-"},{"$f":"Calculations!Z228","v":"N/A"},{"$f":"Calculations!AF228","v":"-"},{"$f":"Calculations!AG228","v":"N/A"},{"$f":"Calculations!AH228","v":"N/A"},{"$f":"Calculations!AI228","v":0},{"$f":"Calculations!AJ228","v":0},{"$f":"Calculations!AK228","v":0},{"$f":"Calculations!AL228","v":0},{"$f":"Calculations!AM228","v":0},{"$f":"Calculations!AN228","v":0},{"$f":"Calculations!AO228","v":0},{"$f":"Calculations!AP228","v":0},{"$f":"Calculations!AQ228","v":0}]
[null,null,null,null,null,null,null,null,null,null,"-",null,null,"-",null,null,null,null,null,{"$f":"Calculations!AE229","v":"-"},{"$f":"Calculations!Y229","v":"-"},{"$f":"Calculations!Z229","v":"N/A"},{"$f":"Calculations!AF229","v":"-"},{"$f":"Calculations!AG229","v":"N/A"},{"$f":"Calculations!AH229","v":"N/A"},{"$f":"Calculations!AI229","v":0},{"$f":"Calculations!AJ229","v":0},{"$f":"Calculations!AK229","v":0},{"$f":"Calculations!AL229","v":0},{"$f":"Calculations!AM229","v":0},{"$f":"Calculations!AN229","v":0},{"$f":"Calculations!AO229","v":0},{"$f":"Calculations!AP229","v":0},{"$f":"Calculations!AQ229","v":0}]
[null,null,null,null,null,null,null,null,null,null,"-",null,null,"-",null,null,null,null,null,{"$f":"Calculations!AE230","v":"-"},{"$f":"Calculations!Y230","v":"-"},{"$f":"Calculations!Z230","v":"N/A"},{"$f":"Calculations!AF230","v":"-"},{"$f":"Calculations!AG230","v":"N/A"},{"$f":"Calculations!AH230","v":"N/A"},{"$f":"Calculations!AI230","v":0},{"$f":"Calculations!AJ230","v":0},{"$f":"Calculations!AK230","v":0},{"$f":"Calculations!AL230","v":0},{"$f":"Calculations!AM230","v":0},{"$f":"Calculations!AN230","v":0},{"$f":"Calculations!AO230","v":0},{"$f":"Calculations!AP230","v":0},{"$f":"Calculations!AQ230","v":0}]
[null,null,null,null,null,null,null,null,null,null,"-",null,null,"-",null,null,null,null,null,{"$f":"Calculations!AE231","v":"-"},{"$f":"Calculations!Y231","v":"-"},{"$f":"Calculations!Z231","v":"N/A"},{"$f":"Calculations!AF231","v":"-"},{"$f":"Calculations!AG231","v":"N/A"},{"$f":"Calculations!AH231","v":"N/A"},{"$f":"Calculations!AI231","v":0},{"$f":"Calculations!AJ231","v":0},{"$f":"Calculations!AK231","v":0},{"$f":"Calculations!AL231","v":0},{"$f":"Calculations!AM231","v":0},{"$f":"Calculations!AN231","v":0},{"$f":"Calculations!AO231","v":0},{"$f":"Calculations!AP231","v":0},{"$f":"Calculations!AQ231","v":0}]
[null,null,null,null,null,null,null,null,null,null,"-",null,null,"-",null,null,null,null,null,{"$f":"Calculations!AE232","v":"-"},{"$f":"Calculations!Y232","v":"-"},{"$f":"Calculations!Z232","v":"N/A"},{"$f":"Calculations!AF232","v":"-"},{"$f":"Calculations!AG232","v":"N/A"},{"$f":"Calculations!AH232","v":"N/A"},{"$f":"Calculations!AI232","v":0},{"$f":"Calculations!AJ232","v":0},{"$f":"Calculations!AK232","v":0},{"$f":"Calculations!AL232","v":0},{"$f":"Calculations!AM232","v":0},{"$f":"Calculations!AN232","v":0},{"$f":"Calculations!AO232","v":0},{"$f":"Calculations!AP232","v":0},{"$f":"Calculations!AQ232","v":0}]
[null,null,null,null,null,null,null,null,null,null,"-",null,null,"-",null,null,null,null,null,{"$f":"Calculations!AE233","v":"-"},{"$f":"Calculations!Y233","v":"-"},{"$f":"Calculations!Z233","v":"N/A"},{"$f":"Calculations!AF233","v":"-"},{"$f":"Calculations!AG233","v":"N/A"},{"$f":"Calculations!AH233","v":"N/A"},{"$f":"Calculations!AI233","v":0},{"$f":"Calculations!AJ233","v":0},{"$f":"Calculations!AK233","v":0},{"$f":"Calculations!AL233","v":0},{"$f":"Calculations!AM233","v":0},{"$f":"Calculations!AN233","v":0},{"$f":"Calculations!AO233","v":0},{"$f":"Calculations!AP233","v":0},{"$f":"Calculations!AQ233","v":0}]
[null,null,null,null,null,null,null,null,null,null,"-",null,null,"-",null,null,null,null,null,{"$f":"Calculations!AE234","v":"-"},{"$f":"Calculations!Y234","v":"-"},{"$f":"Calculations!Z234","v":"N/A"},{"$f":"Calculations!AF234","v":"-"},{"$f":"Calculations!AG234","v":"N/A"},{"$f":"Calculations!AH234","v":"N/A"},{"$f":"Calculations!AI234","v":0},{"$f":"Calculations!AJ234","v":0},{"$f":"Calculations!AK234","v":0},{"$f":"Calculations!AL234","v":0},{"$f":"Calculations!AM234","v":0},{"$f":"Calculations!AN234","v":0},{"$f":"Calculations!AO234","v":0},{"$f":"Calculations!AP234","v":0},{"$f":"Calculations!AQ234","v":0}]
[null,null,null,null,null,null,null,null,null,null,"-",null,null,"-",null,null,null,null,null,{"$f":"Calculations!AE235","v":"-"},{"$f":"Calculations!Y235","v":"-"},{"$f":"Calculations!Z235","v":"N/A"},{"$f":"Calculations!AF235","v":"-"},{"$f":"Calculations!AG235","v":"N/A"},{"$f":"Calculations!AH235","v":"N/A"},{"$f":"Calculations!AI235","v":0},{"$f":"Calculations!AJ235","v":0},{"$f":"Calculations!AK235","v":0},{"$f":"Calculations!AL235","v":0},{"$f":"Calculations!AM235","v":0},{"$f":"Calculations!AN235","v":0},{"$f":"Calculations!AO235","v":0},{"$f":"Calculations!AP235","v":0},{"$f":"Calculations!AQ235","v":0}]
[null,null,null,null,null,null,null,null,null,null,"-",null,null,"-",null,null,null,null,null,{"$f":"Calculations!AE236","v":"-"},{"$f":"Calculations!Y236","v":"-"},{"$f":"Calculations!Z236","v":"N/A"},{"$f":"Calculations!AF236","v":"-"},{"$f":"Calculations!AG236","v":"N/A"},{"$f":"Calculations!AH236","v":"N/A"},{"$f":"Calculations!AI236","v":0},{"$f":"Calculations!AJ236","v":0},{"$f":"Calculations!AK236","v":0},{"$f":"Calculations!AL236","v":0},{"$f":"Calculations!AM236","v":0},{"$f":"Calculations!AN236","v":0},{"$f":"Calculations!AO236","v":0},{"$f":"Calculations!AP236","v":0},{"$f":"Calculations!AQ236","v":0}]
[null,null,null,null,null,null,null,null,null,null,"-",null,null,"-",null,null,null,null,null,{"$f":"Calculations!AE237","v":"-"},{"$f":"Calculations!Y237","v":"-"},{"$f":"Calculations!Z237","v":"N/A"},{"$f":"Calculations!AF237","v":"-"},{"$f":"Calculations!AG237","v":"N/A"},{"$f":"Calculations!AH237","v":"N/A"},{"$f":"Calculations!AI237","v":0},{"$f":"Calculations!AJ237","v":0},{"$f":"Calculations!AK237","v":0},{"$f":"Calculations!AL237","v":0},{"$f":"Calculations!AM237","v":0},{"$f":"Calculations!AN237","v":0},{"$f":"Calculations!AO237","v":0},{"$f":"Calculations!AP237","v":0},{"$f":"Calculations!AQ237","v":0}]
[null,null,null,null,null,null,null,null,null,null,"-",null,null,"-",null,null,null,null,null,{"$f":"Calculations!AE238","v":"-"},{"$f":"Calculations!Y238","v":"-"},{"$f":"Calculations!Z238","v":"N/A"},{"$f":"Calculations!AF238","v":"-"},{"$f":"Calculations!AG238","v":"N/A"},{"$f":"Calculations!AH238","v":"N/A"},{"$f":"Calculations!AI238","v":0},{"$f":"Calculations!AJ238","v":0},{"$f":"Calculations!AK238","v":0},{"$f":"Calculations!AL238","v":0},{"$f":"Calculations!AM238","v":0},{"$f":"Calculations!AN238","v":0},{"$f":"Calculations!AO238","v":0},{"$f":"Calculations!AP238","v":0},{"$f":"Calculations!AQ238","v":0}]
[null,null,null,null,null,null,null,null,null,null,"-",null,null,"-",null,null,null,null,null,{"$f":"Calculations!AE239","v":"-"},{"$f":"Calculations!Y239","v":"-"},{"$f":"Calculations!Z239","v":"N/A"},{"$f":"Calculations!AF239","v":"-"},{"$f":"Calculations!AG239","v":"N/A"},{"$f":"Calculations!AH239","v":"N/A"},{"$f":"Calculations!AI239","v":0},{"$f":"Calculations!AJ239","v":0},{"$f":"Calculations!AK239","v":0},{"$f":"Calculations!AL239","v":0},{"$f":"Calculations!AM239","v":0},{"$f":"Calculations!AN239","v":0},{"$f":"Calculations!AO239","v":0},{"$f":"Calculations!AP239","v":0},{"$f":"Calculations!AQ239","v":0}]
[null,null,null,null,null,null,null,null,null,null,"-",null,null,"-",null,null,null,null,null,{"$f":"Calculations!AE240","v":"-"},{"$f":"Calculations!Y240","v":"-"},{"$f":"Calculations!Z240","v":"N/A"},{"$f":"Calculations!AF240","v":"-"},{"$f":"Calculations!AG240","v":"N/A"},{"$f":"Calculations!AH240","v":"N/A"},{"$f":"Calculations!AI240","v":0},{"$f":"Calculations!AJ240","v":0},{"$f":"Calculations!AK240","v":0},{"$f":"Calculations!AL240","v":0},{"$f":"Calculations!AM240","v":0},{"$f":"Calculations!AN240","v":0},{"$f":"Calculations!AO240","v":0},{"$f":"Calculations!AP240","v":0},{"$f":"Calculations!AQ240","v":0}]
[null,null,null,null,null,null,null,null,null,null,"-",null,null,"-",null,null,null,null,null,{"$f":"Calculations!AE241","v":"-"},{"$f":"Calculations!Y241","v":"-"},{"$f":"Calculations!Z241","v":"N/A"},{"$f":"Calculations!AF241","v":"-"},{"$f":"Calculations!AG241","v":"N/A"},{"$f":"Calculations!AH241","v":"N/A"},{"$f":"Calculations!AI241","v":0},{"$f":"Calculations!AJ241","v":0},{"$f":"Calculations!AK241","v":0},{"$f":"Calculations!AL241","v":0},{"$f":"Calculations!AM241","v":0},{"$f":"Calculations!AN241","v":0},{"$f":"Calculations!AO241","v":0},{"$f":"Calculations!AP241","v":0},{"$f":"Calculations!AQ241","v":0}]
[null,null,null,null,null,null,null,null,null,null,"-",null,null,"-",null,null,null,null,null,{"$f":"Calculations!AE242","v":"-"},{"$f":"Calculations!Y242","v":"-"},{"$f":"Calculations!Z242","v":"N/A"},{"$f":"Calculations!AF242","v":"-"},{"$f":"Calculations!AG242","v":"N/A"},{"$f":"Calculations!AH242","v":"N/A"},{"$f":"Calculations!AI242","v":0},{"$f":"Calculations!AJ242","v":0},{"$f":"Calculations!AK242","v":0},{"$f":"Calculations!AL242","v":0},{"$f":"Calculations!AM242","v":0},{"$f":"Calculations!AN242","v":0},{"$f":"Calculations!AO242","v":0},{"$f":"Calculations!AP242","v":0},{"$f":"Calculations!AQ242","v":0}]
[null,null,null,null,null,null,null,null,null,null,"-",null,null,"-",null,null,null,null,null,{"$f":"Calculations!AE243","v":"-"},{"$f":"Calculations!Y243","v":"-"},{"$f":"Calculations!Z243","v":"N/A"},{"$f":"Calculations!AF243","v":"-"},{"$f":"Calculations!AG243","v":"N/A"},{"$f":"Calculations!AH243","v":"N/A"},{"$f":"Calculations!AI243","v":0},{"$f":"Calculations!AJ243","v":0},{"$f":"Calculations!AK243","v":0},{"$f":"Calculations!AL243","v":0},{"$f":"Calculations!AM243","v":0},{"$f":"Calculations!AN243","v":0},{"$f":"Calculations!AO243","v":0},{"$f":"Calculations!AP243","v":0},{"$f":"Calculations!AQ243","v":0}]
[null,null,null,null,null,null,null,null,null,null,"-",null,null,"-",null,null,null,null,null,{"$f":"Calculations!AE244","v":"-"},{"$f":"Calculations!Y244","v":"-"},{"$f":"Calculations!Z244","v":"N/A"},{"$f":"Calculations!AF244","v":"-"},{"$f":"Calculations!AG244","v":"N/A"},{"$f":"Calculations!AH244","v":"N/A"},{"$f":"Calculations!AI244","v":0},{"$f":"Calculations!AJ244","v":0},{"$f":"Calculations!AK244","v":0},{"$f":"Calculations!AL244","v":0},{"$f":"Calculations!AM244","v":0},{"$f":"Calculations!AN244","v":0},{"$f":"Calculations!AO244","v":0},{"$f":"Calculations!AP244","v":0},{"$f":"Calculations!AQ244","v":0}]
[null,null,null,null,null,null,null,null,null,null,"-",null,null,"-",null,null,null,null,null,{"$f":"Calculations!AE245","v":"-"},{"$f":"Calculations!Y245","v":"-"},{"$f":"Calculations!Z245","v":"N/A"},{"$f":"Calculations!AF245","v":"-"},{"$f":"Calculations!AG245","v":"N/A"},{"$f":"Calculations!AH245","v":"N/A"},{"$f":"Calculations!AI245","v":0},{"$f":"Calculations!AJ245","v":0},{"$f":"Calculations!AK245","v":0},{"$f":"Calculations!AL245","v":0},{"$f":"Calculations!AM245","v":0},{"$f":"Calculations!AN245","v":0},{"$f":"Calculations!AO245","v":0},{"$f":"Calculations!AP245","v":0},{"$f":"Calculations!AQ245","v":0}]
[null,null,null,null,null,null,null,null,null,null,"-",null,null,"-",null,null,null,null,null,{"$f":"Calculations!AE246","v":"-"},{"$f":"Calculations!Y246","v":"-"},{"$f":"Calculations!Z246","v":"N/A"},{"$f":"Calculations!AF246","v":"-"},{"$f":"Calculations!AG246","v":"N/A"},{"$f":"Calculations!AH246","v":"N/A"},{"$f":"Calculations!AI246","v":0},{"$f":"Calculations!AJ246","v":0},{"$f":"Calculations!AK246","v":0},{"$f":"Calculations!AL246","v":0},{"$f":"Calculations!AM246","v":0},{"$f":"Calculations!AN246","v":0},{"$f":"Calculations!AO246","v":0},{"$f":"Calculations!AP246","v":0},{"$f":"Calculations!AQ246","v":0}]
[null,null,null,null,null,null,null,null,null,null,"-",null,null,"-",null,null,null,null,null,{"$f":"Calculations!AE247","v":"-"},{"$f":"Calculations!Y247","v":"-"},{"$f":"Calculations!Z247","v":"N/A"},{"$f":"Calculations!AF247","v":"-"},{"$f":"Calculations!AG247","v":"N/A"},{"$f":"Calculations!AH247","v":"N/A"},{"$f":"Calculations!AI247","v":0},{"$f":"Calculations!AJ247","v":0},{"$f":"Calculations!AK247","v":0},{"$f":"Calculations!AL247","v":0},{"$f":"Calculations!AM247","v":0},{"$f":"Calculations!AN247","v":0},{"$f":"Calculations!AO247","v":0},{"$f":"Calculations!AP247","v":0},{"$f":"Calculations!AQ247","v":0}]
[null,null,null,null,null,null,null,null,null,null,"-",null,null,"-",null,null,null,null,null,{"$f":"Calculations!AE248","v":"-"},{"$f":"Calculations!Y248","v":"-"},{"$f":"Calculations!Z248","v":"N/A"},{"$f":"Calculations!AF248","v":"-"},{"$f":"Calculations!AG248","v":"N/A"},{"$f":"Calculations!AH248","v":"N/A"},{"$f":"Calculations!AI248","v":0},{"$f":"Calculations!AJ248","v":0},{"$f":"Calculations!AK248","v":0},{"$f":"Calculations!AL248","v":0},{"$f":"Calculations!AM248","v":0},{"$f":"Calculations!AN248","v":0},{"$f":"Calculations!AO248","v":0},{"$f":"Calculations!AP248","v":0},{"$f":"Calculations!AQ248","v":0}]
[null,null,null,null,null,null,null,null,null,null,"-",null,null,"-",null,null,null,null,null,{"$f":"Calculations!AE249","v":"-"},{"$f":"Calculations!Y249","v":"-"},{"$f":"Calculations!Z249","v":"N/A"},{"$f":"Calculations!AF249","v":"-"},{"$f":"Calculations!AG249","v":"N/A"},{"$f":"Calculations!AH249","v":"N/A"},{"$f":"Calculations!AI249","v":0},{"$f":"Calculations!AJ249","v":0},{"$f":"Calculations!AK249","v":0},{"$f":"Calculations!AL249","v":0},{"$f":"Calculations!AM249","v":0},{"$f":"Calculations!AN249","v":0},{"$f":"Calculations!AO249","v":0},{"$f":"Calculations!AP249","v":0},{"$f":"Calculations!AQ249","v":0}]
[null,null,null,null,null,null,null,null,null,null,"-",null,null,"-",null,null,null,null,null,{"$f":"Calculations!AE250","v":"-"},{"$f":"Calculations!Y250","v":"-"},{"$f":"Calculations!Z250","v":"N/A"},{"$f":"Calculations!AF250","v":"-"},{"$f":"Calculations!AG250","v":"N/A"},{"$f":"Calculations!AH250","v":"N/A"},{"$f":"Calculations!AI250","v":0},{"$f":"Calculations!AJ250","v":0},{"$f":"Calculations!AK250","v":0},{"$f":"Calculations!AL250","v":0},{"$f":"Calculations!AM250","v":0},{"$f":"Calculations!AN250","v":0},{"$f":"Calculations!AO250","v":0},{"$f":"Calculations!AP250","v":0},{"$f":"Calculations!AQ250","v":0}]
[null,null,null,null,null,null,null,null,null,null,"-",null,null,"-",null,null,null,null,null,{"$f":"Calculations!AE251","v":"-"},{"$f":"Calculations!Y251","v":"-"},{"$f":"Calculations!Z251","v":"N/A"},{"$f":"Calculations!AF251","v":"-"},{"$f":"Calculations!AG251","v":"N/A"},{"$f":"Calculations!AH251","v":"N/A"},{"$f":"Calculations!AI251","v":0},{"$f":"Calculations!AJ251","v":0},{"$f":"Calculations!AK251","v":0},{"$f":"Calculations!AL251","v":0},{"$f":"Calculations!AM251","v":0},{"$f":"Calculations!AN251","v":0},{"$f":"Calculations!AO251","v":0},{"$f":"Calculations!AP251","v":0},{"$f":"Calculations!AQ251","v":0}]
[null,null,null,null,null,null,null,null,null,null,"-",null,null,"-",null,null,null,null,null,{"$f":"Calculations!AE252","v":"-"},{"$f":"Calculations!Y252","v":"-"},{"$f":"Calculations!Z252","v":"N/A"},{"$f":"Calculations!AF252","v":"-"},{"$f":"Calculations!AG252","v":"N/A"},{"$f":"Calculations!AH252","v":"N/A"},{"$f":"Calculations!AI252","v":0},{"$f":"Calculations!AJ252","v":0},{"$f":"Calculations!AK252","v":0},{"$f":"Calculations!AL252","v":0},{"$f":"Calculations!AM252","v":0},{"$f":"Calculations!AN252","v":0},{"$f":"Calculations!AO252","v":0},{"$f":"Calculations!AP252","v":0},{"$f":"Calculations!AQ252","v":0}]
[null,null,null,null,null,null,null,null,null,null,"-",null,null,"-",null,null,null,null,null,{"$f":"Calculations!AE253","v":"-"},{"$f":"Calculations!Y253","v":"-"},{"$f":"Calculations!Z253","v":"N/A"},{"$f":"Calculations!AF253","v":"-"},{"$f":"Calculations!AG253","v":"N/A"},{"$f":"Calculations!AH253","v":"N/A"},{"$f":"Calculations!AI253","v":0},{"$f":"Calculations!AJ253","v":0},{"$f":"Calculations!AK253","v":0},{"$f":"Calculations!AL253","v":0},{"$f":"Calculations!AM253","v":0},{"$f":"Calculations!AN253","v":0},{"$f":"Calculations!AO253","v":0},{"$f":"Calculations!AP253","v":0},{"$f":"Calculations!AQ253","v":0}]
[null,null,null,null,null,null,null,null,null,null,"-",null,null,"-",null,null,null,null,null,{"$f":"Calculations!AE254","v":"-"},{"$f":"Calculations!Y254","v":"-"},{"$f":"Calculations!Z254","v":"N/A"},{"$f":"Calculations!AF254","v":"-"},{"$f":"Calculations!AG254","v":"N/A"},{"$f":"Calculations!AH254","v":"N/A"},{"$f":"Calculations!AI254","v":0},{"$f":"Calculations!AJ254","v":0},{"$f":"Calculations!AK254","v":0},{"$f":"Calculations!AL254","v":0},{"$f":"Calculations!AM254","v":0},{"$f":"Calculations!AN254","v":0},{"$f":"Calculations!AO254","v":0},{"$f":"Calculations!AP254","v":0},{"$f":"Calculations!AQ254","v":0}]
[null,null,null,null,null,null,null,null,null,null,"-",null,null,"-",null,null,null,null,null,{"$f":"Calculations!AE255","v":"-"},{"$f":"Calculations!Y255","v":"-"},{"$f":"Calculations!Z255","v":"N/A"},{"$f":"Calculations!AF255","v":"-"},{"$f":"Calculations!AG255","v":"N/A"},{"$f":"Calculations!AH255","v":"N/A"},{"$f":"Calculations!AI255","v":0},{"$f":"Calculations!AJ255","v":0},{"$f":"Calculations!AK255","v":0},{"$f":"Calculations!AL255","v":0},{"$f":"Calculations!AM255","v":0},{"$f":"Calculations!AN255","v":0},{"$f":"Calculations!AO255","v":0},{"$f":"Calculations!AP255","v":0},{"$f":"Calculations!AQ255","v":0}]
[null,null,null,null,null,null,null,null,null,null,"-",null,null,"-",null,null,null,null,null,{"$f":"Calculations!AE256","v":"-"},{"$f":"Calculations!Y256","v":"-"},{"$f":"Calculations!Z256","v":"N/A"},{"$f":"Calculations!AF256","v":"-"},{"$f":"Calculations!AG256","v":"N/A"},{"$f":"Calculations!AH256","v":"N/A"},{"$f":"Calculations!AI256","v":0},{"$f":"Calculations!AJ256","v":0},{"$f":"Calculations!AK256","v":0},{"$f":"Calculations!AL256","v":0},{"$f":"Calculations!AM256","v":0},{"$f":"Calculations!AN256","v":0},{"$f":"Calculations!AO256","v":0},{"$f":"Calculations!AP256","v":0},{"$f":"Calculations!AQ256","v":0}]
[null,null,null,null,null,null,null,null,null,null,"-",null,null,"-",null,null,null,null,null,{"$f":"Calculations!AE257","v":"-"},{"$f":"Calculations!Y257","v":"-"},{"$f":"Calculations!Z257","v":"N/A"},{"$f":"Calculations!AF257","v":"-"},{"$f":"Calculations!AG257","v":"N/A"},{"$f":"Calculations!AH257","v":"N/A"},{"$f":"Calculations!AI257","v":0},{"$f":"Calculations!AJ257","v":0},{"$f":"Calculations!AK257","v":0},{"$f":"Calculations!AL257","v":0},{"$f":"Calculations!AM257","v":0},{"$f":"Calculations!AN257","v":0},{"$f":"Calculations!AO257","v":0},{"$f":"Calculations!AP257","v":0},{"$f":"Calculations!AQ257","v":0}]
[null,null,null,null,null,null,null,null,null,null,"-",null,null,"-",null,null,null,null,null,{"$f":"Calculations!AE258","v":"-"},{"$f":"Calculations!Y258","v":"-"},{"$f":"Calculations!Z258","v":"N/A"},{"$f":"Calculations!AF258","v":"-"},{"$f":"Calculations!AG258","v":"N/A"},{"$f":"Calculations!AH258","v":"N/A"},{"$f":"Calculations!AI258","v":0},{"$f":"Calculations!AJ258","v":0},{"$f":"Calculations!AK258","v":0},{"$f":"Calculations!AL258","v":0},{"$f":"Calculations!AM258","v":0},{"$f":"Calculations!AN258","v":0},{"$f":"Calculations!AO258","v":0},{"$f":"Calculations!AP258","v":0},{"$f":"Calculations!AQ258","v":0}]
[null,null,null,null,null,null,null,null,null,null,"-",null,null,"-",null,null,null,null,null,{"$f":"Calculations!AE259","v":"-"},{"$f":"Calculations!Y259","v":"-"},{"$f":"Calculations!Z259","v":"N/A"},{"$f":"Calculations!AF259","v":"-"},{"$f":"Calculations!AG259","v":"N/A"},{"$f":"Calculations!AH259","v":"N/A"},{"$f":"Calculations!AI259","v":0},{"$f":"Calculations!AJ259","v":0},{"$f":"Calculations!AK259","v":0},{"$f":"Calculations!AL259","v":0},{"$f":"Calculations!AM259","v":0},{"$f":"Calculations!AN259","v":0},{"$f":"Calculations!AO259","v":0},{"$f":"Calculations!AP259","v":0},{"$f":"Calculations!AQ259","v":0}]
[null,null,null,null,null,null,null,null,null,null,{"$f":"IFERROR(IF(ISBLANK(VLOOKUP($G262&\" \"&$H262,States_Soils,3,FALSE)),\"-\",(VLOOKUP($G262&\" \"&$H262,States_Soils,3,FALSE))),\"-\")","v":"-"},null,null,{"$f":"IFERROR(IF(ISBLANK(VLOOKUP($G262&\" \"&$H262,States_Soils,4,FALSE)),\"-\",(VLOOKUP($G262&\" \"&$H262,States_Soils,4,FALSE))),\"-\")","v":"-"},null,null,null,null,null,{"$f":"Calculations!AE260","v":"-"},{"$f":"Calculations!Y260","v":"-"},{"$f":"Calculations!Z260","v":"N/A"},{"$f":"Calculations!AF260","v":"-"},{"$f":"Calculations!AG260","v":"N/A"},{"$f":"Calculations!AH260","v":"N/A"},{"$f":"Calculations!AI260","v":0},{"$f":"Calculations!AJ260","v":0},{"$f":"Calculations!AK260","v":0},{"$f":"Calculations!AL260","v":0},{"$f":"Calculations!AM260","v":0},{"$f":"Calculations!AN260","v":0},{"$f":"Calculations!AO260","v":0},{"$f":"Calculations!AP260","v":0},{"$f":"Calculations!AQ260","v":0}]
[null,null,null,null,null,null,null,null,null,null,"-",null,null,"-",null,null,null,null,null,{"$f":"Calculations!AE261","v":"-"},{"$f":"Calculations!Y261","v":"-"},{"$f":"Calculations!Z261","v":"N/A"},{"$f":"Calculations!AF261","v":"-"},{"$f":"Calculations!AG261","v":"N/A"},{"$f":"Calculations!AH261","v":"N/A"},{"$f":"Calculations!AI261","v":0},{"$f":"Calculations!AJ261","v":0},{"$f":"Calculations!AK261","v":0},{"$f":"Calculations!AL261","v":0},{"$f":"Calculations!AM261","v":0},{"$f":"Calculations!AN261","v":0},{"$f":"Calculations!AO261","v":0},{"$f":"Calculations!AP261","v":0},{"$f":"Calculations!AQ261","v":0}]
[null,null,null,null,null,null,null,null,null,null,"-",null,null,"-",null,null,null,null,null,{"$f":"Calculations!AE262","v":"-"},{"$f":"Calculations!Y262","v":"-"},{"$f":"Calculations!Z262","v":"N/A"},{"$f":"Calculations!AF262","v":"-"},{"$f":"Calculations!AG262","v":"N/A"},{"$f":"Calculations!AH262","v":"N/A"},{"$f":"Calculations!AI262","v":0},{"$f":"Calculations!AJ262","v":0},{"$f":"Calculations!AK262","v":0},{"$f":"Calculations!AL262","v":0},{"$f":"Calculations!AM262","v":0},{"$f":"Calculations!AN262","v":0},{"$f":"Calculations!AO262","v":0},{"$f":"Calculations!AP262","v":0},{"$f":"Calculations!AQ262","v":0}]
[null,null,null,null,null,null,null,null,null,null,"-",null,null,"-",null,null,null,null,null,{"$f":"Calculations!AE263","v":"-"},{"$f":"Calculations!Y263","v":"-"},{"$f":"Calculations!Z263","v":"N/A"},{"$f":"Calculations!AF263","v":"-"},{"$f":"Calculations!AG263","v":"N/A"},{"$f":"Calculations!AH263","v":"N/A"},{"$f":"Calculations!AI263","v":0},{"$f":"Calculations!AJ263","v":0},{"$f":"Calculations!AK263","v":0},{"$f":"Calculations!AL263","v":0},{"$f":"Calculations!AM263","v":0},{"$f":"Calculations!AN263","v":0},{"$f":"Calculations!AO263","v":0},{"$f":"Calculations!AP263","v":0},{"$f":"Calculations!AQ263","v":0}]
[null,null,null,null,null,null,null,null,null,null,"-",null,null,"-",null,null,null,null,null,{"$f":"Calculations!AE264","v":"-"},{"$f":"Calculations!Y264","v":"-"},{"$f":"Calculations!Z264","v":"N/A"},{"$f":"Calculations!AF264","v":"-"},{"$f":"Calculations!AG264","v":"N/A"},{"$f":"Calculations!AH264","v":"N/A"},{"$f":"Calculations!AI264","v":0},{"$f":"Calculations!AJ264","v":0},{"$f":"Calculations!AK264","v":0},{"$f":"Calculations!AL264","v":0},{"$f":"Calculations!AM264","v":0},{"$f":"Calculations!AN264","v":0},{"$f":"Calculations!AO264","v":0},{"$f":"Calculations!AP264","v":0},{"$f":"Calculations!AQ264","v":0}]
[null,null,null,null,null,null,null,null,null,null,"-",null,null,"-",null,null,null,null,null,{"$f":"Calculations!AE265","v":"-"},{"$f":"Calculations!Y265","v":"-"},{"$f":"Calculations!Z265","v":"N/A"},{"$f":"Calculations!AF265","v":"-"},{"$f":"Calculations!AG265","v":"N/A"},{"$f":"Calculations!AH265","v":"N/A"},{"$f":"Calculations!AI265","v":0},{"$f":"Calculations!AJ265","v":0},{"$f":"Calculations!AK265","v":0},{"$f":"Calculations!AL265","v":0},{"$f":"Calculations!AM265","v":0},{"$f":"Calculations!AN265","v":0},{"$f":"Calculations!AO265","v":0},{"$f":"Calculations!AP265","v":0},{"$f":"Calculations!AQ265","v":0}]
[null,null,null,null,null,null,null,null,null,null,"-",null,null,"-",null,null,null,null,null,{"$f":"Calculations!AE266","v":"-"},{"$f":"Calculations!Y266","v":"-"},{"$f":"Calculations!Z266","v":"N/A"},{"$f":"Calculations!AF266","v":"-"},{"$f":"Calculations!AG266","v":"N/A"},{"$f":"Calculations!AH266","v":"N/A"},{"$f":"Calculations!AI266","v":0},{"$f":"Calculations!AJ266","v":0},{"$f":"Calculations!AK266","v":0},{"$f":"Calculations!AL266","v":0},{"$f":"Calculations!AM266","v":0},{"$f":"Calculations!AN266","v":0},{"$f":"Calculations!AO266","v":0},{"$f":"Calculations!AP266","v":0},{"$f":"Calculations!AQ266","v":0}]
[null,null,null,null,null,null,null,null,null,null,"-",null,null,"-",null,null,null,null,null,{"$f":"Calculations!AE267","v":"-"},{"$f":"Calculations!Y267","v":"-"},{"$f":"Calculations!Z267","v":"N/A"},{"$f":"Calculations!AF267","v":"-"},{"$f":"Calculations!AG267","v":"N/A"},{"$f":"Calculations!AH267","v":"N/A"},{"$f":"Calculations!AI267","v":0},{"$f":"Calculations!AJ267","v":0},{"$f":"Calculations!AK267","v":0},{"$f":"Calculations!AL267","v":0},{"$f":"Calculations!AM267","v":0},{"$f":"Calculations!AN267","v":0},{"$f":"Calculations!AO267","v":0},{"$f":"Calculations!AP267","v":0},{"$f":"Calculations!AQ267","v":0}]
[null,null,null,null,null,null,null,null,null,null,"-",null,null,"-",null,null,null,null,null,{"$f":"Calculations!AE268","v":"-"},{"$f":"Calculations!Y268","v":"-"},{"$f":"Calculations!Z268","v":"N/A"},{"$f":"Calculations!AF268","v":"-"},{"$f":"Calculations!AG268","v":"N/A"},{"$f":"Calculations!AH268","v":"N/A"},{"$f":"Calculations!AI268","v":0},{"$f":"Calculations!AJ268","v":0},{"$f":"Calculations!AK268","v":0},{"$f":"Calculations!AL268","v":0},{"$f":"Calculations!AM268","v":0},{"$f":"Calculations!AN268","v":0},{"$f":"Calculations!AO268","v":0},{"$f":"Calculations!AP268","v":0},{"$f":"Calculations!AQ268","v":0}]
[null,null,null,null,null,null,null,null,null,null,"-",null,null,"-",null,null,null,null,null,{"$f":"Calculations!AE269","v":"-"},{"$f":"Calculations!Y269","v":"-"},{"$f":"Calculations!Z269","v":"N/A"},{"$f":"Calculations!AF269","v":"-"},{"$f":"Calculations!AG269","v":"N/A"},{"$f":"Calculations!AH269","v":"N/A"},{"$f":"Calculations!AI269","v":0},{"$f":"Calculations!AJ269","v":0},{"$f":"Calculations!AK269","v":0},{"$f":"Calculations!AL269","v":0},{"$f":"Calculations!AM269","v":0},{"$f":"Calculations!AN269","v":0},{"$f":"Calculations!AO269","v":0},{"$f":"Calculations!AP269","v":0},{"$f":"Calculations!AQ269","v":0}]
[null,null,null,null,null,null,null,null,null,null,"-",null,null,"-",null,null,null,null,null,{"$f":"Calculations!AE270","v":"-"},{"$f":"Calculations!Y270","v":"-"},{"$f":"Calculations!Z270","v":"N/A"},{"$f":"Calculations!AF270","v":"-"},{"$f":"Calculations!AG270","v":"N/A"},{"$f":"Calculations!AH270","v":"N/A"},{"$f":"Calculations!AI270","v":0},{"$f":"Calculations!AJ270","v":0},{"$f":"Calculations!AK270","v":0},{"$f":"Calculations!AL270","v":0},{"$f":"Calculations!AM270","v":0},{"$f":"Calculations!AN270","v":0},{"$f":"Calculations!AO270","v":0},{"$f":"Calculations!AP270","v":0},{"$f":"Calculations!AQ270","v":0}]
[null,null,null,null,null,null,null,null,null,null,"-",null,null,"-",null,null,null,null,null,{"$f":"Calculations!AE271","v":"-"},{"$f":"Calculations!Y271","v":"-"},{"$f":"Calculations!Z271","v":"N/A"},{"$f":"Calculations!AF271","v":"-"},{"$f":"Calculations!AG271","v":"N/A"},{"$f":"Calculations!AH271","v":"N/A"},{"$f":"Calculations!AI271","v":0},{"$f":"Calculations!AJ271","v":0},{"$f":"Calculations!AK271","v":0},{"$f":"Calculations!AL271","v":0},{"$f":"Calculations!AM271","v":0},{"$f":"Calculations!AN271","v":0},{"$f":"Calculations!AO271","v":0},{"$f":"Calculations!AP271","v":0},{"$f":"Calculations!AQ271","v":0}]
[null,null,null,null,null,null,null,null,null,null,"-",null,null,"-",null,null,null,null,null,{"$f":"Calculations!AE272","v":"-"},{"$f":"Calculations!Y272","v":"-"},{"$f":"Calculations!Z272","v":"N/A"},{"$f":"Calculations!AF272","v":"-"},{"$f":"Calculations!AG272","v":"N/A"},{"$f":"Calculations!AH272","v":"N/A"},{"$f":"Calculations!AI272","v":0},{"$f":"Calculations!AJ272","v":0},{"$f":"Calculations!AK272","v":0},{"$f":"Calculations!AL272","v":0},{"$f":"Calculations!AM272","v":0},{"$f":"Calculations!AN272","v":0},{"$f":"Calculations!AO272","v":0},{"$f":"Calculations!AP272","v":0},{"$f":"Calculations!AQ272","v":0}]
[null,null,null,null,null,null,null,null,null,null,"-",null,null,"-",null,null,null,null,null,{"$f":"Calculations!AE273","v":"-"},{"$f":"Calculations!Y273","v":"-"},{"$f":"Calculations!Z273","v":"N/A"},{"$f":"Calculations!AF273","v":"-"},{"$f":"Calculations!AG273","v":"N/A"},{"$f":"Calculations!AH273","v":"N/A"},{"$f":"Calculations!AI273","v":0},{"$f":"Calculations!AJ273","v":0},{"$f":"Calculations!AK273","v":0},{"$f":"Calculations!AL273","v":0},{"$f":"Calculations!AM273","v":0},{"$f":"Calculations!AN273","v":0},{"$f":"Calculations!AO273","v":0},{"$f":"Calculations!AP273","v":0},{"$f":"Calculations!AQ273","v":0}]
[null,null,null,null,null,null,null,null,null,null,"-",null,null,"-",null,null,null,null,null,{"$f":"Calculations!AE274","v":"-"},{"$f":"Calculations!Y274","v":"-"},{"$f":"Calculations!Z274","v":"N/A"},{"$f":"Calculations!AF274","v":"-"},{"$f":"Calculations!AG274","v":"N/A"},{"$f":"Calculations!AH274","v":"N/A"},{"$f":"Calculations!AI274","v":0},{"$f":"Calculations!AJ274","v":0},{"$f":"Calculations!AK274","v":0},{"$f":"Calculations!AL274","v":0},{"$f":"Calculations!AM274","v":0},{"$f":"Calculations!AN274","v":0},{"$f":"Calculations!AO274","v":0},{"$f":"Calculations!AP274","v":0},{"$f":"Calculations!AQ274","v":0}]
[null,null,null,null,null,null,null,null,null,null,"-",null,null,"-",null,null,null,null,null,{"$f":"Calculations!AE275","v":"-"},{"$f":"Calculations!Y275","v":"-"},{"$f":"Calculations!Z275","v":"N/A"},{"$f":"Calculations!AF275","v":"-"},{"$f":"Calculations!AG275","v":"N/A"},{"$f":"Calculations!AH275","v":"N/A"},{"$f":"Calculations!AI275","v":0},{"$f":"Calculations!AJ275","v":0},{"$f":"Calculations!AK275","v":0},{"$f":"Calculations!AL275","v":0},{"$f":"Calculations!AM275","v":0},{"$f":"Calculations!AN275","v":0},{"$f":"Calculations!AO275","v":0},{"$f":"Calculations!AP275","v":0},{"$f":"Calculations!AQ275","v":0}]
[null,null,null,null,null,null,null,null,null,null,"-",null,null,"-",null,null,null,null,null,{"$f":"Calculations!AE276","v":"-"},{"$f":"Calculations!Y276","v":"-"},{"$f":"Calculations!Z276","v":"N/A"},{"$f":"Calculations!AF276","v":"-"},{"$f":"Calculations!AG276","v":"N/A"},{"$f":"Calculations!AH276","v":"N/A"},{"$f":"Calculations!AI276","v":0},{"$f":"Calculations!AJ276","v":0},{"$f":"Calculations!AK276","v":0},{"$f":"Calculations!AL276","v":0},{"$f":"Calculations!AM276","v":0},{"$f":"Calculations!AN276","v":0},{"$f":"Calculations!AO276","v":0},{"$f":"Calculations!AP276","v":0},{"$f":"Calculations!AQ276","v":0}]
[null,null,null,null,null,null,null,null,null,null,"-",null,null,"-",null,null,null,null,null,{"$f":"Calculations!AE277","v":"-"},{"$f":"Calculations!Y277","v":"-"},{"$f":"Calculations!Z277","v":"N/A"},{"$f":"Calculations!AF277","v":"-"},{"$f":"Calculations!AG277","v":"N/A"},{"$f":"Calculations!AH277","v":"N/A"},{"$f":"Calculations!AI277","v":0},{"$f":"Calculations!AJ277","v":0},{"$f":"Calculations!AK277","v":0},{"$f":"Calculations!AL277","v":0},{"$f":"Calculations!AM277","v":0},{"$f":"Calculations!AN277","v":0},{"$f":"Calculations!AO277","v":0},{"$f":"Calculations!AP277","v":0},{"$f":"Calculations!AQ277","v":0}]
[null,null,null,null,null,null,null,null,null,null,"-",null,null,"-",null,null,null,null,null,{"$f":"Calculations!AE278","v":"-"},{"$f":"Calculations!Y278","v":"-"},{"$f":"Calculations!Z278","v":"N/A"},{"$f":"Calculations!AF278","v":"-"},{"$f":"Calculations!AG278","v":"N/A"},{"$f":"Calculations!AH278","v":"N/A"},{"$f":"Calculations!AI278","v":0},{"$f":"Calculations!AJ278","v":0},{"$f":"Calculations!AK278","v":0},{"$f":"Calculations!AL278","v":0},{"$f":"Calculations!AM278","v":0},{"$f":"Calculations!AN278","v":0},{"$f":"Calculations!AO278","v":0},{"$f":"Calculations!AP278","v":0},{"$f":"Calculations!AQ278","v":0}]
[null,null,null,null,null,null,null,null,null,null,"-",null,null,"-",null,null,null,null,null,{"$f":"Calculations!AE279","v":"-"},{"$f":"Calculations!Y279","v":"-"},{"$f":"Calculations!Z279","v":"N/A"},{"$f":"Calculations!AF279","v":"-"},{"$f":"Calculations!AG279","v":"N/A"},{"$f":"Calculations!AH279","v":"N/A"},{"$f":"Calculations!AI279","v":0},{"$f":"Calculations!AJ279","v":0},{"$f":"Calculations!AK279","v":0},{"$f":"Calculations!AL279","v":0},{"$f":"Calculations!AM279","v":0},{"$f":"Calculations!AN279","v":0},{"$f":"Calculations!AO279","v":0},{"$f":"Calculations!AP279","v":0},{"$f":"Calculations!AQ279","v":0}]
[null,null,null,null,null,null,null,null,null,null,"-",null,null,"-",null,null,null,null,null,{"$f":"Calculations!AE280","v":"-"},{"$f":"Calculations!Y280","v":"-"},{"$f":"Calculations!Z280","v":"N/A"},{"$f":"Calculations!AF280","v":"-"},{"$f":"Calculations!AG280","v":"N/A"},{"$f":"Calculations!AH280","v":"N/A"},{"$f":"Calculations!AI280","v":0},{"$f":"Calculations!AJ280","v":0},{"$f":"Calculations!AK280","v":0},{"$f":"Calculations!AL280","v":0},{"$f":"Calculations!AM280","v":0},{"$f":"Calculations!AN280","v":0},{"$f":"Calculations!AO280","v":0},{"$f":"Calculations!AP280","v":0},{"$f":"Calculations!AQ280","v":0}]
[null,null,null,null,null,null,null,null,null,null,"-",null,null,"-",null,null,null,null,null,{"$f":"Calculations!AE281","v":"-"},{"$f":"Calculations!Y281","v":"-"},{"$f":"Calculations!Z281","v":"N/A"},{"$f":"Calculations!AF281","v":"-"},{"$f":"Calculations!AG281","v":"N/A"},{"$f":"Calculations!AH281","v":"N/A"},{"$f":"Calculations!AI281","v":0},{"$f":"Calculations!AJ281","v":0},{"$f":"Calculations!AK281","v":0},{"$f":"Calculations!AL281","v":0},{"$f":"Calculations!AM281","v":0},{"$f":"Calculations!AN281","v":0},{"$f":"Calculations!AO281","v":0},{"$f":"Calculations!AP281","v":0},{"$f":"Calculations!AQ281","v":0}]
[null,null,null,null,null,null,null,null,null,null,"-",null,null,"-",null,null,null,null,null,{"$f":"Calculations!AE282","v":"-"},{"$f":"Calculations!Y282","v":"-"},{"$f":"Calculations!Z282","v":"N/A"},{"$f":"Calculations!AF282","v":"-"},{"$f":"Calculations!AG282","v":"N/A"},{"$f":"Calculations!AH282","v":"N/A"},{"$f":"Calculations!AI282","v":0},{"$f":"Calculations!AJ282","v":0},{"$f":"Calculations!AK282","v":0},{"$f":"Calculations!AL282","v":0},{"$f":"Calculations!AM282","v":0},{"$f":"Calculations!AN282","v":0},{"$f":"Calculations!AO282","v":0},{"$f":"Calculations!AP282","v":0},{"$f":"Calculations!AQ282","v":0}]
[null,null,null,null,null,null,null,null,null,null,"-",null,null,"-",null,null,null,null,null,{"$f":"Calculations!AE283","v":"-"},{"$f":"Calculations!Y283","v":"-"},{"$f":"Calculations!Z283","v":"N/A"},{"$f":"Calculations!AF283","v":"-"},{"$f":"Calculations!AG283","v":"N/A"},{"$f":"Calculations!AH283","v":"N/A"},{"$f":"Calculations!AI283","v":0},{"$f":"Calculations!AJ283","v":0},{"$f":"Calculations!AK283","v":0},{"$f":"Calculations!AL283","v":0},{"$f":"Calculations!AM283","v":0},{"$f":"Calculations!AN283","v":0},{"$f":"Calculations!AO283","v":0},{"$f":"Calculations!AP283","v":0},{"$f":"Calculations!AQ283","v":0}]
[null,null,null,null,null,null,null,null,null,null,"-",null,null,"-",null,null,null,null,null,{"$f":"Calculations!AE284","v":"-"},{"$f":"Calculations!Y284","v":"-"},{"$f":"Calculations!Z284","v":"N/A"},{"$f":"Calculations!AF284","v":"-"},{"$f":"Calculations!AG284","v":"N/A"},{"$f":"Calculations!AH284","v":"N/A"},{"$f":"Calculations!AI284","v":0},{"$f":"Calculations!AJ284","v":0},{"$f":"Calculations!AK284","v":0},{"$f":"Calculations!AL284","v":0},{"$f":"Calculations!AM284","v":0},{"$f":"Calculations!AN284","v":0},{"$f":"Calculations!AO284","v":0},{"$f":"Calculations!AP284","v":0},{"$f":"Calculations!AQ284","v":0}]
[null,null,null,null,null,null,null,null,null,null,"-",null,null,"-",null,null,null,null,null,{"$f":"Calculations!AE285","v":"-"},{"$f":"Calculations!Y285","v":"-"},{"$f":"Calculations!Z285","v":"N/A"},{"$f":"Calculations!AF285","v":"-"},{"$f":"Calculations!AG285","v":"N/A"},{"$f":"Calculations!AH285","v":"N/A"},{"$f":"Calculations!AI285","v":0},{"$f":"Calculations!AJ285","v":0},{"$f":"Calculations!AK285","v":0},{"$f":"Calculations!AL285","v":0},{"$f":"Calculations!AM285","v":0},{"$f":"Calculations!AN285","v":0},{"$f":"Calculations!AO285","v":0},{"$f":"Calculations!AP285","v":0},{"$f":"Calculations!AQ285","v":0}]
[null,null,null,null,null,null,null,null,null,null,"-",null,null,"-",null,null,null,null,null,{"$f":"Calculations!AE286","v":"-"},{"$f":"Calculations!Y286","v":"-"},{"$f":"Calculations!Z286","v":"N/A"},{"$f":"Calculations!AF286","v":"-"},{"$f":"Calculations!AG286","v":"N/A"},{"$f":"Calculations!AH286","v":"N/A"},{"$f":"Calculations!AI286","v":0},{"$f":"Calculations!AJ286","v":0},{"$f":"Calculations!AK286","v":0},{"$f":"Calculations!AL286","v":0},{"$f":"Calculations!AM286","v":0},{"$f":"Calculations!AN286","v":0},{"$f":"Calculations!AO286","v":0},{"$f":"Calculations!AP286","v":0},{"$f":"Calculations!AQ286","v":0}]
[null,null,null,null,null,null,null,null,null,null,"-",null,null,"-",null,null,null,null,null,{"$f":"Calculations!AE287","v":"-"},{"$f":"Calculations!Y287","v":"-"},{"$f":"Calculations!Z287","v":"N/A"},{"$f":"Calculations!AF287","v":"-"},{"$f":"Calculations!AG287","v":"N/A"},{"$f":"Calculations!AH287","v":"N/A"},{"$f":"Calculations!AI287","v":0},{"$f":"Calculations!AJ287","v":0},{"$f":"Calculations!AK287","v":0},{"$f":"Calculations!AL287","v":0},{"$f":"Calculations!AM287","v":0},{"$f":"Calculations!AN287","v":0},{"$f":"Calculations!AO287","v":0},{"$f":"Calculations!AP287","v":0},{"$f":"Calculations!AQ287","v":0}]
[null,null,null,null,null,null,null,null,null,null,"-",null,null,"-",null,null,null,null,null,{"$f":"Calculations!AE288","v":"-"},{"$f":"Calculations!Y288","v":"-"},{"$f":"Calculations!Z288","v":"N/A"},{"$f":"Calculations!AF288","v":"-"},{"$f":"Calculations!AG288","v":"N/A"},{"$f":"Calculations!AH288","v":"N/A"},{"$f":"Calculations!AI288","v":0},{"$f":"Calculations!AJ288","v":0},{"$f":"Calculations!AK288","v":0},{"$f":"Calculations!AL288","v":0},{"$f":"Calculations!AM288","v":0},{"$f":"Calculations!AN288","v":0},{"$f":"Calculations!AO288","v":0},{"$f":"Calculations!AP288","v":0},{"$f":"Calculations!AQ288","v":0}]
[null,null,null,null,null,null,null,null,null,null,"-",null,null,"-",null,null,null,null,null,{"$f":"Calculations!AE289","v":"-"},{"$f":"Calculations!Y289","v":"-"},{"$f":"Calculations!Z289","v":"N/A"},{"$f":"Calculations!AF289","v":"-"},{"$f":"Calculations!AG289","v":"N/A"},{"$f":"Calculations!AH289","v":"N/A"},{"$f":"Calculations!AI289","v":0},{"$f":"Calculations!AJ289","v":0},{"$f":"Calculations!AK289","v":0},{"$f":"Calculations!AL289","v":0},{"$f":"Calculations!AM289","v":0},{"$f":"Calculations!AN289","v":0},{"$f":"Calculations!AO289","v":0},{"$f":"Calculations!AP289","v":0},{"$f":"Calculations!AQ289","v":0}]
[null,null,null,null,null,null,null,null,null,null,"-",null,null,"-",null,null,null,null,null,{"$f":"Calculations!AE290","v":"-"},{"$f":"Calculations!Y290","v":"-"},{"$f":"Calculations!Z290","v":"N/A"},{"$f":"Calculations!AF290","v":"-"},{"$f":"Calculations!AG290","v":"N/A"},{"$f":"Calculations!AH290","v":"N/A"},{"$f":"Calculations!AI290","v":0},{"$f":"Calculations!AJ290","v":0},{"$f":"Calculations!AK290","v":0},{"$f":"Calculations!AL290","v":0},{"$f":"Calculations!AM290","v":0},{"$f":"Calculations!AN290","v":0},{"$f":"Calculations!AO290","v":0},{"$f":"Calculations!AP290","v":0},{"$f":"Calculations!AQ290","v":0}]
[null,null,null,null,null,null,null,null,null,null,"-",null,null,"-",null,null,null,null,null,{"$f":"Calculations!AE291","v":"-"},{"$f":"Calculations!Y291","v":"-"},{"$f":"Calculations!Z291","v":"N/A"},{"$f":"Calculations!AF291","v":"-"},{"$f":"Calculations!AG291","v":"N/A"},{"$f":"Calculations!AH291","v":"N/A"},{"$f":"Calculations!AI291","v":0},{"$f":"Calculations!AJ291","v":0},{"$f":"Calculations!AK291","v":0},{"$f":"Calculations!AL291","v":0},{"$f":"Calculations!AM291","v":0},{"$f":"Calculations!AN291","v":0},{"$f":"Calculations!AO291","v":0},{"$f":"Calculations!AP291","v":0},{"$f":"Calculations!AQ291","v":0}]
[null,null,null,null,null,null,null,null,null,null,"-",null,null,"-",null,null,null,null,null,{"$f":"Calculations!AE292","v":"-"},{"$f":"Calculations!Y292","v":"-"},{"$f":"Calculations!Z292","v":"N/A"},{"$f":"Calculations!AF292","v":"-"},{"$f":"Calculations!AG292","v":"N/A"},{"$f":"Calculations!AH292","v":"N/A"},{"$f":"Calculations!AI292","v":0},{"$f":"Calculations!AJ292","v":0},{"$f":"Calculations!AK292","v":0},{"$f":"Calculations!AL292","v":0},{"$f":"Calculations!AM292","v":0},{"$f":"Calculations!AN292","v":0},{"$f":"Calculations!AO292","v":0},{"$f":"Calculations!AP292","v":0},{"$f":"Calculations!AQ292","v":0}]
[null,null,null,null,null,null,null,null,null,null,"-",null,null,"-",null,null,null,null,null,{"$f":"Calculations!AE293","v":"-"},{"$f":"Calculations!Y293","v":"-"},{"$f":"Calculations!Z293","v":"N/A"},{"$f":"Calculations!AF293","v":"-"},{"$f":"Calculations!AG293","v":"N/A"},{"$f":"Calculations!AH293","v":"N/A"},{"$f":"Calculations!AI293","v":0},{"$f":"Calculations!AJ293","v":0},{"$f":"Calculations!AK293","v":0},{"$f":"Calculations!AL293","v":0},{"$f":"Calculations!AM293","v":0},{"$f":"Calculations!AN293","v":0},{"$f":"Calculations!AO293","v":0},{"$f":"Calculations!AP293","v":0},{"$f":"Calculations!AQ293","v":0}]
[null,null,null,null,null,null,null,null,null,null,"-",null,null,"-",null,null,null,null,null,{"$f":"Calculations!AE294","v":"-"},{"$f":"Calculations!Y294","v":"-"},{"$f":"Calculations!Z294","v":"N/A"},{"$f":"Calculations!AF294","v":"-"},{"$f":"Calculations!AG294","v":"N/A"},{"$f":"Calculations!AH294","v":"N/A"},{"$f":"Calculations!AI294","v":0},{"$f":"Calculations!AJ294","v":0},{"$f":"Calculations!AK294","v":0},{"$f":"Calculations!AL294","v":0},{"$f":"Calculations!AM294","v":0},{"$f":"Calculations!AN294","v":0},{"$f":"Calculations!AO294","v":0},{"$f":"Calculations!AP294","v":0},{"$f":"Calculations!AQ294","v":0}]
[null,null,null,null,null,null,null,null,null,null,"-",null,null,"-",null,null,null,null,null,{"$f":"Calculations!AE295","v":"-"},{"$f":"Calculations!Y295","v":"-"},{"$f":"Calculations!Z295","v":"N/A"},{"$f":"Calculations!AF295","v":"-"},{"$f":"Calculations!AG295","v":"N/A"},{"$f":"Calculations!AH295","v":"N/A"},{"$f":"Calculations!AI295","v":0},{"$f":"Calculations!AJ295","v":0},{"$f":"Calculations!AK295","v":0},{"$f":"Calculations!AL295","v":0},{"$f":"Calculations!AM295","v":0},{"$f":"Calculations!AN295","v":0},{"$f":"Calculations!AO295","v":0},{"$f":"Calculations!AP295","v":0},{"$f":"Calculations!AQ295","v":0}]
[null,null,null,null,null,null,null,null,null,null,"-",null,null,"-",null,null,null,null,null,{"$f":"Calculations!AE296","v":"-"},{"$f":"Calculations!Y296","v":"-"},{"$f":"Calculations!Z296","v":"N/A"},{"$f":"Calculations!AF296","v":"-"},{"$f":"Calculations!AG296","v":"N/A"},{"$f":"Calculations!AH296","v":"N/A"},{"$f":"Calculations!AI296","v":0},{"$f":"Calculations!AJ296","v":0},{"$f":"Calculations!AK296","v":0},{"$f":"Calculations!AL296","v":0},{"$f":"Calculations!AM296","v":0},{"$f":"Calculations!AN296","v":0},{"$f":"Calculations!AO296","v":0},{"$f":"Calculations!AP296","v":0},{"$f":"Calculations!AQ296","v":0}]
[null,null,null,null,null,null,null,null,null,null,"-",null,null,"-",null,null,null,null,null,{"$f":"Calculations!AE297","v":"-"},{"$f":"Calculations!Y297","v":"-"},{"$f":"Calculations!Z297","v":"N/A"},{"$f":"Calculations!AF297","v":"-"},{"$f":"Calculations!AG297","v":"N/A"},{"$f":"Calculations!AH297","v":"N/A"},{"$f":"Calculations!AI297","v":0},{"$f":"Calculations!AJ297","v":0},{"$f":"Calculations!AK297","v":0},{"$f":"Calculations!AL297","v":0},{"$f":"Calculations!AM297","v":0},{"$f":"Calculations!AN297","v":0},{"$f":"Calculations!AO297","v":0},{"$f":"Calculations!AP297","v":0},{"$f":"Calculations!AQ297","v":0}]
[null,null,null,null,null,null,null,null,null,null,"-",null,null,"-",null,null,null,null,null,{"$f":"Calculations!AE298","v":"-"},{"$f":"Calculations!Y298","v":"-"},{"$f":"Calculations!Z298","v":"N/A"},{"$f":"Calculations!AF298","v":"-"},{"$f":"Calculations!AG298","v":"N/A"},{"$f":"Calculations!AH298","v":"N/A"},{"$f":"Calculations!AI298","v":0},{"$f":"Calculations!AJ298","v":0},{"$f":"Calculations!AK298","v":0},{"$f":"Calculations!AL298","v":0},{"$f":"Calculations!AM298","v":0},{"$f":"Calculations!AN298","v":0},{"$f":"Calculations!AO298","v":0},{"$f":"Calculations!AP298","v":0},{"$f":"Calculations!AQ298","v":0}]
[null,null,null,null,null,null,null,null,null,null,"-",null,null,"-",null,null,null,null,null,{"$f":"Calculations!AE299","v":"-"},{"$f":"Calculations!Y299","v":"-"},{"$f":"Calculations!Z299","v":"N/A"},{"$f":"Calculations!AF299","v":"-"},{"$f":"Calculations!AG299","v":"N/A"},{"$f":"Calculations!AH299","v":"N/A"},{"$f":"Calculations!AI299","v":0},{"$f":"Calculations!AJ299","v":0},{"$f":"Calculations!AK299","v":0},{"$f":"Calculations!AL299","v":0},{"$f":"Calculations!AM299","v":0},{"$f":"Calculations!AN299","v":0},{"$f":"Calculations!AO299","v":0},{"$f":"Calculations!AP299","v":0},{"$f":"Calculations!AQ299","v":0}]
[null,null,null,null,null,null,null,null,null,null,"-",null,null,"-",null,null,null,null,null,{"$f":"Calculations!AE300","v":"-"},{"$f":"Calculations!Y300","v":"-"},{"$f":"Calculations!Z300","v":"N/A"},{"$f":"Calculations!AF300","v":"-"},{"$f":"Calculations!AG300","v":"N/A"},{"$f":"Calculations!AH300","v":"N/A"},{"$f":"Calculations!AI300","v":0},{"$f":"Calculations!AJ300","v":0},{"$f":"Calculations!AK300","v":0},{"$f":"Calculations!AL300","v":0},{"$f":"Calculations!AM300","v":0},{"$f":"Calculations!AN300","v":0},{"$f":"Calculations!AO300","v":0},{"$f":"Calculations!AP300","v":0},{"$f":"Calculations!AQ300","v":0}]
[null,null,null,null,null,null,null,null,null,null,"-",null,null,"-",null,null,null,null,null,{"$f":"Calculations!AE301","v":"-"},{"$f":"Calculations!Y301","v":"-"},{"$f":"Calculations!Z301","v":"N/A"},{"$f":"Calculations!AF301","v":"-"},{"$f":"Calculations!AG301","v":"N/A"},{"$f":"Calculations!AH301","v":"N/A"},{"$f":"Calculations!AI301","v":0},{"$f":"Calculations!AJ301","v":0},{"$f":"Calculations!AK301","v":0},{"$f":"Calculations!AL301","v":0},{"$f":"Calculations!AM301","v":0},{"$f":"Calculations!AN301","v":0},{"$f":"Calculations!AO301","v":0},{"$f":"Calculations!AP301","v":0},{"$f":"Calculations!AQ301","v":0}]
[null,null,null,null,null,null,null,null,null,null,"-",null,null,"-",null,null,null,null,null,{"$f":"Calculations!AE302","v":"-"},{"$f":"Calculations!Y302","v":"-"},{"$f":"Calculations!Z302","v":"N/A"},{"$f":"Calculations!AF302","v":"-"},{"$f":"Calculations!AG302","v":"N/A"},{"$f":"Calculations!AH302","v":"N/A"},{"$f":"Calculations!AI302","v":0},{"$f":"Calculations!AJ302","v":0},{"$f":"Calculations!AK302","v":0},{"$f":"Calculations!AL302","v":0},{"$f":"Calculations!AM302","v":0},{"$f":"Calculations!AN302","v":0},{"$f":"Calculations!AO302","v":0},{"$f":"Calculations!AP302","v":0},{"$f":"Calculations!AQ302","v":0}]
[null,null,null,null,null,null,null,null,null,null,"-",null,null,"-",null,null,null,null,null,{"$f":"Calculations!AE303","v":"-"},{"$f":"Calculations!Y303","v":"-"},{"$f":"Calculations!Z303","v":"N/A"},{"$f":"Calculations!AF303","v":"-"},{"$f":"Calculations!AG303","v":"N/A"},{"$f":"Calculations!AH303","v":"N/A"},{"$f":"Calculations!AI303","v":0},{"$f":"Calculations!AJ303","v":0},{"$f":"Calculations!AK303","v":0},{"$f":"Calculations!AL303","v":0},{"$f":"Calculations!AM303","v":0},{"$f":"Calculations!AN303","v":0},{"$f":"Calculations!AO303","v":0},{"$f":"Calculations!AP303","v":0},{"$f":"Calculations!AQ303","v":0}]

{"sheet":"Calculations","index":3,"n_rows":303,"n_cols":45,"rows_kept":303,"cut":false,"hidden":false,"merged":[[1,0,1,7],[0,34,0,36],[0,37,0,39],[0,40,0,42],[1,26,1,27],[1,28,1,29],[1,8,1,13],[1,33,2,33],[1,32,2,32],[1,14,1,21],[1,22,1,23],[1,24,2,24],[1,30,2,30],[1,31,2,31],[1,25,2,25]]}
[null,null,null,null,null,null,null,null,null,null,null,null,null,null,null,null,null,null,null,null,null,null,null,null,null,null,null,null,null,null,null,null,null,null,"Implication in total acres",null,null,"Implication acres sod crops",null,null,"Implication acres row crops"]
["Field Information",null,null,null,null,null,null,null,"Transport factors",null,null,null,null,null,"Transport Factor Scores",null,null,null,null,null,null,null,"Total raw PI score",null,"Final Raw PI Score","Raw P Loss Risk","BMP: Method of Applications",null,"BMP: Ground Cover/Timing",null,"Final BMP score","Overall PI Score","P loss risk","Management Implication","N-based","P-based","Zero P","N-based","P-based","Zero P","N-based","P-based","Zero P"]
["Year ","Grower ","Field ID","Crop","Crop type","Field size Acres","Soil Type","Soil test P lbs/acre (Morgan or Modified Morgan)","Flow Distance (ft)","Flooding Frequency","Untreated Concentrated Flow","Selected Hydrologic Soil Group","Erosion","Vegetated Flow Distance (ft)","FD","FF","CF","HSG-DP","HSG-PP","Erosion","VB-DP","VB-PP","Dissolved","Particulate",null,null,"Class","Coefficient","Class","Coefficient",null,null,null,null,{"$f":"SUM(AI4:AI303)","v":0},{"$f":"SUM(AJ4:AJ303)","v":0},0,{"$f":"SUM(AL4:AL303)","v":0},{"$f":"SUM(AM4:AM303)","v":0},{"$f":"SUM(AN4:AN303)","v":0},{"$f":"SUM(AO4:AO303)","v":0},{"$f":"SUM(AP4:AP303)","v":0},{"$f":"SUM(AQ4:AQ303)","v":0}]
[{"$f":"'P Index Inputs'!A6","v":0},{"$f":"'P Index Inputs'!B6","v":0},{"$f":"'P Index Inputs'!C6","v":0},{"$f":"'P Index Inputs'!D6","v":0},{"$f":"'P Index Inputs'!E6","v":0},{"$f":"'P Index Inputs'!F6","v":0},{"$f":"'P Index Inputs'!H6","v":0},{"$f":"'P Index Inputs'!I6","v":0},{"$f":"'P Index Inputs'!J6","v":0},{"$f":"IF(ISBLANK('P Index Inputs'!L6),'P Index Inputs'!K6,'P Index Inputs'!L6)","v":"-"},{"$f":"'P Index Inputs'!M6","v":0},{"$f":"'P Index Inputs'!O6","v":0},{"$f":"'P Index Inputs'!P6","v":0},{"$f":"'P Index Inputs'!Q6","v":0},{"$f":"IFERROR(VLOOKUP(I4,'NR-PI 2.0 Structure'!$C$5:$D$8,2,FALSE),\"-\")","v":"-"},{"$f":"IFERROR(VLOOKUP(J4,'NR-PI 2.0 Structure'!$B$12:$C$16,2,FALSE),\"-\")","v":"-"},{"$f":"IFERROR(VLOOKUP(K4,'NR-PI 2.0 Structure'!$B$20:$D$21,3,FALSE),\"-\")","v":"-"},{"$f":"IFERROR(VLOOKUP(L4,'NR-PI 2.0 Structure'!$B$25:$C$28,2,FALSE),\"-\")","v":"-"},{"$f":"IFERROR(VLOOKUP(L4,'NR-PI 2.0 Structure'!$B$25:$D$28,3,FALSE),\"-\")","v":"-"},{"$f":"IFERROR(\n  IF(M4 = \"≤ 1\", 'NR-PI 2.0 Structure'!$D$32,\n  IF(M4 = \">1 - 3\", 'NR-PI 2.0 Structure'!$D$33,\n  IF(M4 = \">3 - 5\", 'NR-PI 2.0 Structure'!$D$34,\n  IF(M4 = \"> 5\", 'NR-PI 2.0 Structure'!$D$35, )))),\n\"-\")","v":0},{"$f":"IFERROR(IF(ISBLANK(I4),\"N/A\",IF(I4<>'NR-PI 2.0 Structure'!$C$5,(VLOOKUP(N4,'NR-PI 2.0 Structure'!$C$39:$D$40,2,FALSE)),0)),\" - \")","v":" - "},{"$f":"IFERROR(IF(ISBLANK(I4),\"N/A\",IF(I4<>'NR-PI 2.0 Structure'!$C$5,(VLOOKUP(N4,'NR-PI 2.0 Structure'!$C$39:$E$40,3,FALSE)),0)),\" - \")","v":" - "},{"$f":"IFERROR(SUM(O4+P4+Q4+R4+U4)*10,\"-\")","v":"-"},{"$f":"IFERROR(SUM(O4+P4+Q4+S4+T4+V4)*10,\"-\")","v":"-"},{"$f":"IF(W4>X4,W4,X4)","v":"-"},{"$f":"IF(Y4=\"-\",\"N/A\",IF(Y4<50, \"Low\", IF(Y4<75, \"Medium\", IF(Y4<100, \"High\", IF(Y4>=100, \"Very High\")))))","v":"N/A"},{"$f":"IF(ISBLANK('P Index Inputs'!R6),\"-\",'P Index Inputs'!R6)","v":"-"},{"$f":"IFERROR(IF(I4<>'NR-PI 2.0 Structure'!$C$5,VLOOKUP(AA4,'NR-PI 2.0 Structure'!$G$5:$H$9,2,FALSE),IF(OR(AA4='NR-PI 2.0 Structure'!$G$5,AA4='NR-PI 2.0 Structure'!$G$6,AA4='NR-PI 2.0 Structure'!$G$7),1,VLOOKUP(AA4,'NR-PI 2.0 Structure'!$G$8:$H$9,2,FALSE))),\"-\")","v":"-"},{"$f":"IF(ISBLANK('P Index Inputs'!S6),\"-\",'P Index Inputs'!S6)","v":"-"},{"$f":"IFERROR(VLOOKUP(AC4,'NR-PI 2.0 Structure'!$G$14:$H$19,2,FALSE),\"-\")","v":"-"},{"$f":"IFERROR(AB4*AD4,\"-\")","v":"-"},{"$f":"IFERROR(Y4*AE4,\"-\")","v":"-"},{"$f":"IFERROR(IF(AF4<50, \"Low\", IF(AF4<75, \"Medium\", IF(AF4<100, \"High\", IF(AND(AF4>=100,AF4<>\"-\"),\"Very High\",\"N/A\")))),\"N/A\")","v":"N/A"},{"$f":"IF(ISNUMBER(AF4),IF(H4>=160,\"Zero P\",IF(H4>100,IF(AF4<50,\"P-based\",\"Zero P\"),IF(H4>=40,IF(AF4<50,\"N-based\",IF(AF4<100,\"P-based\",\"Zero P\")),IF(H4<40,IF(AF4<75,\"N-based\",IF(AF4<100,\"P-based\",\"Zero P\")))))),\"N/A\")","v":"N/A"},{"$f":"IFERROR(IF(AH4=\"N-based\",F4,0),\"-\")","v":0},{"$f":"IFERROR(IF(AH4 = \"P-based\", F4, 0),\"-\")","v":0},{"$f":"IFERROR(IF(AH4 = \"Zero P\", F4, 0),\"-\")","v":0},{"$f":"IFERROR(IF(AND(E4=\"sod\",AH4=\"N-based\"),F4,0),\"-\")","v":0},{"$f":"IFERROR(IF(AND(E4=\"sod\",AH4=\"P-based\"),F4,0),\"-\")","v":0},{"$f":"IFERROR(IF(AND(E4=\"sod\",AH4=\"Zero P\"),F4,0),\"-\")","v":0},{"$f":"IFERROR(IF(AND(E4=\"row\",AH4=\"N-based\"),F4,0),\"-\")","v":0},{"$f":"IFERROR(IF(AND(E4=\"row\",AH4=\"P-based\"),F4,0),\"-\")","v":0},{"$f":"IFERROR(IF(AND(E4=\"row\",AH4=\"Zero P\"),F4,0),\"-\")","v":0},"Total P index"]
[{"$f":"'P Index Inputs'!A7","v":0},{"$f":"'P Index Inputs'!B7","v":0},{"$f":"'P Index Inputs'!C7","v":0},{"$f":"'P Index Inputs'!D7","v":0},{"$f":"'P Index Inputs'!E7","v":0},{"$f":"'P Index Inputs'!F7","v":0},{"$f":"'P Index Inputs'!H7","v":0},{"$f":"'P Index Inputs'!I7","v":0},{"$f":"'P Index Inputs'!J7","v":0},{"$f":"IF(ISBLANK('P Index Inputs'!L7),'P Index Inputs'!K7,'P Index Inputs'!L7)","v":"-"},{"$f":"'P Index Inputs'!M7","v":0},{"$f":"'P Index Inputs'!O7","v":0},{"$f":"'P Index Inputs'!P7","v":0},{"$f":"'P Index Inputs'!Q7","v":0},{"$f":"IFERROR(VLOOKUP(I5,'NR-PI 2.0 Structure'!$C$5:$D$8,2,FALSE),\"-\")","v":"-"},{"$f":"IFERROR(VLOOKUP(J5,'NR-PI 2.0 Structure'!$B$12:$C$16,2,FALSE),\"-\")","v":"-"},{"$f":"IFERROR(VLOOKUP(K5,'NR-PI 2.0 Structure'!$B$20:$D$21,3,FALSE),\"-\")","v":"-"},{"$f":"IFERROR(VLOOKUP(L5,'NR-PI 2.0 Structure'!$B$25:$C$28,2,FALSE),\"-\")","v":"-"},{"$f":"IFERROR(VLOOKUP(L5,'NR-PI 2.0 Structure'!$B$25:$D$28,3,FALSE),\"-\")","v":"-"},{"$f":"IFERROR(\n  IF(M5 = \"≤ 1\", 'NR-PI 2.0 Structure'!$D$32,\n  IF(M5 = \">1 - 3\", 'NR-PI 2.0 Structure'!$D$33,\n  IF(M5 = \">3 - 5\", 'NR-PI 2.0 Structure'!$D$34,\n  IF(M5 = \"> 5\", 'NR-PI 2.0 Structure'!$D$35, )))),\n\"-\")","v":0},{"$f":"IFERROR(IF(ISBLANK(I5),\"N/A\",IF(I5<>'NR-PI 2.0 Structure'!$C$5,(VLOOKUP(N5,'NR-PI 2.0 Structure'!$C$39:$D$40,2,FALSE)),0)),\" - \")","v":" - "},{"$f":"IFERROR(IF(ISBLANK(I5),\"N/A\",IF(I5<>'NR-PI 2.0 Structure'!$C$5,(VLOOKUP(N5,'NR-PI 2.0 Structure'!$C$39:$E$40,3,FALSE)),0)),\" - \")","v":" - "},{"$f":"IFERROR(SUM(O5+P5+Q5+R5+U5)*10,\"-\")","v":"-"},{"$f":"IFERROR(SUM(O5+P5+Q5+S5+T5+V5)*10,\"-\")","v":"-"},{"$f":"IF(W5>X5,W5,X5)","v":"-"},"N/A",{"$f":"IF(ISBLANK('P Index Inputs'!R7),\"-\",'P Index Inputs'!R7)","v":"-"},{"$f":"IFERROR(IF(I5<>'NR-PI 2.0 Structure'!$C$5,VLOOKUP(AA5,'NR-PI 2.0 Structure'!$G$5:$H$9,2,FALSE),IF(OR(AA5='NR-PI 2.0 Structure'!$G$5,AA5='NR-PI 2.0 Structure'!$G$6,AA5='NR-PI 2.0 Structure'!$G$7),1,VLOOKUP(AA5,'NR-PI 2.0 Structure'!$G$8:$H$9,2,FALSE))),\"-\")","v":"-"},{"$f":"IF(ISBLANK('P Index Inputs'!S7),\"-\",'P Index Inputs'!S7)","v":"-"},{"$f":"IFERROR(VLOOKUP(AC5,'NR-PI 2.0 Structure'!$G$14:$H$19,2,FALSE),\"-\")","v":"-"},{"$f":"IFERROR(AB5*AD5,\"-\")","v":"-"},{"$f":"IFERROR(Y5*AE5,\"-\")","v":"-"},{"$f":"IFERROR(IF(AF5<50, \"Low\", IF(AF5<75, \"Medium\", IF(AF5<100, \"High\", IF(AND(AF5>=100,AF5<>\"-\"),\"Very High\",\"N/A\")))),\"N/A\")","v":"N/A"},{"$f":"IF(ISNUMBER(AF5),IF(H5>=160,\"Zero P\",IF(H5>100,IF(AF5<50,\"P-based\",\"Zero P\"),IF(H5>=40,IF(AF5<50,\"N-based\",IF(AF5<100,\"P-based\",\"Zero P\")),IF(H5<40,IF(AF5<75,\"N-based\",IF(AF5<100,\"P-based\",\"Zero P\")))))),\"N/A\")","v":"N/A"},0,0,{"$f":"IFERROR(IF(AH5 = \"Zero P\", F5, 0),\"-\")","v":0},0,0,{"$f":"IFERROR(IF(AND(E5=\"sod\",AH5=\"Zero P\"),F5,0),\"-\")","v":0},0,0,{"$f":"IFERROR(IF(AND(E5=\"row\",AH5=\"Zero P\"),F5,0),\"-\")","v":0},"N-based",{"$f":"(AI3/SUM(AI3:AK3)*100)","v":{"$error":"#DIV/0!"}}]
[{"$f":"'P Index Inputs'!A8","v":0},{"$f":"'P Index Inputs'!B8","v":0},{"$f":"'P Index Inputs'!C8","v":0},{"$f":"'P Index Inputs'!D8","v":0},{"$f":"'P Index Inputs'!E8","v":0},{"$f":"'P Index Inputs'!F8","v":0},{"$f":"'P Index Inputs'!H8","v":0},{"$f":"'P Index Inputs'!I8","v":0},{"$f":"'P Index Inputs'!J8","v":0},{"$f":"IF(ISBLANK('P Index Inputs'!L8),'P Index Inputs'!K8,'P Index Inputs'!L8)","v":"-"},{"$f":"'P Index Inputs'!M8","v":0},{"$f":"'P Index Inputs'!O8","v":0},{"$f":"'P Index Inputs'!P8","v":0},{"$f":"'P Index Inputs'!Q8","v":0},{"$f":"IFERROR(VLOOKUP(I6,'NR-PI 2.0 Structure'!$C$5:$D$8,2,FALSE),\"-\")","v":"-"},{"$f":"IFERROR(VLOOKUP(J6,'NR-PI 2.0 Structure'!$B$12:$C$16,2,FALSE),\"-\")","v":"-"},{"$f":"IFERROR(VLOOKUP(K6,'NR-PI 2.0 Structure'!$B$20:$D$21,3,FALSE),\"-\")","v":"-"},{"$f":"IFERROR(VLOOKUP(L6,'NR-PI 2.0 Structure'!$B$25:$C$28,2,FALSE),\"-\")","v":"-"},{"$f":"IFERROR(VLOOKUP(L6,'NR-PI 2.0 Structure'!$B$25:$D$28,3,FALSE),\"-\")","v":"-"},{"$f":"IFERROR(\n  IF(M6 = \"≤ 1\", 'NR-PI 2.0 Structure'!$D$32,\n  IF(M6 = \">1 - 3\", 'NR-PI 2.0 Structure'!$D$33,\n  IF(M6 = \">3 - 5\", 'NR-PI 2.0 Structure'!$D$34,\n  IF(M6 = \"> 5\", 'NR-PI 2.0 Structure'!$D$35, )))),\n\"-\")","v":0},{"$f":"IFERROR(IF(ISBLANK(I6),\"N/A\",IF(I6<>'NR-PI 2.0 Structure'!$C$5,(VLOOKUP(N6,'NR-PI 2.0 Structure'!$C$39:$D$40,2,FALSE)),0)),\" - \")","v":" - "},{"$f":"IFERROR(IF(ISBLANK(I6),\"N/A\",IF(I6<>'NR-PI 2.0 Structure'!$C$5,(VLOOKUP(N6,'NR-PI 2.0 Structure'!$C$39:$E$40,3,FALSE)),0)),\" - \")","v":" - "},"-",{"$f":"IFERROR(SUM(O6+P6+Q6+S6+T6+V6)*10,\"-\")","v":"-"},"-","N/A",{"$f":"IF(ISBLANK('P Index Inputs'!R8),\"-\",'P Index Inputs'!R8)","v":"-"},{"$f":"IFERROR(IF(I6<>'NR-PI 2.0 Structure'!$C$5,VLOOKUP(AA6,'NR-PI 2.0 Structure'!$G$5:$H$9,2,FALSE),IF(OR(AA6='NR-PI 2.0 Structure'!$G$5,AA6='NR-PI 2.0 Structure'!$G$6,AA6='NR-PI 2.0 Structure'!$G$7),1,VLOOKUP(AA6,'NR-PI 2.0 Structure'!$G$8:$H$9,2,FALSE))),\"-\")","v":"-"},{"$f":"IF(ISBLANK('P Index Inputs'!S8),\"-\",'P Index Inputs'!S8)","v":"-"},{"$f":"IFERROR(VLOOKUP(AC6,'NR-PI 2.0 Structure'!$G$14:$H$19,2,FALSE),\"-\")","v":"-"},{"$f":"IFERROR(AB6*AD6,\"-\")","v":"-"},{"$f":"IFERROR(Y6*AE6,\"-\")","v":"-"},"N/A","N/A",0,0,0,0,0,0,0,0,0,"P-based",{"$f":"(AJ3/SUM(AI3:AK3)*100)","v":{"$error":"#DIV/0!"}}]
[{"$f":"'P Index Inputs'!A9","v":0},{"$f":"'P Index Inputs'!B9","v":0},{"$f":"'P Index Inputs'!C9","v":0},{"$f":"'P Index Inputs'!D9","v":0},{"$f":"'P Index Inputs'!E9","v":0},{"$f":"'P Index Inputs'!F9","v":0},{"$f":"'P Index Inputs'!H9","v":0},{"$f":"'P Index Inputs'!I9","v":0},{"$f":"'P Index Inputs'!J9","v":0},{"$f":"IF(ISBLANK('P Index Inputs'!L9),'P Index Inputs'!K9,'P Index Inputs'!L9)","v":"-"},{"$f":"'P Index Inputs'!M9","v":0},{"$f":"'P Index Inputs'!O9","v":0},{"$f":"'P Index Inputs'!P9","v":0},{"$f":"'P Index Inputs'!Q9","v":0},{"$f":"IFERROR(VLOOKUP(I7,'NR-PI 2.0 Structure'!$C$5:$D$8,2,FALSE),\"-\")","v":"-"},{"$f":"IFERROR(VLOOKUP(J7,'NR-PI 2.0 Structure'!$B$12:$C$16,2,FALSE),\"-\")","v":"-"},{"$f":"IFERROR(VLOOKUP(K7,'NR-PI 2.0 Structure'!$B$20:$D$21,3,FALSE),\"-\")","v":"-"},{"$f":"IFERROR(VLOOKUP(L7,'NR-PI 2.0 Structure'!$B$25:$C$28,2,FALSE),\"-\")","v":"-"},{"$f":"IFERROR(VLOOKUP(L7,'NR-PI 2.0 Structure'!$B$25:$D$28,3,FALSE),\"-\")","v":"-"},{"$f":"IFERROR(\n  IF(M7 = \"≤ 1\", 'NR-PI 2.0 Structure'!$D$32,\n  IF(M7 = \">1 - 3\", 'NR-PI 2.0 Structure'!$D$33,\n  IF(M7 = \">3 - 5\", 'NR-PI 2.0 Structure'!$D$34,\n  IF(M7 = \"> 5\", 'NR-PI 2.0 Structure'!$D$35, )))),\n\"-\")","v":0},{"$f":"IFERROR(IF(ISBLANK(I7),\"N/A\",IF(I7<>'NR-PI 2.0 Structure'!$C$5,(VLOOKUP(N7,'NR-PI 2.0 Structure'!$C$39:$D$40,2,FALSE)),0)),\" - \")","v":" - "},{"$f":"IFERROR(IF(ISBLANK(I7),\"N/A\",IF(I7<>'NR-PI 2.0 Structure'!$C$5,(VLOOKUP(N7,'NR-PI 2.0 Structure'!$C$39:$E$40,3,FALSE)),0)),\" - \")","v":" - "},"-","-","-","N/A",{"$f":"IF(ISBLANK('P Index Inputs'!R9),\"-\",'P Index Inputs'!R9)","v":"-"},{"$f":"IFERROR(IF(I7<>'NR-PI 2.0 Structure'!$C$5,VLOOKUP(AA7,'NR-PI 2.0 Structure'!$G$5:$H$9,2,FALSE),IF(OR(AA7='NR-PI 2.0 Structure'!$G$5,AA7='NR-PI 2.0 Structure'!$G$6,AA7='NR-PI 2.0 Structure'!$G$7),1,VLOOKUP(AA7,'NR-PI 2.0 Structure'!$G$8:$H$9,2,FALSE))),\"-\")","v":"-"},{"$f":"IF(ISBLANK('P Index Inputs'!S9),\"-\",'P Index Inputs'!S9)","v":"-"},{"$f":"IFERROR(VLOOKUP(AC7,'NR-PI 2.0 Structure'!$G$14:$H$19,2,FALSE),\"-\")","v":"-"},{"$f":"IFERROR(AB7*AD7,\"-\")","v":"-"},"-","N/A","N/A",0,0,0,0,0,0,0,0,0,"Zero P",{"$f":"(AK3/SUM(AI3:AK3)*100)","v":{"$error":"#DIV/0!"}}]
[{"$f":"'P Index Inputs'!A10","v":0},{"$f":"'P Index Inputs'!B10","v":0},{"$f":"'P Index Inputs'!C10","v":0},{"$f":"'P Index Inputs'!D10","v":0},{"$f":"'P Index Inputs'!E10","v":0},{"$f":"'P Index Inputs'!F10","v":0},{"$f":"'P Index Inputs'!H10","v":0},{"$f":"'P Index Inputs'!I10","v":0},{"$f":"'P Index Inputs'!J10","v":0},{"$f":"IF(ISBLANK('P Index Inputs'!L10),'P Index Inputs'!K10,'P Index Inputs'!L10)","v":"-"},{"$f":"'P Index Inputs'!M10","v":0},{"$f":"'P Index Inputs'!O10","v":0},{"$f":"'P Index Inputs'!P10","v":0},{"$f":"'P Index Inputs'!Q10","v":0},{"$f":"IFERROR(VLOOKUP(I8,'NR-PI 2.0 Structure'!$C$5:$D$8,2,FALSE),\"-\")","v":"-"},{"$f":"IFERROR(VLOOKUP(J8,'NR-PI 2.0 Structure'!$B$12:$C$16,2,FALSE),\"-\")","v":"-"},{"$f":"IFERROR(VLOOKUP(K8,'NR-PI 2.0 Structure'!$B$20:$D$21,3,FALSE),\"-\")","v":"-"},{"$f":"IFERROR(VLOOKUP(L8,'NR-PI 2.0 Structure'!$B$25:$C$28,2,FALSE),\"-\")","v":"-"},{"$f":"IFERROR(VLOOKUP(L8,'NR-PI 2.0 Structure'!$B$25:$D$28,3,FALSE),\"-\")","v":"-"},{"$f":"IFERROR(\n  IF(M8 = \"≤ 1\", 'NR-PI 2.0 Structure'!$D$32,\n  IF(M8 = \">1 - 3\", 'NR-PI 2.0 Structure'!$D$33,\n  IF(M8 = \">3 - 5\", 'NR-PI 2.0 Structure'!$D$34,\n  IF(M8 = \"> 5\", 'NR-PI 2.0 Structure'!$D$35, )))),\n\"-\")","v":0},{"$f":"IFERROR(IF(ISBLANK(I8),\"N/A\",IF(I8<>'NR-PI 2.0 Structure'!$C$5,(VLOOKUP(N8,'NR-PI 2.0 Structure'!$C$39:$D$40,2,FALSE)),0)),\" - \")","v":" - "},{"$f":"IFERROR(IF(ISBLANK(I8),\"N/A\",IF(I8<>'NR-PI 2.0 Structure'!$C$5,(VLOOKUP(N8,'NR-PI 2.0 Structure'!$C$39:$E$40,3,FALSE)),0)),\" - \")","v":" - "},"-","-","-","N/A",{"$f":"IF(ISBLANK('P Index Inputs'!R10),\"-\",'P Index Inputs'!R10)","v":"-"},{"$f":"IFERROR(IF(I8<>'NR-PI 2.0 Structure'!$C$5,VLOOKUP(AA8,'NR-PI 2.0 Structure'!$G$5:$H$9,2,FALSE),IF(OR(AA8='NR-PI 2.0 Structure'!$G$5,AA8='NR-PI 2.0 Structure'!$G$6,AA8='NR-PI 2.0 Structure'!$G$7),1,VLOOKUP(AA8,'NR-PI 2.0 Structure'!$G$8:$H$9,2,FALSE))),\"-\")","v":"-"},{"$f":"IF(ISBLANK('P Index Inputs'!S10),\"-\",'P Index Inputs'!S10)","v":"-"},{"$f":"IFERROR(VLOOKUP(AC8,'NR-PI 2.0 Structure'!$G$14:$H$19,2,FALSE),\"-\")","v":"-"},"-","-","N/A","N/A",0,0,0,0,0,0,0,0,0]
[{"$f":"'P Index Inputs'!A11","v":0},{"$f":"'P Index Inputs'!B11","v":0},{"$f":"'P Index Inputs'!C11","v":0},{"$f":"'P Index Inputs'!D11","v":0},{"$f":"'P Index Inputs'!E11","v":0},{"$f":"'P Index Inputs'!F11","v":0},{"$f":"'P Index Inputs'!H11","v":0},{"$f":"'P Index Inputs'!I11","v":0},{"$f":"'P Index Inputs'!J11","v":0},{"$f":"IF(ISBLANK('P Index Inputs'!L11),'P Index Inputs'!K11,'P Index Inputs'!L11)","v":"-"},{"$f":"'P Index Inputs'!M11","v":0},{"$f":"'P Index Inputs'!O11","v":0},{"$f":"'P Index Inputs'!P11","v":0},{"$f":"'P Index Inputs'!Q11","v":0},{"$f":"IFERROR(VLOOKUP(I9,'NR-PI 2.0 Structure'!$C$5:$D$8,2,FALSE),\"-\")","v":"-"},{"$f":"IFERROR(VLOOKUP(J9,'NR-PI 2.0 Structure'!$B$12:$C$16,2,FALSE),\"-\")","v":"-"},{"$f":"IFERROR(VLOOKUP(K9,'NR-PI 2.0 Structure'!$B$20:$D$21,3,FALSE),\"-\")","v":"-"},{"$f":"IFERROR(VLOOKUP(L9,'NR-PI 2.0 Structure'!$B$25:$C$28,2,FALSE),\"-\")","v":"-"},{"$f":"IFERROR(VLOOKUP(L9,'NR-PI 2.0 Structure'!$B$25:$D$28,3,FALSE),\"-\")","v":"-"},{"$f":"IFERROR(\n  IF(M9 = \"≤ 1\", 'NR-PI 2.0 Structure'!$D$32,\n  IF(M9 = \">1 - 3\", 'NR-PI 2.0 Structure'!$D$33,\n  IF(M9 = \">3 - 5\", 'NR-PI 2.0 Structure'!$D$34,\n  IF(M9 = \"> 5\", 'NR-PI 2.0 Structure'!$D$35, )))),\n\"-\")","v":0},{"$f":"IFERROR(IF(ISBLANK(I9),\"N/A\",IF(I9<>'NR-PI 2.0 Structure'!$C$5,(VLOOKUP(N9,'NR-PI 2.0 Structure'!$C$39:$D$40,2,FALSE)),0)),\" - \")","v":" - "},{"$f":"IFERROR(IF(ISBLANK(I9),\"N/A\",IF(I9<>'NR-PI 2.0 Structure'!$C$5,(VLOOKUP(N9,'NR-PI 2.0 Structure'!$C$39:$E$40,3,FALSE)),0)),\" - \")","v":" - "},"-","-","-","N/A",{"$f":"IF(ISBLANK('P Index Inputs'!R11),\"-\",'P Index Inputs'!R11)","v":"-"},{"$f":"IFERROR(IF(I9<>'NR-PI 2.0 Structure'!$C$5,VLOOKUP(AA9,'NR-PI 2.0 Structure'!$G$5:$H$9,2,FALSE),IF(OR(AA9='NR-PI 2.0 Structure'!$G$5,AA9='NR-PI 2.0 Structure'!$G$6,AA9='NR-PI 2.0 Structure'!$G$7),1,VLOOKUP(AA9,'NR-PI 2.0 Structure'!$G$8:$H$9,2,FALSE))),\"-\")","v":"-"},{"$f":"IF(ISBLANK('P Index Inputs'!S11),\"-\",'P Index Inputs'!S11)","v":"-"},{"$f":"IFERROR(VLOOKUP(AC9,'NR-PI 2.0 Structure'!$G$14:$H$19,2,FALSE),\"-\")","v":"-"},{"$f":"IFERROR(AB9*AD9,\"-\")","v":"-"},{"$f":"IFERROR(Y9*AE9,\"-\")","v":"-"},"N/A","N/A",0,0,0,0,0,0,0,0,0,"Sod crops P index"]
[{"$f":"'P Index Inputs'!A12","v":0},{"$f":"'P Index Inputs'!B12","v":0},{"$f":"'P Index Inputs'!C12","v":0},{"$f":"'P Index Inputs'!D12","v":0},{"$f":"'P Index Inputs'!E12","v":0},{"$f":"'P Index Inputs'!F12","v":0},{"$f":"'P Index Inputs'!H12","v":0},{"$f":"'P Index Inputs'!I12","v":0},{"$f":"'P Index Inputs'!J12","v":0},{"$f":"IF(ISBLANK('P Index Inputs'!L12),'P Index Inputs'!K12,'P Index Inputs'!L12)","v":"-"},{"$f":"'P Index Inputs'!M12","v":0},{"$f":"'P Index Inputs'!O12","v":0},{"$f":"'P Index Inputs'!P12","v":0},{"$f":"'P Index Inputs'!Q12","v":0},{"$f":"IFERROR(VLOOKUP(I10,'NR-PI 2.0 Structure'!$C$5:$D$8,2,FALSE),\"-\")","v":"-"},{"$f":"IFERROR(VLOOKUP(J10,'NR-PI 2.0 Structure'!$B$12:$C$16,2,FALSE),\"-\")","v":"-"},{"$f":"IFERROR(VLOOKUP(K10,'NR-PI 2.0 Structure'!$B$20:$D$21,3,FALSE),\"-\")","v":"-"},{"$f":"IFERROR(VLOOKUP(L10,'NR-PI 2.0 Structure'!$B$25:$C$28,2,FALSE),\"-\")","v":"-"},{"$f":"IFERROR(VLOOKUP(L10,'NR-PI 2.0 Structure'!$B$25:$D$28,3,FALSE),\"-\")","v":"-"},{"$f":"IFERROR(\n  IF(M10 = \"≤ 1\", 'NR-PI 2.0 Structure'!$D$32,\n  IF(M10 = \">1 - 3\", 'NR-PI 2.0 Structure'!$D$33,\n  IF(M10 = \">3 - 5\", 'NR-PI 2.0 Structure'!$D$34,\n  IF(M10 = \"> 5\", 'NR-PI 2.0 Structure'!$D$35, )))),\n\"-\")","v":0},{"$f":"IFERROR(IF(ISBLANK(I10),\"N/A\",IF(I10<>'NR-PI 2.0 Structure'!$C$5,(VLOOKUP(N10,'NR-PI 2.0 Structure'!$C$39:$D$40,2,FALSE)),0)),\" - \")","v":" - "},{"$f":"IFERROR(IF(ISBLANK(I10),\"N/A\",IF(I10<>'NR-PI 2.0 Structure'!$C$5,(VLOOKUP(N10,'NR-PI 2.0 Structure'!$C$39:$E$40,3,FALSE)),0)),\" - \")","v":" - "},"-","-","-","N/A",{"$f":"IF(ISBLANK('P Index Inputs'!R12),\"-\",'P Index Inputs'!R12)","v":"-"},{"$f":"IFERROR(IF(I10<>'NR-PI 2.0 Structure'!$C$5,VLOOKUP(AA10,'NR-PI 2.0 Structure'!$G$5:$H$9,2,FALSE),IF(OR(AA10='NR-PI 2.0 Structure'!$G$5,AA10='NR-PI 2.0 Structure'!$G$6,AA10='NR-PI 2.0 Structure'!$G$7),1,VLOOKUP(AA10,'NR-PI 2.0 Structure'!$G$8:$H$9,2,FALSE))),\"-\")","v":"-"},{"$f":"IF(ISBLANK('P Index Inputs'!S12),\"-\",'P Index Inputs'!S12)","v":"-"},{"$f":"IFERROR(VLOOKUP(AC10,'NR-PI 2.0 Structure'!$G$14:$H$19,2,FALSE),\"-\")","v":"-"},"-","-","N/A","N/A",0,0,0,0,0,0,0,0,0,"N-based",{"$f":"AL3/SUM(AL3:AN3)*100","v":{"$error":"#DIV/0!"}}]
[{"$f":"'P Index Inputs'!A13","v":0},{"$f":"'P Index Inputs'!B13","v":0},{"$f":"'P Index Inputs'!C13","v":0},{"$f":"'P Index Inputs'!D13","v":0},{"$f":"'P Index Inputs'!E13","v":0},{"$f":"'P Index Inputs'!F13","v":0},{"$f":"'P Index Inputs'!H13","v":0},{"$f":"'P Index Inputs'!I13","v":0},{"$f":"'P Index Inputs'!J13","v":0},{"$f":"IF(ISBLANK('P Index Inputs'!L13),'P Index Inputs'!K13,'P Index Inputs'!L13)","v":"-"},{"$f":"'P Index Inputs'!M13","v":0},{"$f":"'P Index Inputs'!O13","v":0},{"$f":"'P Index Inputs'!P13","v":0},{"$f":"'P Index Inputs'!Q13","v":0},{"$f":"IFERROR(VLOOKUP(I11,'NR-PI 2.0 Structure'!$C$5:$D$8,2,FALSE),\"-\")","v":"-"},{"$f":"IFERROR(VLOOKUP(J11,'NR-PI 2.0 Structure'!$B$12:$C$16,2,FALSE),\"-\")","v":"-"},{"$f":"IFERROR(VLOOKUP(K11,'NR-PI 2.0 Structure'!$B$20:$D$21,3,FALSE),\"-\")","v":"-"},{"$f":"IFERROR(VLOOKUP(L11,'NR-PI 2.0 Structure'!$B$25:$C$28,2,FALSE),\"-\")","v":"-"},{"$f":"IFERROR(VLOOKUP(L11,'NR-PI 2.0 Structure'!$B$25:$D$28,3,FALSE),\"-\")","v":"-"},{"$f":"IFERROR(\n  IF(M11 = \"≤ 1\", 'NR-PI 2.0 Structure'!$D$32,\n  IF(M11 = \">1 - 3\", 'NR-PI 2.0 Structure'!$D$33,\n  IF(M11 = \">3 - 5\", 'NR-PI 2.0 Structure'!$D$34,\n  IF(M11 = \"> 5\", 'NR-PI 2.0 Structure'!$D$35, )))),\n\"-\")","v":0},{"$f":"IFERROR(IF(ISBLANK(I11),\"N/A\",IF(I11<>'NR-PI 2.0 Structure'!$C$5,(VLOOKUP(N11,'NR-PI 2.0 Structure'!$C$39:$D$40,2,FALSE)),0)),\" - \")","v":" - "},{"$f":"IFERROR(IF(ISBLANK(I11),\"N/A\",IF(I11<>'NR-PI 2.0 Structure'!$C$5,(VLOOKUP(N11,'NR-PI 2.0 Structure'!$C$39:$E$40,3,FALSE)),0)),\" - \")","v":" - "},"-","-","-","N/A",{"$f":"IF(ISBLANK('P Index Inputs'!R13),\"-\",'P Index Inputs'!R13)","v":"-"},{"$f":"IFERROR(IF(I11<>'NR-PI 2.0 Structure'!$C$5,VLOOKUP(AA11,'NR-PI 2.0 Structure'!$G$5:$H$9,2,FALSE),IF(OR(AA11='NR-PI 2.0 Structure'!$G$5,AA11='NR-PI 2.0 Structure'!$G$6,AA11='NR-PI 2.0 Structure'!$G$7),1,VLOOKUP(AA11,'NR-PI 2.0 Structure'!$G$8:$H$9,2,FALSE))),\"-\")","v":"-"},{"$f":"IF(ISBLANK('P Index Inputs'!S13),\"-\",'P Index Inputs'!S13)","v":"-"},{"$f":"IFERROR(VLOOKUP(AC11,'NR-PI 2.0 Structure'!$G$14:$H$19,2,FALSE),\"-\")","v":"-"},"-","-","N/A","N/A",0,0,0,0,0,0,0,0,0,"P-based",{"$f":"AM3/SUM(AL3:AN3)*100","v":{"$error":"#DIV/0!"}}]
[{"$f":"'P Index Inputs'!A14","v":0},{"$f":"'P Index Inputs'!B14","v":0},{"$f":"'P Index Inputs'!C14","v":0},{"$f":"'P Index Inputs'!D14","v":0},{"$f":"'P Index Inputs'!E14","v":0},{"$f":"'P Index Inputs'!F14","v":0},{"$f":"'P Index Inputs'!H14","v":0},{"$f":"'P Index Inputs'!I14","v":0},{"$f":"'P Index Inputs'!J14","v":0},{"$f":"IF(ISBLANK('P Index Inputs'!L14),'P Index Inputs'!K14,'P Index Inputs'!L14)","v":"-"},{"$f":"'P Index Inputs'!M14","v":0},{"$f":"'P Index Inputs'!O14","v":0},{"$f":"'P Index Inputs'!P14","v":0},{"$f":"'P Index Inputs'!Q14","v":0},{"$f":"IFERROR(VLOOKUP(I12,'NR-PI 2.0 Structure'!$C$5:$D$8,2,FALSE),\"-\")","v":"-"},{"$f":"IFERROR(VLOOKUP(J12,'NR-PI 2.0 Structure'!$B$12:$C$16,2,FALSE),\"-\")","v":"-"},{"$f":"IFERROR(VLOOKUP(K12,'NR-PI 2.0 Structure'!$B$20:$D$21,3,FALSE),\"-\")","v":"-"},{"$f":"IFERROR(VLOOKUP(L12,'NR-PI 2.0 Structure'!$B$25:$C$28,2,FALSE),\"-\")","v":"-"},{"$f":"IFERROR(VLOOKUP(L12,'NR-PI 2.0 Structure'!$B$25:$D$28,3,FALSE),\"-\")","v":"-"},{"$f":"IFERROR(\n  IF(M12 = \"≤ 1\", 'NR-PI 2.0 Structure'!$D$32,\n  IF(M12 = \">1 - 3\", 'NR-PI 2.0 Structure'!$D$33,\n  IF(M12 = \">3 - 5\", 'NR-PI 2.0 Structure'!$D$34,\n  IF(M12 = \"> 5\", 'NR-PI 2.0 Structure'!$D$35, )))),\n\"-\")","v":0},{"$f":"IFERROR(IF(ISBLANK(I12),\"N/A\",IF(I12<>'NR-PI 2.0 Structure'!$C$5,(VLOOKUP(N12,'NR-PI 2.0 Structure'!$C$39:$D$40,2,FALSE)),0)),\" - \")","v":" - "},{"$f":"IFERROR(IF(ISBLANK(I12),\"N/A\",IF(I12<>'NR-PI 2.0 Structure'!$C$5,(VLOOKUP(N12,'NR-PI 2.0 Structure'!$C$39:$E$40,3,FALSE)),0)),\" - \")","v":" - "},"-","-","-","N/A",{"$f":"IF(ISBLANK('P Index Inputs'!R14),\"-\",'P Index Inputs'!R14)","v":"-"},{"$f":"IFERROR(IF(I12<>'NR-PI 2.0 Structure'!$C$5,VLOOKUP(AA12,'NR-PI 2.0 Structure'!$G$5:$H$9,2,FALSE),IF(OR(AA12='NR-PI 2.0 Structure'!$G$5,AA12='NR-PI 2.0 Structure'!$G$6,AA12='NR-PI 2.0 Structure'!$G$7),1,VLOOKUP(AA12,'NR-PI 2.0 Structure'!$G$8:$H$9,2,FALSE))),\"-\")","v":"-"},{"$f":"IF(ISBLANK('P Index Inputs'!S14),\"-\",'P Index Inputs'!S14)","v":"-"},{"$f":"IFERROR(VLOOKUP(AC12,'NR-PI 2.0 Structure'!$G$14:$H$19,2,FALSE),\"-\")","v":"-"},"-",{"$f":"IFERROR(Y12*AE12,\"-\")","v":"-"},"N/A","N/A",0,0,0,0,0,0,0,0,0,"Zero P",{"$f":"AN3/SUM(AL3:AN3)*100","v":{"$error":"#DIV/0!"}}]
[{"$f":"'P Index Inputs'!A15","v":0},{"$f":"'P Index Inputs'!B15","v":0},{"$f":"'P Index Inputs'!C15","v":0},{"$f":"'P Index Inputs'!D15","v":0},{"$f":"'P Index Inputs'!E15","v":0},{"$f":"'P Index Inputs'!F15","v":0},{"$f":"'P Index Inputs'!H15","v":0},{"$f":"'P Index Inputs'!I15","v":0},{"$f":"'P Index Inputs'!J15","v":0},{"$f":"IF(ISBLANK('P Index Inputs'!L15),'P Index Inputs'!K15,'P Index Inputs'!L15)","v":"-"},{"$f":"'P Index Inputs'!M15","v":0},{"$f":"'P Index Inputs'!O15","v":0},{"$f":"'P Index Inputs'!P15","v":0},{"$f":"'P Index Inputs'!Q15","v":0},{"$f":"IFERROR(VLOOKUP(I13,'NR-PI 2.0 Structure'!$C$5:$D$8,2,FALSE),\"-\")","v":"-"},{"$f":"IFERROR(VLOOKUP(J13,'NR-PI 2.0 Structure'!$B$12:$C$16,2,FALSE),\"-\")","v":"-"},{"$f":"IFERROR(VLOOKUP(K13,'NR-PI 2.0 Structure'!$B$20:$D$21,3,FALSE),\"-\")","v":"-"},{"$f":"IFERROR(VLOOKUP(L13,'NR-PI 2.0 Structure'!$B$25:$C$28,2,FALSE),\"-\")","v":"-"},{"$f":"IFERROR(VLOOKUP(L13,'NR-PI 2.0 Structure'!$B$25:$D$28,3,FALSE),\"-\")","v":"-"},{"$f":"IFERROR(\n  IF(M13 = \"≤ 1\", 'NR-PI 2.0 Structure'!$D$32,\n  IF(M13 = \">1 - 3\", 'NR-PI 2.0 Structure'!$D$33,\n  IF(M13 = \">3 - 5\", 'NR-PI 2.0 Structure'!$D$34,\n  IF(M13 = \"> 5\", 'NR-PI 2.0 Structure'!$D$35, )))),\n\"-\")","v":0},{"$f":"IFERROR(IF(ISBLANK(I13),\"N/A\",IF(I13<>'NR-PI 2.0 Structure'!$C$5,(VLOOKUP(N13,'NR-PI 2.0 Structure'!$C$39:$D$40,2,FALSE)),0)),\" - \")","v":" - "},{"$f":"IFERROR(IF(ISBLANK(I13),\"N/A\",IF(I13<>'NR-PI 2.0 Structure'!$C$5,(VLOOKUP(N13,'NR-PI 2.0 Structure'!$C$39:$E$40,3,FALSE)),0)),\" - \")","v":" - "},"-","-","-","N/A",{"$f":"IF(ISBLANK('P Index Inputs'!R15),\"-\",'P Index Inputs'!R15)","v":"-"},{"$f":"IFERROR(IF(I13<>'NR-PI 2.0 Structure'!$C$5,VLOOKUP(AA13,'NR-PI 2.0 Structure'!$G$5:$H$9,2,FALSE),IF(OR(AA13='NR-PI 2.0 Structure'!$G$5,AA13='NR-PI 2.0 Structure'!$G$6,AA13='NR-PI 2.0 Structure'!$G$7),1,VLOOKUP(AA13,'NR-PI 2.0 Structure'!$G$8:$H$9,2,FALSE))),\"-\")","v":"-"},{"$f":"IF(ISBLANK('P Index Inputs'!S15),\"-\",'P Index Inputs'!S15)","v":"-"},{"$f":"IFERROR(VLOOKUP(AC13,'NR-PI 2.0 Structure'!$G$14:$H$19,2,FALSE),\"-\")","v":"-"},{"$f":"IFERROR(AB13*AD13,\"-\")","v":"-"},"-","N/A","N/A",0,0,0,0,0,0,0,0,0]
[{"$f":"'P Index Inputs'!A16","v":0},{"$f":"'P Index Inputs'!B16","v":0},{"$f":"'P Index Inputs'!C16","v":0},{"$f":"'P Index Inputs'!D16","v":0},{"$f":"'P Index Inputs'!E16","v":0},{"$f":"'P Index Inputs'!F16","v":0},{"$f":"'P Index Inputs'!H16","v":0},{"$f":"'P Index Inputs'!I16","v":0},{"$f":"'P Index Inputs'!J16","v":0},{"$f":"IF(ISBLANK('P Index Inputs'!L16),'P Index Inputs'!K16,'P Index Inputs'!L16)","v":"-"},{"$f":"'P Index Inputs'!M16","v":0},{"$f":"'P Index Inputs'!O16","v":0},{"$f":"'P Index Inputs'!P16","v":0},{"$f":"'P Index Inputs'!Q16","v":0},{"$f":"IFERROR(VLOOKUP(I14,'NR-PI 2.0 Structure'!$C$5:$D$8,2,FALSE),\"-\")","v":"-"},{"$f":"IFERROR(VLOOKUP(J14,'NR-PI 2.0 Structure'!$B$12:$C$16,2,FALSE),\"-\")","v":"-"},{"$f":"IFERROR(VLOOKUP(K14,'NR-PI 2.0 Structure'!$B$20:$D$21,3,FALSE),\"-\")","v":"-"},{"$f":"IFERROR(VLOOKUP(L14,'NR-PI 2.0 Structure'!$B$25:$C$28,2,FALSE),\"-\")","v":"-"},{"$f":"IFERROR(VLOOKUP(L14,'NR-PI 2.0 Structure'!$B$25:$D$28,3,FALSE),\"-\")","v":"-"},{"$f":"IFERROR(\n  IF(M14 = \"≤ 1\", 'NR-PI 2.0 Structure'!$D$32,\n  IF(M14 = \">1 - 3\", 'NR-PI 2.0 Structure'!$D$33,\n  IF(M14 = \">3 - 5\", 'NR-PI 2.0 Structure'!$D$34,\n  IF(M14 = \"> 5\", 'NR-PI 2.0 Structure'!$D$35, )))),\n\"-\")","v":0},{"$f":"IFERROR(IF(ISBLANK(I14),\"N/A\",IF(I14<>'NR-PI 2.0 Structure'!$C$5,(VLOOKUP(N14,'NR-PI 2.0 Structure'!$C$39:$D$40,2,FALSE)),0)),\" - \")","v":" - "},{"$f":"IFERROR(IF(ISBLANK(I14),\"N/A\",IF(I14<>'NR-PI 2.0 Structure'!$C$5,(VLOOKUP(N14,'NR-PI 2.0 Structure'!$C$39:$E$40,3,FALSE)),0)),\" - \")","v":" - "},"-","-","-","N/A",{"$f":"IF(ISBLANK('P Index Inputs'!R16),\"-\",'P Index Inputs'!R16)","v":"-"},{"$f":"IFERROR(IF(I14<>'NR-PI 2.0 Structure'!$C$5,VLOOKUP(AA14,'NR-PI 2.0 Structure'!$G$5:$H$9,2,FALSE),IF(OR(AA14='NR-PI 2.0 Structure'!$G$5,AA14='NR-PI 2.0 Structure'!$G$6,AA14='NR-PI 2.0 Structure'!$G$7),1,VLOOKUP(AA14,'NR-PI 2.0 Structure'!$G$8:$H$9,2,FALSE))),\"-\")","v":"-"},{"$f":"IF(ISBLANK('P Index Inputs'!S16),\"-\",'P Index Inputs'!S16)","v":"-"},{"$f":"IFERROR(VLOOKUP(AC14,'NR-PI 2.0 Structure'!$G$14:$H$19,2,FALSE),\"-\")","v":"-"},"-","-","N/A","N/A",0,0,0,0,0,0,0,0,0,"Row crops P index"]
[{"$f":"'P Index Inputs'!A17","v":0},{"$f":"'P Index Inputs'!B17","v":0},{"$f":"'P Index Inputs'!C17","v":0},{"$f":"'P Index Inputs'!D17","v":0},{"$f":"'P Index Inputs'!E17","v":0},{"$f":"'P Index Inputs'!F17","v":0},{"$f":"'P Index Inputs'!H17","v":0},{"$f":"'P Index Inputs'!I17","v":0},{"$f":"'P Index Inputs'!J17","v":0},{"$f":"IF(ISBLANK('P Index Inputs'!L17),'P Index Inputs'!K17,'P Index Inputs'!L17)","v":"-"},{"$f":"'P Index Inputs'!M17","v":0},{"$f":"'P Index Inputs'!O17","v":0},{"$f":"'P Index Inputs'!P17","v":0},{"$f":"'P Index Inputs'!Q17","v":0},{"$f":"IFERROR(VLOOKUP(I15,'NR-PI 2.0 Structure'!$C$5:$D$8,2,FALSE),\"-\")","v":"-"},{"$f":"IFERROR(VLOOKUP(J15,'NR-PI 2.0 Structure'!$B$12:$C$16,2,FALSE),\"-\")","v":"-"},{"$f":"IFERROR(VLOOKUP(K15,'NR-PI 2.0 Structure'!$B$20:$D$21,3,FALSE),\"-\")","v":"-"},{"$f":"IFERROR(VLOOKUP(L15,'NR-PI 2.0 Structure'!$B$25:$C$28,2,FALSE),\"-\")","v":"-"},{"$f":"IFERROR(VLOOKUP(L15,'NR-PI 2.0 Structure'!$B$25:$D$28,3,FALSE),\"-\")","v":"-"},{"$f":"IFERROR(\n  IF(M15 = \"≤ 1\", 'NR-PI 2.0 Structure'!$D$32,\n  IF(M15 = \">1 - 3\", 'NR-PI 2.0 Structure'!$D$33,\n  IF(M15 = \">3 - 5\", 'NR-PI 2.0 Structure'!$D$34,\n  IF(M15 = \"> 5\", 'NR-PI 2.0 Structure'!$D$35, )))),\n\"-\")","v":0},{"$f":"IFERROR(IF(ISBLANK(I15),\"N/A\",IF(I15<>'NR-PI 2.0 Structure'!$C$5,(VLOOKUP(N15,'NR-PI 2.0 Structure'!$C$39:$D$40,2,FALSE)),0)),\" - \")","v":" - "},{"$f":"IFERROR(IF(ISBLANK(I15),\"N/A\",IF(I15<>'NR-PI 2.0 Structure'!$C$5,(VLOOKUP(N15,'NR-PI 2.0 Structure'!$C$39:$E$40,3,FALSE)),0)),\" - \")","v":" - "},"-","-","-","N/A",{"$f":"IF(ISBLANK('P Index Inputs'!R17),\"-\",'P Index Inputs'!R17)","v":"-"},{"$f":"IFERROR(IF(I15<>'NR-PI 2.0 Structure'!$C$5,VLOOKUP(AA15,'NR-PI 2.0 Structure'!$G$5:$H$9,2,FALSE),IF(OR(AA15='NR-PI 2.0 Structure'!$G$5,AA15='NR-PI 2.0 Structure'!$G$6,AA15='NR-PI 2.0 Structure'!$G$7),1,VLOOKUP(AA15,'NR-PI 2.0 Structure'!$G$8:$H$9,2,FALSE))),\"-\")","v":"-"},{"$f":"IF(ISBLANK('P Index Inputs'!S17),\"-\",'P Index Inputs'!S17)","v":"-"},{"$f":"IFERROR(VLOOKUP(AC15,'NR-PI 2.0 Structure'!$G$14:$H$19,2,FALSE),\"-\")","v":"-"},"-","-","N/A","N/A",0,0,0,0,0,0,0,0,0,"N-based",{"$f":"AO3/SUM(AO3:AQ3)*100","v":{"$error":"#DIV/0!"}}]
[{"$f":"'P Index Inputs'!A18","v":0},{"$f":"'P Index Inputs'!B18","v":0},{"$f":"'P Index Inputs'!C18","v":0},{"$f":"'P Index Inputs'!D18","v":0},{"$f":"'P Index Inputs'!E18","v":0},{"$f":"'P Index Inputs'!F18","v":0},{"$f":"'P Index Inputs'!H18","v":0},{"$f":"'P Index Inputs'!I18","v":0},{"$f":"'P Index Inputs'!J18","v":0},{"$f":"IF(ISBLANK('P Index Inputs'!L18),'P Index Inputs'!K18,'P Index Inputs'!L18)","v":"-"},{"$f":"'P Index Inputs'!M18","v":0},{"$f":"'P Index Inputs'!O18","v":0},{"$f":"'P Index Inputs'!P18","v":0},{"$f":"'P Index Inputs'!Q18","v":0},{"$f":"IFERROR(VLOOKUP(I16,'NR-PI 2.0 Structure'!$C$5:$D$8,2,FALSE),\"-\")","v":"-"},{"$f":"IFERROR(VLOOKUP(J16,'NR-PI 2.0 Structure'!$B$12:$C$16,2,FALSE),\"-\")","v":"-"},{"$f":"IFERROR(VLOOKUP(K16,'NR-PI 2.0 Structure'!$B$20:$D$21,3,FALSE),\"-\")","v":"-"},{"$f":"IFERROR(VLOOKUP(L16,'NR-PI 2.0 Structure'!$B$25:$C$28,2,FALSE),\"-\")","v":"-"},{"$f":"IFERROR(VLOOKUP(L16,'NR-PI 2.0 Structure'!$B$25:$D$28,3,FALSE),\"-\")","v":"-"},{"$f":"IFERROR(\n  IF(M16 = \"≤ 1\", 'NR-PI 2.0 Structure'!$D$32,\n  IF(M16 = \">1 - 3\", 'NR-PI 2.0 Structure'!$D$33,\n  IF(M16 = \">3 - 5\", 'NR-PI 2.0 Structure'!$D$34,\n  IF(M16 = \"> 5\", 'NR-PI 2.0 Structure'!$D$35, )))),\n\"-\")","v":0},{"$f":"IFERROR(IF(ISBLANK(I16),\"N/A\",IF(I16<>'NR-PI 2.0 Structure'!$C$5,(VLOOKUP(N16,'NR-PI 2.0 Structure'!$C$39:$D$40,2,FALSE)),0)),\" - \")","v":" - "},{"$f":"IFERROR(IF(ISBLANK(I16),\"N/A\",IF(I16<>'NR-PI 2.0 Structure'!$C$5,(VLOOKUP(N16,'NR-PI 2.0 Structure'!$C$39:$E$40,3,FALSE)),0)),\" - \")","v":" - "},"-","-","-","N/A",{"$f":"IF(ISBLANK('P Index Inputs'!R18),\"-\",'P Index Inputs'!R18)","v":"-"},{"$f":"IFERROR(IF(I16<>'NR-PI 2.0 Structure'!$C$5,VLOOKUP(AA16,'NR-PI 2.0 Structure'!$G$5:$H$9,2,FALSE),IF(OR(AA16='NR-PI 2.0 Structure'!$G$5,AA16='NR-PI 2.0 Structure'!$G$6,AA16='NR-PI 2.0 Structure'!$G$7),1,VLOOKUP(AA16,'NR-PI 2.0 Structure'!$G$8:$H$9,2,FALSE))),\"-\")","v":"-"},{"$f":"IF(ISBLANK('P Index Inputs'!S18),\"-\",'P Index Inputs'!S18)","v":"-"},{"$f":"IFERROR(VLOOKUP(AC16,'NR-PI 2.0 Structure'!$G$14:$H$19,2,FALSE),\"-\")","v":"-"},"-","-","N/A","N/A",0,0,0,0,0,0,0,0,0,"P-based",{"$f":"AP3/SUM(AO3:AQ3)*100","v":{"$error":"#DIV/0!"}}]
[{"$f":"'P Index Inputs'!A19","v":0},{"$f":"'P Index Inputs'!B19","v":0},{"$f":"'P Index Inputs'!C19","v":0},{"$f":"'P Index Inputs'!D19","v":0},{"$f":"'P Index Inputs'!E19","v":0},{"$f":"'P Index Inputs'!F19","v":0},{"$f":"'P Index Inputs'!H19","v":0},{"$f":"'P Index Inputs'!I19","v":0},{"$f":"'P Index Inputs'!J19","v":0},{"$f":"IF(ISBLANK('P Index Inputs'!L19),'P Index Inputs'!K19,'P Index Inputs'!L19)","v":"-"},{"$f":"'P Index Inputs'!M19","v":0},{"$f":"'P Index Inputs'!O19","v":0},{"$f":"'P Index Inputs'!P19","v":0},{"$f":"'P Index Inputs'!Q19","v":0},{"$f":"IFERROR(VLOOKUP(I17,'NR-PI 2.0 Structure'!$C$5:$D$8,2,FALSE),\"-\")","v":"-"},{"$f":"IFERROR(VLOOKUP(J17,'NR-PI 2.0 Structure'!$B$12:$C$16,2,FALSE),\"-\")","v":"-"},{"$f":"IFERROR(VLOOKUP(K17,'NR-PI 2.0 Structure'!$B$20:$D$21,3,FALSE),\"-\")","v":"-"},{"$f":"IFERROR(VLOOKUP(L17,'NR-PI 2.0 Structure'!$B$25:$C$28,2,FALSE),\"-\")","v":"-"},{"$f":"IFERROR(VLOOKUP(L17,'NR-PI 2.0 Structure'!$B$25:$D$28,3,FALSE),\"-\")","v":"-"},{"$f":"IFERROR(\n  IF(M17 = \"≤ 1\", 'NR-PI 2.0 Structure'!$D$32,\n  IF(M17 = \">1 - 3\", 'NR-PI 2.0 Structure'!$D$33,\n  IF(M17 = \">3 - 5\", 'NR-PI 2.0 Structure'!$D$34,\n  IF(M17 = \"> 5\", 'NR-PI 2.0 Structure'!$D$35, )))),\n\"-\")","v":0},{"$f":"IFERROR(IF(ISBLANK(I17),\"N/A\",IF(I17<>'NR-PI 2.0 Structure'!$C$5,(VLOOKUP(N17,'NR-PI 2.0 Structure'!$C$39:$D$40,2,FALSE)),0)),\" - \")","v":" - "},{"$f":"IFERROR(IF(ISBLANK(I17),\"N/A\",IF(I17<>'NR-PI 2.0 Structure'!$C$5,(VLOOKUP(N17,'NR-PI 2.0 Structure'!$C$39:$E$40,3,FALSE)),0)),\" - \")","v":" - "},"-","-","-","N/A",{"$f":"IF(ISBLANK('P Index Inputs'!R19),\"-\",'P Index Inputs'!R19)","v":"-"},{"$f":"IFERROR(IF(I17<>'NR-PI 2.0 Structure'!$C$5,VLOOKUP(AA17,'NR-PI 2.0 Structure'!$G$5:$H$9,2,FALSE),IF(OR(AA17='NR-PI 2.0 Structure'!$G$5,AA17='NR-PI 2.0 Structure'!$G$6,AA17='NR-PI 2.0 Structure'!$G$7),1,VLOOKUP(AA17,'NR-PI 2.0 Structure'!$G$8:$H$9,2,FALSE))),\"-\")","v":"-"},{"$f":"IF(ISBLANK('P Index Inputs'!S19),\"-\",'P Index Inputs'!S19)","v":"-"},{"$f":"IFERROR(VLOOKUP(AC17,'NR-PI 2.0 Structure'!$G$14:$H$19,2,FALSE),\"-\")","v":"-"},"-","-","N/A","N/A",0,0,0,0,0,0,0,0,0,"Zero P",{"$f":"AQ3/SUM(AO3:AQ3)*100","v":{"$error":"#DIV/0!"}}]
[{"$f":"'P Index Inputs'!A20","v":0},{"$f":"'P Index Inputs'!B20","v":0},{"$f":"'P Index Inputs'!C20","v":0},{"$f":"'P Index Inputs'!D20","v":0},{"$f":"'P Index Inputs'!E20","v":0},{"$f":"'P Index Inputs'!F20","v":0},{"$f":"'P Index Inputs'!H20","v":0},{"$f":"'P Index Inputs'!I20","v":0},{"$f":"'P Index Inputs'!J20","v":0},{"$f":"IF(ISBLANK('P Index Inputs'!L20),'P Index Inputs'!K20,'P Index Inputs'!L20)","v":0},{"$f":"'P Index Inputs'!M20","v":0},{"$f":"'P Index Inputs'!O20","v":0},{"$f":"'P Index Inputs'!P20","v":0},{"$f":"'P Index Inputs'!Q20","v":0},{"$f":"IFERROR(VLOOKUP(I18,'NR-PI 2.0 Structure'!$C$5:$D$8,2,FALSE),\"-\")","v":"-"},{"$f":"IFERROR(VLOOKUP(J18,'NR-PI 2.0 Structure'!$B$12:$C$16,2,FALSE),\"-\")","v":"-"},{"$f":"IFERROR(VLOOKUP(K18,'NR-PI 2.0 Structure'!$B$20:$D$21,3,FALSE),\"-\")","v":"-"},{"$f":"IFERROR(VLOOKUP(L18,'NR-PI 2.0 Structure'!$B$25:$C$28,2,FALSE),\"-\")","v":"-"},{"$f":"IFERROR(VLOOKUP(L18,'NR-PI 2.0 Structure'!$B$25:$D$28,3,FALSE),\"-\")","v":"-"},{"$f":"IFERROR(\n  IF(M18 = \"≤ 1\", 'NR-PI 2.0 Structure'!$D$32,\n  IF(M18 = \">1 - 3\", 'NR-PI 2.0 Structure'!$D$33,\n  IF(M18 = \">3 - 5\", 'NR-PI 2.0 Structure'!$D$34,\n  IF(M18 = \"> 5\", 'NR-PI 2.0 Structure'!$D$35, )))),\n\"-\")","v":0},{"$f":"IFERROR(IF(ISBLANK(I18),\"N/A\",IF(I18<>'NR-PI 2.0 Structure'!$C$5,(VLOOKUP(N18,'NR-PI 2.0 Structure'!$C$39:$D$40,2,FALSE)),0)),\" - \")","v":" - "},{"$f":"IFERROR(IF(ISBLANK(I18),\"N/A\",IF(I18<>'NR-PI 2.0 Structure'!$C$5,(VLOOKUP(N18,'NR-PI 2.0 Structure'!$C$39:$E$40,3,FALSE)),0)),\" - \")","v":" - "},"-","-","-",{"$f":"IF(Y18=\"-\",\"N/A\",IF(Y18<50, \"Low\", IF(Y18<75, \"Medium\", IF(Y18<100, \"High\", IF(Y18>=100, \"Very High\")))))","v":"N/A"},{"$f":"IF(ISBLANK('P Index Inputs'!R20),\"-\",'P Index Inputs'!R20)","v":"-"},{"$f":"IFERROR(IF(I18<>'NR-PI 2.0 Structure'!$C$5,VLOOKUP(AA18,'NR-PI 2.0 Structure'!$G$5:$H$9,2,FALSE),IF(OR(AA18='NR-PI 2.0 Structure'!$G$5,AA18='NR-PI 2.0 Structure'!$G$6,AA18='NR-PI 2.0 Structure'!$G$7),1,VLOOKUP(AA18,'NR-PI 2.0 Structure'!$G$8:$H$9,2,FALSE))),\"-\")","v":"-"},{"$f":"IF(ISBLANK('P Index Inputs'!S20),\"-\",'P Index Inputs'!S20)","v":"-"},{"$f":"IFERROR(VLOOKUP(AC18,'NR-PI 2.0 Structure'!$G$14:$H$19,2,FALSE),\"-\")","v":"-"},"-","-","N/A","N/A",0,0,0,0,0,0,0,0,0]
[{"$f":"'P Index Inputs'!A21","v":0},{"$f":"'P Index Inputs'!B21","v":0},{"$f":"'P Index Inputs'!C21","v":0},{"$f":"'P Index Inputs'!D21","v":0},{"$f":"'P Index Inputs'!E21","v":0},{"$f":"'P Index Inputs'!F21","v":0},{"$f":"'P Index Inputs'!H21","v":0},{"$f":"'P Index Inputs'!I21","v":0},{"$f":"'P Index Inputs'!J21","v":0},{"$f":"IF(ISBLANK('P Index Inputs'!L21),'P Index Inputs'!K21,'P Index Inputs'!L21)","v":"-"},{"$f":"'P Index Inputs'!M21","v":0},{"$f":"'P Index Inputs'!O21","v":0},{"$f":"'P Index Inputs'!P21","v":0},{"$f":"'P Index Inputs'!Q21","v":0},{"$f":"IFERROR(VLOOKUP(I19,'NR-PI 2.0 Structure'!$C$5:$D$8,2,FALSE),\"-\")","v":"-"},{"$f":"IFERROR(VLOOKUP(J19,'NR-PI 2.0 Structure'!$B$12:$C$16,2,FALSE),\"-\")","v":"-"},{"$f":"IFERROR(VLOOKUP(K19,'NR-PI 2.0 Structure'!$B$20:$D$21,3,FALSE),\"-\")","v":"-"},{"$f":"IFERROR(VLOOKUP(L19,'NR-PI 2.0 Structure'!$B$25:$C$28,2,FALSE),\"-\")","v":"-"},{"$f":"IFERROR(VLOOKUP(L19,'NR-PI 2.0 Structure'!$B$25:$D$28,3,FALSE),\"-\")","v":"-"},{"$f":"IFERROR(\n  IF(M19 = \"≤ 1\", 'NR-PI 2.0 Structure'!$D$32,\n  IF(M19 = \">1 - 3\", 'NR-PI 2.0 Structure'!$D$33,\n  IF(M19 = \">3 - 5\", 'NR-PI 2.0 Structure'!$D$34,\n  IF(M19 = \"> 5\", 'NR-PI 2.0 Structure'!$D$35, )))),\n\"-\")","v":0},{"$f":"IFERROR(IF(ISBLANK(I19),\"N/A\",IF(I19<>'NR-PI 2.0 Structure'!$C$5,(VLOOKUP(N19,'NR-PI 2.0 Structure'!$C$39:$D$40,2,FALSE)),0)),\" - \")","v":" - "},{"$f":"IFERROR(IF(ISBLANK(I19),\"N/A\",IF(I19<>'NR-PI 2.0 Structure'!$C$5,(VLOOKUP(N19,'NR-PI 2.0 Structure'!$C$39:$E$40,3,FALSE)),0)),\" - \")","v":" - "},"-","-","-","N/A",{"$f":"IF(ISBLANK('P Index Inputs'!R21),\"-\",'P Index Inputs'!R21)","v":"-"},{"$f":"IFERROR(IF(I19<>'NR-PI 2.0 Structure'!$C$5,VLOOKUP(AA19,'NR-PI 2.0 Structure'!$G$5:$H$9,2,FALSE),IF(OR(AA19='NR-PI 2.0 Structure'!$G$5,AA19='NR-PI 2.0 Structure'!$G$6,AA19='NR-PI 2.0 Structure'!$G$7),1,VLOOKUP(AA19,'NR-PI 2.0 Structure'!$G$8:$H$9,2,FALSE))),\"-\")","v":"-"},{"$f":"IF(ISBLANK('P Index Inputs'!S21),\"-\",'P Index Inputs'!S21)","v":"-"},{"$f":"IFERROR(VLOOKUP(AC19,'NR-PI 2.0 Structure'!$G$14:$H$19,2,FALSE),\"-\")","v":"-"},"-","-","N/A","N/A",0,0,0,0,0,0,0,0,0]
[{"$f":"'P Index Inputs'!A22","v":0},{"$f":"'P Index Inputs'!B22","v":0},{"$f":"'P Index Inputs'!C22","v":0},{"$f":"'P Index Inputs'!D22","v":0},{"$f":"'P Index Inputs'!E22","v":0},{"$f":"'P Index Inputs'!F22","v":0},{"$f":"'P Index Inputs'!H22","v":0},{"$f":"'P Index Inputs'!I22","v":0},{"$f":"'P Index Inputs'!J22","v":0},{"$f":"IF(ISBLANK('P Index Inputs'!L22),'P Index Inputs'!K22,'P Index Inputs'!L22)","v":"-"},{"$f":"'P Index Inputs'!M22","v":0},{"$f":"'P Index Inputs'!O22","v":0},{"$f":"'P Index Inputs'!P22","v":0},{"$f":"'P Index Inputs'!Q22","v":0},{"$f":"IFERROR(VLOOKUP(I20,'NR-PI 2.0 Structure'!$C$5:$D$8,2,FALSE),\"-\")","v":"-"},{"$f":"IFERROR(VLOOKUP(J20,'NR-PI 2.0 Structure'!$B$12:$C$16,2,FALSE),\"-\")","v":"-"},{"$f":"IFERROR(VLOOKUP(K20,'NR-PI 2.0 Structure'!$B$20:$D$21,3,FALSE),\"-\")","v":"-"},{"$f":"IFERROR(VLOOKUP(L20,'NR-PI 2.0 Structure'!$B$25:$C$28,2,FALSE),\"-\")","v":"-"},{"$f":"IFERROR(VLOOKUP(L20,'NR-PI 2.0 Structure'!$B$25:$D$28,3,FALSE),\"-\")","v":"-"},{"$f":"IFERROR(\n  IF(M20 = \"≤ 1\", 'NR-PI 2.0 Structure'!$D$32,\n  IF(M20 = \">1 - 3\", 'NR-PI 2.0 Structure'!$D$33,\n  IF(M20 = \">3 - 5\", 'NR-PI 2.0 Structure'!$D$34,\n  IF(M20 = \"> 5\", 'NR-PI 2.0 Structure'!$D$35, )))),\n\"-\")","v":0},{"$f":"IFERROR(IF(ISBLANK(I20),\"N/A\",IF(I20<>'NR-PI 2.0 Structure'!$C$5,(VLOOKUP(N20,'NR-PI 2.0 Structure'!$C$39:$D$40,2,FALSE)),0)),\" - \")","v":" - "},{"$f":"IFERROR(IF(ISBLANK(I20),\"N/A\",IF(I20<>'NR-PI 2.0 Structure'!$C$5,(VLOOKUP(N20,'NR-PI 2.0 Structure'!$C$39:$E$40,3,FALSE)),0)),\" - \")","v":" - "},"-","-",{"$f":"IF(W20>X20,W20,X20)","v":"-"},{"$f":"IF(Y20=\"-\",\"N/A\",IF(Y20<50, \"Low\", IF(Y20<75, \"Medium\", IF(Y20<100, \"High\", IF(Y20>=100, \"Very High\")))))","v":"N/A"},{"$f":"IF(ISBLANK('P Index Inputs'!R22),\"-\",'P Index Inputs'!R22)","v":"-"},{"$f":"IFERROR(IF(I20<>'NR-PI 2.0 Structure'!$C$5,VLOOKUP(AA20,'NR-PI 2.0 Structure'!$G$5:$H$9,2,FALSE),IF(OR(AA20='NR-PI 2.0 Structure'!$G$5,AA20='NR-PI 2.0 Structure'!$G$6,AA20='NR-PI 2.0 Structure'!$G$7),1,VLOOKUP(AA20,'NR-PI 2.0 Structure'!$G$8:$H$9,2,FALSE))),\"-\")","v":"-"},{"$f":"IF(ISBLANK('P Index Inputs'!S22),\"-\",'P Index Inputs'!S22)","v":"-"},{"$f":"IFERROR(VLOOKUP(AC20,'NR-PI 2.0 Structure'!$G$14:$H$19,2,FALSE),\"-\")","v":"-"},"-","-","N/A","N/A",0,0,0,0,0,0,0,0,0]
[{"$f":"'P Index Inputs'!A23","v":0},{"$f":"'P Index Inputs'!B23","v":0},{"$f":"'P Index Inputs'!C23","v":0},{"$f":"'P Index Inputs'!D23","v":0},{"$f":"'P Index Inputs'!E23","v":0},{"$f":"'P Index Inputs'!F23","v":0},{"$f":"'P Index Inputs'!H23","v":0},{"$f":"'P Index Inputs'!I23","v":0},{"$f":"'P Index Inputs'!J23","v":0},{"$f":"IF(ISBLANK('P Index Inputs'!L23),'P Index Inputs'!K23,'P Index Inputs'!L23)","v":"-"},{"$f":"'P Index Inputs'!M23","v":0},{"$f":"'P Index Inputs'!O23","v":0},{"$f":"'P Index Inputs'!P23","v":0},{"$f":"'P Index Inputs'!Q23","v":0},{"$f":"IFERROR(VLOOKUP(I21,'NR-PI 2.0 Structure'!$C$5:$D$8,2,FALSE),\"-\")","v":"-"},{"$f":"IFERROR(VLOOKUP(J21,'NR-PI 2.0 Structure'!$B$12:$C$16,2,FALSE),\"-\")","v":"-"},{"$f":"IFERROR(VLOOKUP(K21,'NR-PI 2.0 Structure'!$B$20:$D$21,3,FALSE),\"-\")","v":"-"},{"$f":"IFERROR(VLOOKUP(L21,'NR-PI 2.0 Structure'!$B$25:$C$28,2,FALSE),\"-\")","v":"-"},{"$f":"IFERROR(VLOOKUP(L21,'NR-PI 2.0 Structure'!$B$25:$D$28,3,FALSE),\"-\")","v":"-"},{"$f":"IFERROR(\n  IF(M21 = \"≤ 1\", 'NR-PI 2.0 Structure'!$D$32,\n  IF(M21 = \">1 - 3\", 'NR-PI 2.0 Structure'!$D$33,\n  IF(M21 = \">3 - 5\", 'NR-PI 2.0 Structure'!$D$34,\n  IF(M21 = \"> 5\", 'NR-PI 2.0 Structure'!$D$35, )))),\n\"-\")","v":0},{"$f":"IFERROR(IF(ISBLANK(I21),\"N/A\",IF(I21<>'NR-PI 2.0 Structure'!$C$5,(VLOOKUP(N21,'NR-PI 2.0 Structure'!$C$39:$D$40,2,FALSE)),0)),\" - \")","v":" - "},{"$f":"IFERROR(IF(ISBLANK(I21),\"N/A\",IF(I21<>'NR-PI 2.0 Structure'!$C$5,(VLOOKUP(N21,'NR-PI 2.0 Structure'!$C$39:$E$40,3,FALSE)),0)),\" - \")","v":" - "},"-","-","-",{"$f":"IF(Y21=\"-\",\"N/A\",IF(Y21<50, \"Low\", IF(Y21<75, \"Medium\", IF(Y21<100, \"High\", IF(Y21>=100, \"Very High\")))))","v":"N/A"},{"$f":"IF(ISBLANK('P Index Inputs'!R23),\"-\",'P Index Inputs'!R23)","v":"-"},{"$f":"IFERROR(IF(I21<>'NR-PI 2.0 Structure'!$C$5,VLOOKUP(AA21,'NR-PI 2.0 Structure'!$G$5:$H$9,2,FALSE),IF(OR(AA21='NR-PI 2.0 Structure'!$G$5,AA21='NR-PI 2.0 Structure'!$G$6,AA21='NR-PI 2.0 Structure'!$G$7),1,VLOOKUP(AA21,'NR-PI 2.0 Structure'!$G$8:$H$9,2,FALSE))),\"-\")","v":"-"},{"$f":"IF(ISBLANK('P Index Inputs'!S23),\"-\",'P Index Inputs'!S23)","v":"-"},{"$f":"IFERROR(VLOOKUP(AC21,'NR-PI 2.0 Structure'!$G$14:$H$19,2,FALSE),\"-\")","v":"-"},"-","-","N/A","N/A",0,0,0,0,0,0,0,0,0]
[{"$f":"'P Index Inputs'!A24","v":0},{"$f":"'P Index Inputs'!B24","v":0},{"$f":"'P Index Inputs'!C24","v":0},{"$f":"'P Index Inputs'!D24","v":0},{"$f":"'P Index Inputs'!E24","v":0},{"$f":"'P Index Inputs'!F24","v":0},{"$f":"'P Index Inputs'!H24","v":0},{"$f":"'P Index Inputs'!I24","v":0},{"$f":"'P Index Inputs'!J24","v":0},{"$f":"IF(ISBLANK('P Index Inputs'!L24),'P Index Inputs'!K24,'P Index Inputs'!L24)","v":"-"},{"$f":"'P Index Inputs'!M24","v":0},{"$f":"'P Index Inputs'!O24","v":0},{"$f":"'P Index Inputs'!P24","v":0},{"$f":"'P Index Inputs'!Q24","v":0},{"$f":"IFERROR(VLOOKUP(I22,'NR-PI 2.0 Structure'!$C$5:$D$8,2,FALSE),\"-\")","v":"-"},{"$f":"IFERROR(VLOOKUP(J22,'NR-PI 2.0 Structure'!$B$12:$C$16,2,FALSE),\"-\")","v":"-"},{"$f":"IFERROR(VLOOKUP(K22,'NR-PI 2.0 Structure'!$B$20:$D$21,3,FALSE),\"-\")","v":"-"},{"$f":"IFERROR(VLOOKUP(L22,'NR-PI 2.0 Structure'!$B$25:$C$28,2,FALSE),\"-\")","v":"-"},{"$f":"IFERROR(VLOOKUP(L22,'NR-PI 2.0 Structure'!$B$25:$D$28,3,FALSE),\"-\")","v":"-"},{"$f":"IFERROR(\n  IF(M22 = \"≤ 1\", 'NR-PI 2.0 Structure'!$D$32,\n  IF(M22 = \">1 - 3\", 'NR-PI 2.0 Structure'!$D$33,\n  IF(M22 = \">3 - 5\", 'NR-PI 2.0 Structure'!$D$34,\n  IF(M22 = \"> 5\", 'NR-PI 2.0 Structure'!$D$35, )))),\n\"-\")","v":0},{"$f":"IFERROR(IF(ISBLANK(I22),\"N/A\",IF(I22<>'NR-PI 2.0 Structure'!$C$5,(VLOOKUP(N22,'NR-PI 2.0 Structure'!$C$39:$D$40,2,FALSE)),0)),\" - \")","v":" - "},{"$f":"IFERROR(IF(ISBLANK(I22),\"N/A\",IF(I22<>'NR-PI 2.0 Structure'!$C$5,(VLOOKUP(N22,'NR-PI 2.0 Structure'!$C$39:$E$40,3,FALSE)),0)),\" - \")","v":" - "},"-","-","-","N/A",{"$f":"IF(ISBLANK('P Index Inputs'!R24),\"-\",'P Index Inputs'!R24)","v":"-"},{"$f":"IFERROR(IF(I22<>'NR-PI 2.0 Structure'!$C$5,VLOOKUP(AA22,'NR-PI 2.0 Structure'!$G$5:$H$9,2,FALSE),IF(OR(AA22='NR-PI 2.0 Structure'!$G$5,AA22='NR-PI 2.0 Structure'!$G$6,AA22='NR-PI 2.0 Structure'!$G$7),1,VLOOKUP(AA22,'NR-PI 2.0 Structure'!$G$8:$H$9,2,FALSE))),\"-\")","v":"-"},{"$f":"IF(ISBLANK('P Index Inputs'!S24),\"-\",'P Index Inputs'!S24)","v":"-"},{"$f":"IFERROR(VLOOKUP(AC22,'NR-PI 2.0 Structure'!$G$14:$H$19,2,FALSE),\"-\")","v":"-"},"-","-","N/A","N/A",0,0,0,0,0,0,0,0,0]
[{"$f":"'P Index Inputs'!A25","v":0},{"$f":"'P Index Inputs'!B25","v":0},{"$f":"'P Index Inputs'!C25","v":0},{"$f":"'P Index Inputs'!D25","v":0},{"$f":"'P Index Inputs'!E25","v":0},{"$f":"'P Index Inputs'!F25","v":0},{"$f":"'P Index Inputs'!H25","v":0},{"$f":"'P Index Inputs'!I25","v":0},{"$f":"'P Index Inputs'!J25","v":0},{"$f":"IF(ISBLANK('P Index Inputs'!L25),'P Index Inputs'!K25,'P Index Inputs'!L25)","v":"-"},{"$f":"'P Index Inputs'!M25","v":0},{"$f":"'P Index Inputs'!O25","v":0},{"$f":"'P Index Inputs'!P25","v":0},{"$f":"'P Index Inputs'!Q25","v":0},{"$f":"IFERROR(VLOOKUP(I23,'NR-PI 2.0 Structure'!$C$5:$D$8,2,FALSE),\"-\")","v":"-"},{"$f":"IFERROR(VLOOKUP(J23,'NR-PI 2.0 Structure'!$B$12:$C$16,2,FALSE),\"-\")","v":"-"},{"$f":"IFERROR(VLOOKUP(K23,'NR-PI 2.0 Structure'!$B$20:$D$21,3,FALSE),\"-\")","v":"-"},{"$f":"IFERROR(VLOOKUP(L23,'NR-PI 2.0 Structure'!$B$25:$C$28,2,FALSE),\"-\")","v":"-"},{"$f":"IFERROR(VLOOKUP(L23,'NR-PI 2.0 Structure'!$B$25:$D$28,3,FALSE),\"-\")","v":"-"},{"$f":"IFERROR(\n  IF(M23 = \"≤ 1\", 'NR-PI 2.0 Structure'!$D$32,\n  IF(M23 = \">1 - 3\", 'NR-PI 2.0 Structure'!$D$33,\n  IF(M23 = \">3 - 5\", 'NR-PI 2.0 Structure'!$D$34,\n  IF(M23 = \"> 5\", 'NR-PI 2.0 Structure'!$D$35, )))),\n\"-\")","v":0},{"$f":"IFERROR(IF(ISBLANK(I23),\"N/A\",IF(I23<>'NR-PI 2.0 Structure'!$C$5,(VLOOKUP(N23,'NR-PI 2.0 Structure'!$C$39:$D$40,2,FALSE)),0)),\" - \")","v":" - "},{"$f":"IFERROR(IF(ISBLANK(I23),\"N/A\",IF(I23<>'NR-PI 2.0 Structure'!$C$5,(VLOOKUP(N23,'NR-PI 2.0 Structure'!$C$39:$E$40,3,FALSE)),0)),\" - \")","v":" - "},"-","-","-","N/A",{"$f":"IF(ISBLANK('P Index Inputs'!R25),\"-\",'P Index Inputs'!R25)","v":"-"},{"$f":"IFERROR(IF(I23<>'NR-PI 2.0 Structure'!$C$5,VLOOKUP(AA23,'NR-PI 2.0 Structure'!$G$5:$H$9,2,FALSE),IF(OR(AA23='NR-PI 2.0 Structure'!$G$5,AA23='NR-PI 2.0 Structure'!$G$6,AA23='NR-PI 2.0 Structure'!$G$7),1,VLOOKUP(AA23,'NR-PI 2.0 Structure'!$G$8:$H$9,2,FALSE))),\"-\")","v":"-"},{"$f":"IF(ISBLANK('P Index Inputs'!S25),\"-\",'P Index Inputs'!S25)","v":"-"},{"$f":"IFERROR(VLOOKUP(AC23,'NR-PI 2.0 Structure'!$G$14:$H$19,2,FALSE),\"-\")","v":"-"},"-","-","N/A","N/A",0,0,0,0,0,0,0,0,0]
[{"$f":"'P Index Inputs'!A26","v":0},{"$f":"'P Index Inputs'!B26","v":0},{"$f":"'P Index Inputs'!C26","v":0},{"$f":"'P Index Inputs'!D26","v":0},{"$f":"'P Index Inputs'!E26","v":0},{"$f":"'P Index Inputs'!F26","v":0},{"$f":"'P Index Inputs'!H26","v":0},{"$f":"'P Index Inputs'!I26","v":0},{"$f":"'P Index Inputs'!J26","v":0},{"$f":"IF(ISBLANK('P Index Inputs'!L26),'P Index Inputs'!K26,'P Index Inputs'!L26)","v":"-"},{"$f":"'P Index Inputs'!M26","v":0},{"$f":"'P Index Inputs'!O26","v":0},{"$f":"'P Index Inputs'!P26","v":0},{"$f":"'P Index Inputs'!Q26","v":0},{"$f":"IFERROR(VLOOKUP(I24,'NR-PI 2.0 Structure'!$C$5:$D$8,2,FALSE),\"-\")","v":"-"},{"$f":"IFERROR(VLOOKUP(J24,'NR-PI 2.0 Structure'!$B$12:$C$16,2,FALSE),\"-\")","v":"-"},{"$f":"IFERROR(VLOOKUP(K24,'NR-PI 2.0 Structure'!$B$20:$D$21,3,FALSE),\"-\")","v":"-"},{"$f":"IFERROR(VLOOKUP(L24,'NR-PI 2.0 Structure'!$B$25:$C$28,2,FALSE),\"-\")","v":"-"},{"$f":"IFERROR(VLOOKUP(L24,'NR-PI 2.0 Structure'!$B$25:$D$28,3,FALSE),\"-\")","v":"-"},{"$f":"IFERROR(\n  IF(M24 = \"≤ 1\", 'NR-PI 2.0 Structure'!$D$32,\n  IF(M24 = \">1 - 3\", 'NR-PI 2.0 Structure'!$D$33,\n  IF(M24 = \">3 - 5\", 'NR-PI 2.0 Structure'!$D$34,\n  IF(M24 = \"> 5\", 'NR-PI 2.0 Structure'!$D$35, )))),\n\"-\")","v":0},{"$f":"IFERROR(IF(ISBLANK(I24),\"N/A\",IF(I24<>'NR-PI 2.0 Structure'!$C$5,(VLOOKUP(N24,'NR-PI 2.0 Structure'!$C$39:$D$40,2,FALSE)),0)),\" - \")","v":" - "},{"$f":"IFERROR(IF(ISBLANK(I24),\"N/A\",IF(I24<>'NR-PI 2.0 Structure'!$C$5,(VLOOKUP(N24,'NR-PI 2.0 Structure'!$C$39:$E$40,3,FALSE)),0)),\" - \")","v":" - "},"-","-","-","N/A",{"$f":"IF(ISBLANK('P Index Inputs'!R26),\"-\",'P Index Inputs'!R26)","v":"-"},{"$f":"IFERROR(IF(I24<>'NR-PI 2.0 Structure'!$C$5,VLOOKUP(AA24,'NR-PI 2.0 Structure'!$G$5:$H$9,2,FALSE),IF(OR(AA24='NR-PI 2.0 Structure'!$G$5,AA24='NR-PI 2.0 Structure'!$G$6,AA24='NR-PI 2.0 Structure'!$G$7),1,VLOOKUP(AA24,'NR-PI 2.0 Structure'!$G$8:$H$9,2,FALSE))),\"-\")","v":"-"},{"$f":"IF(ISBLANK('P Index Inputs'!S26),\"-\",'P Index Inputs'!S26)","v":"-"},{"$f":"IFERROR(VLOOKUP(AC24,'NR-PI 2.0 Structure'!$G$14:$H$19,2,FALSE),\"-\")","v":"-"},"-","-","N/A","N/A",0,0,0,0,0,0,0,0,0]
[{"$f":"'P Index Inputs'!A27","v":0},{"$f":"'P Index Inputs'!B27","v":0},{"$f":"'P Index Inputs'!C27","v":0},{"$f":"'P Index Inputs'!D27","v":0},{"$f":"'P Index Inputs'!E27","v":0},{"$f":"'P Index Inputs'!F27","v":0},{"$f":"'P Index Inputs'!H27","v":0},{"$f":"'P Index Inputs'!I27","v":0},{"$f":"'P Index Inputs'!J27","v":0},{"$f":"IF(ISBLANK('P Index Inputs'!L27),'P Index Inputs'!K27,'P Index Inputs'!L27)","v":"-"},{"$f":"'P Index Inputs'!M27","v":0},{"$f":"'P Index Inputs'!O27","v":0},{"$f":"'P Index Inputs'!P27","v":0},{"$f":"'P Index Inputs'!Q27","v":0},{"$f":"IFERROR(VLOOKUP(I25,'NR-PI 2.0 Structure'!$C$5:$D$8,2,FALSE),\"-\")","v":"-"},{"$f":"IFERROR(VLOOKUP(J25,'NR-PI 2.0 Structure'!$B$12:$C$16,2,FALSE),\"-\")","v":"-"},{"$f":"IFERROR(VLOOKUP(K25,'NR-PI 2.0 Structure'!$B$20:$D$21,3,FALSE),\"-\")","v":"-"},{"$f":"IFERROR(VLOOKUP(L25,'NR-PI 2.0 Structure'!$B$25:$C$28,2,FALSE),\"-\")","v":"-"},{"$f":"IFERROR(VLOOKUP(L25,'NR-PI 2.0 Structure'!$B$25:$D$28,3,FALSE),\"-\")","v":"-"},{"$f":"IFERROR(\n  IF(M25 = \"≤ 1\", 'NR-PI 2.0 Structure'!$D$32,\n  IF(M25 = \">1 - 3\", 'NR-PI 2.0 Structure'!$D$33,\n  IF(M25 = \">3 - 5\", 'NR-PI 2.0 Structure'!$D$34,\n  IF(M25 = \"> 5\", 'NR-PI 2.0 Structure'!$D$35, )))),\n\"-\")","v":0},{"$f":"IFERROR(IF(ISBLANK(I25),\"N/A\",IF(I25<>'NR-PI 2.0 Structure'!$C$5,(VLOOKUP(N25,'NR-PI 2.0 Structure'!$C$39:$D$40,2,FALSE)),0)),\" - \")","v":" - "},{"$f":"IFERROR(IF(ISBLANK(I25),\"N/A\",IF(I25<>'NR-PI 2.0 Structure'!$C$5,(VLOOKUP(N25,'NR-PI 2.0 Structure'!$C$39:$E$40,3,FALSE)),0)),\" - \")","v":" - "},"-","-","-","N/A",{"$f":"IF(ISBLANK('P Index Inputs'!R27),\"-\",'P Index Inputs'!R27)","v":"-"},{"$f":"IFERROR(IF(I25<>'NR-PI 2.0 Structure'!$C$5,VLOOKUP(AA25,'NR-PI 2.0 Structure'!$G$5:$H$9,2,FALSE),IF(OR(AA25='NR-PI 2.0 Structure'!$G$5,AA25='NR-PI 2.0 Structure'!$G$6,AA25='NR-PI 2.0 Structure'!$G$7),1,VLOOKUP(AA25,'NR-PI 2.0 Structure'!$G$8:$H$9,2,FALSE))),\"-\")","v":"-"},{"$f":"IF(ISBLANK('P Index Inputs'!S27),\"-\",'P Index Inputs'!S27)","v":"-"},{"$f":"IFERROR(VLOOKUP(AC25,'NR-PI 2.0 Structure'!$G$14:$H$19,2,FALSE),\"-\")","v":"-"},"-","-","N/A","N/A",0,0,0,0,0,0,0,0,0]
[{"$f":"'P Index Inputs'!A28","v":0},{"$f":"'P Index Inputs'!B28","v":0},{"$f":"'P Index Inputs'!C28","v":0},{"$f":"'P Index Inputs'!D28","v":0},{"$f":"'P Index Inputs'!E28","v":0},{"$f":"'P Index Inputs'!F28","v":0},{"$f":"'P Index Inputs'!H28","v":0},{"$f":"'P Index Inputs'!I28","v":0},{"$f":"'P Index Inputs'!J28","v":0},{"$f":"IF(ISBLANK('P Index Inputs'!L28),'P Index Inputs'!K28,'P Index Inputs'!L28)","v":"-"},{"$f":"'P Index Inputs'!M28","v":0},{"$f":"'P Index Inputs'!O28","v":0},{"$f":"'P Index Inputs'!P28","v":0},{"$f":"'P Index Inputs'!Q28","v":0},{"$f":"IFERROR(VLOOKUP(I26,'NR-PI 2.0 Structure'!$C$5:$D$8,2,FALSE),\"-\")","v":"-"},{"$f":"IFERROR(VLOOKUP(J26,'NR-PI 2.0 Structure'!$B$12:$C$16,2,FALSE),\"-\")","v":"-"},{"$f":"IFERROR(VLOOKUP(K26,'NR-PI 2.0 Structure'!$B$20:$D$21,3,FALSE),\"-\")","v":"-"},{"$f":"IFERROR(VLOOKUP(L26,'NR-PI 2.0 Structure'!$B$25:$C$28,2,FALSE),\"-\")","v":"-"},{"$f":"IFERROR(VLOOKUP(L26,'NR-PI 2.0 Structure'!$B$25:$D$28,3,FALSE),\"-\")","v":"-"},{"$f":"IFERROR(\n  IF(M26 = \"≤ 1\", 'NR-PI 2.0 Structure'!$D$32,\n  IF(M26 = \">1 - 3\", 'NR-PI 2.0 Structure'!$D$33,\n  IF(M26 = \">3 - 5\", 'NR-PI 2.0 Structure'!$D$34,\n  IF(M26 = \"> 5\", 'NR-PI 2.0 Structure'!$D$35, )))),\n\"-\")","v":0},{"$f":"IFERROR(IF(ISBLANK(I26),\"N/A\",IF(I26<>'NR-PI 2.0 Structure'!$C$5,(VLOOKUP(N26,'NR-PI 2.0 Structure'!$C$39:$D$40,2,FALSE)),0)),\" - \")","v":" - "},{"$f":"IFERROR(IF(ISBLANK(I26),\"N/A\",IF(I26<>'NR-PI 2.0 Structure'!$C$5,(VLOOKUP(N26,'NR-PI 2.0 Structure'!$C$39:$E$40,3,FALSE)),0)),\" - \")","v":" - "},"-","-","-","N/A",{"$f":"IF(ISBLANK('P Index Inputs'!R28),\"-\",'P Index Inputs'!R28)","v":"-"},{"$f":"IFERROR(IF(I26<>'NR-PI 2.0 Structure'!$C$5,VLOOKUP(AA26,'NR-PI 2.0 Structure'!$G$5:$H$9,2,FALSE),IF(OR(AA26='NR-PI 2.0 Structure'!$G$5,AA26='NR-PI 2.0 Structure'!$G$6,AA26='NR-PI 2.0 Structure'!$G$7),1,VLOOKUP(AA26,'NR-PI 2.0 Structure'!$G$8:$H$9,2,FALSE))),\"-\")","v":"-"},{"$f":"IF(ISBLANK('P Index Inputs'!S28),\"-\",'P Index Inputs'!S28)","v":"-"},{"$f":"IFERROR(VLOOKUP(AC26,'NR-PI 2.0 Structure'!$G$14:$H$19,2,FALSE),\"-\")","v":"-"},"-","-","N/A","N/A",0,0,0,0,0,0,0,0,0]
[{"$f":"'P Index Inputs'!A29","v":0},{"$f":"'P Index Inputs'!B29","v":0},{"$f":"'P Index Inputs'!C29","v":0},{"$f":"'P Index Inputs'!D29","v":0},{"$f":"'P Index Inputs'!E29","v":0},{"$f":"'P Index Inputs'!F29","v":0},{"$f":"'P Index Inputs'!H29","v":0},{"$f":"'P Index Inputs'!I29","v":0},{"$f":"'P Index Inputs'!J29","v":0},{"$f":"IF(ISBLANK('P Index Inputs'!L29),'P Index Inputs'!K29,'P Index Inputs'!L29)","v":"-"},{"$f":"'P Index Inputs'!M29","v":0},{"$f":"'P Index Inputs'!O29","v":0},{"$f":"'P Index Inputs'!P29","v":0},{"$f":"'P Index Inputs'!Q29","v":0},{"$f":"IFERROR(VLOOKUP(I27,'NR-PI 2.0 Structure'!$C$5:$D$8,2,FALSE),\"-\")","v":"-"},{"$f":"IFERROR(VLOOKUP(J27,'NR-PI 2.0 Structure'!$B$12:$C$16,2,FALSE),\"-\")","v":"-"},{"$f":"IFERROR(VLOOKUP(K27,'NR-PI 2.0 Structure'!$B$20:$D$21,3,FALSE),\"-\")","v":"-"},{"$f":"IFERROR(VLOOKUP(L27,'NR-PI 2.0 Structure'!$B$25:$C$28,2,FALSE),\"-\")","v":"-"},{"$f":"IFERROR(VLOOKUP(L27,'NR-PI 2.0 Structure'!$B$25:$D$28,3,FALSE),\"-\")","v":"-"},{"$f":"IFERROR(\n  IF(M27 = \"≤ 1\", 'NR-PI 2.0 Structure'!$D$32,\n  IF(M27 = \">1 - 3\", 'NR-PI 2.0 Structure'!$D$33,\n  IF(M27 = \">3 - 5\", 'NR-PI 2.0 Structure'!$D$34,\n  IF(M27 = \"> 5\", 'NR-PI 2.0 Structure'!$D$35, )))),\n\"-\")","v":0},{"$f":"IFERROR(IF(ISBLANK(I27),\"N/A\",IF(I27<>'NR-PI 2.0 Structure'!$C$5,(VLOOKUP(N27,'NR-PI 2.0 Structure'!$C$39:$D$40,2,FALSE)),0)),\" - \")","v":" - "},{"$f":"IFERROR(IF(ISBLANK(I27),\"N/A\",IF(I27<>'NR-PI 2.0 Structure'!$C$5,(VLOOKUP(N27,'NR-PI 2.0 Structure'!$C$39:$E$40,3,FALSE)),0)),\" - \")","v":" - "},"-","-","-","N/A",{"$f":"IF(ISBLANK('P Index Inputs'!R29),\"-\",'P Index Inputs'!R29)","v":"-"},{"$f":"IFERROR(IF(I27<>'NR-PI 2.0 Structure'!$C$5,VLOOKUP(AA27,'NR-PI 2.0 Structure'!$G$5:$H$9,2,FALSE),IF(OR(AA27='NR-PI 2.0 Structure'!$G$5,AA27='NR-PI 2.0 Structure'!$G$6,AA27='NR-PI 2.0 Structure'!$G$7),1,VLOOKUP(AA27,'NR-PI 2.0 Structure'!$G$8:$H$9,2,FALSE))),\"-\")","v":"-"},{"$f":"IF(ISBLANK('P Index Inputs'!S29),\"-\",'P Index Inputs'!S29)","v":"-"},{"$f":"IFERROR(VLOOKUP(AC27,'NR-PI 2.0 Structure'!$G$14:$H$19,2,FALSE),\"-\")","v":"-"},"-","-","N/A","N/A",0,0,0,0,0,0,0,0,0]
[{"$f":"'P Index Inputs'!A30","v":0},{"$f":"'P Index Inputs'!B30","v":0},{"$f":"'P Index Inputs'!C30","v":0},{"$f":"'P Index Inputs'!D30","v":0},{"$f":"'P Index Inputs'!E30","v":0},{"$f":"'P Index Inputs'!F30","v":0},{"$f":"'P Index Inputs'!H30","v":0},{"$f":"'P Index Inputs'!I30","v":0},{"$f":"'P Index Inputs'!J30","v":0},{"$f":"IF(ISBLANK('P Index Inputs'!L30),'P Index Inputs'!K30,'P Index Inputs'!L30)","v":"-"},{"$f":"'P Index Inputs'!M30","v":0},{"$f":"'P Index Inputs'!O30","v":0},{"$f":"'P Index Inputs'!P30","v":0},{"$f":"'P Index Inputs'!Q30","v":0},{"$f":"IFERROR(VLOOKUP(I28,'NR-PI 2.0 Structure'!$C$5:$D$8,2,FALSE),\"-\")","v":"-"},{"$f":"IFERROR(VLOOKUP(J28,'NR-PI 2.0 Structure'!$B$12:$C$16,2,FALSE),\"-\")","v":"-"},{"$f":"IFERROR(VLOOKUP(K28,'NR-PI 2.0 Structure'!$B$20:$D$21,3,FALSE),\"-\")","v":"-"},{"$f":"IFERROR(VLOOKUP(L28,'NR-PI 2.0 Structure'!$B$25:$C$28,2,FALSE),\"-\")","v":"-"},{"$f":"IFERROR(VLOOKUP(L28,'NR-PI 2.0 Structure'!$B$25:$D$28,3,FALSE),\"-\")","v":"-"},{"$f":"IFERROR(\n  IF(M28 = \"≤ 1\", 'NR-PI 2.0 Structure'!$D$32,\n  IF(M28 = \">1 - 3\", 'NR-PI 2.0 Structure'!$D$33,\n  IF(M28 = \">3 - 5\", 'NR-PI 2.0 Structure'!$D$34,\n  IF(M28 = \"> 5\", 'NR-PI 2.0 Structure'!$D$35, )))),\n\"-\")","v":0},{"$f":"IFERROR(IF(ISBLANK(I28),\"N/A\",IF(I28<>'NR-PI 2.0 Structure'!$C$5,(VLOOKUP(N28,'NR-PI 2.0 Structure'!$C$39:$D$40,2,FALSE)),0)),\" - \")","v":" - "},{"$f":"IFERROR(IF(ISBLANK(I28),\"N/A\",IF(I28<>'NR-PI 2.0 Structure'!$C$5,(VLOOKUP(N28,'NR-PI 2.0 Structure'!$C$39:$E$40,3,FALSE)),0)),\" - \")","v":" - "},"-","-","-","N/A",{"$f":"IF(ISBLANK('P Index Inputs'!R30),\"-\",'P Index Inputs'!R30)","v":"-"},{"$f":"IFERROR(IF(I28<>'NR-PI 2.0 Structure'!$C$5,VLOOKUP(AA28,'NR-PI 2.0 Structure'!$G$5:$H$9,2,FALSE),IF(OR(AA28='NR-PI 2.0 Structure'!$G$5,AA28='NR-PI 2.0 Structure'!$G$6,AA28='NR-PI 2.0 Structure'!$G$7),1,VLOOKUP(AA28,'NR-PI 2.0 Structure'!$G$8:$H$9,2,FALSE))),\"-\")","v":"-"},{"$f":"IF(ISBLANK('P Index Inputs'!S30),\"-\",'P Index Inputs'!S30)","v":"-"},{"$f":"IFERROR(VLOOKUP(AC28,'NR-PI 2.0 Structure'!$G$14:$H$19,2,FALSE),\"-\")","v":"-"},"-","-","N/A","N/A",0,0,0,0,0,0,0,0,0]
[{"$f":"'P Index Inputs'!A31","v":0},{"$f":"'P Index Inputs'!B31","v":0},{"$f":"'P Index Inputs'!C31","v":0},{"$f":"'P Index Inputs'!D31","v":0},{"$f":"'P Index Inputs'!E31","v":0},{"$f":"'P Index Inputs'!F31","v":0},{"$f":"'P Index Inputs'!H31","v":0},{"$f":"'P Index Inputs'!I31","v":0},{"$f":"'P Index Inputs'!J31","v":0},{"$f":"IF(ISBLANK('P Index Inputs'!L31),'P Index Inputs'!K31,'P Index Inputs'!L31)","v":"-"},{"$f":"'P Index Inputs'!M31","v":0},{"$f":"'P Index Inputs'!O31","v":0},{"$f":"'P Index Inputs'!P31","v":0},{"$f":"'P Index Inputs'!Q31","v":0},{"$f":"IFERROR(VLOOKUP(I29,'NR-PI 2.0 Structure'!$C$5:$D$8,2,FALSE),\"-\")","v":"-"},{"$f":"IFERROR(VLOOKUP(J29,'NR-PI 2.0 Structure'!$B$12:$C$16,2,FALSE),\"-\")","v":"-"},{"$f":"IFERROR(VLOOKUP(K29,'NR-PI 2.0 Structure'!$B$20:$D$21,3,FALSE),\"-\")","v":"-"},{"$f":"IFERROR(VLOOKUP(L29,'NR-PI 2.0 Structure'!$B$25:$C$28,2,FALSE),\"-\")","v":"-"},{"$f":"IFERROR(VLOOKUP(L29,'NR-PI 2.0 Structure'!$B$25:$D$28,3,FALSE),\"-\")","v":"-"},{"$f":"IFERROR(\n  IF(M29 = \"≤ 1\", 'NR-PI 2.0 Structure'!$D$32,\n  IF(M29 = \">1 - 3\", 'NR-PI 2.0 Structure'!$D$33,\n  IF(M29 = \">3 - 5\", 'NR-PI 2.0 Structure'!$D$34,\n  IF(M29 = \"> 5\", 'NR-PI 2.0 Structure'!$D$35, )))),\n\"-\")","v":0},{"$f":"IFERROR(IF(ISBLANK(I29),\"N/A\",IF(I29<>'NR-PI 2.0 Structure'!$C$5,(VLOOKUP(N29,'NR-PI 2.0 Structure'!$C$39:$D$40,2,FALSE)),0)),\" - \")","v":" - "},{"$f":"IFERROR(IF(ISBLANK(I29),\"N/A\",IF(I29<>'NR-PI 2.0 Structure'!$C$5,(VLOOKUP(N29,'NR-PI 2.0 Structure'!$C$39:$E$40,3,FALSE)),0)),\" - \")","v":" - "},"-","-","-","N/A",{"$f":"IF(ISBLANK('P Index Inputs'!R31),\"-\",'P Index Inputs'!R31)","v":"-"},{"$f":"IFERROR(IF(I29<>'NR-PI 2.0 Structure'!$C$5,VLOOKUP(AA29,'NR-PI 2.0 Structure'!$G$5:$H$9,2,FALSE),IF(OR(AA29='NR-PI 2.0 Structure'!$G$5,AA29='NR-PI 2.0 Structure'!$G$6,AA29='NR-PI 2.0 Structure'!$G$7),1,VLOOKUP(AA29,'NR-PI 2.0 Structure'!$G$8:$H$9,2,FALSE))),\"-\")","v":"-"},{"$f":"IF(ISBLANK('P Index Inputs'!S31),\"-\",'P Index Inputs'!S31)","v":"-"},{"$f":"IFERROR(VLOOKUP(AC29,'NR-PI 2.0 Structure'!$G$14:$H$19,2,FALSE),\"-\")","v":"-"},"-","-","N/A","N/A",0,0,0,0,0,0,0,0,0]
[{"$f":"'P Index Inputs'!A32","v":0},{"$f":"'P Index Inputs'!B32","v":0},{"$f":"'P Index Inputs'!C32","v":0},{"$f":"'P Index Inputs'!D32","v":0},{"$f":"'P Index Inputs'!E32","v":0},{"$f":"'P Index Inputs'!F32","v":0},{"$f":"'P Index Inputs'!H32","v":0},{"$f":"'P Index Inputs'!I32","v":0},{"$f":"'P Index Inputs'!J32","v":0},{"$f":"IF(ISBLANK('P Index Inputs'!L32),'P Index Inputs'!K32,'P Index Inputs'!L32)","v":"-"},{"$f":"'P Index Inputs'!M32","v":0},{"$f":"'P Index Inputs'!O32","v":0},{"$f":"'P Index Inputs'!P32","v":0},{"$f":"'P Index Inputs'!Q32","v":0},{"$f":"IFERROR(VLOOKUP(I30,'NR-PI 2.0 Structure'!$C$5:$D$8,2,FALSE),\"-\")","v":"-"},{"$f":"IFERROR(VLOOKUP(J30,'NR-PI 2.0 Structure'!$B$12:$C$16,2,FALSE),\"-\")","v":"-"},{"$f":"IFERROR(VLOOKUP(K30,'NR-PI 2.0 Structure'!$B$20:$D$21,3,FALSE),\"-\")","v":"-"},{"$f":"IFERROR(VLOOKUP(L30,'NR-PI 2.0 Structure'!$B$25:$C$28,2,FALSE),\"-\")","v":"-"},{"$f":"IFERROR(VLOOKUP(L30,'NR-PI 2.0 Structure'!$B$25:$D$28,3,FALSE),\"-\")","v":"-"},{"$f":"IFERROR(\n  IF(M30 = \"≤ 1\", 'NR-PI 2.0 Structure'!$D$32,\n  IF(M30 = \">1 - 3\", 'NR-PI 2.0 Structure'!$D$33,\n  IF(M30 = \">3 - 5\", 'NR-PI 2.0 Structure'!$D$34,\n  IF(M30 = \"> 5\", 'NR-PI 2.0 Structure'!$D$35, )))),\n\"-\")","v":0},{"$f":"IFERROR(IF(ISBLANK(I30),\"N/A\",IF(I30<>'NR-PI 2.0 Structure'!$C$5,(VLOOKUP(N30,'NR-PI 2.0 Structure'!$C$39:$D$40,2,FALSE)),0)),\" - \")","v":" - "},{"$f":"IFERROR(IF(ISBLANK(I30),\"N/A\",IF(I30<>'NR-PI 2.0 Structure'!$C$5,(VLOOKUP(N30,'NR-PI 2.0 Structure'!$C$39:$E$40,3,FALSE)),0)),\" - \")","v":" - "},"-","-","-","N/A",{"$f":"IF(ISBLANK('P Index Inputs'!R32),\"-\",'P Index Inputs'!R32)","v":"-"},{"$f":"IFERROR(IF(I30<>'NR-PI 2.0 Structure'!$C$5,VLOOKUP(AA30,'NR-PI 2.0 Structure'!$G$5:$H$9,2,FALSE),IF(OR(AA30='NR-PI 2.0 Structure'!$G$5,AA30='NR-PI 2.0 Structure'!$G$6,AA30='NR-PI 2.0 Structure'!$G$7),1,VLOOKUP(AA30,'NR-PI 2.0 Structure'!$G$8:$H$9,2,FALSE))),\"-\")","v":"-"},{"$f":"IF(ISBLANK('P Index Inputs'!S32),\"-\",'P Index Inputs'!S32)","v":"-"},{"$f":"IFERROR(VLOOKUP(AC30,'NR-PI 2.0 Structure'!$G$14:$H$19,2,FALSE),\"-\")","v":"-"},"-","-","N/A","N/A",0,0,0,0,0,0,0,0,0]
[{"$f":"'P Index Inputs'!A33","v":0},{"$f":"'P Index Inputs'!B33","v":0},{"$f":"'P Index Inputs'!C33","v":0},{"$f":"'P Index Inputs'!D33","v":0},{"$f":"'P Index Inputs'!E33","v":0},{"$f":"'P Index Inputs'!F33","v":0},{"$f":"'P Index Inputs'!H33","v":0},{"$f":"'P Index Inputs'!I33","v":0},{"$f":"'P Index Inputs'!J33","v":0},{"$f":"IF(ISBLANK('P Index Inputs'!L33),'P Index Inputs'!K33,'P Index Inputs'!L33)","v":"-"},{"$f":"'P Index Inputs'!M33","v":0},{"$f":"'P Index Inputs'!O33","v":0},{"$f":"'P Index Inputs'!P33","v":0},{"$f":"'P Index Inputs'!Q33","v":0},{"$f":"IFERROR(VLOOKUP(I31,'NR-PI 2.0 Structure'!$C$5:$D$8,2,FALSE),\"-\")","v":"-"},{"$f":"IFERROR(VLOOKUP(J31,'NR-PI 2.0 Structure'!$B$12:$C$16,2,FALSE),\"-\")","v":"-"},{"$f":"IFERROR(VLOOKUP(K31,'NR-PI 2.0 Structure'!$B$20:$D$21,3,FALSE),\"-\")","v":"-"},{"$f":"IFERROR(VLOOKUP(L31,'NR-PI 2.0 Structure'!$B$25:$C$28,2,FALSE),\"-\")","v":"-"},{"$f":"IFERROR(VLOOKUP(L31,'NR-PI 2.0 Structure'!$B$25:$D$28,3,FALSE),\"-\")","v":"-"},{"$f":"IFERROR(\n  IF(M31 = \"≤ 1\", 'NR-PI 2.0 Structure'!$D$32,\n  IF(M31 = \">1 - 3\", 'NR-PI 2.0 Structure'!$D$33,\n  IF(M31 = \">3 - 5\", 'NR-PI 2.0 Structure'!$D$34,\n  IF(M31 = \"> 5\", 'NR-PI 2.0 Structure'!$D$35, )))),\n\"-\")","v":0},{"$f":"IFERROR(IF(ISBLANK(I31),\"N/A\",IF(I31<>'NR-PI 2.0 Structure'!$C$5,(VLOOKUP(N31,'NR-PI 2.0 Structure'!$C$39:$D$40,2,FALSE)),0)),\" - \")","v":" - "},{"$f":"IFERROR(IF(ISBLANK(I31),\"N/A\",IF(I31<>'NR-PI 2.0 Structure'!$C$5,(VLOOKUP(N31,'NR-PI 2.0 Structure'!$C$39:$E$40,3,FALSE)),0)),\" - \")","v":" - "},"-","-","-","N/A",{"$f":"IF(ISBLANK('P Index Inputs'!R33),\"-\",'P Index Inputs'!R33)","v":"-"},{"$f":"IFERROR(IF(I31<>'NR-PI 2.0 Structure'!$C$5,VLOOKUP(AA31,'NR-PI 2.0 Structure'!$G$5:$H$9,2,FALSE),IF(OR(AA31='NR-PI 2.0 Structure'!$G$5,AA31='NR-PI 2.0 Structure'!$G$6,AA31='NR-PI 2.0 Structure'!$G$7),1,VLOOKUP(AA31,'NR-PI 2.0 Structure'!$G$8:$H$9,2,FALSE))),\"-\")","v":"-"},{"$f":"IF(ISBLANK('P Index Inputs'!S33),\"-\",'P Index Inputs'!S33)","v":"-"},{"$f":"IFERROR(VLOOKUP(AC31,'NR-PI 2.0 Structure'!$G$14:$H$19,2,FALSE),\"-\")","v":"-"},"-","-","N/A","N/A",0,0,0,0,0,0,0,0,0]
[{"$f":"'P Index Inputs'!A34","v":0},{"$f":"'P Index Inputs'!B34","v":0},{"$f":"'P Index Inputs'!C34","v":0},{"$f":"'P Index Inputs'!D34","v":0},{"$f":"'P Index Inputs'!E34","v":0},{"$f":"'P Index Inputs'!F34","v":0},{"$f":"'P Index Inputs'!H34","v":0},{"$f":"'P Index Inputs'!I34","v":0},{"$f":"'P Index Inputs'!J34","v":0},{"$f":"IF(ISBLANK('P Index Inputs'!L34),'P Index Inputs'!K34,'P Index Inputs'!L34)","v":"-"},{"$f":"'P Index Inputs'!M34","v":0},{"$f":"'P Index Inputs'!O34","v":0},{"$f":"'P Index Inputs'!P34","v":0},{"$f":"'P Index Inputs'!Q34","v":0},{"$f":"IFERROR(VLOOKUP(I32,'NR-PI 2.0 Structure'!$C$5:$D$8,2,FALSE),\"-\")","v":"-"},{"$f":"IFERROR(VLOOKUP(J32,'NR-PI 2.0 Structure'!$B$12:$C$16,2,FALSE),\"-\")","v":"-"},{"$f":"IFERROR(VLOOKUP(K32,'NR-PI 2.0 Structure'!$B$20:$D$21,3,FALSE),\"-\")","v":"-"},{"$f":"IFERROR(VLOOKUP(L32,'NR-PI 2.0 Structure'!$B$25:$C$28,2,FALSE),\"-\")","v":"-"},{"$f":"IFERROR(VLOOKUP(L32,'NR-PI 2.0 Structure'!$B$25:$D$28,3,FALSE),\"-\")","v":"-"},{"$f":"IFERROR(\n  IF(M32 = \"≤ 1\", 'NR-PI 2.0 Structure'!$D$32,\n  IF(M32 = \">1 - 3\", 'NR-PI 2.0 Structure'!$D$33,\n  IF(M32 = \">3 - 5\", 'NR-PI 2.0 Structure'!$D$34,\n  IF(M32 = \"> 5\", 'NR-PI 2.0 Structure'!$D$35, )))),\n\"-\")","v":0},{"$f":"IFERROR(IF(ISBLANK(I32),\"N/A\",IF(I32<>'NR-PI 2.0 Structure'!$C$5,(VLOOKUP(N32,'NR-PI 2.0 Structure'!$C$39:$D$40,2,FALSE)),0)),\" - \")","v":" - "},{"$f":"IFERROR(IF(ISBLANK(I32),\"N/A\",IF(I32<>'NR-PI 2.0 Structure'!$C$5,(VLOOKUP(N32,'NR-PI 2.0 Structure'!$C$39:$E$40,3,FALSE)),0)),\" - \")","v":" - "},"-","-","-","N/A",{"$f":"IF(ISBLANK('P Index Inputs'!R34),\"-\",'P Index Inputs'!R34)","v":"-"},{"$f":"IFERROR(IF(I32<>'NR-PI 2.0 Structure'!$C$5,VLOOKUP(AA32,'NR-PI 2.0 Structure'!$G$5:$H$9,2,FALSE),IF(OR(AA32='NR-PI 2.0 Structure'!$G$5,AA32='NR-PI 2.0 Structure'!$G$6,AA32='NR-PI 2.0 Structure'!$G$7),1,VLOOKUP(AA32,'NR-PI 2.0 Structure'!$G$8:$H$9,2,FALSE))),\"-\")","v":"-"},{"$f":"IF(ISBLANK('P Index Inputs'!S34),\"-\",'P Index Inputs'!S34)","v":"-"},{"$f":"IFERROR(VLOOKUP(AC32,'NR-PI 2.0 Structure'!$G$14:$H$19,2,FALSE),\"-\")","v":"-"},"-","-","N/A","N/A",0,0,0,0,0,0,0,0,0]
[{"$f":"'P Index Inputs'!A35","v":0},{"$f":"'P Index Inputs'!B35","v":0},{"$f":"'P Index Inputs'!C35","v":0},{"$f":"'P Index Inputs'!D35","v":0},{"$f":"'P Index Inputs'!E35","v":0},{"$f":"'P Index Inputs'!F35","v":0},{"$f":"'P Index Inputs'!H35","v":0},{"$f":"'P Index Inputs'!I35","v":0},{"$f":"'P Index Inputs'!J35","v":0},{"$f":"IF(ISBLANK('P Index Inputs'!L35),'P Index Inputs'!K35,'P Index Inputs'!L35)","v":"-"},{"$f":"'P Index Inputs'!M35","v":0},{"$f":"'P Index Inputs'!O35","v":0},{"$f":"'P Index Inputs'!P35","v":0},{"$f":"'P Index Inputs'!Q35","v":0},{"$f":"IFERROR(VLOOKUP(I33,'NR-PI 2.0 Structure'!$C$5:$D$8,2,FALSE),\"-\")","v":"-"},{"$f":"IFERROR(VLOOKUP(J33,'NR-PI 2.0 Structure'!$B$12:$C$16,2,FALSE),\"-\")","v":"-"},{"$f":"IFERROR(VLOOKUP(K33,'NR-PI 2.0 Structure'!$B$20:$D$21,3,FALSE),\"-\")","v":"-"},{"$f":"IFERROR(VLOOKUP(L33,'NR-PI 2.0 Structure'!$B$25:$C$28,2,FALSE),\"-\")","v":"-"},{"$f":"IFERROR(VLOOKUP(L33,'NR-PI 2.0 Structure'!$B$25:$D$28,3,FALSE),\"-\")","v":"-"},{"$f":"IFERROR(\n  IF(M33 = \"≤ 1\", 'NR-PI 2.0 Structure'!$D$32,\n  IF(M33 = \">1 - 3\", 'NR-PI 2.0 Structure'!$D$33,\n  IF(M33 = \">3 - 5\", 'NR-PI 2.0 Structure'!$D$34,\n  IF(M33 = \"> 5\", 'NR-PI 2.0 Structure'!$D$35, )))),\n\"-\")","v":0},{"$f":"IFERROR(IF(ISBLANK(I33),\"N/A\",IF(I33<>'NR-PI 2.0 Structure'!$C$5,(VLOOKUP(N33,'NR-PI 2.0 Structure'!$C$39:$D$40,2,FALSE)),0)),\" - \")","v":" - "},{"$f":"IFERROR(IF(ISBLANK(I33),\"N/A\",IF(I33<>'NR-PI 2.0 Structure'!$C$5,(VLOOKUP(N33,'NR-PI 2.0 Structure'!$C$39:$E$40,3,FALSE)),0)),\" - \")","v":" - "},"-","-","-","N/A",{"$f":"IF(ISBLANK('P Index Inputs'!R35),\"-\",'P Index Inputs'!R35)","v":"-"},{"$f":"IFERROR(IF(I33<>'NR-PI 2.0 Structure'!$C$5,VLOOKUP(AA33,'NR-PI 2.0 Structure'!$G$5:$H$9,2,FALSE),IF(OR(AA33='NR-PI 2.0 Structure'!$G$5,AA33='NR-PI 2.0 Structure'!$G$6,AA33='NR-PI 2.0 Structure'!$G$7),1,VLOOKUP(AA33,'NR-PI 2.0 Structure'!$G$8:$H$9,2,FALSE))),\"-\")","v":"-"},{"$f":"IF(ISBLANK('P Index Inputs'!S35),\"-\",'P Index Inputs'!S35)","v":"-"},{"$f":"IFERROR(VLOOKUP(AC33,'NR-PI 2.0 Structure'!$G$14:$H$19,2,FALSE),\"-\")","v":"-"},"-","-","N/A","N/A",0,0,0,0,0,0,0,0,0]
[{"$f":"'P Index Inputs'!A36","v":0},{"$f":"'P Index Inputs'!B36","v":0},{"$f":"'P Index Inputs'!C36","v":0},{"$f":"'P Index Inputs'!D36","v":0},{"$f":"'P Index Inputs'!E36","v":0},{"$f":"'P Index Inputs'!F36","v":0},{"$f":"'P Index Inputs'!H36","v":0},{"$f":"'P Index Inputs'!I36","v":0},{"$f":"'P Index Inputs'!J36","v":0},{"$f":"IF(ISBLANK('P Index Inputs'!L36),'P Index Inputs'!K36,'P Index Inputs'!L36)","v":"-"},{"$f":"'P Index Inputs'!M36","v":0},{"$f":"'P Index Inputs'!O36","v":0},{"$f":"'P Index Inputs'!P36","v":0},{"$f":"'P Index Inputs'!Q36","v":0},{"$f":"IFERROR(VLOOKUP(I34,'NR-PI 2.0 Structure'!$C$5:$D$8,2,FALSE),\"-\")","v":"-"},{"$f":"IFERROR(VLOOKUP(J34,'NR-PI 2.0 Structure'!$B$12:$C$16,2,FALSE),\"-\")","v":"-"},{"$f":"IFERROR(VLOOKUP(K34,'NR-PI 2.0 Structure'!$B$20:$D$21,3,FALSE),\"-\")","v":"-"},{"$f":"IFERROR(VLOOKUP(L34,'NR-PI 2.0 Structure'!$B$25:$C$28,2,FALSE),\"-\")","v":"-"},{"$f":"IFERROR(VLOOKUP(L34,'NR-PI 2.0 Structure'!$B$25:$D$28,3,FALSE),\"-\")","v":"-"},{"$f":"IFERROR(\n  IF(M34 = \"≤ 1\", 'NR-PI 2.0 Structure'!$D$32,\n  IF(M34 = \">1 - 3\", 'NR-PI 2.0 Structure'!$D$33,\n  IF(M34 = \">3 - 5\", 'NR-PI 2.0 Structure'!$D$34,\n  IF(M34 = \"> 5\", 'NR-PI 2.0 Structure'!$D$35, )))),\n\"-\")","v":0},{"$f":"IFERROR(IF(ISBLANK(I34),\"N/A\",IF(I34<>'NR-PI 2.0 Structure'!$C$5,(VLOOKUP(N34,'NR-PI 2.0 Structure'!$C$39:$D$40,2,FALSE)),0)),\" - \")","v":" - "},{"$f":"IFERROR(IF(ISBLANK(I34),\"N/A\",IF(I34<>'NR-PI 2.0 Structure'!$C$5,(VLOOKUP(N34,'NR-PI 2.0 Structure'!$C$39:$E$40,3,FALSE)),0)),\" - \")","v":" - "},"-","-","-","N/A",{"$f":"IF(ISBLANK('P Index Inputs'!R36),\"-\",'P Index Inputs'!R36)","v":"-"},{"$f":"IFERROR(IF(I34<>'NR-PI 2.0 Structure'!$C$5,VLOOKUP(AA34,'NR-PI 2.0 Structure'!$G$5:$H$9,2,FALSE),IF(OR(AA34='NR-PI 2.0 Structure'!$G$5,AA34='NR-PI 2.0 Structure'!$G$6,AA34='NR-PI 2.0 Structure'!$G$7),1,VLOOKUP(AA34,'NR-PI 2.0 Structure'!$G$8:$H$9,2,FALSE))),\"-\")","v":"-"},{"$f":"IF(ISBLANK('P Index Inputs'!S36),\"-\",'P Index Inputs'!S36)","v":"-"},{"$f":"IFERROR(VLOOKUP(AC34,'NR-PI 2.0 Structure'!$G$14:$H$19,2,FALSE),\"-\")","v":"-"},"-","-","N/A","N/A",0,0,0,0,0,0,0,0,0]
[{"$f":"'P Index Inputs'!A37","v":0},{"$f":"'P Index Inputs'!B37","v":0},{"$f":"'P Index Inputs'!C37","v":0},{"$f":"'P Index Inputs'!D37","v":0},{"$f":"'P Index Inputs'!E37","v":0},{"$f":"'P Index Inputs'!F37","v":0},{"$f":"'P Index Inputs'!H37","v":0},{"$f":"'P Index Inputs'!I37","v":0},{"$f":"'P Index Inputs'!J37","v":0},{"$f":"IF(ISBLANK('P Index Inputs'!L37),'P Index Inputs'!K37,'P Index Inputs'!L37)","v":"-"},{"$f":"'P Index Inputs'!M37","v":0},{"$f":"'P Index Inputs'!O37","v":0},{"$f":"'P Index Inputs'!P37","v":0},{"$f":"'P Index Inputs'!Q37","v":0},{"$f":"IFERROR(VLOOKUP(I35,'NR-PI 2.0 Structure'!$C$5:$D$8,2,FALSE),\"-\")","v":"-"},{"$f":"IFERROR(VLOOKUP(J35,'NR-PI 2.0 Structure'!$B$12:$C$16,2,FALSE),\"-\")","v":"-"},{"$f":"IFERROR(VLOOKUP(K35,'NR-PI 2.0 Structure'!$B$20:$D$21,3,FALSE),\"-\")","v":"-"},{"$f":"IFERROR(VLOOKUP(L35,'NR-PI 2.0 Structure'!$B$25:$C$28,2,FALSE),\"-\")","v":"-"},{"$f":"IFERROR(VLOOKUP(L35,'NR-PI 2.0 Structure'!$B$25:$D$28,3,FALSE),\"-\")","v":"-"},{"$f":"IFERROR(\n  IF(M35 = \"≤ 1\", 'NR-PI 2.0 Structure'!$D$32,\n  IF(M35 = \">1 - 3\", 'NR-PI 2.0 Structure'!$D$33,\n  IF(M35 = \">3 - 5\", 'NR-PI 2.0 Structure'!$D$34,\n  IF(M35 = \"> 5\", 'NR-PI 2.0 Structure'!$D$35, )))),\n\"-\")","v":0},{"$f":"IFERROR(IF(ISBLANK(I35),\"N/A\",IF(I35<>'NR-PI 2.0 Structure'!$C$5,(VLOOKUP(N35,'NR-PI 2.0 Structure'!$C$39:$D$40,2,FALSE)),0)),\" - \")","v":" - "},{"$f":"IFERROR(IF(ISBLANK(I35),\"N/A\",IF(I35<>'NR-PI 2.0 Structure'!$C$5,(VLOOKUP(N35,'NR-PI 2.0 Structure'!$C$39:$E$40,3,FALSE)),0)),\" - \")","v":" - "},"-","-","-","N/A",{"$f":"IF(ISBLANK('P Index Inputs'!R37),\"-\",'P Index Inputs'!R37)","v":"-"},{"$f":"IFERROR(IF(I35<>'NR-PI 2.0 Structure'!$C$5,VLOOKUP(AA35,'NR-PI 2.0 Structure'!$G$5:$H$9,2,FALSE),IF(OR(AA35='NR-PI 2.0 Structure'!$G$5,AA35='NR-PI 2.0 Structure'!$G$6,AA35='NR-PI 2.0 Structure'!$G$7),1,VLOOKUP(AA35,'NR-PI 2.0 Structure'!$G$8:$H$9,2,FALSE))),\"-\")","v":"-"},{"$f":"IF(ISBLANK('P Index Inputs'!S37),\"-\",'P Index Inputs'!S37)","v":"-"},{"$f":"IFERROR(VLOOKUP(AC35,'NR-PI 2.0 Structure'!$G$14:$H$19,2,FALSE),\"-\")","v":"-"},"-","-","N/A","N/A",0,0,0,0,0,0,0,0,0]
[{"$f":"'P Index Inputs'!A38","v":0},{"$f":"'P Index Inputs'!B38","v":0},{"$f":"'P Index Inputs'!C38","v":0},{"$f":"'P Index Inputs'!D38","v":0},{"$f":"'P Index Inputs'!E38","v":0},{"$f":"'P Index Inputs'!F38","v":0},{"$f":"'P Index Inputs'!H38","v":0},{"$f":"'P Index Inputs'!I38","v":0},{"$f":"'P Index Inputs'!J38","v":0},{"$f":"IF(ISBLANK('P Index Inputs'!L38),'P Index Inputs'!K38,'P Index Inputs'!L38)","v":"-"},{"$f":"'P Index Inputs'!M38","v":0},{"$f":"'P Index Inputs'!O38","v":0},{"$f":"'P Index Inputs'!P38","v":0},{"$f":"'P Index Inputs'!Q38","v":0},{"$f":"IFERROR(VLOOKUP(I36,'NR-PI 2.0 Structure'!$C$5:$D$8,2,FALSE),\"-\")","v":"-"},{"$f":"IFERROR(VLOOKUP(J36,'NR-PI 2.0 Structure'!$B$12:$C$16,2,FALSE),\"-\")","v":"-"},{"$f":"IFERROR(VLOOKUP(K36,'NR-PI 2.0 Structure'!$B$20:$D$21,3,FALSE),\"-\")","v":"-"},{"$f":"IFERROR(VLOOKUP(L36,'NR-PI 2.0 Structure'!$B$25:$C$28,2,FALSE),\"-\")","v":"-"},{"$f":"IFERROR(VLOOKUP(L36,'NR-PI 2.0 Structure'!$B$25:$D$28,3,FALSE),\"-\")","v":"-"},{"$f":"IFERROR(\n  IF(M36 = \"≤ 1\", 'NR-PI 2.0 Structure'!$D$32,\n  IF(M36 = \">1 - 3\", 'NR-PI 2.0 Structure'!$D$33,\n  IF(M36 = \">3 - 5\", 'NR-PI 2.0 Structure'!$D$34,\n  IF(M36 = \"> 5\", 'NR-PI 2.0 Structure'!$D$35, )))),\n\"-\")","v":0},{"$f":"IFERROR(IF(ISBLANK(I36),\"N/A\",IF(I36<>'NR-PI 2.0 Structure'!$C$5,(VLOOKUP(N36,'NR-PI 2.0 Structure'!$C$39:$D$40,2,FALSE)),0)),\" - \")","v":" - "},{"$f":"IFERROR(IF(ISBLANK(I36),\"N/A\",IF(I36<>'NR-PI 2.0 Structure'!$C$5,(VLOOKUP(N36,'NR-PI 2.0 Structure'!$C$39:$E$40,3,FALSE)),0)),\" - \")","v":" - "},"-","-","-","N/A",{"$f":"IF(ISBLANK('P Index Inputs'!R38),\"-\",'P Index Inputs'!R38)","v":"-"},{"$f":"IFERROR(IF(I36<>'NR-PI 2.0 Structure'!$C$5,VLOOKUP(AA36,'NR-PI 2.0 Structure'!$G$5:$H$9,2,FALSE),IF(OR(AA36='NR-PI 2.0 Structure'!$G$5,AA36='NR-PI 2.0 Structure'!$G$6,AA36='NR-PI 2.0 Structure'!$G$7),1,VLOOKUP(AA36,'NR-PI 2.0 Structure'!$G$8:$H$9,2,FALSE))),\"-\")","v":"-"},{"$f":"IF(ISBLANK('P Index Inputs'!S38),\"-\",'P Index Inputs'!S38)","v":"-"},{"$f":"IFERROR(VLOOKUP(AC36,'NR-PI 2.0 Structure'!$G$14:$H$19,2,FALSE),\"-\")","v":"-"},"-","-","N/A","N/A",0,0,0,0,0,0,0,0,0]
[{"$f":"'P Index Inputs'!A39","v":0},{"$f":"'P Index Inputs'!B39","v":0},{"$f":"'P Index Inputs'!C39","v":0},{"$f":"'P Index Inputs'!D39","v":0},{"$f":"'P Index Inputs'!E39","v":0},{"$f":"'P Index Inputs'!F39","v":0},{"$f":"'P Index Inputs'!H39","v":0},{"$f":"'P Index Inputs'!I39","v":0},{"$f":"'P Index Inputs'!J39","v":0},{"$f":"IF(ISBLANK('P Index Inputs'!L39),'P Index Inputs'!K39,'P Index Inputs'!L39)","v":"-"},{"$f":"'P Index Inputs'!M39","v":0},{"$f":"'P Index Inputs'!O39","v":0},{"$f":"'P Index Inputs'!P39","v":0},{"$f":"'P Index Inputs'!Q39","v":0},{"$f":"IFERROR(VLOOKUP(I37,'NR-PI 2.0 Structure'!$C$5:$D$8,2,FALSE),\"-\")","v":"-"},{"$f":"IFERROR(VLOOKUP(J37,'NR-PI 2.0 Structure'!$B$12:$C$16,2,FALSE),\"-\")","v":"-"},{"$f":"IFERROR(VLOOKUP(K37,'NR-PI 2.0 Structure'!$B$20:$D$21,3,FALSE),\"-\")","v":"-"},{"$f":"IFERROR(VLOOKUP(L37,'NR-PI 2.0 Structure'!$B$25:$C$28,2,FALSE),\"-\")","v":"-"},{"$f":"IFERROR(VLOOKUP(L37,'NR-PI 2.0 Structure'!$B$25:$D$28,3,FALSE),\"-\")","v":"-"},{"$f":"IFERROR(\n  IF(M37 = \"≤ 1\", 'NR-PI 2.0 Structure'!$D$32,\n  IF(M37 = \">1 - 3\", 'NR-PI 2.0 Structure'!$D$33,\n  IF(M37 = \">3 - 5\", 'NR-PI 2.0 Structure'!$D$34,\n  IF(M37 = \"> 5\", 'NR-PI 2.0 Structure'!$D$35, )))),\n\"-\")","v":0},{"$f":"IFERROR(IF(ISBLANK(I37),\"N/A\",IF(I37<>'NR-PI 2.0 Structure'!$C$5,(VLOOKUP(N37,'NR-PI 2.0 Structure'!$C$39:$D$40,2,FALSE)),0)),\" - \")","v":" - "},{"$f":"IFERROR(IF(ISBLANK(I37),\"N/A\",IF(I37<>'NR-PI 2.0 Structure'!$C$5,(VLOOKUP(N37,'NR-PI 2.0 Structure'!$C$39:$E$40,3,FALSE)),0)),\" - \")","v":" - "},"-","-","-","N/A",{"$f":"IF(ISBLANK('P Index Inputs'!R39),\"-\",'P Index Inputs'!R39)","v":"-"},{"$f":"IFERROR(IF(I37<>'NR-PI 2.0 Structure'!$C$5,VLOOKUP(AA37,'NR-PI 2.0 Structure'!$G$5:$H$9,2,FALSE),IF(OR(AA37='NR-PI 2.0 Structure'!$G$5,AA37='NR-PI 2.0 Structure'!$G$6,AA37='NR-PI 2.0 Structure'!$G$7),1,VLOOKUP(AA37,'NR-PI 2.0 Structure'!$G$8:$H$9,2,FALSE))),\"-\")","v":"-"},{"$f":"IF(ISBLANK('P Index Inputs'!S39),\"-\",'P Index Inputs'!S39)","v":"-"},{"$f":"IFERROR(VLOOKUP(AC37,'NR-PI 2.0 Structure'!$G$14:$H$19,2,FALSE),\"-\")","v":"-"},"-","-","N/A","N/A",0,0,0,0,0,0,0,0,0]
[{"$f":"'P Index Inputs'!A40","v":0},{"$f":"'P Index Inputs'!B40","v":0},{"$f":"'P Index Inputs'!C40","v":0},{"$f":"'P Index Inputs'!D40","v":0},{"$f":"'P Index Inputs'!E40","v":0},{"$f":"'P Index Inputs'!F40","v":0},{"$f":"'P Index Inputs'!H40","v":0},{"$f":"'P Index Inputs'!I40","v":0},{"$f":"'P Index Inputs'!J40","v":0},{"$f":"IF(ISBLANK('P Index Inputs'!L40),'P Index Inputs'!K40,'P Index Inputs'!L40)","v":"-"},{"$f":"'P Index Inputs'!M40","v":0},{"$f":"'P Index Inputs'!O40","v":0},{"$f":"'P Index Inputs'!P40","v":0},{"$f":"'P Index Inputs'!Q40","v":0},{"$f":"IFERROR(VLOOKUP(I38,'NR-PI 2.0 Structure'!$C$5:$D$8,2,FALSE),\"-\")","v":"-"},{"$f":"IFERROR(VLOOKUP(J38,'NR-PI 2.0 Structure'!$B$12:$C$16,2,FALSE),\"-\")","v":"-"},{"$f":"IFERROR(VLOOKUP(K38,'NR-PI 2.0 Structure'!$B$20:$D$21,3,FALSE),\"-\")","v":"-"},{"$f":"IFERROR(VLOOKUP(L38,'NR-PI 2.0 Structure'!$B$25:$C$28,2,FALSE),\"-\")","v":"-"},{"$f":"IFERROR(VLOOKUP(L38,'NR-PI 2.0 Structure'!$B$25:$D$28,3,FALSE),\"-\")","v":"-"},{"$f":"IFERROR(\n  IF(M38 = \"≤ 1\", 'NR-PI 2.0 Structure'!$D$32,\n  IF(M38 = \">1 - 3\", 'NR-PI 2.0 Structure'!$D$33,\n  IF(M38 = \">3 - 5\", 'NR-PI 2.0 Structure'!$D$34,\n  IF(M38 = \"> 5\", 'NR-PI 2.0 Structure'!$D$35, )))),\n\"-\")","v":0},{"$f":"IFERROR(IF(ISBLANK(I38),\"N/A\",IF(I38<>'NR-PI 2.0 Structure'!$C$5,(VLOOKUP(N38,'NR-PI 2.0 Structure'!$C$39:$D$40,2,FALSE)),0)),\" - \")","v":" - "},{"$f":"IFERROR(IF(ISBLANK(I38),\"N/A\",IF(I38<>'NR-PI 2.0 Structure'!$C$5,(VLOOKUP(N38,'NR-PI 2.0 Structure'!$C$39:$E$40,3,FALSE)),0)),\" - \")","v":" - "},"-","-","-","N/A",{"$f":"IF(ISBLANK('P Index Inputs'!R40),\"-\",'P Index Inputs'!R40)","v":"-"},{"$f":"IFERROR(IF(I38<>'NR-PI 2.0 Structure'!$C$5,VLOOKUP(AA38,'NR-PI 2.0 Structure'!$G$5:$H$9,2,FALSE),IF(OR(AA38='NR-PI 2.0 Structure'!$G$5,AA38='NR-PI 2.0 Structure'!$G$6,AA38='NR-PI 2.0 Structure'!$G$7),1,VLOOKUP(AA38,'NR-PI 2.0 Structure'!$G$8:$H$9,2,FALSE))),\"-\")","v":"-"},{"$f":"IF(ISBLANK('P Index Inputs'!S40),\"-\",'P Index Inputs'!S40)","v":"-"},{"$f":"IFERROR(VLOOKUP(AC38,'NR-PI 2.0 Structure'!$G$14:$H$19,2,FALSE),\"-\")","v":"-"},"-","-","N/A","N/A",0,0,0,0,0,0,0,0,0]
[{"$f":"'P Index Inputs'!A41","v":0},{"$f":"'P Index Inputs'!B41","v":0},{"$f":"'P Index Inputs'!C41","v":0},{"$f":"'P Index Inputs'!D41","v":0},{"$f":"'P Index Inputs'!E41","v":0},{"$f":"'P Index Inputs'!F41","v":0},{"$f":"'P Index Inputs'!H41","v":0},{"$f":"'P Index Inputs'!I41","v":0},{"$f":"'P Index Inputs'!J41","v":0},{"$f":"IF(ISBLANK('P Index Inputs'!L41),'P Index Inputs'!K41,'P Index Inputs'!L41)","v":"-"},{"$f":"'P Index Inputs'!M41","v":0},{"$f":"'P Index Inputs'!O41","v":0},{"$f":"'P Index Inputs'!P41","v":0},{"$f":"'P Index Inputs'!Q41","v":0},{"$f":"IFERROR(VLOOKUP(I39,'NR-PI 2.0 Structure'!$C$5:$D$8,2,FALSE),\"-\")","v":"-"},{"$f":"IFERROR(VLOOKUP(J39,'NR-PI 2.0 Structure'!$B$12:$C$16,2,FALSE),\"-\")","v":"-"},{"$f":"IFERROR(VLOOKUP(K39,'NR-PI 2.0 Structure'!$B$20:$D$21,3,FALSE),\"-\")","v":"-"},{"$f":"IFERROR(VLOOKUP(L39,'NR-PI 2.0 Structure'!$B$25:$C$28,2,FALSE),\"-\")","v":"-"},{"$f":"IFERROR(VLOOKUP(L39,'NR-PI 2.0 Structure'!$B$25:$D$28,3,FALSE),\"-\")","v":"-"},{"$f":"IFERROR(\n  IF(M39 = \"≤ 1\", 'NR-PI 2.0 Structure'!$D$32,\n  IF(M39 = \">1 - 3\", 'NR-PI 2.0 Structure'!$D$33,\n  IF(M39 = \">3 - 5\", 'NR-PI 2.0 Structure'!$D$34,\n  IF(M39 = \"> 5\", 'NR-PI 2.0 Structure'!$D$35, )))),\n\"-\")","v":0},{"$f":"IFERROR(IF(ISBLANK(I39),\"N/A\",IF(I39<>'NR-PI 2.0 Structure'!$C$5,(VLOOKUP(N39,'NR-PI 2.0 Structure'!$C$39:$D$40,2,FALSE)),0)),\" - \")","v":" - "},{"$f":"IFERROR(IF(ISBLANK(I39),\"N/A\",IF(I39<>'NR-PI 2.0 Structure'!$C$5,(VLOOKUP(N39,'NR-PI 2.0 Structure'!$C$39:$E$40,3,FALSE)),0)),\" - \")","v":" - "},"-","-","-","N/A",{"$f":"IF(ISBLANK('P Index Inputs'!R41),\"-\",'P Index Inputs'!R41)","v":"-"},{"$f":"IFERROR(IF(I39<>'NR-PI 2.0 Structure'!$C$5,VLOOKUP(AA39,'NR-PI 2.0 Structure'!$G$5:$H$9,2,FALSE),IF(OR(AA39='NR-PI 2.0 Structure'!$G$5,AA39='NR-PI 2.0 Structure'!$G$6,AA39='NR-PI 2.0 Structure'!$G$7),1,VLOOKUP(AA39,'NR-PI 2.0 Structure'!$G$8:$H$9,2,FALSE))),\"-\")","v":"-"},{"$f":"IF(ISBLANK('P Index Inputs'!S41),\"-\",'P Index Inputs'!S41)","v":"-"},{"$f":"IFERROR(VLOOKUP(AC39,'NR-PI 2.0 Structure'!$G$14:$H$19,2,FALSE),\"-\")","v":"-"},"-","-","N/A","N/A",0,0,0,0,0,0,0,0,0]
[{"$f":"'P Index Inputs'!A42","v":0},{"$f":"'P Index Inputs'!B42","v":0},{"$f":"'P Index Inputs'!C42","v":0},{"$f":"'P Index Inputs'!D42","v":0},{"$f":"'P Index Inputs'!E42","v":0},{"$f":"'P Index Inputs'!F42","v":0},{"$f":"'P Index Inputs'!H42","v":0},{"$f":"'P Index Inputs'!I42","v":0},{"$f":"'P Index Inputs'!J42","v":0},{"$f":"IF(ISBLANK('P Index Inputs'!L42),'P Index Inputs'!K42,'P Index Inputs'!L42)","v":"-"},{"$f":"'P Index Inputs'!M42","v":0},{"$f":"'P Index Inputs'!O42","v":0},{"$f":"'P Index Inputs'!P42","v":0},{"$f":"'P Index Inputs'!Q42","v":0},{"$f":"IFERROR(VLOOKUP(I40,'NR-PI 2.0 Structure'!$C$5:$D$8,2,FALSE),\"-\")","v":"-"},{"$f":"IFERROR(VLOOKUP(J40,'NR-PI 2.0 Structure'!$B$12:$C$16,2,FALSE),\"-\")","v":"-"},{"$f":"IFERROR(VLOOKUP(K40,'NR-PI 2.0 Structure'!$B$20:$D$21,3,FALSE),\"-\")","v":"-"},{"$f":"IFERROR(VLOOKUP(L40,'NR-PI 2.0 Structure'!$B$25:$C$28,2,FALSE),\"-\")","v":"-"},{"$f":"IFERROR(VLOOKUP(L40,'NR-PI 2.0 Structure'!$B$25:$D$28,3,FALSE),\"-\")","v":"-"},{"$f":"IFERROR(\n  IF(M40 = \"≤ 1\", 'NR-PI 2.0 Structure'!$D$32,\n  IF(M40 = \">1 - 3\", 'NR-PI 2.0 Structure'!$D$33,\n  IF(M40 = \">3 - 5\", 'NR-PI 2.0 Structure'!$D$34,\n  IF(M40 = \"> 5\", 'NR-PI 2.0 Structure'!$D$35, )))),\n\"-\")","v":0},{"$f":"IFERROR(IF(ISBLANK(I40),\"N/A\",IF(I40<>'NR-PI 2.0 Structure'!$C$5,(VLOOKUP(N40,'NR-PI 2.0 Structure'!$C$39:$D$40,2,FALSE)),0)),\" - \")","v":" - "},{"$f":"IFERROR(IF(ISBLANK(I40),\"N/A\",IF(I40<>'NR-PI 2.0 Structure'!$C$5,(VLOOKUP(N40,'NR-PI 2.0 Structure'!$C$39:$E$40,3,FALSE)),0)),\" - \")","v":" - "},"-","-","-","N/A",{"$f":"IF(ISBLANK('P Index Inputs'!R42),\"-\",'P Index Inputs'!R42)","v":"-"},{"$f":"IFERROR(IF(I40<>'NR-PI 2.0 Structure'!$C$5,VLOOKUP(AA40,'NR-PI 2.0 Structure'!$G$5:$H$9,2,FALSE),IF(OR(AA40='NR-PI 2.0 Structure'!$G$5,AA40='NR-PI 2.0 Structure'!$G$6,AA40='NR-PI 2.0 Structure'!$G$7),1,VLOOKUP(AA40,'NR-PI 2.0 Structure'!$G$8:$H$9,2,FALSE))),\"-\")","v":"-"},{"$f":"IF(ISBLANK('P Index Inputs'!S42),\"-\",'P Index Inputs'!S42)","v":"-"},{"$f":"IFERROR(VLOOKUP(AC40,'NR-PI 2.0 Structure'!$G$14:$H$19,2,FALSE),\"-\")","v":"-"},"-","-","N/A","N/A",0,0,0,0,0,0,0,0,0]
[{"$f":"'P Index Inputs'!A43","v":0},{"$f":"'P Index Inputs'!B43","v":0},{"$f":"'P Index Inputs'!C43","v":0},{"$f":"'P Index Inputs'!D43","v":0},{"$f":"'P Index Inputs'!E43","v":0},{"$f":"'P Index Inputs'!F43","v":0},{"$f":"'P Index Inputs'!H43","v":0},{"$f":"'P Index Inputs'!I43","v":0},{"$f":"'P Index Inputs'!J43","v":0},{"$f":"IF(ISBLANK('P Index Inputs'!L43),'P Index Inputs'!K43,'P Index Inputs'!L43)","v":"-"},{"$f":"'P Index Inputs'!M43","v":0},{"$f":"'P Index Inputs'!O43","v":0},{"$f":"'P Index Inputs'!P43","v":0},{"$f":"'P Index Inputs'!Q43","v":0},{"$f":"IFERROR(VLOOKUP(I41,'NR-PI 2.0 Structure'!$C$5:$D$8,2,FALSE),\"-\")","v":"-"},{"$f":"IFERROR(VLOOKUP(J41,'NR-PI 2.0 Structure'!$B$12:$C$16,2,FALSE),\"-\")","v":"-"},{"$f":"IFERROR(VLOOKUP(K41,'NR-PI 2.0 Structure'!$B$20:$D$21,3,FALSE),\"-\")","v":"-"},{"$f":"IFERROR(VLOOKUP(L41,'NR-PI 2.0 Structure'!$B$25:$C$28,2,FALSE),\"-\")","v":"-"},{"$f":"IFERROR(VLOOKUP(L41,'NR-PI 2.0 Structure'!$B$25:$D$28,3,FALSE),\"-\")","v":"-"},{"$f":"IFERROR(\n  IF(M41 = \"≤ 1\", 'NR-PI 2.0 Structure'!$D$32,\n  IF(M41 = \">1 - 3\", 'NR-PI 2.0 Structure'!$D$33,\n  IF(M41 = \">3 - 5\", 'NR-PI 2.0 Structure'!$D$34,\n  IF(M41 = \"> 5\", 'NR-PI 2.0 Structure'!$D$35, )))),\n\"-\")","v":0},{"$f":"IFERROR(IF(ISBLANK(I41),\"N/A\",IF(I41<>'NR-PI 2.0 Structure'!$C$5,(VLOOKUP(N41,'NR-PI 2.0 Structure'!$C$39:$D$40,2,FALSE)),0)),\" - \")","v":" - "},{"$f":"IFERROR(IF(ISBLANK(I41),\"N/A\",IF(I41<>'NR-PI 2.0 Structure'!$C$5,(VLOOKUP(N41,'NR-PI 2.0 Structure'!$C$39:$E$40,3,FALSE)),0)),\" - \")","v":" - "},"-","-","-","N/A",{"$f":"IF(ISBLANK('P Index Inputs'!R43),\"-\",'P Index Inputs'!R43)","v":"-"},{"$f":"IFERROR(IF(I41<>'NR-PI 2.0 Structure'!$C$5,VLOOKUP(AA41,'NR-PI 2.0 Structure'!$G$5:$H$9,2,FALSE),IF(OR(AA41='NR-PI 2.0 Structure'!$G$5,AA41='NR-PI 2.0 Structure'!$G$6,AA41='NR-PI 2.0 Structure'!$G$7),1,VLOOKUP(AA41,'NR-PI 2.0 Structure'!$G$8:$H$9,2,FALSE))),\"-\")","v":"-"},{"$f":"IF(ISBLANK('P Index Inputs'!S43),\"-\",'P Index Inputs'!S43)","v":"-"},{"$f":"IFERROR(VLOOKUP(AC41,'NR-PI 2.0 Structure'!$G$14:$H$19,2,FALSE),\"-\")","v":"-"},"-","-","N/A","N/A",0,0,0,0,0,0,0,0,0]
[{"$f":"'P Index Inputs'!A44","v":0},{"$f":"'P Index Inputs'!B44","v":0},{"$f":"'P Index Inputs'!C44","v":0},{"$f":"'P Index Inputs'!D44","v":0},{"$f":"'P Index Inputs'!E44","v":0},{"$f":"'P Index Inputs'!F44","v":0},{"$f":"'P Index Inputs'!H44","v":0},{"$f":"'P Index Inputs'!I44","v":0},{"$f":"'P Index Inputs'!J44","v":0},{"$f":"IF(ISBLANK('P Index Inputs'!L44),'P Index Inputs'!K44,'P Index Inputs'!L44)","v":"-"},{"$f":"'P Index Inputs'!M44","v":0},{"$f":"'P Index Inputs'!O44","v":0},{"$f":"'P Index Inputs'!P44","v":0},{"$f":"'P Index Inputs'!Q44","v":0},{"$f":"IFERROR(VLOOKUP(I42,'NR-PI 2.0 Structure'!$C$5:$D$8,2,FALSE),\"-\")","v":"-"},{"$f":"IFERROR(VLOOKUP(J42,'NR-PI 2.0 Structure'!$B$12:$C$16,2,FALSE),\"-\")","v":"-"},{"$f":"IFERROR(VLOOKUP(K42,'NR-PI 2.0 Structure'!$B$20:$D$21,3,FALSE),\"-\")","v":"-"},{"$f":"IFERROR(VLOOKUP(L42,'NR-PI 2.0 Structure'!$B$25:$C$28,2,FALSE),\"-\")","v":"-"},{"$f":"IFERROR(VLOOKUP(L42,'NR-PI 2.0 Structure'!$B$25:$D$28,3,FALSE),\"-\")","v":"-"},{"$f":"IFERROR(\n  IF(M42 = \"≤ 1\", 'NR-PI 2.0 Structure'!$D$32,\n  IF(M42 = \">1 - 3\", 'NR-PI 2.0 Structure'!$D$33,\n  IF(M42 = \">3 - 5\", 'NR-PI 2.0 Structure'!$D$34,\n  IF(M42 = \"> 5\", 'NR-PI 2.0 Structure'!$D$35, )))),\n\"-\")","v":0},{"$f":"IFERROR(IF(ISBLANK(I42),\"N/A\",IF(I42<>'NR-PI 2.0 Structure'!$C$5,(VLOOKUP(N42,'NR-PI 2.0 Structure'!$C$39:$D$40,2,FALSE)),0)),\" - \")","v":" - "},{"$f":"IFERROR(IF(ISBLANK(I42),\"N/A\",IF(I42<>'NR-PI 2.0 Structure'!$C$5,(VLOOKUP(N42,'NR-PI 2.0 Structure'!$C$39:$E$40,3,FALSE)),0)),\" - \")","v":" - "},"-","-","-","N/A",{"$f":"IF(ISBLANK('P Index Inputs'!R44),\"-\",'P Index Inputs'!R44)","v":"-"},{"$f":"IFERROR(IF(I42<>'NR-PI 2.0 Structure'!$C$5,VLOOKUP(AA42,'NR-PI 2.0 Structure'!$G$5:$H$9,2,FALSE),IF(OR(AA42='NR-PI 2.0 Structure'!$G$5,AA42='NR-PI 2.0 Structure'!$G$6,AA42='NR-PI 2.0 Structure'!$G$7),1,VLOOKUP(AA42,'NR-PI 2.0 Structure'!$G$8:$H$9,2,FALSE))),\"-\")","v":"-"},{"$f":"IF(ISBLANK('P Index Inputs'!S44),\"-\",'P Index Inputs'!S44)","v":"-"},{"$f":"IFERROR(VLOOKUP(AC42,'NR-PI 2.0 Structure'!$G$14:$H$19,2,FALSE),\"-\")","v":"-"},"-","-","N/A","N/A",0,0,0,0,0,0,0,0,0]
[{"$f":"'P Index Inputs'!A45","v":0},{"$f":"'P Index Inputs'!B45","v":0},{"$f":"'P Index Inputs'!C45","v":0},{"$f":"'P Index Inputs'!D45","v":0},{"$f":"'P Index Inputs'!E45","v":0},{"$f":"'P Index Inputs'!F45","v":0},{"$f":"'P Index Inputs'!H45","v":0},{"$f":"'P Index Inputs'!I45","v":0},{"$f":"'P Index Inputs'!J45","v":0},{"$f":"IF(ISBLANK('P Index Inputs'!L45),'P Index Inputs'!K45,'P Index Inputs'!L45)","v":"-"},{"$f":"'P Index Inputs'!M45","v":0},{"$f":"'P Index Inputs'!O45","v":0},{"$f":"'P Index Inputs'!P45","v":0},{"$f":"'P Index Inputs'!Q45","v":0},{"$f":"IFERROR(VLOOKUP(I43,'NR-PI 2.0 Structure'!$C$5:$D$8,2,FALSE),\"-\")","v":"-"},{"$f":"IFERROR(VLOOKUP(J43,'NR-PI 2.0 Structure'!$B$12:$C$16,2,FALSE),\"-\")","v":"-"},{"$f":"IFERROR(VLOOKUP(K43,'NR-PI 2.0 Structure'!$B$20:$D$21,3,FALSE),\"-\")","v":"-"},{"$f":"IFERROR(VLOOKUP(L43,'NR-PI 2.0 Structure'!$B$25:$C$28,2,FALSE),\"-\")","v":"-"},{"$f":"IFERROR(VLOOKUP(L43,'NR-PI 2.0 Structure'!$B$25:$D$28,3,FALSE),\"-\")","v":"-"},{"$f":"IFERROR(\n  IF(M43 = \"≤ 1\", 'NR-PI 2.0 Structure'!$D$32,\n  IF(M43 = \">1 - 3\", 'NR-PI 2.0 Structure'!$D$33,\n  IF(M43 = \">3 - 5\", 'NR-PI 2.0 Structure'!$D$34,\n  IF(M43 = \"> 5\", 'NR-PI 2.0 Structure'!$D$35, )))),\n\"-\")","v":0},{"$f":"IFERROR(IF(ISBLANK(I43),\"N/A\",IF(I43<>'NR-PI 2.0 Structure'!$C$5,(VLOOKUP(N43,'NR-PI 2.0 Structure'!$C$39:$D$40,2,FALSE)),0)),\" - \")","v":" - "},{"$f":"IFERROR(IF(ISBLANK(I43),\"N/A\",IF(I43<>'NR-PI 2.0 Structure'!$C$5,(VLOOKUP(N43,'NR-PI 2.0 Structure'!$C$39:$E$40,3,FALSE)),0)),\" - \")","v":" - "},"-","-","-","N/A",{"$f":"IF(ISBLANK('P Index Inputs'!R45),\"-\",'P Index Inputs'!R45)","v":"-"},{"$f":"IFERROR(IF(I43<>'NR-PI 2.0 Structure'!$C$5,VLOOKUP(AA43,'NR-PI 2.0 Structure'!$G$5:$H$9,2,FALSE),IF(OR(AA43='NR-PI 2.0 Structure'!$G$5,AA43='NR-PI 2.0 Structure'!$G$6,AA43='NR-PI 2.0 Structure'!$G$7),1,VLOOKUP(AA43,'NR-PI 2.0 Structure'!$G$8:$H$9,2,FALSE))),\"-\")","v":"-"},{"$f":"IF(ISBLANK('P Index Inputs'!S45),\"-\",'P Index Inputs'!S45)","v":"-"},{"$f":"IFERROR(VLOOKUP(AC43,'NR-PI 2.0 Structure'!$G$14:$H$19,2,FALSE),\"-\")","v":"-"},"-","-","N/A","N/A",0,0,0,0,0,0,0,0,0]
[{"$f":"'P Index Inputs'!A46","v":0},{"$f":"'P Index Inputs'!B46","v":0},{"$f":"'P Index Inputs'!C46","v":0},{"$f":"'P Index Inputs'!D46","v":0},{"$f":"'P Index Inputs'!E46","v":0},{"$f":"'P Index Inputs'!F46","v":0},{"$f":"'P Index Inputs'!H46","v":0},{"$f":"'P Index Inputs'!I46","v":0},{"$f":"'P Index Inputs'!J46","v":0},{"$f":"IF(ISBLANK('P Index Inputs'!L46),'P Index Inputs'!K46,'P Index Inputs'!L46)","v":"-"},{"$f":"'P Index Inputs'!M46","v":0},{"$f":"'P Index Inputs'!O46","v":0},{"$f":"'P Index Inputs'!P46","v":0},{"$f":"'P Index Inputs'!Q46","v":0},{"$f":"IFERROR(VLOOKUP(I44,'NR-PI 2.0 Structure'!$C$5:$D$8,2,FALSE),\"-\")","v":"-"},{"$f":"IFERROR(VLOOKUP(J44,'NR-PI 2.0 Structure'!$B$12:$C$16,2,FALSE),\"-\")","v":"-"},{"$f":"IFERROR(VLOOKUP(K44,'NR-PI 2.0 Structure'!$B$20:$D$21,3,FALSE),\"-\")","v":"-"},{"$f":"IFERROR(VLOOKUP(L44,'NR-PI 2.0 Structure'!$B$25:$C$28,2,FALSE),\"-\")","v":"-"},{"$f":"IFERROR(VLOOKUP(L44,'NR-PI 2.0 Structure'!$B$25:$D$28,3,FALSE),\"-\")","v":"-"},{"$f":"IFERROR(\n  IF(M44 = \"≤ 1\", 'NR-PI 2.0 Structure'!$D$32,\n  IF(M44 = \">1 - 3\", 'NR-PI 2.0 Structure'!$D$33,\n  IF(M44 = \">3 - 5\", 'NR-PI 2.0 Structure'!$D$34,\n  IF(M44 = \"> 5\", 'NR-PI 2.0 Structure'!$D$35, )))),\n\"-\")","v":0},{"$f":"IFERROR(IF(ISBLANK(I44),\"N/A\",IF(I44<>'NR-PI 2.0 Structure'!$C$5,(VLOOKUP(N44,'NR-PI 2.0 Structure'!$C$39:$D$40,2,FALSE)),0)),\" - \")","v":" - "},{"$f":"IFERROR(IF(ISBLANK(I44),\"N/A\",IF(I44<>'NR-PI 2.0 Structure'!$C$5,(VLOOKUP(N44,'NR-PI 2.0 Structure'!$C$39:$E$40,3,FALSE)),0)),\" - \")","v":" - "},"-","-","-","N/A",{"$f":"IF(ISBLANK('P Index Inputs'!R46),\"-\",'P Index Inputs'!R46)","v":"-"},{"$f":"IFERROR(IF(I44<>'NR-PI 2.0 Structure'!$C$5,VLOOKUP(AA44,'NR-PI 2.0 Structure'!$G$5:$H$9,2,FALSE),IF(OR(AA44='NR-PI 2.0 Structure'!$G$5,AA44='NR-PI 2.0 Structure'!$G$6,AA44='NR-PI 2.0 Structure'!$G$7),1,VLOOKUP(AA44,'NR-PI 2.0 Structure'!$G$8:$H$9,2,FALSE))),\"-\")","v":"-"},{"$f":"IF(ISBLANK('P Index Inputs'!S46),\"-\",'P Index Inputs'!S46)","v":"-"},{"$f":"IFERROR(VLOOKUP(AC44,'NR-PI 2.0 Structure'!$G$14:$H$19,2,FALSE),\"-\")","v":"-"},"-","-","N/A","N/A",0,0,0,0,0,0,0,0,0]
[{"$f":"'P Index Inputs'!A47","v":0},{"$f":"'P Index Inputs'!B47","v":0},{"$f":"'P Index Inputs'!C47","v":0},{"$f":"'P Index Inputs'!D47","v":0},{"$f":"'P Index Inputs'!E47","v":0},{"$f":"'P Index Inputs'!F47","v":0},{"$f":"'P Index Inputs'!H47","v":0},{"$f":"'P Index Inputs'!I47","v":0},{"$f":"'P Index Inputs'!J47","v":0},{"$f":"IF(ISBLANK('P Index Inputs'!L47),'P Index Inputs'!K47,'P Index Inputs'!L47)","v":"-"},{"$f":"'P Index Inputs'!M47","v":0},{"$f":"'P Index Inputs'!O47","v":0},{"$f":"'P Index Inputs'!P47","v":0},{"$f":"'P Index Inputs'!Q47","v":0},{"$f":"IFERROR(VLOOKUP(I45,'NR-PI 2.0 Structure'!$C$5:$D$8,2,FALSE),\"-\")","v":"-"},{"$f":"IFERROR(VLOOKUP(J45,'NR-PI 2.0 Structure'!$B$12:$C$16,2,FALSE),\"-\")","v":"-"},{"$f":"IFERROR(VLOOKUP(K45,'NR-PI 2.0 Structure'!$B$20:$D$21,3,FALSE),\"-\")","v":"-"},{"$f":"IFERROR(VLOOKUP(L45,'NR-PI 2.0 Structure'!$B$25:$C$28,2,FALSE),\"-\")","v":"-"},{"$f":"IFERROR(VLOOKUP(L45,'NR-PI 2.0 Structure'!$B$25:$D$28,3,FALSE),\"-\")","v":"-"},{"$f":"IFERROR(\n  IF(M45 = \"≤ 1\", 'NR-PI 2.0 Structure'!$D$32,\n  IF(M45 = \">1 - 3\", 'NR-PI 2.0 Structure'!$D$33,\n  IF(M45 = \">3 - 5\", 'NR-PI 2.0 Structure'!$D$34,\n  IF(M45 = \"> 5\", 'NR-PI 2.0 Structure'!$D$35, )))),\n\"-\")","v":0},{"$f":"IFERROR(IF(ISBLANK(I45),\"N/A\",IF(I45<>'NR-PI 2.0 Structure'!$C$5,(VLOOKUP(N45,'NR-PI 2.0 Structure'!$C$39:$D$40,2,FALSE)),0)),\" - \")","v":" - "},{"$f":"IFERROR(IF(ISBLANK(I45),\"N/A\",IF(I45<>'NR-PI 2.0 Structure'!$C$5,(VLOOKUP(N45,'NR-PI 2.0 Structure'!$C$39:$E$40,3,FALSE)),0)),\" - \")","v":" - "},"-","-","-","N/A",{"$f":"IF(ISBLANK('P Index Inputs'!R47),\"-\",'P Index Inputs'!R47)","v":"-"},{"$f":"IFERROR(IF(I45<>'NR-PI 2.0 Structure'!$C$5,VLOOKUP(AA45,'NR-PI 2.0 Structure'!$G$5:$H$9,2,FALSE),IF(OR(AA45='NR-PI 2.0 Structure'!$G$5,AA45='NR-PI 2.0 Structure'!$G$6,AA45='NR-PI 2.0 Structure'!$G$7),1,VLOOKUP(AA45,'NR-PI 2.0 Structure'!$G$8:$H$9,2,FALSE))),\"-\")","v":"-"},{"$f":"IF(ISBLANK('P Index Inputs'!S47),\"-\",'P Index Inputs'!S47)","v":"-"},{"$f":"IFERROR(VLOOKUP(AC45,'NR-PI 2.0 Structure'!$G$14:$H$19,2,FALSE),\"-\")","v":"-"},"-","-","N/A","N/A",0,0,0,0,0,0,0,0,0]
[{"$f":"'P Index Inputs'!A48","v":0},{"$f":"'P Index Inputs'!B48","v":0},{"$f":"'P Index Inputs'!C48","v":0},{"$f":"'P Index Inputs'!D48","v":0},{"$f":"'P Index Inputs'!E48","v":0},{"$f":"'P Index Inputs'!F48","v":0},{"$f":"'P Index Inputs'!H48","v":0},{"$f":"'P Index Inputs'!I48","v":0},{"$f":"'P Index Inputs'!J48","v":0},{"$f":"IF(ISBLANK('P Index Inputs'!L48),'P Index Inputs'!K48,'P Index Inputs'!L48)","v":"-"},{"$f":"'P Index Inputs'!M48","v":0},{"$f":"'P Index Inputs'!O48","v":0},{"$f":"'P Index Inputs'!P48","v":0},{"$f":"'P Index Inputs'!Q48","v":0},{"$f":"IFERROR(VLOOKUP(I46,'NR-PI 2.0 Structure'!$C$5:$D$8,2,FALSE),\"-\")","v":"-"},{"$f":"IFERROR(VLOOKUP(J46,'NR-PI 2.0 Structure'!$B$12:$C$16,2,FALSE),\"-\")","v":"-"},{"$f":"IFERROR(VLOOKUP(K46,'NR-PI 2.0 Structure'!$B$20:$D$21,3,FALSE),\"-\")","v":"-"},{"$f":"IFERROR(VLOOKUP(L46,'NR-PI 2.0 Structure'!$B$25:$C$28,2,FALSE),\"-\")","v":"-"},{"$f":"IFERROR(VLOOKUP(L46,'NR-PI 2.0 Structure'!$B$25:$D$28,3,FALSE),\"-\")","v":"-"},{"$f":"IFERROR(\n  IF(M46 = \"≤ 1\", 'NR-PI 2.0 Structure'!$D$32,\n  IF(M46 = \">1 - 3\", 'NR-PI 2.0 Structure'!$D$33,\n  IF(M46 = \">3 - 5\", 'NR-PI 2.0 Structure'!$D$34,\n  IF(M46 = \"> 5\", 'NR-PI 2.0 Structure'!$D$35, )))),\n\"-\")","v":0},{"$f":"IFERROR(IF(ISBLANK(I46),\"N/A\",IF(I46<>'NR-PI 2.0 Structure'!$C$5,(VLOOKUP(N46,'NR-PI 2.0 Structure'!$C$39:$D$40,2,FALSE)),0)),\" - \")","v":" - "},{"$f":"IFERROR(IF(ISBLANK(I46),\"N/A\",IF(I46<>'NR-PI 2.0 Structure'!$C$5,(VLOOKUP(N46,'NR-PI 2.0 Structure'!$C$39:$E$40,3,FALSE)),0)),\" - \")","v":" - "},"-","-","-","N/A",{"$f":"IF(ISBLANK('P Index Inputs'!R48),\"-\",'P Index Inputs'!R48)","v":"-"},{"$f":"IFERROR(IF(I46<>'NR-PI 2.0 Structure'!$C$5,VLOOKUP(AA46,'NR-PI 2.0 Structure'!$G$5:$H$9,2,FALSE),IF(OR(AA46='NR-PI 2.0 Structure'!$G$5,AA46='NR-PI 2.0 Structure'!$G$6,AA46='NR-PI 2.0 Structure'!$G$7),1,VLOOKUP(AA46,'NR-PI 2.0 Structure'!$G$8:$H$9,2,FALSE))),\"-\")","v":"-"},{"$f":"IF(ISBLANK('P Index Inputs'!S48),\"-\",'P Index Inputs'!S48)","v":"-"},{"$f":"IFERROR(VLOOKUP(AC46,'NR-PI 2.0 Structure'!$G$14:$H$19,2,FALSE),\"-\")","v":"-"},"-","-","N/A","N/A",0,0,0,0,0,0,0,0,0]
[{"$f":"'P Index Inputs'!A49","v":0},{"$f":"'P Index Inputs'!B49","v":0},{"$f":"'P Index Inputs'!C49","v":0},{"$f":"'P Index Inputs'!D49","v":0},{"$f":"'P Index Inputs'!E49","v":0},{"$f":"'P Index Inputs'!F49","v":0},{"$f":"'P Index Inputs'!H49","v":0},{"$f":"'P Index Inputs'!I49","v":0},{"$f":"'P Index Inputs'!J49","v":0},{"$f":"IF(ISBLANK('P Index Inputs'!L49),'P Index Inputs'!K49,'P Index Inputs'!L49)","v":"-"},{"$f":"'P Index Inputs'!M49","v":0},{"$f":"'P Index Inputs'!O49","v":0},{"$f":"'P Index Inputs'!P49","v":0},{"$f":"'P Index Inputs'!Q49","v":0},{"$f":"IFERROR(VLOOKUP(I47,'NR-PI 2.0 Structure'!$C$5:$D$8,2,FALSE),\"-\")","v":"-"},{"$f":"IFERROR(VLOOKUP(J47,'NR-PI 2.0 Structure'!$B$12:$C$16,2,FALSE),\"-\")","v":"-"},{"$f":"IFERROR(VLOOKUP(K47,'NR-PI 2.0 Structure'!$B$20:$D$21,3,FALSE),\"-\")","v":"-"},{"$f":"IFERROR(VLOOKUP(L47,'NR-PI 2.0 Structure'!$B$25:$C$28,2,FALSE),\"-\")","v":"-"},{"$f":"IFERROR(VLOOKUP(L47,'NR-PI 2.0 Structure'!$B$25:$D$28,3,FALSE),\"-\")","v":"-"},{"$f":"IFERROR(\n  IF(M47 = \"≤ 1\", 'NR-PI 2.0 Structure'!$D$32,\n  IF(M47 = \">1 - 3\", 'NR-PI 2.0 Structure'!$D$33,\n  IF(M47 = \">3 - 5\", 'NR-PI 2.0 Structure'!$D$34,\n  IF(M47 = \"> 5\", 'NR-PI 2.0 Structure'!$D$35, )))),\n\"-\")","v":0},{"$f":"IFERROR(IF(ISBLANK(I47),\"N/A\",IF(I47<>'NR-PI 2.0 Structure'!$C$5,(VLOOKUP(N47,'NR-PI 2.0 Structure'!$C$39:$D$40,2,FALSE)),0)),\" - \")","v":" - "},{"$f":"IFERROR(IF(ISBLANK(I47),\"N/A\",IF(I47<>'NR-PI 2.0 Structure'!$C$5,(VLOOKUP(N47,'NR-PI 2.0 Structure'!$C$39:$E$40,3,FALSE)),0)),\" - \")","v":" - "},"-","-","-","N/A",{"$f":"IF(ISBLANK('P Index Inputs'!R49),\"-\",'P Index Inputs'!R49)","v":"-"},{"$f":"IFERROR(IF(I47<>'NR-PI 2.0 Structure'!$C$5,VLOOKUP(AA47,'NR-PI 2.0 Structure'!$G$5:$H$9,2,FALSE),IF(OR(AA47='NR-PI 2.0 Structure'!$G$5,AA47='NR-PI 2.0 Structure'!$G$6,AA47='NR-PI 2.0 Structure'!$G$7),1,VLOOKUP(AA47,'NR-PI 2.0 Structure'!$G$8:$H$9,2,FALSE))),\"-\")","v":"-"},{"$f":"IF(ISBLANK('P Index Inputs'!S49),\"-\",'P Index Inputs'!S49)","v":"-"},{"$f":"IFERROR(VLOOKUP(AC47,'NR-PI 2.0 Structure'!$G$14:$H$19,2,FALSE),\"-\")","v":"-"},"-","-","N/A","N/A",0,0,0,0,0,0,0,0,0]
[{"$f":"'P Index Inputs'!A50","v":0},{"$f":"'P Index Inputs'!B50","v":0},{"$f":"'P Index Inputs'!C50","v":0},{"$f":"'P Index Inputs'!D50","v":0},{"$f":"'P Index Inputs'!E50","v":0},{"$f":"'P Index Inputs'!F50","v":0},{"$f":"'P Index Inputs'!H50","v":0},{"$f":"'P Index Inputs'!I50","v":0},{"$f":"'P Index Inputs'!J50","v":0},{"$f":"IF(ISBLANK('P Index Inputs'!L50),'P Index Inputs'!K50,'P Index Inputs'!L50)","v":"-"},{"$f":"'P Index Inputs'!M50","v":0},{"$f":"'P Index Inputs'!O50","v":0},{"$f":"'P Index Inputs'!P50","v":0},{"$f":"'P Index Inputs'!Q50","v":0},{"$f":"IFERROR(VLOOKUP(I48,'NR-PI 2.0 Structure'!$C$5:$D$8,2,FALSE),\"-\")","v":"-"},{"$f":"IFERROR(VLOOKUP(J48,'NR-PI 2.0 Structure'!$B$12:$C$16,2,FALSE),\"-\")","v":"-"},{"$f":"IFERROR(VLOOKUP(K48,'NR-PI 2.0 Structure'!$B$20:$D$21,3,FALSE),\"-\")","v":"-"},{"$f":"IFERROR(VLOOKUP(L48,'NR-PI 2.0 Structure'!$B$25:$C$28,2,FALSE),\"-\")","v":"-"},{"$f":"IFERROR(VLOOKUP(L48,'NR-PI 2.0 Structure'!$B$25:$D$28,3,FALSE),\"-\")","v":"-"},{"$f":"IFERROR(\n  IF(M48 = \"≤ 1\", 'NR-PI 2.0 Structure'!$D$32,\n  IF(M48 = \">1 - 3\", 'NR-PI 2.0 Structure'!$D$33,\n  IF(M48 = \">3 - 5\", 'NR-PI 2.0 Structure'!$D$34,\n  IF(M48 = \"> 5\", 'NR-PI 2.0 Structure'!$D$35, )))),\n\"-\")","v":0},{"$f":"IFERROR(IF(ISBLANK(I48),\"N/A\",IF(I48<>'NR-PI 2.0 Structure'!$C$5,(VLOOKUP(N48,'NR-PI 2.0 Structure'!$C$39:$D$40,2,FALSE)),0)),\" - \")","v":" - "},{"$f":"IFERROR(IF(ISBLANK(I48),\"N/A\",IF(I48<>'NR-PI 2.0 Structure'!$C$5,(VLOOKUP(N48,'NR-PI 2.0 Structure'!$C$39:$E$40,3,FALSE)),0)),\" - \")","v":" - "},"-","-","-","N/A",{"$f":"IF(ISBLANK('P Index Inputs'!R50),\"-\",'P Index Inputs'!R50)","v":"-"},{"$f":"IFERROR(IF(I48<>'NR-PI 2.0 Structure'!$C$5,VLOOKUP(AA48,'NR-PI 2.0 Structure'!$G$5:$H$9,2,FALSE),IF(OR(AA48='NR-PI 2.0 Structure'!$G$5,AA48='NR-PI 2.0 Structure'!$G$6,AA48='NR-PI 2.0 Structure'!$G$7),1,VLOOKUP(AA48,'NR-PI 2.0 Structure'!$G$8:$H$9,2,FALSE))),\"-\")","v":"-"},{"$f":"IF(ISBLANK('P Index Inputs'!S50),\"-\",'P Index Inputs'!S50)","v":"-"},{"$f":"IFERROR(VLOOKUP(AC48,'NR-PI 2.0 Structure'!$G$14:$H$19,2,FALSE),\"-\")","v":"-"},"-","-","N/A","N/A",0,0,0,0,0,0,0,0,0]
[{"$f":"'P Index Inputs'!A51","v":0},{"$f":"'P Index Inputs'!B51","v":0},{"$f":"'P Index Inputs'!C51","v":0},{"$f":"'P Index Inputs'!D51","v":0},{"$f":"'P Index Inputs'!E51","v":0},{"$f":"'P Index Inputs'!F51","v":0},{"$f":"'P Index Inputs'!H51","v":0},{"$f":"'P Index Inputs'!I51","v":0},{"$f":"'P Index Inputs'!J51","v":0},{"$f":"IF(ISBLANK('P Index Inputs'!L51),'P Index Inputs'!K51,'P Index Inputs'!L51)","v":"-"},{"$f":"'P Index Inputs'!M51","v":0},{"$f":"'P Index Inputs'!O51","v":0},{"$f":"'P Index Inputs'!P51","v":0},{"$f":"'P Index Inputs'!Q51","v":0},{"$f":"IFERROR(VLOOKUP(I49,'NR-PI 2.0 Structure'!$C$5:$D$8,2,FALSE),\"-\")","v":"-"},{"$f":"IFERROR(VLOOKUP(J49,'NR-PI 2.0 Structure'!$B$12:$C$16,2,FALSE),\"-\")","v":"-"},{"$f":"IFERROR(VLOOKUP(K49,'NR-PI 2.0 Structure'!$B$20:$D$21,3,FALSE),\"-\")","v":"-"},{"$f":"IFERROR(VLOOKUP(L49,'NR-PI 2.0 Structure'!$B$25:$C$28,2,FALSE),\"-\")","v":"-"},{"$f":"IFERROR(VLOOKUP(L49,'NR-PI 2.0 Structure'!$B$25:$D$28,3,FALSE),\"-\")","v":"-"},{"$f":"IFERROR(\n  IF(M49 = \"≤ 1\", 'NR-PI 2.0 Structure'!$D$32,\n  IF(M49 = \">1 - 3\", 'NR-PI 2.0 Structure'!$D$33,\n  IF(M49 = \">3 - 5\", 'NR-PI 2.0 Structure'!$D$34,\n  IF(M49 = \"> 5\", 'NR-PI 2.0 Structure'!$D$35, )))),\n\"-\")","v":0},{"$f":"IFERROR(IF(ISBLANK(I49),\"N/A\",IF(I49<>'NR-PI 2.0 Structure'!$C$5,(VLOOKUP(N49,'NR-PI 2.0 Structure'!$C$39:$D$40,2,FALSE)),0)),\" - \")","v":" - "},{"$f":"IFERROR(IF(ISBLANK(I49),\"N/A\",IF(I49<>'NR-PI 2.0 Structure'!$C$5,(VLOOKUP(N49,'NR-PI 2.0 Structure'!$C$39:$E$40,3,FALSE)),0)),\" - \")","v":" - "},"-","-","-","N/A",{"$f":"IF(ISBLANK('P Index Inputs'!R51),\"-\",'P Index Inputs'!R51)","v":"-"},{"$f":"IFERROR(IF(I49<>'NR-PI 2.0 Structure'!$C$5,VLOOKUP(AA49,'NR-PI 2.0 Structure'!$G$5:$H$9,2,FALSE),IF(OR(AA49='NR-PI 2.0 Structure'!$G$5,AA49='NR-PI 2.0 Structure'!$G$6,AA49='NR-PI 2.0 Structure'!$G$7),1,VLOOKUP(AA49,'NR-PI 2.0 Structure'!$G$8:$H$9,2,FALSE))),\"-\")","v":"-"},{"$f":"IF(ISBLANK('P Index Inputs'!S51),\"-\",'P Index Inputs'!S51)","v":"-"},{"$f":"IFERROR(VLOOKUP(AC49,'NR-PI 2.0 Structure'!$G$14:$H$19,2,FALSE),\"-\")","v":"-"},"-","-","N/A","N/A",0,0,0,0,0,0,0,0,0]
[{"$f":"'P Index Inputs'!A52","v":0},{"$f":"'P Index Inputs'!B52","v":0},{"$f":"'P Index Inputs'!C52","v":0},{"$f":"'P Index Inputs'!D52","v":0},{"$f":"'P Index Inputs'!E52","v":0},{"$f":"'P Index Inputs'!F52","v":0},{"$f":"'P Index Inputs'!H52","v":0},{"$f":"'P Index Inputs'!I52","v":0},{"$f":"'P Index Inputs'!J52","v":0},{"$f":"IF(ISBLANK('P Index Inputs'!L52),'P Index Inputs'!K52,'P Index Inputs'!L52)","v":"-"},{"$f":"'P Index Inputs'!M52","v":0},{"$f":"'P Index Inputs'!O52","v":0},{"$f":"'P Index Inputs'!P52","v":0},{"$f":"'P Index Inputs'!Q52","v":0},{"$f":"IFERROR(VLOOKUP(I50,'NR-PI 2.0 Structure'!$C$5:$D$8,2,FALSE),\"-\")","v":"-"},{"$f":"IFERROR(VLOOKUP(J50,'NR-PI 2.0 Structure'!$B$12:$C$16,2,FALSE),\"-\")","v":"-"},{"$f":"IFERROR(VLOOKUP(K50,'NR-PI 2.0 Structure'!$B$20:$D$21,3,FALSE),\"-\")","v":"-"},{"$f":"IFERROR(VLOOKUP(L50,'NR-PI 2.0 Structure'!$B$25:$C$28,2,FALSE),\"-\")","v":"-"},{"$f":"IFERROR(VLOOKUP(L50,'NR-PI 2.0 Structure'!$B$25:$D$28,3,FALSE),\"-\")","v":"-"},{"$f":"IFERROR(\n  IF(M50 = \"≤ 1\", 'NR-PI 2.0 Structure'!$D$32,\n  IF(M50 = \">1 - 3\", 'NR-PI 2.0 Structure'!$D$33,\n  IF(M50 = \">3 - 5\", 'NR-PI 2.0 Structure'!$D$34,\n  IF(M50 = \"> 5\", 'NR-PI 2.0 Structure'!$D$35, )))),\n\"-\")","v":0},{"$f":"IFERROR(IF(ISBLANK(I50),\"N/A\",IF(I50<>'NR-PI 2.0 Structure'!$C$5,(VLOOKUP(N50,'NR-PI 2.0 Structure'!$C$39:$D$40,2,FALSE)),0)),\" - \")","v":" - "},{"$f":"IFERROR(IF(ISBLANK(I50),\"N/A\",IF(I50<>'NR-PI 2.0 Structure'!$C$5,(VLOOKUP(N50,'NR-PI 2.0 Structure'!$C$39:$E$40,3,FALSE)),0)),\" - \")","v":" - "},"-","-","-","N/A",{"$f":"IF(ISBLANK('P Index Inputs'!R52),\"-\",'P Index Inputs'!R52)","v":"-"},{"$f":"IFERROR(IF(I50<>'NR-PI 2.0 Structure'!$C$5,VLOOKUP(AA50,'NR-PI 2.0 Structure'!$G$5:$H$9,2,FALSE),IF(OR(AA50='NR-PI 2.0 Structure'!$G$5,AA50='NR-PI 2.0 Structure'!$G$6,AA50='NR-PI 2.0 Structure'!$G$7),1,VLOOKUP(AA50,'NR-PI 2.0 Structure'!$G$8:$H$9,2,FALSE))),\"-\")","v":"-"},{"$f":"IF(ISBLANK('P Index Inputs'!S52),\"-\",'P Index Inputs'!S52)","v":"-"},{"$f":"IFERROR(VLOOKUP(AC50,'NR-PI 2.0 Structure'!$G$14:$H$19,2,FALSE),\"-\")","v":"-"},"-","-","N/A","N/A",0,0,0,0,0,0,0,0,0]
[{"$f":"'P Index Inputs'!A53","v":0},{"$f":"'P Index Inputs'!B53","v":0},{"$f":"'P Index Inputs'!C53","v":0},{"$f":"'P Index Inputs'!D53","v":0},{"$f":"'P Index Inputs'!E53","v":0},{"$f":"'P Index Inputs'!F53","v":0},{"$f":"'P Index Inputs'!H53","v":0},{"$f":"'P Index Inputs'!I53","v":0},{"$f":"'P Index Inputs'!J53","v":0},{"$f":"IF(ISBLANK('P Index Inputs'!L53),'P Index Inputs'!K53,'P Index Inputs'!L53)","v":"-"},{"$f":"'P Index Inputs'!M53","v":0},{"$f":"'P Index Inputs'!O53","v":0},{"$f":"'P Index Inputs'!P53","v":0},{"$f":"'P Index Inputs'!Q53","v":0},{"$f":"IFERROR(VLOOKUP(I51,'NR-PI 2.0 Structure'!$C$5:$D$8,2,FALSE),\"-\")","v":"-"},{"$f":"IFERROR(VLOOKUP(J51,'NR-PI 2.0 Structure'!$B$12:$C$16,2,FALSE),\"-\")","v":"-"},{"$f":"IFERROR(VLOOKUP(K51,'NR-PI 2.0 Structure'!$B$20:$D$21,3,FALSE),\"-\")","v":"-"},{"$f":"IFERROR(VLOOKUP(L51,'NR-PI 2.0 Structure'!$B$25:$C$28,2,FALSE),\"-\")","v":"-"},{"$f":"IFERROR(VLOOKUP(L51,'NR-PI 2.0 Structure'!$B$25:$D$28,3,FALSE),\"-\")","v":"-"},{"$f":"IFERROR(\n  IF(M51 = \"≤ 1\", 'NR-PI 2.0 Structure'!$D$32,\n  IF(M51 = \">1 - 3\", 'NR-PI 2.0 Structure'!$D$33,\n  IF(M51 = \">3 - 5\", 'NR-PI 2.0 Structure'!$D$34,\n  IF(M51 = \"> 5\", 'NR-PI 2.0 Structure'!$D$35, )))),\n\"-\")","v":0},{"$f":"IFERROR(IF(ISBLANK(I51),\"N/A\",IF(I51<>'NR-PI 2.0 Structure'!$C$5,(VLOOKUP(N51,'NR-PI 2.0 Structure'!$C$39:$D$40,2,FALSE)),0)),\" - \")","v":" - "},{"$f":"IFERROR(IF(ISBLANK(I51),\"N/A\",IF(I51<>'NR-PI 2.0 Structure'!$C$5,(VLOOKUP(N51,'NR-PI 2.0 Structure'!$C$39:$E$40,3,FALSE)),0)),\" - \")","v":" - "},"-","-","-","N/A",{"$f":"IF(ISBLANK('P Index Inputs'!R53),\"-\",'P Index Inputs'!R53)","v":"-"},{"$f":"IFERROR(IF(I51<>'NR-PI 2.0 Structure'!$C$5,VLOOKUP(AA51,'NR-PI 2.0 Structure'!$G$5:$H$9,2,FALSE),IF(OR(AA51='NR-PI 2.0 Structure'!$G$5,AA51='NR-PI 2.0 Structure'!$G$6,AA51='NR-PI 2.0 Structure'!$G$7),1,VLOOKUP(AA51,'NR-PI 2.0 Structure'!$G$8:$H$9,2,FALSE))),\"-\")","v":"-"},{"$f":"IF(ISBLANK('P Index Inputs'!S53),\"-\",'P Index Inputs'!S53)","v":"-"},{"$f":"IFERROR(VLOOKUP(AC51,'NR-PI 2.0 Structure'!$G$14:$H$19,2,FALSE),\"-\")","v":"-"},"-","-","N/A","N/A",0,0,0,0,0,0,0,0,0]
[{"$f":"'P Index Inputs'!A54","v":0},{"$f":"'P Index Inputs'!B54","v":0},{"$f":"'P Index Inputs'!C54","v":0},{"$f":"'P Index Inputs'!D54","v":0},{"$f":"'P Index Inputs'!E54","v":0},{"$f":"'P Index Inputs'!F54","v":0},{"$f":"'P Index Inputs'!H54","v":0},{"$f":"'P Index Inputs'!I54","v":0},{"$f":"'P Index Inputs'!J54","v":0},{"$f":"IF(ISBLANK('P Index Inputs'!L54),'P Index Inputs'!K54,'P Index Inputs'!L54)","v":"-"},{"$f":"'P Index Inputs'!M54","v":0},{"$f":"'P Index Inputs'!O54","v":0},{"$f":"'P Index Inputs'!P54","v":0},{"$f":"'P Index Inputs'!Q54","v":0},{"$f":"IFERROR(VLOOKUP(I52,'NR-PI 2.0 Structure'!$C$5:$D$8,2,FALSE),\"-\")","v":"-"},{"$f":"IFERROR(VLOOKUP(J52,'NR-PI 2.0 Structure'!$B$12:$C$16,2,FALSE),\"-\")","v":"-"},{"$f":"IFERROR(VLOOKUP(K52,'NR-PI 2.0 Structure'!$B$20:$D$21,3,FALSE),\"-\")","v":"-"},{"$f":"IFERROR(VLOOKUP(L52,'NR-PI 2.0 Structure'!$B$25:$C$28,2,FALSE),\"-\")","v":"-"},{"$f":"IFERROR(VLOOKUP(L52,'NR-PI 2.0 Structure'!$B$25:$D$28,3,FALSE),\"-\")","v":"-"},{"$f":"IFERROR(\n  IF(M52 = \"≤ 1\", 'NR-PI 2.0 Structure'!$D$32,\n  IF(M52 = \">1 - 3\", 'NR-PI 2.0 Structure'!$D$33,\n  IF(M52 = \">3 - 5\", 'NR-PI 2.0 Structure'!$D$34,\n  IF(M52 = \"> 5\", 'NR-PI 2.0 Structure'!$D$35, )))),\n\"-\")","v":0},{"$f":"IFERROR(IF(ISBLANK(I52),\"N/A\",IF(I52<>'NR-PI 2.0 Structure'!$C$5,(VLOOKUP(N52,'NR-PI 2.0 Structure'!$C$39:$D$40,2,FALSE)),0)),\" - \")","v":" - "},{"$f":"IFERROR(IF(ISBLANK(I52),\"N/A\",IF(I52<>'NR-PI 2.0 Structure'!$C$5,(VLOOKUP(N52,'NR-PI 2.0 Structure'!$C$39:$E$40,3,FALSE)),0)),\" - \")","v":" - "},"-","-","-","N/A",{"$f":"IF(ISBLANK('P Index Inputs'!R54),\"-\",'P Index Inputs'!R54)","v":"-"},{"$f":"IFERROR(IF(I52<>'NR-PI 2.0 Structure'!$C$5,VLOOKUP(AA52,'NR-PI 2.0 Structure'!$G$5:$H$9,2,FALSE),IF(OR(AA52='NR-PI 2.0 Structure'!$G$5,AA52='NR-PI 2.0 Structure'!$G$6,AA52='NR-PI 2.0 Structure'!$G$7),1,VLOOKUP(AA52,'NR-PI 2.0 Structure'!$G$8:$H$9,2,FALSE))),\"-\")","v":"-"},{"$f":"IF(ISBLANK('P Index Inputs'!S54),\"-\",'P Index Inputs'!S54)","v":"-"},{"$f":"IFERROR(VLOOKUP(AC52,'NR-PI 2.0 Structure'!$G$14:$H$19,2,FALSE),\"-\")","v":"-"},"-","-","N/A","N/A",0,0,0,0,0,0,0,0,0]
[{"$f":"'P Index Inputs'!A55","v":0},{"$f":"'P Index Inputs'!B55","v":0},{"$f":"'P Index Inputs'!C55","v":0},{"$f":"'P Index Inputs'!D55","v":0},{"$f":"'P Index Inputs'!E55","v":0},{"$f":"'P Index Inputs'!F55","v":0},{"$f":"'P Index Inputs'!H55","v":0},{"$f":"'P Index Inputs'!I55","v":0},{"$f":"'P Index Inputs'!J55","v":0},{"$f":"IF(ISBLANK('P Index Inputs'!L55),'P Index Inputs'!K55,'P Index Inputs'!L55)","v":"-"},{"$f":"'P Index Inputs'!M55","v":0},{"$f":"'P Index Inputs'!O55","v":0},{"$f":"'P Index Inputs'!P55","v":0},{"$f":"'P Index Inputs'!Q55","v":0},{"$f":"IFERROR(VLOOKUP(I53,'NR-PI 2.0 Structure'!$C$5:$D$8,2,FALSE),\"-\")","v":"-"},{"$f":"IFERROR(VLOOKUP(J53,'NR-PI 2.0 Structure'!$B$12:$C$16,2,FALSE),\"-\")","v":"-"},{"$f":"IFERROR(VLOOKUP(K53,'NR-PI 2.0 Structure'!$B$20:$D$21,3,FALSE),\"-\")","v":"-"},{"$f":"IFERROR(VLOOKUP(L53,'NR-PI 2.0 Structure'!$B$25:$C$28,2,FALSE),\"-\")","v":"-"},{"$f":"IFERROR(VLOOKUP(L53,'NR-PI 2.0 Structure'!$B$25:$D$28,3,FALSE),\"-\")","v":"-"},{"$f":"IFERROR(\n  IF(M53 = \"≤ 1\", 'NR-PI 2.0 Structure'!$D$32,\n  IF(M53 = \">1 - 3\", 'NR-PI 2.0 Structure'!$D$33,\n  IF(M53 = \">3 - 5\", 'NR-PI 2.0 Structure'!$D$34,\n  IF(M53 = \"> 5\", 'NR-PI 2.0 Structure'!$D$35, )))),\n\"-\")","v":0},{"$f":"IFERROR(IF(ISBLANK(I53),\"N/A\",IF(I53<>'NR-PI 2.0 Structure'!$C$5,(VLOOKUP(N53,'NR-PI 2.0 Structure'!$C$39:$D$40,2,FALSE)),0)),\" - \")","v":" - "},{"$f":"IFERROR(IF(ISBLANK(I53),\"N/A\",IF(I53<>'NR-PI 2.0 Structure'!$C$5,(VLOOKUP(N53,'NR-PI 2.0 Structure'!$C$39:$E$40,3,FALSE)),0)),\" - \")","v":" - "},"-","-","-","N/A",{"$f":"IF(ISBLANK('P Index Inputs'!R55),\"-\",'P Index Inputs'!R55)","v":"-"},{"$f":"IFERROR(IF(I53<>'NR-PI 2.0 Structure'!$C$5,VLOOKUP(AA53,'NR-PI 2.0 Structure'!$G$5:$H$9,2,FALSE),IF(OR(AA53='NR-PI 2.0 Structure'!$G$5,AA53='NR-PI 2.0 Structure'!$G$6,AA53='NR-PI 2.0 Structure'!$G$7),1,VLOOKUP(AA53,'NR-PI 2.0 Structure'!$G$8:$H$9,2,FALSE))),\"-\")","v":"-"},{"$f":"IF(ISBLANK('P Index Inputs'!S55),\"-\",'P Index Inputs'!S55)","v":"-"},{"$f":"IFERROR(VLOOKUP(AC53,'NR-PI 2.0 Structure'!$G$14:$H$19,2,FALSE),\"-\")","v":"-"},"-","-","N/A","N/A",0,0,0,0,0,0,0,0,0]
[{"$f":"'P Index Inputs'!A56","v":0},{"$f":"'P Index Inputs'!B56","v":0},{"$f":"'P Index Inputs'!C56","v":0},{"$f":"'P Index Inputs'!D56","v":0},{"$f":"'P Index Inputs'!E56","v":0},{"$f":"'P Index Inputs'!F56","v":0},{"$f":"'P Index Inputs'!H56","v":0},{"$f":"'P Index Inputs'!I56","v":0},{"$f":"'P Index Inputs'!J56","v":0},{"$f":"IF(ISBLANK('P Index Inputs'!L56),'P Index Inputs'!K56,'P Index Inputs'!L56)","v":"-"},{"$f":"'P Index Inputs'!M56","v":0},{"$f":"'P Index Inputs'!O56","v":0},{"$f":"'P Index Inputs'!P56","v":0},{"$f":"'P Index Inputs'!Q56","v":0},{"$f":"IFERROR(VLOOKUP(I54,'NR-PI 2.0 Structure'!$C$5:$D$8,2,FALSE),\"-\")","v":"-"},{"$f":"IFERROR(VLOOKUP(J54,'NR-PI 2.0 Structure'!$B$12:$C$16,2,FALSE),\"-\")","v":"-"},{"$f":"IFERROR(VLOOKUP(K54,'NR-PI 2.0 Structure'!$B$20:$D$21,3,FALSE),\"-\")","v":"-"},{"$f":"IFERROR(VLOOKUP(L54,'NR-PI 2.0 Structure'!$B$25:$C$28,2,FALSE),\"-\")","v":"-"},{"$f":"IFERROR(VLOOKUP(L54,'NR-PI 2.0 Structure'!$B$25:$D$28,3,FALSE),\"-\")","v":"-"},{"$f":"IFERROR(\n  IF(M54 = \"≤ 1\", 'NR-PI 2.0 Structure'!$D$32,\n  IF(M54 = \">1 - 3\", 'NR-PI 2.0 Structure'!$D$33,\n  IF(M54 = \">3 - 5\", 'NR-PI 2.0 Structure'!$D$34,\n  IF(M54 = \"> 5\", 'NR-PI 2.0 Structure'!$D$35, )))),\n\"-\")","v":0},{"$f":"IFERROR(IF(ISBLANK(I54),\"N/A\",IF(I54<>'NR-PI 2.0 Structure'!$C$5,(VLOOKUP(N54,'NR-PI 2.0 Structure'!$C$39:$D$40,2,FALSE)),0)),\" - \")","v":" - "},{"$f":"IFERROR(IF(ISBLANK(I54),\"N/A\",IF(I54<>'NR-PI 2.0 Structure'!$C$5,(VLOOKUP(N54,'NR-PI 2.0 Structure'!$C$39:$E$40,3,FALSE)),0)),\" - \")","v":" - "},"-","-","-","N/A",{"$f":"IF(ISBLANK('P Index Inputs'!R56),\"-\",'P Index Inputs'!R56)","v":"-"},{"$f":"IFERROR(IF(I54<>'NR-PI 2.0 Structure'!$C$5,VLOOKUP(AA54,'NR-PI 2.0 Structure'!$G$5:$H$9,2,FALSE),IF(OR(AA54='NR-PI 2.0 Structure'!$G$5,AA54='NR-PI 2.0 Structure'!$G$6,AA54='NR-PI 2.0 Structure'!$G$7),1,VLOOKUP(AA54,'NR-PI 2.0 Structure'!$G$8:$H$9,2,FALSE))),\"-\")","v":"-"},{"$f":"IF(ISBLANK('P Index Inputs'!S56),\"-\",'P Index Inputs'!S56)","v":"-"},{"$f":"IFERROR(VLOOKUP(AC54,'NR-PI 2.0 Structure'!$G$14:$H$19,2,FALSE),\"-\")","v":"-"},"-","-","N/A","N/A",0,0,0,0,0,0,0,0,0]
[{"$f":"'P Index Inputs'!A57","v":0},{"$f":"'P Index Inputs'!B57","v":0},{"$f":"'P Index Inputs'!C57","v":0},{"$f":"'P Index Inputs'!D57","v":0},{"$f":"'P Index Inputs'!E57","v":0},{"$f":"'P Index Inputs'!F57","v":0},{"$f":"'P Index Inputs'!H57","v":0},{"$f":"'P Index Inputs'!I57","v":0},{"$f":"'P Index Inputs'!J57","v":0},{"$f":"IF(ISBLANK('P Index Inputs'!L57),'P Index Inputs'!K57,'P Index Inputs'!L57)","v":"-"},{"$f":"'P Index Inputs'!M57","v":0},{"$f":"'P Index Inputs'!O57","v":0},{"$f":"'P Index Inputs'!P57","v":0},{"$f":"'P Index Inputs'!Q57","v":0},{"$f":"IFERROR(VLOOKUP(I55,'NR-PI 2.0 Structure'!$C$5:$D$8,2,FALSE),\"-\")","v":"-"},{"$f":"IFERROR(VLOOKUP(J55,'NR-PI 2.0 Structure'!$B$12:$C$16,2,FALSE),\"-\")","v":"-"},{"$f":"IFERROR(VLOOKUP(K55,'NR-PI 2.0 Structure'!$B$20:$D$21,3,FALSE),\"-\")","v":"-"},{"$f":"IFERROR(VLOOKUP(L55,'NR-PI 2.0 Structure'!$B$25:$C$28,2,FALSE),\"-\")","v":"-"},{"$f":"IFERROR(VLOOKUP(L55,'NR-PI 2.0 Structure'!$B$25:$D$28,3,FALSE),\"-\")","v":"-"},{"$f":"IFERROR(\n  IF(M55 = \"≤ 1\", 'NR-PI 2.0 Structure'!$D$32,\n  IF(M55 = \">1 - 3\", 'NR-PI 2.0 Structure'!$D$33,\n  IF(M55 = \">3 - 5\", 'NR-PI 2.0 Structure'!$D$34,\n  IF(M55 = \"> 5\", 'NR-PI 2.0 Structure'!$D$35, )))),\n\"-\")","v":0},{"$f":"IFERROR(IF(ISBLANK(I55),\"N/A\",IF(I55<>'NR-PI 2.0 Structure'!$C$5,(VLOOKUP(N55,'NR-PI 2.0 Structure'!$C$39:$D$40,2,FALSE)),0)),\" - \")","v":" - "},{"$f":"IFERROR(IF(ISBLANK(I55),\"N/A\",IF(I55<>'NR-PI 2.0 Structure'!$C$5,(VLOOKUP(N55,'NR-PI 2.0 Structure'!$C$39:$E$40,3,FALSE)),0)),\" - \")","v":" - "},"-","-","-","N/A",{"$f":"IF(ISBLANK('P Index Inputs'!R57),\"-\",'P Index Inputs'!R57)","v":"-"},{"$f":"IFERROR(IF(I55<>'NR-PI 2.0 Structure'!$C$5,VLOOKUP(AA55,'NR-PI 2.0 Structure'!$G$5:$H$9,2,FALSE),IF(OR(AA55='NR-PI 2.0 Structure'!$G$5,AA55='NR-PI 2.0 Structure'!$G$6,AA55='NR-PI 2.0 Structure'!$G$7),1,VLOOKUP(AA55,'NR-PI 2.0 Structure'!$G$8:$H$9,2,FALSE))),\"-\")","v":"-"},{"$f":"IF(ISBLANK('P Index Inputs'!S57),\"-\",'P Index Inputs'!S57)","v":"-"},{"$f":"IFERROR(VLOOKUP(AC55,'NR-PI 2.0 Structure'!$G$14:$H$19,2,FALSE),\"-\")","v":"-"},"-","-","N/A","N/A",0,0,0,0,0,0,0,0,0]
[{"$f":"'P Index Inputs'!A58","v":0},{"$f":"'P Index Inputs'!B58","v":0},{"$f":"'P Index Inputs'!C58","v":0},{"$f":"'P Index Inputs'!D58","v":0},{"$f":"'P Index Inputs'!E58","v":0},{"$f":"'P Index Inputs'!F58","v":0},{"$f":"'P Index Inputs'!H58","v":0},{"$f":"'P Index Inputs'!I58","v":0},{"$f":"'P Index Inputs'!J58","v":0},{"$f":"IF(ISBLANK('P Index Inputs'!L58),'P Index Inputs'!K58,'P Index Inputs'!L58)","v":"-"},{"$f":"'P Index Inputs'!M58","v":0},{"$f":"'P Index Inputs'!O58","v":0},{"$f":"'P Index Inputs'!P58","v":0},{"$f":"'P Index Inputs'!Q58","v":0},{"$f":"IFERROR(VLOOKUP(I56,'NR-PI 2.0 Structure'!$C$5:$D$8,2,FALSE),\"-\")","v":"-"},{"$f":"IFERROR(VLOOKUP(J56,'NR-PI 2.0 Structure'!$B$12:$C$16,2,FALSE),\"-\")","v":"-"},{"$f":"IFERROR(VLOOKUP(K56,'NR-PI 2.0 Structure'!$B$20:$D$21,3,FALSE),\"-\")","v":"-"},{"$f":"IFERROR(VLOOKUP(L56,'NR-PI 2.0 Structure'!$B$25:$C$28,2,FALSE),\"-\")","v":"-"},{"$f":"IFERROR(VLOOKUP(L56,'NR-PI 2.0 Structure'!$B$25:$D$28,3,FALSE),\"-\")","v":"-"},{"$f":"IFERROR(\n  IF(M56 = \"≤ 1\", 'NR-PI 2.0 Structure'!$D$32,\n  IF(M56 = \">1 - 3\", 'NR-PI 2.0 Structure'!$D$33,\n  IF(M56 = \">3 - 5\", 'NR-PI 2.0 Structure'!$D$34,\n  IF(M56 = \"> 5\", 'NR-PI 2.0 Structure'!$D$35, )))),\n\"-\")","v":0},{"$f":"IFERROR(IF(ISBLANK(I56),\"N/A\",IF(I56<>'NR-PI 2.0 Structure'!$C$5,(VLOOKUP(N56,'NR-PI 2.0 Structure'!$C$39:$D$40,2,FALSE)),0)),\" - \")","v":" - "},{"$f":"IFERROR(IF(ISBLANK(I56),\"N/A\",IF(I56<>'NR-PI 2.0 Structure'!$C$5,(VLOOKUP(N56,'NR-PI 2.0 Structure'!$C$39:$E$40,3,FALSE)),0)),\" - \")","v":" - "},"-","-","-","N/A",{"$f":"IF(ISBLANK('P Index Inputs'!R58),\"-\",'P Index Inputs'!R58)","v":"-"},{"$f":"IFERROR(IF(I56<>'NR-PI 2.0 Structure'!$C$5,VLOOKUP(AA56,'NR-PI 2.0 Structure'!$G$5:$H$9,2,FALSE),IF(OR(AA56='NR-PI 2.0 Structure'!$G$5,AA56='NR-PI 2.0 Structure'!$G$6,AA56='NR-PI 2.0 Structure'!$G$7),1,VLOOKUP(AA56,'NR-PI 2.0 Structure'!$G$8:$H$9,2,FALSE))),\"-\")","v":"-"},{"$f":"IF(ISBLANK('P Index Inputs'!S58),\"-\",'P Index Inputs'!S58)","v":"-"},{"$f":"IFERROR(VLOOKUP(AC56,'NR-PI 2.0 Structure'!$G$14:$H$19,2,FALSE),\"-\")","v":"-"},"-","-","N/A","N/A",0,0,0,0,0,0,0,0,0]
[{"$f":"'P Index Inputs'!A59","v":0},{"$f":"'P Index Inputs'!B59","v":0},{"$f":"'P Index Inputs'!C59","v":0},{"$f":"'P Index Inputs'!D59","v":0},{"$f":"'P Index Inputs'!E59","v":0},{"$f":"'P Index Inputs'!F59","v":0},{"$f":"'P Index Inputs'!H59","v":0},{"$f":"'P Index Inputs'!I59","v":0},{"$f":"'P Index Inputs'!J59","v":0},{"$f":"IF(ISBLANK('P Index Inputs'!L59),'P Index Inputs'!K59,'P Index Inputs'!L59)","v":"-"},{"$f":"'P Index Inputs'!M59","v":0},{"$f":"'P Index Inputs'!O59","v":0},{"$f":"'P Index Inputs'!P59","v":0},{"$f":"'P Index Inputs'!Q59","v":0},{"$f":"IFERROR(VLOOKUP(I57,'NR-PI 2.0 Structure'!$C$5:$D$8,2,FALSE),\"-\")","v":"-"},{"$f":"IFERROR(VLOOKUP(J57,'NR-PI 2.0 Structure'!$B$12:$C$16,2,FALSE),\"-\")","v":"-"},{"$f":"IFERROR(VLOOKUP(K57,'NR-PI 2.0 Structure'!$B$20:$D$21,3,FALSE),\"-\")","v":"-"},{"$f":"IFERROR(VLOOKUP(L57,'NR-PI 2.0 Structure'!$B$25:$C$28,2,FALSE),\"-\")","v":"-"},{"$f":"IFERROR(VLOOKUP(L57,'NR-PI 2.0 Structure'!$B$25:$D$28,3,FALSE),\"-\")","v":"-"},{"$f":"IFERROR(\n  IF(M57 = \"≤ 1\", 'NR-PI 2.0 Structure'!$D$32,\n  IF(M57 = \">1 - 3\", 'NR-PI 2.0 Structure'!$D$33,\n  IF(M57 = \">3 - 5\", 'NR-PI 2.0 Structure'!$D$34,\n  IF(M57 = \"> 5\", 'NR-PI 2.0 Structure'!$D$35, )))),\n\"-\")","v":0},{"$f":"IFERROR(IF(ISBLANK(I57),\"N/A\",IF(I57<>'NR-PI 2.0 Structure'!$C$5,(VLOOKUP(N57,'NR-PI 2.0 Structure'!$C$39:$D$40,2,FALSE)),0)),\" - \")","v":" - "},{"$f":"IFERROR(IF(ISBLANK(I57),\"N/A\",IF(I57<>'NR-PI 2.0 Structure'!$C$5,(VLOOKUP(N57,'NR-PI 2.0 Structure'!$C$39:$E$40,3,FALSE)),0)),\" - \")","v":" - "},"-","-","-","N/A",{"$f":"IF(ISBLANK('P Index Inputs'!R59),\"-\",'P Index Inputs'!R59)","v":"-"},{"$f":"IFERROR(IF(I57<>'NR-PI 2.0 Structure'!$C$5,VLOOKUP(AA57,'NR-PI 2.0 Structure'!$G$5:$H$9,2,FALSE),IF(OR(AA57='NR-PI 2.0 Structure'!$G$5,AA57='NR-PI 2.0 Structure'!$G$6,AA57='NR-PI 2.0 Structure'!$G$7),1,VLOOKUP(AA57,'NR-PI 2.0 Structure'!$G$8:$H$9,2,FALSE))),\"-\")","v":"-"},{"$f":"IF(ISBLANK('P Index Inputs'!S59),\"-\",'P Index Inputs'!S59)","v":"-"},{"$f":"IFERROR(VLOOKUP(AC57,'NR-PI 2.0 Structure'!$G$14:$H$19,2,FALSE),\"-\")","v":"-"},"-","-","N/A","N/A",0,0,0,0,0,0,0,0,0]
[{"$f":"'P Index Inputs'!A60","v":0},{"$f":"'P Index Inputs'!B60","v":0},{"$f":"'P Index Inputs'!C60","v":0},{"$f":"'P Index Inputs'!D60","v":0},{"$f":"'P Index Inputs'!E60","v":0},{"$f":"'P Index Inputs'!F60","v":0},{"$f":"'P Index Inputs'!H60","v":0},{"$f":"'P Index Inputs'!I60","v":0},{"$f":"'P Index Inputs'!J60","v":0},{"$f":"IF(ISBLANK('P Index Inputs'!L60),'P Index Inputs'!K60,'P Index Inputs'!L60)","v":"-"},{"$f":"'P Index Inputs'!M60","v":0},{"$f":"'P Index Inputs'!O60","v":0},{"$f":"'P Index Inputs'!P60","v":0},{"$f":"'P Index Inputs'!Q60","v":0},{"$f":"IFERROR(VLOOKUP(I58,'NR-PI 2.0 Structure'!$C$5:$D$8,2,FALSE),\"-\")","v":"-"},{"$f":"IFERROR(VLOOKUP(J58,'NR-PI 2.0 Structure'!$B$12:$C$16,2,FALSE),\"-\")","v":"-"},{"$f":"IFERROR(VLOOKUP(K58,'NR-PI 2.0 Structure'!$B$20:$D$21,3,FALSE),\"-\")","v":"-"},{"$f":"IFERROR(VLOOKUP(L58,'NR-PI 2.0 Structure'!$B$25:$C$28,2,FALSE),\"-\")","v":"-"},{"$f":"IFERROR(VLOOKUP(L58,'NR-PI 2.0 Structure'!$B$25:$D$28,3,FALSE),\"-\")","v":"-"},{"$f":"IFERROR(\n  IF(M58 = \"≤ 1\", 'NR-PI 2.0 Structure'!$D$32,\n  IF(M58 = \">1 - 3\", 'NR-PI 2.0 Structure'!$D$33,\n  IF(M58 = \">3 - 5\", 'NR-PI 2.0 Structure'!$D$34,\n  IF(M58 = \"> 5\", 'NR-PI 2.0 Structure'!$D$35, )))),\n\"-\")","v":0},{"$f":"IFERROR(IF(ISBLANK(I58),\"N/A\",IF(I58<>'NR-PI 2.0 Structure'!$C$5,(VLOOKUP(N58,'NR-PI 2.0 Structure'!$C$39:$D$40,2,FALSE)),0)),\" - \")","v":" - "},{"$f":"IFERROR(IF(ISBLANK(I58),\"N/A\",IF(I58<>'NR-PI 2.0 Structure'!$C$5,(VLOOKUP(N58,'NR-PI 2.0 Structure'!$C$39:$E$40,3,FALSE)),0)),\" - \")","v":" - "},"-","-","-","N/A",{"$f":"IF(ISBLANK('P Index Inputs'!R60),\"-\",'P Index Inputs'!R60)","v":"-"},{"$f":"IFERROR(IF(I58<>'NR-PI 2.0 Structure'!$C$5,VLOOKUP(AA58,'NR-PI 2.0 Structure'!$G$5:$H$9,2,FALSE),IF(OR(AA58='NR-PI 2.0 Structure'!$G$5,AA58='NR-PI 2.0 Structure'!$G$6,AA58='NR-PI 2.0 Structure'!$G$7),1,VLOOKUP(AA58,'NR-PI 2.0 Structure'!$G$8:$H$9,2,FALSE))),\"-\")","v":"-"},{"$f":"IF(ISBLANK('P Index Inputs'!S60),\"-\",'P Index Inputs'!S60)","v":"-"},{"$f":"IFERROR(VLOOKUP(AC58,'NR-PI 2.0 Structure'!$G$14:$H$19,2,FALSE),\"-\")","v":"-"},"-","-","N/A","N/A",0,0,0,0,0,0,0,0,0]
[{"$f":"'P Index Inputs'!A61","v":0},{"$f":"'P Index Inputs'!B61","v":0},{"$f":"'P Index Inputs'!C61","v":0},{"$f":"'P Index Inputs'!D61","v":0},{"$f":"'P Index Inputs'!E61","v":0},{"$f":"'P Index Inputs'!F61","v":0},{"$f":"'P Index Inputs'!H61","v":0},{"$f":"'P Index Inputs'!I61","v":0},{"$f":"'P Index Inputs'!J61","v":0},{"$f":"IF(ISBLANK('P Index Inputs'!L61),'P Index Inputs'!K61,'P Index Inputs'!L61)","v":"-"},{"$f":"'P Index Inputs'!M61","v":0},{"$f":"'P Index Inputs'!O61","v":0},{"$f":"'P Index Inputs'!P61","v":0},{"$f":"'P Index Inputs'!Q61","v":0},{"$f":"IFERROR(VLOOKUP(I59,'NR-PI 2.0 Structure'!$C$5:$D$8,2,FALSE),\"-\")","v":"-"},{"$f":"IFERROR(VLOOKUP(J59,'NR-PI 2.0 Structure'!$B$12:$C$16,2,FALSE),\"-\")","v":"-"},{"$f":"IFERROR(VLOOKUP(K59,'NR-PI 2.0 Structure'!$B$20:$D$21,3,FALSE),\"-\")","v":"-"},{"$f":"IFERROR(VLOOKUP(L59,'NR-PI 2.0 Structure'!$B$25:$C$28,2,FALSE),\"-\")","v":"-"},{"$f":"IFERROR(VLOOKUP(L59,'NR-PI 2.0 Structure'!$B$25:$D$28,3,FALSE),\"-\")","v":"-"},{"$f":"IFERROR(\n  IF(M59 = \"≤ 1\", 'NR-PI 2.0 Structure'!$D$32,\n  IF(M59 = \">1 - 3\", 'NR-PI 2.0 Structure'!$D$33,\n  IF(M59 = \">3 - 5\", 'NR-PI 2.0 Structure'!$D$34,\n  IF(M59 = \"> 5\", 'NR-PI 2.0 Structure'!$D$35, )))),\n\"-\")","v":0},{"$f":"IFERROR(IF(ISBLANK(I59),\"N/A\",IF(I59<>'NR-PI 2.0 Structure'!$C$5,(VLOOKUP(N59,'NR-PI 2.0 Structure'!$C$39:$D$40,2,FALSE)),0)),\" - \")","v":" - "},{"$f":"IFERROR(IF(ISBLANK(I59),\"N/A\",IF(I59<>'NR-PI 2.0 Structure'!$C$5,(VLOOKUP(N59,'NR-PI 2.0 Structure'!$C$39:$E$40,3,FALSE)),0)),\" - \")","v":" - "},"-","-","-","N/A",{"$f":"IF(ISBLANK('P Index Inputs'!R61),\"-\",'P Index Inputs'!R61)","v":"-"},{"$f":"IFERROR(IF(I59<>'NR-PI 2.0 Structure'!$C$5,VLOOKUP(AA59,'NR-PI 2.0 Structure'!$G$5:$H$9,2,FALSE),IF(OR(AA59='NR-PI 2.0 Structure'!$G$5,AA59='NR-PI 2.0 Structure'!$G$6,AA59='NR-PI 2.0 Structure'!$G$7),1,VLOOKUP(AA59,'NR-PI 2.0 Structure'!$G$8:$H$9,2,FALSE))),\"-\")","v":"-"},{"$f":"IF(ISBLANK('P Index Inputs'!S61),\"-\",'P Index Inputs'!S61)","v":"-"},{"$f":"IFERROR(VLOOKUP(AC59,'NR-PI 2.0 Structure'!$G$14:$H$19,2,FALSE),\"-\")","v":"-"},"-","-","N/A","N/A",0,0,0,0,0,0,0,0,0]
[{"$f":"'P Index Inputs'!A62","v":0},{"$f":"'P Index Inputs'!B62","v":0},{"$f":"'P Index Inputs'!C62","v":0},{"$f":"'P Index Inputs'!D62","v":0},{"$f":"'P Index Inputs'!E62","v":0},{"$f":"'P Index Inputs'!F62","v":0},{"$f":"'P Index Inputs'!H62","v":0},{"$f":"'P Index Inputs'!I62","v":0},{"$f":"'P Index Inputs'!J62","v":0},{"$f":"IF(ISBLANK('P Index Inputs'!L62),'P Index Inputs'!K62,'P Index Inputs'!L62)","v":"-"},{"$f":"'P Index Inputs'!M62","v":0},{"$f":"'P Index Inputs'!O62","v":0},{"$f":"'P Index Inputs'!P62","v":0},{"$f":"'P Index Inputs'!Q62","v":0},{"$f":"IFERROR(VLOOKUP(I60,'NR-PI 2.0 Structure'!$C$5:$D$8,2,FALSE),\"-\")","v":"-"},{"$f":"IFERROR(VLOOKUP(J60,'NR-PI 2.0 Structure'!$B$12:$C$16,2,FALSE),\"-\")","v":"-"},{"$f":"IFERROR(VLOOKUP(K60,'NR-PI 2.0 Structure'!$B$20:$D$21,3,FALSE),\"-\")","v":"-"},{"$f":"IFERROR(VLOOKUP(L60,'NR-PI 2.0 Structure'!$B$25:$C$28,2,FALSE),\"-\")","v":"-"},{"$f":"IFERROR(VLOOKUP(L60,'NR-PI 2.0 Structure'!$B$25:$D$28,3,FALSE),\"-\")","v":"-"},{"$f":"IFERROR(\n  IF(M60 = \"≤ 1\", 'NR-PI 2.0 Structure'!$D$32,\n  IF(M60 = \">1 - 3\", 'NR-PI 2.0 Structure'!$D$33,\n  IF(M60 = \">3 - 5\", 'NR-PI 2.0 Structure'!$D$34,\n  IF(M60 = \"> 5\", 'NR-PI 2.0 Structure'!$D$35, )))),\n\"-\")","v":0},{"$f":"IFERROR(IF(ISBLANK(I60),\"N/A\",IF(I60<>'NR-PI 2.0 Structure'!$C$5,(VLOOKUP(N60,'NR-PI 2.0 Structure'!$C$39:$D$40,2,FALSE)),0)),\" - \")","v":" - "},{"$f":"IFERROR(IF(ISBLANK(I60),\"N/A\",IF(I60<>'NR-PI 2.0 Structure'!$C$5,(VLOOKUP(N60,'NR-PI 2.0 Structure'!$C$39:$E$40,3,FALSE)),0)),\" - \")","v":" - "},"-","-","-","N/A",{"$f":"IF(ISBLANK('P Index Inputs'!R62),\"-\",'P Index Inputs'!R62)","v":"-"},{"$f":"IFERROR(IF(I60<>'NR-PI 2.0 Structure'!$C$5,VLOOKUP(AA60,'NR-PI 2.0 Structure'!$G$5:$H$9,2,FALSE),IF(OR(AA60='NR-PI 2.0 Structure'!$G$5,AA60='NR-PI 2.0 Structure'!$G$6,AA60='NR-PI 2.0 Structure'!$G$7),1,VLOOKUP(AA60,'NR-PI 2.0 Structure'!$G$8:$H$9,2,FALSE))),\"-\")","v":"-"},{"$f":"IF(ISBLANK('P Index Inputs'!S62),\"-\",'P Index Inputs'!S62)","v":"-"},{"$f":"IFERROR(VLOOKUP(AC60,'NR-PI 2.0 Structure'!$G$14:$H$19,2,FALSE),\"-\")","v":"-"},"-","-","N/A","N/A",0,0,0,0,0,0,0,0,0]
[{"$f":"'P Index Inputs'!A63","v":0},{"$f":"'P Index Inputs'!B63","v":0},{"$f":"'P Index Inputs'!C63","v":0},{"$f":"'P Index Inputs'!D63","v":0},{"$f":"'P Index Inputs'!E63","v":0},{"$f":"'P Index Inputs'!F63","v":0},{"$f":"'P Index Inputs'!H63","v":0},{"$f":"'P Index Inputs'!I63","v":0},{"$f":"'P Index Inputs'!J63","v":0},{"$f":"IF(ISBLANK('P Index Inputs'!L63),'P Index Inputs'!K63,'P Index Inputs'!L63)","v":"-"},{"$f":"'P Index Inputs'!M63","v":0},{"$f":"'P Index Inputs'!O63","v":0},{"$f":"'P Index Inputs'!P63","v":0},{"$f":"'P Index Inputs'!Q63","v":0},{"$f":"IFERROR(VLOOKUP(I61,'NR-PI 2.0 Structure'!$C$5:$D$8,2,FALSE),\"-\")","v":"-"},{"$f":"IFERROR(VLOOKUP(J61,'NR-PI 2.0 Structure'!$B$12:$C$16,2,FALSE),\"-\")","v":"-"},{"$f":"IFERROR(VLOOKUP(K61,'NR-PI 2.0 Structure'!$B$20:$D$21,3,FALSE),\"-\")","v":"-"},{"$f":"IFERROR(VLOOKUP(L61,'NR-PI 2.0 Structure'!$B$25:$C$28,2,FALSE),\"-\")","v":"-"},{"$f":"IFERROR(VLOOKUP(L61,'NR-PI 2.0 Structure'!$B$25:$D$28,3,FALSE),\"-\")","v":"-"},{"$f":"IFERROR(\n  IF(M61 = \"≤ 1\", 'NR-PI 2.0 Structure'!$D$32,\n  IF(M61 = \">1 - 3\", 'NR-PI 2.0 Structure'!$D$33,\n  IF(M61 = \">3 - 5\", 'NR-PI 2.0 Structure'!$D$34,\n  IF(M61 = \"> 5\", 'NR-PI 2.0 Structure'!$D$35, )))),\n\"-\")","v":0},{"$f":"IFERROR(IF(ISBLANK(I61),\"N/A\",IF(I61<>'NR-PI 2.0 Structure'!$C$5,(VLOOKUP(N61,'NR-PI 2.0 Structure'!$C$39:$D$40,2,FALSE)),0)),\" - \")","v":" - "},{"$f":"IFERROR(IF(ISBLANK(I61),\"N/A\",IF(I61<>'NR-PI 2.0 Structure'!$C$5,(VLOOKUP(N61,'NR-PI 2.0 Structure'!$C$39:$E$40,3,FALSE)),0)),\" - \")","v":" - "},"-","-","-","N/A",{"$f":"IF(ISBLANK('P Index Inputs'!R63),\"-\",'P Index Inputs'!R63)","v":"-"},{"$f":"IFERROR(IF(I61<>'NR-PI 2.0 Structure'!$C$5,VLOOKUP(AA61,'NR-PI 2.0 Structure'!$G$5:$H$9,2,FALSE),IF(OR(AA61='NR-PI 2.0 Structure'!$G$5,AA61='NR-PI 2.0 Structure'!$G$6,AA61='NR-PI 2.0 Structure'!$G$7),1,VLOOKUP(AA61,'NR-PI 2.0 Structure'!$G$8:$H$9,2,FALSE))),\"-\")","v":"-"},{"$f":"IF(ISBLANK('P Index Inputs'!S63),\"-\",'P Index Inputs'!S63)","v":"-"},{"$f":"IFERROR(VLOOKUP(AC61,'NR-PI 2.0 Structure'!$G$14:$H$19,2,FALSE),\"-\")","v":"-"},"-","-","N/A","N/A",0,0,0,0,0,0,0,0,0]
[{"$f":"'P Index Inputs'!A64","v":0},{"$f":"'P Index Inputs'!B64","v":0},{"$f":"'P Index Inputs'!C64","v":0},{"$f":"'P Index Inputs'!D64","v":0},{"$f":"'P Index Inputs'!E64","v":0},{"$f":"'P Index Inputs'!F64","v":0},{"$f":"'P Index Inputs'!H64","v":0},{"$f":"'P Index Inputs'!I64","v":0},{"$f":"'P Index Inputs'!J64","v":0},{"$f":"IF(ISBLANK('P Index Inputs'!L64),'P Index Inputs'!K64,'P Index Inputs'!L64)","v":"-"},{"$f":"'P Index Inputs'!M64","v":0},{"$f":"'P Index Inputs'!O64","v":0},{"$f":"'P Index Inputs'!P64","v":0},{"$f":"'P Index Inputs'!Q64","v":0},{"$f":"IFERROR(VLOOKUP(I62,'NR-PI 2.0 Structure'!$C$5:$D$8,2,FALSE),\"-\")","v":"-"},{"$f":"IFERROR(VLOOKUP(J62,'NR-PI 2.0 Structure'!$B$12:$C$16,2,FALSE),\"-\")","v":"-"},{"$f":"IFERROR(VLOOKUP(K62,'NR-PI 2.0 Structure'!$B$20:$D$21,3,FALSE),\"-\")","v":"-"},{"$f":"IFERROR(VLOOKUP(L62,'NR-PI 2.0 Structure'!$B$25:$C$28,2,FALSE),\"-\")","v":"-"},{"$f":"IFERROR(VLOOKUP(L62,'NR-PI 2.0 Structure'!$B$25:$D$28,3,FALSE),\"-\")","v":"-"},{"$f":"IFERROR(\n  IF(M62 = \"≤ 1\", 'NR-PI 2.0 Structure'!$D$32,\n  IF(M62 = \">1 - 3\", 'NR-PI 2.0 Structure'!$D$33,\n  IF(M62 = \">3 - 5\", 'NR-PI 2.0 Structure'!$D$34,\n  IF(M62 = \"> 5\", 'NR-PI 2.0 Structure'!$D$35, )))),\n\"-\")","v":0},{"$f":"IFERROR(IF(ISBLANK(I62),\"N/A\",IF(I62<>'NR-PI 2.0 Structure'!$C$5,(VLOOKUP(N62,'NR-PI 2.0 Structure'!$C$39:$D$40,2,FALSE)),0)),\" - \")","v":" - "},{"$f":"IFERROR(IF(ISBLANK(I62),\"N/A\",IF(I62<>'NR-PI 2.0 Structure'!$C$5,(VLOOKUP(N62,'NR-PI 2.0 Structure'!$C$39:$E$40,3,FALSE)),0)),\" - \")","v":" - "},"-","-","-","N/A",{"$f":"IF(ISBLANK('P Index Inputs'!R64),\"-\",'P Index Inputs'!R64)","v":"-"},{"$f":"IFERROR(IF(I62<>'NR-PI 2.0 Structure'!$C$5,VLOOKUP(AA62,'NR-PI 2.0 Structure'!$G$5:$H$9,2,FALSE),IF(OR(AA62='NR-PI 2.0 Structure'!$G$5,AA62='NR-PI 2.0 Structure'!$G$6,AA62='NR-PI 2.0 Structure'!$G$7),1,VLOOKUP(AA62,'NR-PI 2.0 Structure'!$G$8:$H$9,2,FALSE))),\"-\")","v":"-"},{"$f":"IF(ISBLANK('P Index Inputs'!S64),\"-\",'P Index Inputs'!S64)","v":"-"},{"$f":"IFERROR(VLOOKUP(AC62,'NR-PI 2.0 Structure'!$G$14:$H$19,2,FALSE),\"-\")","v":"-"},"-","-","N/A","N/A",0,0,0,0,0,0,0,0,0]
[{"$f":"'P Index Inputs'!A65","v":0},{"$f":"'P Index Inputs'!B65","v":0},{"$f":"'P Index Inputs'!C65","v":0},{"$f":"'P Index Inputs'!D65","v":0},{"$f":"'P Index Inputs'!E65","v":0},{"$f":"'P Index Inputs'!F65","v":0},{"$f":"'P Index Inputs'!H65","v":0},{"$f":"'P Index Inputs'!I65","v":0},{"$f":"'P Index Inputs'!J65","v":0},{"$f":"IF(ISBLANK('P Index Inputs'!L65),'P Index Inputs'!K65,'P Index Inputs'!L65)","v":"-"},{"$f":"'P Index Inputs'!M65","v":0},{"$f":"'P Index Inputs'!O65","v":0},{"$f":"'P Index Inputs'!P65","v":0},{"$f":"'P Index Inputs'!Q65","v":0},{"$f":"IFERROR(VLOOKUP(I63,'NR-PI 2.0 Structure'!$C$5:$D$8,2,FALSE),\"-\")","v":"-"},{"$f":"IFERROR(VLOOKUP(J63,'NR-PI 2.0 Structure'!$B$12:$C$16,2,FALSE),\"-\")","v":"-"},{"$f":"IFERROR(VLOOKUP(K63,'NR-PI 2.0 Structure'!$B$20:$D$21,3,FALSE),\"-\")","v":"-"},{"$f":"IFERROR(VLOOKUP(L63,'NR-PI 2.0 Structure'!$B$25:$C$28,2,FALSE),\"-\")","v":"-"},{"$f":"IFERROR(VLOOKUP(L63,'NR-PI 2.0 Structure'!$B$25:$D$28,3,FALSE),\"-\")","v":"-"},{"$f":"IFERROR(\n  IF(M63 = \"≤ 1\", 'NR-PI 2.0 Structure'!$D$32,\n  IF(M63 = \">1 - 3\", 'NR-PI 2.0 Structure'!$D$33,\n  IF(M63 = \">3 - 5\", 'NR-PI 2.0 Structure'!$D$34,\n  IF(M63 = \"> 5\", 'NR-PI 2.0 Structure'!$D$35, )))),\n\"-\")","v":0},{"$f":"IFERROR(IF(ISBLANK(I63),\"N/A\",IF(I63<>'NR-PI 2.0 Structure'!$C$5,(VLOOKUP(N63,'NR-PI 2.0 Structure'!$C$39:$D$40,2,FALSE)),0)),\" - \")","v":" - "},{"$f":"IFERROR(IF(ISBLANK(I63),\"N/A\",IF(I63<>'NR-PI 2.0 Structure'!$C$5,(VLOOKUP(N63,'NR-PI 2.0 Structure'!$C$39:$E$40,3,FALSE)),0)),\" - \")","v":" - "},"-","-","-","N/A",{"$f":"IF(ISBLANK('P Index Inputs'!R65),\"-\",'P Index Inputs'!R65)","v":"-"},{"$f":"IFERROR(IF(I63<>'NR-PI 2.0 Structure'!$C$5,VLOOKUP(AA63,'NR-PI 2.0 Structure'!$G$5:$H$9,2,FALSE),IF(OR(AA63='NR-PI 2.0 Structure'!$G$5,AA63='NR-PI 2.0 Structure'!$G$6,AA63='NR-PI 2.0 Structure'!$G$7),1,VLOOKUP(AA63,'NR-PI 2.0 Structure'!$G$8:$H$9,2,FALSE))),\"-\")","v":"-"},{"$f":"IF(ISBLANK('P Index Inputs'!S65),\"-\",'P Index Inputs'!S65)","v":"-"},{"$f":"IFERROR(VLOOKUP(AC63,'NR-PI 2.0 Structure'!$G$14:$H$19,2,FALSE),\"-\")","v":"-"},"-","-","N/A","N/A",0,0,0,0,0,0,0,0,0]
[{"$f":"'P Index Inputs'!A66","v":0},{"$f":"'P Index Inputs'!B66","v":0},{"$f":"'P Index Inputs'!C66","v":0},{"$f":"'P Index Inputs'!D66","v":0},{"$f":"'P Index Inputs'!E66","v":0},{"$f":"'P Index Inputs'!F66","v":0},{"$f":"'P Index Inputs'!H66","v":0},{"$f":"'P Index Inputs'!I66","v":0},{"$f":"'P Index Inputs'!J66","v":0},{"$f":"IF(ISBLANK('P Index Inputs'!L66),'P Index Inputs'!K66,'P Index Inputs'!L66)","v":"-"},{"$f":"'P Index Inputs'!M66","v":0},{"$f":"'P Index Inputs'!O66","v":0},{"$f":"'P Index Inputs'!P66","v":0},{"$f":"'P Index Inputs'!Q66","v":0},{"$f":"IFERROR(VLOOKUP(I64,'NR-PI 2.0 Structure'!$C$5:$D$8,2,FALSE),\"-\")","v":"-"},{"$f":"IFERROR(VLOOKUP(J64,'NR-PI 2.0 Structure'!$B$12:$C$16,2,FALSE),\"-\")","v":"-"},{"$f":"IFERROR(VLOOKUP(K64,'NR-PI 2.0 Structure'!$B$20:$D$21,3,FALSE),\"-\")","v":"-"},{"$f":"IFERROR(VLOOKUP(L64,'NR-PI 2.0 Structure'!$B$25:$C$28,2,FALSE),\"-\")","v":"-"},{"$f":"IFERROR(VLOOKUP(L64,'NR-PI 2.0 Structure'!$B$25:$D$28,3,FALSE),\"-\")","v":"-"},{"$f":"IFERROR(\n  IF(M64 = \"≤ 1\", 'NR-PI 2.0 Structure'!$D$32,\n  IF(M64 = \">1 - 3\", 'NR-PI 2.0 Structure'!$D$33,\n  IF(M64 = \">3 - 5\", 'NR-PI 2.0 Structure'!$D$34,\n  IF(M64 = \"> 5\", 'NR-PI 2.0 Structure'!$D$35, )))),\n\"-\")","v":0},{"$f":"IFERROR(IF(ISBLANK(I64),\"N/A\",IF(I64<>'NR-PI 2.0 Structure'!$C$5,(VLOOKUP(N64,'NR-PI 2.0 Structure'!$C$39:$D$40,2,FALSE)),0)),\" - \")","v":" - "},{"$f":"IFERROR(IF(ISBLANK(I64),\"N/A\",IF(I64<>'NR-PI 2.0 Structure'!$C$5,(VLOOKUP(N64,'NR-PI 2.0 Structure'!$C$39:$E$40,3,FALSE)),0)),\" - \")","v":" - "},"-","-","-","N/A",{"$f":"IF(ISBLANK('P Index Inputs'!R66),\"-\",'P Index Inputs'!R66)","v":"-"},{"$f":"IFERROR(IF(I64<>'NR-PI 2.0 Structure'!$C$5,VLOOKUP(AA64,'NR-PI 2.0 Structure'!$G$5:$H$9,2,FALSE),IF(OR(AA64='NR-PI 2.0 Structure'!$G$5,AA64='NR-PI 2.0 Structure'!$G$6,AA64='NR-PI 2.0 Structure'!$G$7),1,VLOOKUP(AA64,'NR-PI 2.0 Structure'!$G$8:$H$9,2,FALSE))),\"-\")","v":"-"},{"$f":"IF(ISBLANK('P Index Inputs'!S66),\"-\",'P Index Inputs'!S66)","v":"-"},{"$f":"IFERROR(VLOOKUP(AC64,'NR-PI 2.0 Structure'!$G$14:$H$19,2,FALSE),\"-\")","v":"-"},"-","-","N/A","N/A",0,0,0,0,0,0,0,0,0]
[{"$f":"'P Index Inputs'!A67","v":0},{"$f":"'P Index Inputs'!B67","v":0},{"$f":"'P Index Inputs'!C67","v":0},{"$f":"'P Index Inputs'!D67","v":0},{"$f":"'P Index Inputs'!E67","v":0},{"$f":"'P Index Inputs'!F67","v":0},{"$f":"'P Index Inputs'!H67","v":0},{"$f":"'P Index Inputs'!I67","v":0},{"$f":"'P Index Inputs'!J67","v":0},{"$f":"IF(ISBLANK('P Index Inputs'!L67),'P Index Inputs'!K67,'P Index Inputs'!L67)","v":"-"},{"$f":"'P Index Inputs'!M67","v":0},{"$f":"'P Index Inputs'!O67","v":0},{"$f":"'P Index Inputs'!P67","v":0},{"$f":"'P Index Inputs'!Q67","v":0},{"$f":"IFERROR(VLOOKUP(I65,'NR-PI 2.0 Structure'!$C$5:$D$8,2,FALSE),\"-\")","v":"-"},{"$f":"IFERROR(VLOOKUP(J65,'NR-PI 2.0 Structure'!$B$12:$C$16,2,FALSE),\"-\")","v":"-"},{"$f":"IFERROR(VLOOKUP(K65,'NR-PI 2.0 Structure'!$B$20:$D$21,3,FALSE),\"-\")","v":"-"},{"$f":"IFERROR(VLOOKUP(L65,'NR-PI 2.0 Structure'!$B$25:$C$28,2,FALSE),\"-\")","v":"-"},{"$f":"IFERROR(VLOOKUP(L65,'NR-PI 2.0 Structure'!$B$25:$D$28,3,FALSE),\"-\")","v":"-"},{"$f":"IFERROR(\n  IF(M65 = \"≤ 1\", 'NR-PI 2.0 Structure'!$D$32,\n  IF(M65 = \">1 - 3\", 'NR-PI 2.0 Structure'!$D$33,\n  IF(M65 = \">3 - 5\", 'NR-PI 2.0 Structure'!$D$34,\n  IF(M65 = \"> 5\", 'NR-PI 2.0 Structure'!$D$35, )))),\n\"-\")","v":0},{"$f":"IFERROR(IF(ISBLANK(I65),\"N/A\",IF(I65<>'NR-PI 2.0 Structure'!$C$5,(VLOOKUP(N65,'NR-PI 2.0 Structure'!$C$39:$D$40,2,FALSE)),0)),\" - \")","v":" - "},{"$f":"IFERROR(IF(ISBLANK(I65),\"N/A\",IF(I65<>'NR-PI 2.0 Structure'!$C$5,(VLOOKUP(N65,'NR-PI 2.0 Structure'!$C$39:$E$40,3,FALSE)),0)),\" - \")","v":" - "},"-","-","-","N/A",{"$f":"IF(ISBLANK('P Index Inputs'!R67),\"-\",'P Index Inputs'!R67)","v":"-"},{"$f":"IFERROR(IF(I65<>'NR-PI 2.0 Structure'!$C$5,VLOOKUP(AA65,'NR-PI 2.0 Structure'!$G$5:$H$9,2,FALSE),IF(OR(AA65='NR-PI 2.0 Structure'!$G$5,AA65='NR-PI 2.0 Structure'!$G$6,AA65='NR-PI 2.0 Structure'!$G$7),1,VLOOKUP(AA65,'NR-PI 2.0 Structure'!$G$8:$H$9,2,FALSE))),\"-\")","v":"-"},{"$f":"IF(ISBLANK('P Index Inputs'!S67),\"-\",'P Index Inputs'!S67)","v":"-"},{"$f":"IFERROR(VLOOKUP(AC65,'NR-PI 2.0 Structure'!$G$14:$H$19,2,FALSE),\"-\")","v":"-"},"-","-","N/A","N/A",0,0,0,0,0,0,0,0,0]
[{"$f":"'P Index Inputs'!A68","v":0},{"$f":"'P Index Inputs'!B68","v":0},{"$f":"'P Index Inputs'!C68","v":0},{"$f":"'P Index Inputs'!D68","v":0},{"$f":"'P Index Inputs'!E68","v":0},{"$f":"'P Index Inputs'!F68","v":0},{"$f":"'P Index Inputs'!H68","v":0},{"$f":"'P Index Inputs'!I68","v":0},{"$f":"'P Index Inputs'!J68","v":0},{"$f":"IF(ISBLANK('P Index Inputs'!L68),'P Index Inputs'!K68,'P Index Inputs'!L68)","v":"-"},{"$f":"'P Index Inputs'!M68","v":0},{"$f":"'P Index Inputs'!O68","v":0},{"$f":"'P Index Inputs'!P68","v":0},{"$f":"'P Index Inputs'!Q68","v":0},{"$f":"IFERROR(VLOOKUP(I66,'NR-PI 2.0 Structure'!$C$5:$D$8,2,FALSE),\"-\")","v":"-"},{"$f":"IFERROR(VLOOKUP(J66,'NR-PI 2.0 Structure'!$B$12:$C$16,2,FALSE),\"-\")","v":"-"},{"$f":"IFERROR(VLOOKUP(K66,'NR-PI 2.0 Structure'!$B$20:$D$21,3,FALSE),\"-\")","v":"-"},{"$f":"IFERROR(VLOOKUP(L66,'NR-PI 2.0 Structure'!$B$25:$C$28,2,FALSE),\"-\")","v":"-"},{"$f":"IFERROR(VLOOKUP(L66,'NR-PI 2.0 Structure'!$B$25:$D$28,3,FALSE),\"-\")","v":"-"},{"$f":"IFERROR(\n  IF(M66 = \"≤ 1\", 'NR-PI 2.0 Structure'!$D$32,\n  IF(M66 = \">1 - 3\", 'NR-PI 2.0 Structure'!$D$33,\n  IF(M66 = \">3 - 5\", 'NR-PI 2.0 Structure'!$D$34,\n  IF(M66 = \"> 5\", 'NR-PI 2.0 Structure'!$D$35, )))),\n\"-\")","v":0},{"$f":"IFERROR(IF(ISBLANK(I66),\"N/A\",IF(I66<>'NR-PI 2.0 Structure'!$C$5,(VLOOKUP(N66,'NR-PI 2.0 Structure'!$C$39:$D$40,2,FALSE)),0)),\" - \")","v":" - "},{"$f":"IFERROR(IF(ISBLANK(I66),\"N/A\",IF(I66<>'NR-PI 2.0 Structure'!$C$5,(VLOOKUP(N66,'NR-PI 2.0 Structure'!$C$39:$E$40,3,FALSE)),0)),\" - \")","v":" - "},"-","-","-","N/A",{"$f":"IF(ISBLANK('P Index Inputs'!R68),\"-\",'P Index Inputs'!R68)","v":"-"},{"$f":"IFERROR(IF(I66<>'NR-PI 2.0 Structure'!$C$5,VLOOKUP(AA66,'NR-PI 2.0 Structure'!$G$5:$H$9,2,FALSE),IF(OR(AA66='NR-PI 2.0 Structure'!$G$5,AA66='NR-PI 2.0 Structure'!$G$6,AA66='NR-PI 2.0 Structure'!$G$7),1,VLOOKUP(AA66,'NR-PI 2.0 Structure'!$G$8:$H$9,2,FALSE))),\"-\")","v":"-"},{"$f":"IF(ISBLANK('P Index Inputs'!S68),\"-\",'P Index Inputs'!S68)","v":"-"},{"$f":"IFERROR(VLOOKUP(AC66,'NR-PI 2.0 Structure'!$G$14:$H$19,2,FALSE),\"-\")","v":"-"},"-","-","N/A","N/A",0,0,0,0,0,0,0,0,0]
[{"$f":"'P Index Inputs'!A69","v":0},{"$f":"'P Index Inputs'!B69","v":0},{"$f":"'P Index Inputs'!C69","v":0},{"$f":"'P Index Inputs'!D69","v":0},{"$f":"'P Index Inputs'!E69","v":0},{"$f":"'P Index Inputs'!F69","v":0},{"$f":"'P Index Inputs'!H69","v":0},{"$f":"'P Index Inputs'!I69","v":0},{"$f":"'P Index Inputs'!J69","v":0},{"$f":"IF(ISBLANK('P Index Inputs'!L69),'P Index Inputs'!K69,'P Index Inputs'!L69)","v":"-"},{"$f":"'P Index Inputs'!M69","v":0},{"$f":"'P Index Inputs'!O69","v":0},{"$f":"'P Index Inputs'!P69","v":0},{"$f":"'P Index Inputs'!Q69","v":0},{"$f":"IFERROR(VLOOKUP(I67,'NR-PI 2.0 Structure'!$C$5:$D$8,2,FALSE),\"-\")","v":"-"},{"$f":"IFERROR(VLOOKUP(J67,'NR-PI 2.0 Structure'!$B$12:$C$16,2,FALSE),\"-\")","v":"-"},{"$f":"IFERROR(VLOOKUP(K67,'NR-PI 2.0 Structure'!$B$20:$D$21,3,FALSE),\"-\")","v":"-"},{"$f":"IFERROR(VLOOKUP(L67,'NR-PI 2.0 Structure'!$B$25:$C$28,2,FALSE),\"-\")","v":"-"},{"$f":"IFERROR(VLOOKUP(L67,'NR-PI 2.0 Structure'!$B$25:$D$28,3,FALSE),\"-\")","v":"-"},{"$f":"IFERROR(\n  IF(M67 = \"≤ 1\", 'NR-PI 2.0 Structure'!$D$32,\n  IF(M67 = \">1 - 3\", 'NR-PI 2.0 Structure'!$D$33,\n  IF(M67 = \">3 - 5\", 'NR-PI 2.0 Structure'!$D$34,\n  IF(M67 = \"> 5\", 'NR-PI 2.0 Structure'!$D$35, )))),\n\"-\")","v":0},{"$f":"IFERROR(IF(ISBLANK(I67),\"N/A\",IF(I67<>'NR-PI 2.0 Structure'!$C$5,(VLOOKUP(N67,'NR-PI 2.0 Structure'!$C$39:$D$40,2,FALSE)),0)),\" - \")","v":" - "},{"$f":"IFERROR(IF(ISBLANK(I67),\"N/A\",IF(I67<>'NR-PI 2.0 Structure'!$C$5,(VLOOKUP(N67,'NR-PI 2.0 Structure'!$C$39:$E$40,3,FALSE)),0)),\" - \")","v":" - "},"-","-","-","N/A",{"$f":"IF(ISBLANK('P Index Inputs'!R69),\"-\",'P Index Inputs'!R69)","v":"-"},{"$f":"IFERROR(IF(I67<>'NR-PI 2.0 Structure'!$C$5,VLOOKUP(AA67,'NR-PI 2.0 Structure'!$G$5:$H$9,2,FALSE),IF(OR(AA67='NR-PI 2.0 Structure'!$G$5,AA67='NR-PI 2.0 Structure'!$G$6,AA67='NR-PI 2.0 Structure'!$G$7),1,VLOOKUP(AA67,'NR-PI 2.0 Structure'!$G$8:$H$9,2,FALSE))),\"-\")","v":"-"},{"$f":"IF(ISBLANK('P Index Inputs'!S69),\"-\",'P Index Inputs'!S69)","v":"-"},{"$f":"IFERROR(VLOOKUP(AC67,'NR-PI 2.0 Structure'!$G$14:$H$19,2,FALSE),\"-\")","v":"-"},"-","-","N/A","N/A",0,0,0,0,0,0,0,0,0]
[{"$f":"'P Index Inputs'!A70","v":0},{"$f":"'P Index Inputs'!B70","v":0},{"$f":"'P Index Inputs'!C70","v":0},{"$f":"'P Index Inputs'!D70","v":0},{"$f":"'P Index Inputs'!E70","v":0},{"$f":"'P Index Inputs'!F70","v":0},{"$f":"'P Index Inputs'!H70","v":0},{"$f":"'P Index Inputs'!I70","v":0},{"$f":"'P Index Inputs'!J70","v":0},{"$f":"IF(ISBLANK('P Index Inputs'!L70),'P Index Inputs'!K70,'P Index Inputs'!L70)","v":"-"},{"$f":"'P Index Inputs'!M70","v":0},{"$f":"'P Index Inputs'!O70","v":0},{"$f":"'P Index Inputs'!P70","v":0},{"$f":"'P Index Inputs'!Q70","v":0},{"$f":"IFERROR(VLOOKUP(I68,'NR-PI 2.0 Structure'!$C$5:$D$8,2,FALSE),\"-\")","v":"-"},{"$f":"IFERROR(VLOOKUP(J68,'NR-PI 2.0 Structure'!$B$12:$C$16,2,FALSE),\"-\")","v":"-"},{"$f":"IFERROR(VLOOKUP(K68,'NR-PI 2.0 Structure'!$B$20:$D$21,3,FALSE),\"-\")","v":"-"},{"$f":"IFERROR(VLOOKUP(L68,'NR-PI 2.0 Structure'!$B$25:$C$28,2,FALSE),\"-\")","v":"-"},{"$f":"IFERROR(VLOOKUP(L68,'NR-PI 2.0 Structure'!$B$25:$D$28,3,FALSE),\"-\")","v":"-"},{"$f":"IFERROR(\n  IF(M68 = \"≤ 1\", 'NR-PI 2.0 Structure'!$D$32,\n  IF(M68 = \">1 - 3\", 'NR-PI 2.0 Structure'!$D$33,\n  IF(M68 = \">3 - 5\", 'NR-PI 2.0 Structure'!$D$34,\n  IF(M68 = \"> 5\", 'NR-PI 2.0 Structure'!$D$35, )))),\n\"-\")","v":0},{"$f":"IFERROR(IF(ISBLANK(I68),\"N/A\",IF(I68<>'NR-PI 2.0 Structure'!$C$5,(VLOOKUP(N68,'NR-PI 2.0 Structure'!$C$39:$D$40,2,FALSE)),0)),\" - \")","v":" - "},{"$f":"IFERROR(IF(ISBLANK(I68),\"N/A\",IF(I68<>'NR-PI 2.0 Structure'!$C$5,(VLOOKUP(N68,'NR-PI 2.0 Structure'!$C$39:$E$40,3,FALSE)),0)),\" - \")","v":" - "},"-","-","-","N/A",{"$f":"IF(ISBLANK('P Index Inputs'!R70),\"-\",'P Index Inputs'!R70)","v":"-"},{"$f":"IFERROR(IF(I68<>'NR-PI 2.0 Structure'!$C$5,VLOOKUP(AA68,'NR-PI 2.0 Structure'!$G$5:$H$9,2,FALSE),IF(OR(AA68='NR-PI 2.0 Structure'!$G$5,AA68='NR-PI 2.0 Structure'!$G$6,AA68='NR-PI 2.0 Structure'!$G$7),1,VLOOKUP(AA68,'NR-PI 2.0 Structure'!$G$8:$H$9,2,FALSE))),\"-\")","v":"-"},{"$f":"IF(ISBLANK('P Index Inputs'!S70),\"-\",'P Index Inputs'!S70)","v":"-"},{"$f":"IFERROR(VLOOKUP(AC68,'NR-PI 2.0 Structure'!$G$14:$H$19,2,FALSE),\"-\")","v":"-"},"-","-","N/A","N/A",{"$f":"IFERROR(IF(AH68=\"N-based\",F68,0),\"-\")","v":0},{"$f":"IFERROR(IF(AH68 = \"P-based\", F68, 0),\"-\")","v":0},0,{"$f":"IFERROR(IF(AND(E68=\"sod\",AH68=\"N-based\"),F68,0),\"-\")","v":0},{"$f":"IFERROR(IF(AND(E68=\"sod\",AH68=\"P-based\"),F68,0),\"-\")","v":0},0,{"$f":"IFERROR(IF(AND(E68=\"row\",AH68=\"N-based\"),F68,0),\"-\")","v":0},{"$f":"IFERROR(IF(AND(E68=\"row\",AH68=\"P-based\"),F68,0),\"-\")","v":0},0]
[{"$f":"'P Index Inputs'!A71","v":0},{"$f":"'P Index Inputs'!B71","v":0},{"$f":"'P Index Inputs'!C71","v":0},{"$f":"'P Index Inputs'!D71","v":0},{"$f":"'P Index Inputs'!E71","v":0},{"$f":"'P Index Inputs'!F71","v":0},{"$f":"'P Index Inputs'!H71","v":0},{"$f":"'P Index Inputs'!I71","v":0},{"$f":"'P Index Inputs'!J71","v":0},{"$f":"IF(ISBLANK('P Index Inputs'!L71),'P Index Inputs'!K71,'P Index Inputs'!L71)","v":"-"},{"$f":"'P Index Inputs'!M71","v":0},{"$f":"'P Index Inputs'!O71","v":0},{"$f":"'P Index Inputs'!P71","v":0},{"$f":"'P Index Inputs'!Q71","v":0},{"$f":"IFERROR(VLOOKUP(I69,'NR-PI 2.0 Structure'!$C$5:$D$8,2,FALSE),\"-\")","v":"-"},{"$f":"IFERROR(VLOOKUP(J69,'NR-PI 2.0 Structure'!$B$12:$C$16,2,FALSE),\"-\")","v":"-"},{"$f":"IFERROR(VLOOKUP(K69,'NR-PI 2.0 Structure'!$B$20:$D$21,3,FALSE),\"-\")","v":"-"},{"$f":"IFERROR(VLOOKUP(L69,'NR-PI 2.0 Structure'!$B$25:$C$28,2,FALSE),\"-\")","v":"-"},{"$f":"IFERROR(VLOOKUP(L69,'NR-PI 2.0 Structure'!$B$25:$D$28,3,FALSE),\"-\")","v":"-"},{"$f":"IFERROR(\n  IF(M69 = \"≤ 1\", 'NR-PI 2.0 Structure'!$D$32,\n  IF(M69 = \">1 - 3\", 'NR-PI 2.0 Structure'!$D$33,\n  IF(M69 = \">3 - 5\", 'NR-PI 2.0 Structure'!$D$34,\n  IF(M69 = \"> 5\", 'NR-PI 2.0 Structure'!$D$35, )))),\n\"-\")","v":0},{"$f":"IFERROR(IF(ISBLANK(I69),\"N/A\",IF(I69<>'NR-PI 2.0 Structure'!$C$5,(VLOOKUP(N69,'NR-PI 2.0 Structure'!$C$39:$D$40,2,FALSE)),0)),\" - \")","v":" - "},{"$f":"IFERROR(IF(ISBLANK(I69),\"N/A\",IF(I69<>'NR-PI 2.0 Structure'!$C$5,(VLOOKUP(N69,'NR-PI 2.0 Structure'!$C$39:$E$40,3,FALSE)),0)),\" - \")","v":" - "},{"$f":"IFERROR(SUM(O69+P69+Q69+R69+U69)*10,\"-\")","v":"-"},{"$f":"IFERROR(SUM(O69+P69+Q69+S69+T69+V69)*10,\"-\")","v":"-"},"-","N/A",{"$f":"IF(ISBLANK('P Index Inputs'!R71),\"-\",'P Index Inputs'!R71)","v":"-"},{"$f":"IFERROR(IF(I69<>'NR-PI 2.0 Structure'!$C$5,VLOOKUP(AA69,'NR-PI 2.0 Structure'!$G$5:$H$9,2,FALSE),IF(OR(AA69='NR-PI 2.0 Structure'!$G$5,AA69='NR-PI 2.0 Structure'!$G$6,AA69='NR-PI 2.0 Structure'!$G$7),1,VLOOKUP(AA69,'NR-PI 2.0 Structure'!$G$8:$H$9,2,FALSE))),\"-\")","v":"-"},{"$f":"IF(ISBLANK('P Index Inputs'!S71),\"-\",'P Index Inputs'!S71)","v":"-"},{"$f":"IFERROR(VLOOKUP(AC69,'NR-PI 2.0 Structure'!$G$14:$H$19,2,FALSE),\"-\")","v":"-"},{"$f":"IFERROR(AB69*AD69,\"-\")","v":"-"},{"$f":"IFERROR(Y69*AE69,\"-\")","v":"-"},{"$f":"IFERROR(IF(AF69<50, \"Low\", IF(AF69<75, \"Medium\", IF(AF69<100, \"High\", IF(AND(AF69>=100,AF69<>\"-\"),\"Very High\",\"N/A\")))),\"N/A\")","v":"N/A"},{"$f":"IF(ISNUMBER(AF69),IF(H69>=160,\"Zero P\",IF(H69>100,IF(AF69<50,\"P-based\",\"Zero P\"),IF(H69>=40,IF(AF69<50,\"N-based\",IF(AF69<100,\"P-based\",\"Zero P\")),IF(H69<40,IF(AF69<75,\"N-based\",IF(AF69<100,\"P-based\",\"Zero P\")))))),\"N/A\")","v":"N/A"},0,0,{"$f":"IFERROR(IF(AH69 = \"Zero P\", F69, 0),\"-\")","v":0},0,0,{"$f":"IFERROR(IF(AND(E69=\"sod\",AH69=\"Zero P\"),F69,0),\"-\")","v":0},0,0,{"$f":"IFERROR(IF(AND(E69=\"row\",AH69=\"Zero P\"),F69,0),\"-\")","v":0}]
[{"$f":"'P Index Inputs'!A72","v":0},{"$f":"'P Index Inputs'!B72","v":0},{"$f":"'P Index Inputs'!C72","v":0},{"$f":"'P Index Inputs'!D72","v":0},{"$f":"'P Index Inputs'!E72","v":0},{"$f":"'P Index Inputs'!F72","v":0},{"$f":"'P Index Inputs'!H72","v":0},{"$f":"'P Index Inputs'!I72","v":0},{"$f":"'P Index Inputs'!J72","v":0},{"$f":"IF(ISBLANK('P Index Inputs'!L72),'P Index Inputs'!K72,'P Index Inputs'!L72)","v":"-"},{"$f":"'P Index Inputs'!M72","v":0},{"$f":"'P Index Inputs'!O72","v":0},{"$f":"'P Index Inputs'!P72","v":0},{"$f":"'P Index Inputs'!Q72","v":0},{"$f":"IFERROR(VLOOKUP(I70,'NR-PI 2.0 Structure'!$C$5:$D$8,2,FALSE),\"-\")","v":"-"},{"$f":"IFERROR(VLOOKUP(J70,'NR-PI 2.0 Structure'!$B$12:$C$16,2,FALSE),\"-\")","v":"-"},{"$f":"IFERROR(VLOOKUP(K70,'NR-PI 2.0 Structure'!$B$20:$D$21,3,FALSE),\"-\")","v":"-"},{"$f":"IFERROR(VLOOKUP(L70,'NR-PI 2.0 Structure'!$B$25:$C$28,2,FALSE),\"-\")","v":"-"},{"$f":"IFERROR(VLOOKUP(L70,'NR-PI 2.0 Structure'!$B$25:$D$28,3,FALSE),\"-\")","v":"-"},{"$f":"IFERROR(\n  IF(M70 = \"≤ 1\", 'NR-PI 2.0 Structure'!$D$32,\n  IF(M70 = \">1 - 3\", 'NR-PI 2.0 Structure'!$D$33,\n  IF(M70 = \">3 - 5\", 'NR-PI 2.0 Structure'!$D$34,\n  IF(M70 = \"> 5\", 'NR-PI 2.0 Structure'!$D$35, )))),\n\"-\")","v":0},{"$f":"IFERROR(IF(ISBLANK(I70),\"N/A\",IF(I70<>'NR-PI 2.0 Structure'!$C$5,(VLOOKUP(N70,'NR-PI 2.0 Structure'!$C$39:$D$40,2,FALSE)),0)),\" - \")","v":" - "},{"$f":"IFERROR(IF(ISBLANK(I70),\"N/A\",IF(I70<>'NR-PI 2.0 Structure'!$C$5,(VLOOKUP(N70,'NR-PI 2.0 Structure'!$C$39:$E$40,3,FALSE)),0)),\" - \")","v":" - "},"-","-","-","N/A",{"$f":"IF(ISBLANK('P Index Inputs'!R72),\"-\",'P Index Inputs'!R72)","v":"-"},{"$f":"IFERROR(IF(I70<>'NR-PI 2.0 Structure'!$C$5,VLOOKUP(AA70,'NR-PI 2.0 Structure'!$G$5:$H$9,2,FALSE),IF(OR(AA70='NR-PI 2.0 Structure'!$G$5,AA70='NR-PI 2.0 Structure'!$G$6,AA70='NR-PI 2.0 Structure'!$G$7),1,VLOOKUP(AA70,'NR-PI 2.0 Structure'!$G$8:$H$9,2,FALSE))),\"-\")","v":"-"},{"$f":"IF(ISBLANK('P Index Inputs'!S72),\"-\",'P Index Inputs'!S72)","v":"-"},{"$f":"IFERROR(VLOOKUP(AC70,'NR-PI 2.0 Structure'!$G$14:$H$19,2,FALSE),\"-\")","v":"-"},"-","-","N/A","N/A",0,0,0,0,0,0,0,0,0]
[{"$f":"'P Index Inputs'!A73","v":0},{"$f":"'P Index Inputs'!B73","v":0},{"$f":"'P Index Inputs'!C73","v":0},{"$f":"'P Index Inputs'!D73","v":0},{"$f":"'P Index Inputs'!E73","v":0},{"$f":"'P Index Inputs'!F73","v":0},{"$f":"'P Index Inputs'!H73","v":0},{"$f":"'P Index Inputs'!I73","v":0},{"$f":"'P Index Inputs'!J73","v":0},{"$f":"IF(ISBLANK('P Index Inputs'!L73),'P Index Inputs'!K73,'P Index Inputs'!L73)","v":"-"},{"$f":"'P Index Inputs'!M73","v":0},{"$f":"'P Index Inputs'!O73","v":0},{"$f":"'P Index Inputs'!P73","v":0},{"$f":"'P Index Inputs'!Q73","v":0},{"$f":"IFERROR(VLOOKUP(I71,'NR-PI 2.0 Structure'!$C$5:$D$8,2,FALSE),\"-\")","v":"-"},{"$f":"IFERROR(VLOOKUP(J71,'NR-PI 2.0 Structure'!$B$12:$C$16,2,FALSE),\"-\")","v":"-"},{"$f":"IFERROR(VLOOKUP(K71,'NR-PI 2.0 Structure'!$B$20:$D$21,3,FALSE),\"-\")","v":"-"},{"$f":"IFERROR(VLOOKUP(L71,'NR-PI 2.0 Structure'!$B$25:$C$28,2,FALSE),\"-\")","v":"-"},{"$f":"IFERROR(VLOOKUP(L71,'NR-PI 2.0 Structure'!$B$25:$D$28,3,FALSE),\"-\")","v":"-"},{"$f":"IFERROR(\n  IF(M71 = \"≤ 1\", 'NR-PI 2.0 Structure'!$D$32,\n  IF(M71 = \">1 - 3\", 'NR-PI 2.0 Structure'!$D$33,\n  IF(M71 = \">3 - 5\", 'NR-PI 2.0 Structure'!$D$34,\n  IF(M71 = \"> 5\", 'NR-PI 2.0 Structure'!$D$35, )))),\n\"-\")","v":0},{"$f":"IFERROR(IF(ISBLANK(I71),\"N/A\",IF(I71<>'NR-PI 2.0 Structure'!$C$5,(VLOOKUP(N71,'NR-PI 2.0 Structure'!$C$39:$D$40,2,FALSE)),0)),\" - \")","v":" - "},{"$f":"IFERROR(IF(ISBLANK(I71),\"N/A\",IF(I71<>'NR-PI 2.0 Structure'!$C$5,(VLOOKUP(N71,'NR-PI 2.0 Structure'!$C$39:$E$40,3,FALSE)),0)),\" - \")","v":" - "},"-","-","-","N/A",{"$f":"IF(ISBLANK('P Index Inputs'!R73),\"-\",'P Index Inputs'!R73)","v":"-"},{"$f":"IFERROR(IF(I71<>'NR-PI 2.0 Structure'!$C$5,VLOOKUP(AA71,'NR-PI 2.0 Structure'!$G$5:$H$9,2,FALSE),IF(OR(AA71='NR-PI 2.0 Structure'!$G$5,AA71='NR-PI 2.0 Structure'!$G$6,AA71='NR-PI 2.0 Structure'!$G$7),1,VLOOKUP(AA71,'NR-PI 2.0 Structure'!$G$8:$H$9,2,FALSE))),\"-\")","v":"-"},{"$f":"IF(ISBLANK('P Index Inputs'!S73),\"-\",'P Index Inputs'!S73)","v":"-"},{"$f":"IFERROR(VLOOKUP(AC71,'NR-PI 2.0 Structure'!$G$14:$H$19,2,FALSE),\"-\")","v":"-"},"-","-","N/A","N/A",0,0,0,0,0,0,0,0,0]
[{"$f":"'P Index Inputs'!A74","v":0},{"$f":"'P Index Inputs'!B74","v":0},{"$f":"'P Index Inputs'!C74","v":0},{"$f":"'P Index Inputs'!D74","v":0},{"$f":"'P Index Inputs'!E74","v":0},{"$f":"'P Index Inputs'!F74","v":0},{"$f":"'P Index Inputs'!H74","v":0},{"$f":"'P Index Inputs'!I74","v":0},{"$f":"'P Index Inputs'!J74","v":0},{"$f":"IF(ISBLANK('P Index Inputs'!L74),'P Index Inputs'!K74,'P Index Inputs'!L74)","v":"-"},{"$f":"'P Index Inputs'!M74","v":0},{"$f":"'P Index Inputs'!O74","v":0},{"$f":"'P Index Inputs'!P74","v":0},{"$f":"'P Index Inputs'!Q74","v":0},{"$f":"IFERROR(VLOOKUP(I72,'NR-PI 2.0 Structure'!$C$5:$D$8,2,FALSE),\"-\")","v":"-"},{"$f":"IFERROR(VLOOKUP(J72,'NR-PI 2.0 Structure'!$B$12:$C$16,2,FALSE),\"-\")","v":"-"},{"$f":"IFERROR(VLOOKUP(K72,'NR-PI 2.0 Structure'!$B$20:$D$21,3,FALSE),\"-\")","v":"-"},{"$f":"IFERROR(VLOOKUP(L72,'NR-PI 2.0 Structure'!$B$25:$C$28,2,FALSE),\"-\")","v":"-"},{"$f":"IFERROR(VLOOKUP(L72,'NR-PI 2.0 Structure'!$B$25:$D$28,3,FALSE),\"-\")","v":"-"},{"$f":"IFERROR(\n  IF(M72 = \"≤ 1\", 'NR-PI 2.0 Structure'!$D$32,\n  IF(M72 = \">1 - 3\", 'NR-PI 2.0 Structure'!$D$33,\n  IF(M72 = \">3 - 5\", 'NR-PI 2.0 Structure'!$D$34,\n  IF(M72 = \"> 5\", 'NR-PI 2.0 Structure'!$D$35, )))),\n\"-\")","v":0},{"$f":"IFERROR(IF(ISBLANK(I72),\"N/A\",IF(I72<>'NR-PI 2.0 Structure'!$C$5,(VLOOKUP(N72,'NR-PI 2.0 Structure'!$C$39:$D$40,2,FALSE)),0)),\" - \")","v":" - "},{"$f":"IFERROR(IF(ISBLANK(I72),\"N/A\",IF(I72<>'NR-PI 2.0 Structure'!$C$5,(VLOOKUP(N72,'NR-PI 2.0 Structure'!$C$39:$E$40,3,FALSE)),0)),\" - \")","v":" - "},"-","-","-","N/A",{"$f":"IF(ISBLANK('P Index Inputs'!R74),\"-\",'P Index Inputs'!R74)","v":"-"},{"$f":"IFERROR(IF(I72<>'NR-PI 2.0 Structure'!$C$5,VLOOKUP(AA72,'NR-PI 2.0 Structure'!$G$5:$H$9,2,FALSE),IF(OR(AA72='NR-PI 2.0 Structure'!$G$5,AA72='NR-PI 2.0 Structure'!$G$6,AA72='NR-PI 2.0 Structure'!$G$7),1,VLOOKUP(AA72,'NR-PI 2.0 Structure'!$G$8:$H$9,2,FALSE))),\"-\")","v":"-"},{"$f":"IF(ISBLANK('P Index Inputs'!S74),\"-\",'P Index Inputs'!S74)","v":"-"},{"$f":"IFERROR(VLOOKUP(AC72,'NR-PI 2.0 Structure'!$G$14:$H$19,2,FALSE),\"-\")","v":"-"},"-","-","N/A","N/A",0,0,0,0,0,0,0,0,0]
[{"$f":"'P Index Inputs'!A75","v":0},{"$f":"'P Index Inputs'!B75","v":0},{"$f":"'P Index Inputs'!C75","v":0},{"$f":"'P Index Inputs'!D75","v":0},{"$f":"'P Index Inputs'!E75","v":0},{"$f":"'P Index Inputs'!F75","v":0},{"$f":"'P Index Inputs'!H75","v":0},{"$f":"'P Index Inputs'!I75","v":0},{"$f":"'P Index Inputs'!J75","v":0},{"$f":"IF(ISBLANK('P Index Inputs'!L75),'P Index Inputs'!K75,'P Index Inputs'!L75)","v":"-"},{"$f":"'P Index Inputs'!M75","v":0},{"$f":"'P Index Inputs'!O75","v":0},{"$f":"'P Index Inputs'!P75","v":0},{"$f":"'P Index Inputs'!Q75","v":0},{"$f":"IFERROR(VLOOKUP(I73,'NR-PI 2.0 Structure'!$C$5:$D$8,2,FALSE),\"-\")","v":"-"},{"$f":"IFERROR(VLOOKUP(J73,'NR-PI 2.0 Structure'!$B$12:$C$16,2,FALSE),\"-\")","v":"-"},{"$f":"IFERROR(VLOOKUP(K73,'NR-PI 2.0 Structure'!$B$20:$D$21,3,FALSE),\"-\")","v":"-"},{"$f":"IFERROR(VLOOKUP(L73,'NR-PI 2.0 Structure'!$B$25:$C$28,2,FALSE),\"-\")","v":"-"},{"$f":"IFERROR(VLOOKUP(L73,'NR-PI 2.0 Structure'!$B$25:$D$28,3,FALSE),\"-\")","v":"-"},{"$f":"IFERROR(\n  IF(M73 = \"≤ 1\", 'NR-PI 2.0 Structure'!$D$32,\n  IF(M73 = \">1 - 3\", 'NR-PI 2.0 Structure'!$D$33,\n  IF(M73 = \">3 - 5\", 'NR-PI 2.0 Structure'!$D$34,\n  IF(M73 = \"> 5\", 'NR-PI 2.0 Structure'!$D$35, )))),\n\"-\")","v":0},{"$f":"IFERROR(IF(ISBLANK(I73),\"N/A\",IF(I73<>'NR-PI 2.0 Structure'!$C$5,(VLOOKUP(N73,'NR-PI 2.0 Structure'!$C$39:$D$40,2,FALSE)),0)),\" - \")","v":" - "},{"$f":"IFERROR(IF(ISBLANK(I73),\"N/A\",IF(I73<>'NR-PI 2.0 Structure'!$C$5,(VLOOKUP(N73,'NR-PI 2.0 Structure'!$C$39:$E$40,3,FALSE)),0)),\" - \")","v":" - "},"-","-","-","N/A",{"$f":"IF(ISBLANK('P Index Inputs'!R75),\"-\",'P Index Inputs'!R75)","v":"-"},{"$f":"IFERROR(IF(I73<>'NR-PI 2.0 Structure'!$C$5,VLOOKUP(AA73,'NR-PI 2.0 Structure'!$G$5:$H$9,2,FALSE),IF(OR(AA73='NR-PI 2.0 Structure'!$G$5,AA73='NR-PI 2.0 Structure'!$G$6,AA73='NR-PI 2.0 Structure'!$G$7),1,VLOOKUP(AA73,'NR-PI 2.0 Structure'!$G$8:$H$9,2,FALSE))),\"-\")","v":"-"},{"$f":"IF(ISBLANK('P Index Inputs'!S75),\"-\",'P Index Inputs'!S75)","v":"-"},{"$f":"IFERROR(VLOOKUP(AC73,'NR-PI 2.0 Structure'!$G$14:$H$19,2,FALSE),\"-\")","v":"-"},"-","-","N/A","N/A",0,0,0,0,0,0,0,0,0]
[{"$f":"'P Index Inputs'!A76","v":0},{"$f":"'P Index Inputs'!B76","v":0},{"$f":"'P Index Inputs'!C76","v":0},{"$f":"'P Index Inputs'!D76","v":0},{"$f":"'P Index Inputs'!E76","v":0},{"$f":"'P Index Inputs'!F76","v":0},{"$f":"'P Index Inputs'!H76","v":0},{"$f":"'P Index Inputs'!I76","v":0},{"$f":"'P Index Inputs'!J76","v":0},{"$f":"IF(ISBLANK('P Index Inputs'!L76),'P Index Inputs'!K76,'P Index Inputs'!L76)","v":"-"},{"$f":"'P Index Inputs'!M76","v":0},{"$f":"'P Index Inputs'!O76","v":0},{"$f":"'P Index Inputs'!P76","v":0},{"$f":"'P Index Inputs'!Q76","v":0},{"$f":"IFERROR(VLOOKUP(I74,'NR-PI 2.0 Structure'!$C$5:$D$8,2,FALSE),\"-\")","v":"-"},{"$f":"IFERROR(VLOOKUP(J74,'NR-PI 2.0 Structure'!$B$12:$C$16,2,FALSE),\"-\")","v":"-"},{"$f":"IFERROR(VLOOKUP(K74,'NR-PI 2.0 Structure'!$B$20:$D$21,3,FALSE),\"-\")","v":"-"},{"$f":"IFERROR(VLOOKUP(L74,'NR-PI 2.0 Structure'!$B$25:$C$28,2,FALSE),\"-\")","v":"-"},{"$f":"IFERROR(VLOOKUP(L74,'NR-PI 2.0 Structure'!$B$25:$D$28,3,FALSE),\"-\")","v":"-"},{"$f":"IFERROR(\n  IF(M74 = \"≤ 1\", 'NR-PI 2.0 Structure'!$D$32,\n  IF(M74 = \">1 - 3\", 'NR-PI 2.0 Structure'!$D$33,\n  IF(M74 = \">3 - 5\", 'NR-PI 2.0 Structure'!$D$34,\n  IF(M74 = \"> 5\", 'NR-PI 2.0 Structure'!$D$35, )))),\n\"-\")","v":0},{"$f":"IFERROR(IF(ISBLANK(I74),\"N/A\",IF(I74<>'NR-PI 2.0 Structure'!$C$5,(VLOOKUP(N74,'NR-PI 2.0 Structure'!$C$39:$D$40,2,FALSE)),0)),\" - \")","v":" - "},{"$f":"IFERROR(IF(ISBLANK(I74),\"N/A\",IF(I74<>'NR-PI 2.0 Structure'!$C$5,(VLOOKUP(N74,'NR-PI 2.0 Structure'!$C$39:$E$40,3,FALSE)),0)),\" - \")","v":" - "},"-","-","-","N/A",{"$f":"IF(ISBLANK('P Index Inputs'!R76),\"-\",'P Index Inputs'!R76)","v":"-"},{"$f":"IFERROR(IF(I74<>'NR-PI 2.0 Structure'!$C$5,VLOOKUP(AA74,'NR-PI 2.0 Structure'!$G$5:$H$9,2,FALSE),IF(OR(AA74='NR-PI 2.0 Structure'!$G$5,AA74='NR-PI 2.0 Structure'!$G$6,AA74='NR-PI 2.0 Structure'!$G$7),1,VLOOKUP(AA74,'NR-PI 2.0 Structure'!$G$8:$H$9,2,FALSE))),\"-\")","v":"-"},{"$f":"IF(ISBLANK('P Index Inputs'!S76),\"-\",'P Index Inputs'!S76)","v":"-"},{"$f":"IFERROR(VLOOKUP(AC74,'NR-PI 2.0 Structure'!$G$14:$H$19,2,FALSE),\"-\")","v":"-"},"-","-","N/A","N/A",0,0,0,0,0,0,0,0,0]
[{"$f":"'P Index Inputs'!A77","v":0},{"$f":"'P Index Inputs'!B77","v":0},{"$f":"'P Index Inputs'!C77","v":0},{"$f":"'P Index Inputs'!D77","v":0},{"$f":"'P Index Inputs'!E77","v":0},{"$f":"'P Index Inputs'!F77","v":0},{"$f":"'P Index Inputs'!H77","v":0},{"$f":"'P Index Inputs'!I77","v":0},{"$f":"'P Index Inputs'!J77","v":0},{"$f":"IF(ISBLANK('P Index Inputs'!L77),'P Index Inputs'!K77,'P Index Inputs'!L77)","v":"-"},{"$f":"'P Index Inputs'!M77","v":0},{"$f":"'P Index Inputs'!O77","v":0},{"$f":"'P Index Inputs'!P77","v":0},{"$f":"'P Index Inputs'!Q77","v":0},{"$f":"IFERROR(VLOOKUP(I75,'NR-PI 2.0 Structure'!$C$5:$D$8,2,FALSE),\"-\")","v":"-"},{"$f":"IFERROR(VLOOKUP(J75,'NR-PI 2.0 Structure'!$B$12:$C$16,2,FALSE),\"-\")","v":"-"},{"$f":"IFERROR(VLOOKUP(K75,'NR-PI 2.0 Structure'!$B$20:$D$21,3,FALSE),\"-\")","v":"-"},{"$f":"IFERROR(VLOOKUP(L75,'NR-PI 2.0 Structure'!$B$25:$C$28,2,FALSE),\"-\")","v":"-"},{"$f":"IFERROR(VLOOKUP(L75,'NR-PI 2.0 Structure'!$B$25:$D$28,3,FALSE),\"-\")","v":"-"},{"$f":"IFERROR(\n  IF(M75 = \"≤ 1\", 'NR-PI 2.0 Structure'!$D$32,\n  IF(M75 = \">1 - 3\", 'NR-PI 2.0 Structure'!$D$33,\n  IF(M75 = \">3 - 5\", 'NR-PI 2.0 Structure'!$D$34,\n  IF(M75 = \"> 5\", 'NR-PI 2.0 Structure'!$D$35, )))),\n\"-\")","v":0},{"$f":"IFERROR(IF(ISBLANK(I75),\"N/A\",IF(I75<>'NR-PI 2.0 Structure'!$C$5,(VLOOKUP(N75,'NR-PI 2.0 Structure'!$C$39:$D$40,2,FALSE)),0)),\" - \")","v":" - "},{"$f":"IFERROR(IF(ISBLANK(I75),\"N/A\",IF(I75<>'NR-PI 2.0 Structure'!$C$5,(VLOOKUP(N75,'NR-PI 2.0 Structure'!$C$39:$E$40,3,FALSE)),0)),\" - \")","v":" - "},"-","-","-","N/A",{"$f":"IF(ISBLANK('P Index Inputs'!R77),\"-\",'P Index Inputs'!R77)","v":"-"},{"$f":"IFERROR(IF(I75<>'NR-PI 2.0 Structure'!$C$5,VLOOKUP(AA75,'NR-PI 2.0 Structure'!$G$5:$H$9,2,FALSE),IF(OR(AA75='NR-PI 2.0 Structure'!$G$5,AA75='NR-PI 2.0 Structure'!$G$6,AA75='NR-PI 2.0 Structure'!$G$7),1,VLOOKUP(AA75,'NR-PI 2.0 Structure'!$G$8:$H$9,2,FALSE))),\"-\")","v":"-"},{"$f":"IF(ISBLANK('P Index Inputs'!S77),\"-\",'P Index Inputs'!S77)","v":"-"},{"$f":"IFERROR(VLOOKUP(AC75,'NR-PI 2.0 Structure'!$G$14:$H$19,2,FALSE),\"-\")","v":"-"},"-","-","N/A","N/A",0,0,0,0,0,0,0,0,0]
[{"$f":"'P Index Inputs'!A78","v":0},{"$f":"'P Index Inputs'!B78","v":0},{"$f":"'P Index Inputs'!C78","v":0},{"$f":"'P Index Inputs'!D78","v":0},{"$f":"'P Index Inputs'!E78","v":0},{"$f":"'P Index Inputs'!F78","v":0},{"$f":"'P Index Inputs'!H78","v":0},{"$f":"'P Index Inputs'!I78","v":0},{"$f":"'P Index Inputs'!J78","v":0},{"$f":"IF(ISBLANK('P Index Inputs'!L78),'P Index Inputs'!K78,'P Index Inputs'!L78)","v":"-"},{"$f":"'P Index Inputs'!M78","v":0},{"$f":"'P Index Inputs'!O78","v":0},{"$f":"'P Index Inputs'!P78","v":0},{"$f":"'P Index Inputs'!Q78","v":0},{"$f":"IFERROR(VLOOKUP(I76,'NR-PI 2.0 Structure'!$C$5:$D$8,2,FALSE),\"-\")","v":"-"},{"$f":"IFERROR(VLOOKUP(J76,'NR-PI 2.0 Structure'!$B$12:$C$16,2,FALSE),\"-\")","v":"-"},{"$f":"IFERROR(VLOOKUP(K76,'NR-PI 2.0 Structure'!$B$20:$D$21,3,FALSE),\"-\")","v":"-"},{"$f":"IFERROR(VLOOKUP(L76,'NR-PI 2.0 Structure'!$B$25:$C$28,2,FALSE),\"-\")","v":"-"},{"$f":"IFERROR(VLOOKUP(L76,'NR-PI 2.0 Structure'!$B$25:$D$28,3,FALSE),\"-\")","v":"-"},{"$f":"IFERROR(\n  IF(M76 = \"≤ 1\", 'NR-PI 2.0 Structure'!$D$32,\n  IF(M76 = \">1 - 3\", 'NR-PI 2.0 Structure'!$D$33,\n  IF(M76 = \">3 - 5\", 'NR-PI 2.0 Structure'!$D$34,\n  IF(M76 = \"> 5\", 'NR-PI 2.0 Structure'!$D$35, )))),\n\"-\")","v":0},{"$f":"IFERROR(IF(ISBLANK(I76),\"N/A\",IF(I76<>'NR-PI 2.0 Structure'!$C$5,(VLOOKUP(N76,'NR-PI 2.0 Structure'!$C$39:$D$40,2,FALSE)),0)),\" - \")","v":" - "},{"$f":"IFERROR(IF(ISBLANK(I76),\"N/A\",IF(I76<>'NR-PI 2.0 Structure'!$C$5,(VLOOKUP(N76,'NR-PI 2.0 Structure'!$C$39:$E$40,3,FALSE)),0)),\" - \")","v":" - "},"-","-","-","N/A",{"$f":"IF(ISBLANK('P Index Inputs'!R78),\"-\",'P Index Inputs'!R78)","v":"-"},{"$f":"IFERROR(IF(I76<>'NR-PI 2.0 Structure'!$C$5,VLOOKUP(AA76,'NR-PI 2.0 Structure'!$G$5:$H$9,2,FALSE),IF(OR(AA76='NR-PI 2.0 Structure'!$G$5,AA76='NR-PI 2.0 Structure'!$G$6,AA76='NR-PI 2.0 Structure'!$G$7),1,VLOOKUP(AA76,'NR-PI 2.0 Structure'!$G$8:$H$9,2,FALSE))),\"-\")","v":"-"},{"$f":"IF(ISBLANK('P Index Inputs'!S78),\"-\",'P Index Inputs'!S78)","v":"-"},{"$f":"IFERROR(VLOOKUP(AC76,'NR-PI 2.0 Structure'!$G$14:$H$19,2,FALSE),\"-\")","v":"-"},"-","-","N/A","N/A",0,0,0,0,0,0,0,0,0]
[{"$f":"'P Index Inputs'!A79","v":0},{"$f":"'P Index Inputs'!B79","v":0},{"$f":"'P Index Inputs'!C79","v":0},{"$f":"'P Index Inputs'!D79","v":0},{"$f":"'P Index Inputs'!E79","v":0},{"$f":"'P Index Inputs'!F79","v":0},{"$f":"'P Index Inputs'!H79","v":0},{"$f":"'P Index Inputs'!I79","v":0},{"$f":"'P Index Inputs'!J79","v":0},{"$f":"IF(ISBLANK('P Index Inputs'!L79),'P Index Inputs'!K79,'P Index Inputs'!L79)","v":"-"},{"$f":"'P Index Inputs'!M79","v":0},{"$f":"'P Index Inputs'!O79","v":0},{"$f":"'P Index Inputs'!P79","v":0},{"$f":"'P Index Inputs'!Q79","v":0},{"$f":"IFERROR(VLOOKUP(I77,'NR-PI 2.0 Structure'!$C$5:$D$8,2,FALSE),\"-\")","v":"-"},{"$f":"IFERROR(VLOOKUP(J77,'NR-PI 2.0 Structure'!$B$12:$C$16,2,FALSE),\"-\")","v":"-"},{"$f":"IFERROR(VLOOKUP(K77,'NR-PI 2.0 Structure'!$B$20:$D$21,3,FALSE),\"-\")","v":"-"},{"$f":"IFERROR(VLOOKUP(L77,'NR-PI 2.0 Structure'!$B$25:$C$28,2,FALSE),\"-\")","v":"-"},{"$f":"IFERROR(VLOOKUP(L77,'NR-PI 2.0 Structure'!$B$25:$D$28,3,FALSE),\"-\")","v":"-"},{"$f":"IFERROR(\n  IF(M77 = \"≤ 1\", 'NR-PI 2.0 Structure'!$D$32,\n  IF(M77 = \">1 - 3\", 'NR-PI 2.0 Structure'!$D$33,\n  IF(M77 = \">3 - 5\", 'NR-PI 2.0 Structure'!$D$34,\n  IF(M77 = \"> 5\", 'NR-PI 2.0 Structure'!$D$35, )))),\n\"-\")","v":0},{"$f":"IFERROR(IF(ISBLANK(I77),\"N/A\",IF(I77<>'NR-PI 2.0 Structure'!$C$5,(VLOOKUP(N77,'NR-PI 2.0 Structure'!$C$39:$D$40,2,FALSE)),0)),\" - \")","v":" - "},{"$f":"IFERROR(IF(ISBLANK(I77),\"N/A\",IF(I77<>'NR-PI 2.0 Structure'!$C$5,(VLOOKUP(N77,'NR-PI 2.0 Structure'!$C$39:$E$40,3,FALSE)),0)),\" - \")","v":" - "},"-","-","-","N/A",{"$f":"IF(ISBLANK('P Index Inputs'!R79),\"-\",'P Index Inputs'!R79)","v":"-"},{"$f":"IFERROR(IF(I77<>'NR-PI 2.0 Structure'!$C$5,VLOOKUP(AA77,'NR-PI 2.0 Structure'!$G$5:$H$9,2,FALSE),IF(OR(AA77='NR-PI 2.0 Structure'!$G$5,AA77='NR-PI 2.0 Structure'!$G$6,AA77='NR-PI 2.0 Structure'!$G$7),1,VLOOKUP(AA77,'NR-PI 2.0 Structure'!$G$8:$H$9,2,FALSE))),\"-\")","v":"-"},{"$f":"IF(ISBLANK('P Index Inputs'!S79),\"-\",'P Index Inputs'!S79)","v":"-"},{"$f":"IFERROR(VLOOKUP(AC77,'NR-PI 2.0 Structure'!$G$14:$H$19,2,FALSE),\"-\")","v":"-"},"-","-","N/A","N/A",0,0,0,0,0,0,0,0,0]
[{"$f":"'P Index Inputs'!A80","v":0},{"$f":"'P Index Inputs'!B80","v":0},{"$f":"'P Index Inputs'!C80","v":0},{"$f":"'P Index Inputs'!D80","v":0},{"$f":"'P Index Inputs'!E80","v":0},{"$f":"'P Index Inputs'!F80","v":0},{"$f":"'P Index Inputs'!H80","v":0},{"$f":"'P Index Inputs'!I80","v":0},{"$f":"'P Index Inputs'!J80","v":0},{"$f":"IF(ISBLANK('P Index Inputs'!L80),'P Index Inputs'!K80,'P Index Inputs'!L80)","v":"-"},{"$f":"'P Index Inputs'!M80","v":0},{"$f":"'P Index Inputs'!O80","v":0},{"$f":"'P Index Inputs'!P80","v":0},{"$f":"'P Index Inputs'!Q80","v":0},{"$f":"IFERROR(VLOOKUP(I78,'NR-PI 2.0 Structure'!$C$5:$D$8,2,FALSE),\"-\")","v":"-"},{"$f":"IFERROR(VLOOKUP(J78,'NR-PI 2.0 Structure'!$B$12:$C$16,2,FALSE),\"-\")","v":"-"},{"$f":"IFERROR(VLOOKUP(K78,'NR-PI 2.0 Structure'!$B$20:$D$21,3,FALSE),\"-\")","v":"-"},{"$f":"IFERROR(VLOOKUP(L78,'NR-PI 2.0 Structure'!$B$25:$C$28,2,FALSE),\"-\")","v":"-"},{"$f":"IFERROR(VLOOKUP(L78,'NR-PI 2.0 Structure'!$B$25:$D$28,3,FALSE),\"-\")","v":"-"},{"$f":"IFERROR(\n  IF(M78 = \"≤ 1\", 'NR-PI 2.0 Structure'!$D$32,\n  IF(M78 = \">1 - 3\", 'NR-PI 2.0 Structure'!$D$33,\n  IF(M78 = \">3 - 5\", 'NR-PI 2.0 Structure'!$D$34,\n  IF(M78 = \"> 5\", 'NR-PI 2.0 Structure'!$D$35, )))),\n\"-\")","v":0},{"$f":"IFERROR(IF(ISBLANK(I78),\"N/A\",IF(I78<>'NR-PI 2.0 Structure'!$C$5,(VLOOKUP(N78,'NR-PI 2.0 Structure'!$C$39:$D$40,2,FALSE)),0)),\" - \")","v":" - "},{"$f":"IFERROR(IF(ISBLANK(I78),\"N/A\",IF(I78<>'NR-PI 2.0 Structure'!$C$5,(VLOOKUP(N78,'NR-PI 2.0 Structure'!$C$39:$E$40,3,FALSE)),0)),\" - \")","v":" - "},"-","-","-","N/A",{"$f":"IF(ISBLANK('P Index Inputs'!R80),\"-\",'P Index Inputs'!R80)","v":"-"},{"$f":"IFERROR(IF(I78<>'NR-PI 2.0 Structure'!$C$5,VLOOKUP(AA78,'NR-PI 2.0 Structure'!$G$5:$H$9,2,FALSE),IF(OR(AA78='NR-PI 2.0 Structure'!$G$5,AA78='NR-PI 2.0 Structure'!$G$6,AA78='NR-PI 2.0 Structure'!$G$7),1,VLOOKUP(AA78,'NR-PI 2.0 Structure'!$G$8:$H$9,2,FALSE))),\"-\")","v":"-"},{"$f":"IF(ISBLANK('P Index Inputs'!S80),\"-\",'P Index Inputs'!S80)","v":"-"},{"$f":"IFERROR(VLOOKUP(AC78,'NR-PI 2.0 Structure'!$G$14:$H$19,2,FALSE),\"-\")","v":"-"},"-","-","N/A","N/A",0,0,0,0,0,0,0,0,0]
[{"$f":"'P Index Inputs'!A81","v":0},{"$f":"'P Index Inputs'!B81","v":0},{"$f":"'P Index Inputs'!C81","v":0},{"$f":"'P Index Inputs'!D81","v":0},{"$f":"'P Index Inputs'!E81","v":0},{"$f":"'P Index Inputs'!F81","v":0},{"$f":"'P Index Inputs'!H81","v":0},{"$f":"'P Index Inputs'!I81","v":0},{"$f":"'P Index Inputs'!J81","v":0},{"$f":"IF(ISBLANK('P Index Inputs'!L81),'P Index Inputs'!K81,'P Index Inputs'!L81)","v":"-"},{"$f":"'P Index Inputs'!M81","v":0},{"$f":"'P Index Inputs'!O81","v":0},{"$f":"'P Index Inputs'!P81","v":0},{"$f":"'P Index Inputs'!Q81","v":0},{"$f":"IFERROR(VLOOKUP(I79,'NR-PI 2.0 Structure'!$C$5:$D$8,2,FALSE),\"-\")","v":"-"},{"$f":"IFERROR(VLOOKUP(J79,'NR-PI 2.0 Structure'!$B$12:$C$16,2,FALSE),\"-\")","v":"-"},{"$f":"IFERROR(VLOOKUP(K79,'NR-PI 2.0 Structure'!$B$20:$D$21,3,FALSE),\"-\")","v":"-"},{"$f":"IFERROR(VLOOKUP(L79,'NR-PI 2.0 Structure'!$B$25:$C$28,2,FALSE),\"-\")","v":"-"},{"$f":"IFERROR(VLOOKUP(L79,'NR-PI 2.0 Structure'!$B$25:$D$28,3,FALSE),\"-\")","v":"-"},{"$f":"IFERROR(\n  IF(M79 = \"≤ 1\", 'NR-PI 2.0 Structure'!$D$32,\n  IF(M79 = \">1 - 3\", 'NR-PI 2.0 Structure'!$D$33,\n  IF(M79 = \">3 - 5\", 'NR-PI 2.0 Structure'!$D$34,\n  IF(M79 = \"> 5\", 'NR-PI 2.0 Structure'!$D$35, )))),\n\"-\")","v":0},{"$f":"IFERROR(IF(ISBLANK(I79),\"N/A\",IF(I79<>'NR-PI 2.0 Structure'!$C$5,(VLOOKUP(N79,'NR-PI 2.0 Structure'!$C$39:$D$40,2,FALSE)),0)),\" - \")","v":" - "},{"$f":"IFERROR(IF(ISBLANK(I79),\"N/A\",IF(I79<>'NR-PI 2.0 Structure'!$C$5,(VLOOKUP(N79,'NR-PI 2.0 Structure'!$C$39:$E$40,3,FALSE)),0)),\" - \")","v":" - "},"-","-","-","N/A",{"$f":"IF(ISBLANK('P Index Inputs'!R81),\"-\",'P Index Inputs'!R81)","v":"-"},{"$f":"IFERROR(IF(I79<>'NR-PI 2.0 Structure'!$C$5,VLOOKUP(AA79,'NR-PI 2.0 Structure'!$G$5:$H$9,2,FALSE),IF(OR(AA79='NR-PI 2.0 Structure'!$G$5,AA79='NR-PI 2.0 Structure'!$G$6,AA79='NR-PI 2.0 Structure'!$G$7),1,VLOOKUP(AA79,'NR-PI 2.0 Structure'!$G$8:$H$9,2,FALSE))),\"-\")","v":"-"},{"$f":"IF(ISBLANK('P Index Inputs'!S81),\"-\",'P Index Inputs'!S81)","v":"-"},{"$f":"IFERROR(VLOOKUP(AC79,'NR-PI 2.0 Structure'!$G$14:$H$19,2,FALSE),\"-\")","v":"-"},"-","-","N/A","N/A",0,0,0,0,0,0,0,0,0]
[{"$f":"'P Index Inputs'!A82","v":0},{"$f":"'P Index Inputs'!B82","v":0},{"$f":"'P Index Inputs'!C82","v":0},{"$f":"'P Index Inputs'!D82","v":0},{"$f":"'P Index Inputs'!E82","v":0},{"$f":"'P Index Inputs'!F82","v":0},{"$f":"'P Index Inputs'!H82","v":0},{"$f":"'P Index Inputs'!I82","v":0},{"$f":"'P Index Inputs'!J82","v":0},{"$f":"IF(ISBLANK('P Index Inputs'!L82),'P Index Inputs'!K82,'P Index Inputs'!L82)","v":"-"},{"$f":"'P Index Inputs'!M82","v":0},{"$f":"'P Index Inputs'!O82","v":0},{"$f":"'P Index Inputs'!P82","v":0},{"$f":"'P Index Inputs'!Q82","v":0},{"$f":"IFERROR(VLOOKUP(I80,'NR-PI 2.0 Structure'!$C$5:$D$8,2,FALSE),\"-\")","v":"-"},{"$f":"IFERROR(VLOOKUP(J80,'NR-PI 2.0 Structure'!$B$12:$C$16,2,FALSE),\"-\")","v":"-"},{"$f":"IFERROR(VLOOKUP(K80,'NR-PI 2.0 Structure'!$B$20:$D$21,3,FALSE),\"-\")","v":"-"},{"$f":"IFERROR(VLOOKUP(L80,'NR-PI 2.0 Structure'!$B$25:$C$28,2,FALSE),\"-\")","v":"-"},{"$f":"IFERROR(VLOOKUP(L80,'NR-PI 2.0 Structure'!$B$25:$D$28,3,FALSE),\"-\")","v":"-"},{"$f":"IFERROR(\n  IF(M80 = \"≤ 1\", 'NR-PI 2.0 Structure'!$D$32,\n  IF(M80 = \">1 - 3\", 'NR-PI 2.0 Structure'!$D$33,\n  IF(M80 = \">3 - 5\", 'NR-PI 2.0 Structure'!$D$34,\n  IF(M80 = \"> 5\", 'NR-PI 2.0 Structure'!$D$35, )))),\n\"-\")","v":0},{"$f":"IFERROR(IF(ISBLANK(I80),\"N/A\",IF(I80<>'NR-PI 2.0 Structure'!$C$5,(VLOOKUP(N80,'NR-PI 2.0 Structure'!$C$39:$D$40,2,FALSE)),0)),\" - \")","v":" - "},{"$f":"IFERROR(IF(ISBLANK(I80),\"N/A\",IF(I80<>'NR-PI 2.0 Structure'!$C$5,(VLOOKUP(N80,'NR-PI 2.0 Structure'!$C$39:$E$40,3,FALSE)),0)),\" - \")","v":" - "},"-","-",{"$f":"IF(W80>X80,W80,X80)","v":"-"},"N/A",{"$f":"IF(ISBLANK('P Index Inputs'!R82),\"-\",'P Index Inputs'!R82)","v":"-"},{"$f":"IFERROR(IF(I80<>'NR-PI 2.0 Structure'!$C$5,VLOOKUP(AA80,'NR-PI 2.0 Structure'!$G$5:$H$9,2,FALSE),IF(OR(AA80='NR-PI 2.0 Structure'!$G$5,AA80='NR-PI 2.0 Structure'!$G$6,AA80='NR-PI 2.0 Structure'!$G$7),1,VLOOKUP(AA80,'NR-PI 2.0 Structure'!$G$8:$H$9,2,FALSE))),\"-\")","v":"-"},{"$f":"IF(ISBLANK('P Index Inputs'!S82),\"-\",'P Index Inputs'!S82)","v":"-"},{"$f":"IFERROR(VLOOKUP(AC80,'NR-PI 2.0 Structure'!$G$14:$H$19,2,FALSE),\"-\")","v":"-"},"-","-","N/A","N/A",0,0,0,0,0,0,0,0,0]
[{"$f":"'P Index Inputs'!A83","v":0},{"$f":"'P Index Inputs'!B83","v":0},{"$f":"'P Index Inputs'!C83","v":0},{"$f":"'P Index Inputs'!D83","v":0},{"$f":"'P Index Inputs'!E83","v":0},{"$f":"'P Index Inputs'!F83","v":0},{"$f":"'P Index Inputs'!H83","v":0},{"$f":"'P Index Inputs'!I83","v":0},{"$f":"'P Index Inputs'!J83","v":0},{"$f":"IF(ISBLANK('P Index Inputs'!L83),'P Index Inputs'!K83,'P Index Inputs'!L83)","v":"-"},{"$f":"'P Index Inputs'!M83","v":0},{"$f":"'P Index Inputs'!O83","v":0},{"$f":"'P Index Inputs'!P83","v":0},{"$f":"'P Index Inputs'!Q83","v":0},{"$f":"IFERROR(VLOOKUP(I81,'NR-PI 2.0 Structure'!$C$5:$D$8,2,FALSE),\"-\")","v":"-"},{"$f":"IFERROR(VLOOKUP(J81,'NR-PI 2.0 Structure'!$B$12:$C$16,2,FALSE),\"-\")","v":"-"},{"$f":"IFERROR(VLOOKUP(K81,'NR-PI 2.0 Structure'!$B$20:$D$21,3,FALSE),\"-\")","v":"-"},{"$f":"IFERROR(VLOOKUP(L81,'NR-PI 2.0 Structure'!$B$25:$C$28,2,FALSE),\"-\")","v":"-"},{"$f":"IFERROR(VLOOKUP(L81,'NR-PI 2.0 Structure'!$B$25:$D$28,3,FALSE),\"-\")","v":"-"},{"$f":"IFERROR(\n  IF(M81 = \"≤ 1\", 'NR-PI 2.0 Structure'!$D$32,\n  IF(M81 = \">1 - 3\", 'NR-PI 2.0 Structure'!$D$33,\n  IF(M81 = \">3 - 5\", 'NR-PI 2.0 Structure'!$D$34,\n  IF(M81 = \"> 5\", 'NR-PI 2.0 Structure'!$D$35, )))),\n\"-\")","v":0},{"$f":"IFERROR(IF(ISBLANK(I81),\"N/A\",IF(I81<>'NR-PI 2.0 Structure'!$C$5,(VLOOKUP(N81,'NR-PI 2.0 Structure'!$C$39:$D$40,2,FALSE)),0)),\" - \")","v":" - "},{"$f":"IFERROR(IF(ISBLANK(I81),\"N/A\",IF(I81<>'NR-PI 2.0 Structure'!$C$5,(VLOOKUP(N81,'NR-PI 2.0 Structure'!$C$39:$E$40,3,FALSE)),0)),\" - \")","v":" - "},"-","-","-","N/A",{"$f":"IF(ISBLANK('P Index Inputs'!R83),\"-\",'P Index Inputs'!R83)","v":"-"},{"$f":"IFERROR(IF(I81<>'NR-PI 2.0 Structure'!$C$5,VLOOKUP(AA81,'NR-PI 2.0 Structure'!$G$5:$H$9,2,FALSE),IF(OR(AA81='NR-PI 2.0 Structure'!$G$5,AA81='NR-PI 2.0 Structure'!$G$6,AA81='NR-PI 2.0 Structure'!$G$7),1,VLOOKUP(AA81,'NR-PI 2.0 Structure'!$G$8:$H$9,2,FALSE))),\"-\")","v":"-"},{"$f":"IF(ISBLANK('P Index Inputs'!S83),\"-\",'P Index Inputs'!S83)","v":"-"},{"$f":"IFERROR(VLOOKUP(AC81,'NR-PI 2.0 Structure'!$G$14:$H$19,2,FALSE),\"-\")","v":"-"},"-","-","N/A","N/A",0,0,0,0,0,0,0,0,0]
[{"$f":"'P Index Inputs'!A84","v":0},{"$f":"'P Index Inputs'!B84","v":0},{"$f":"'P Index Inputs'!C84","v":0},{"$f":"'P Index Inputs'!D84","v":0},{"$f":"'P Index Inputs'!E84","v":0},{"$f":"'P Index Inputs'!F84","v":0},{"$f":"'P Index Inputs'!H84","v":0},{"$f":"'P Index Inputs'!I84","v":0},{"$f":"'P Index Inputs'!J84","v":0},{"$f":"IF(ISBLANK('P Index Inputs'!L84),'P Index Inputs'!K84,'P Index Inputs'!L84)","v":"-"},{"$f":"'P Index Inputs'!M84","v":0},{"$f":"'P Index Inputs'!O84","v":0},{"$f":"'P Index Inputs'!P84","v":0},{"$f":"'P Index Inputs'!Q84","v":0},{"$f":"IFERROR(VLOOKUP(I82,'NR-PI 2.0 Structure'!$C$5:$D$8,2,FALSE),\"-\")","v":"-"},{"$f":"IFERROR(VLOOKUP(J82,'NR-PI 2.0 Structure'!$B$12:$C$16,2,FALSE),\"-\")","v":"-"},{"$f":"IFERROR(VLOOKUP(K82,'NR-PI 2.0 Structure'!$B$20:$D$21,3,FALSE),\"-\")","v":"-"},{"$f":"IFERROR(VLOOKUP(L82,'NR-PI 2.0 Structure'!$B$25:$C$28,2,FALSE),\"-\")","v":"-"},{"$f":"IFERROR(VLOOKUP(L82,'NR-PI 2.0 Structure'!$B$25:$D$28,3,FALSE),\"-\")","v":"-"},{"$f":"IFERROR(\n  IF(M82 = \"≤ 1\", 'NR-PI 2.0 Structure'!$D$32,\n  IF(M82 = \">1 - 3\", 'NR-PI 2.0 Structure'!$D$33,\n  IF(M82 = \">3 - 5\", 'NR-PI 2.0 Structure'!$D$34,\n  IF(M82 = \"> 5\", 'NR-PI 2.0 Structure'!$D$35, )))),\n\"-\")","v":0},{"$f":"IFERROR(IF(ISBLANK(I82),\"N/A\",IF(I82<>'NR-PI 2.0 Structure'!$C$5,(VLOOKUP(N82,'NR-PI 2.0 Structure'!$C$39:$D$40,2,FALSE)),0)),\" - \")","v":" - "},{"$f":"IFERROR(IF(ISBLANK(I82),\"N/A\",IF(I82<>'NR-PI 2.0 Structure'!$C$5,(VLOOKUP(N82,'NR-PI 2.0 Structure'!$C$39:$E$40,3,FALSE)),0)),\" - \")","v":" - "},"-","-","-","N/A",{"$f":"IF(ISBLANK('P Index Inputs'!R84),\"-\",'P Index Inputs'!R84)","v":"-"},{"$f":"IFERROR(IF(I82<>'NR-PI 2.0 Structure'!$C$5,VLOOKUP(AA82,'NR-PI 2.0 Structure'!$G$5:$H$9,2,FALSE),IF(OR(AA82='NR-PI 2.0 Structure'!$G$5,AA82='NR-PI 2.0 Structure'!$G$6,AA82='NR-PI 2.0 Structure'!$G$7),1,VLOOKUP(AA82,'NR-PI 2.0 Structure'!$G$8:$H$9,2,FALSE))),\"-\")","v":"-"},{"$f":"IF(ISBLANK('P Index Inputs'!S84),\"-\",'P Index Inputs'!S84)","v":"-"},{"$f":"IFERROR(VLOOKUP(AC82,'NR-PI 2.0 Structure'!$G$14:$H$19,2,FALSE),\"-\")","v":"-"},"-","-","N/A","N/A",0,0,0,0,0,0,0,0,0]
[{"$f":"'P Index Inputs'!A85","v":0},{"$f":"'P Index Inputs'!B85","v":0},{"$f":"'P Index Inputs'!C85","v":0},{"$f":"'P Index Inputs'!D85","v":0},{"$f":"'P Index Inputs'!E85","v":0},{"$f":"'P Index Inputs'!F85","v":0},{"$f":"'P Index Inputs'!H85","v":0},{"$f":"'P Index Inputs'!I85","v":0},{"$f":"'P Index Inputs'!J85","v":0},{"$f":"IF(ISBLANK('P Index Inputs'!L85),'P Index Inputs'!K85,'P Index Inputs'!L85)","v":"-"},{"$f":"'P Index Inputs'!M85","v":0},{"$f":"'P Index Inputs'!O85","v":0},{"$f":"'P Index Inputs'!P85","v":0},{"$f":"'P Index Inputs'!Q85","v":0},{"$f":"IFERROR(VLOOKUP(I83,'NR-PI 2.0 Structure'!$C$5:$D$8,2,FALSE),\"-\")","v":"-"},{"$f":"IFERROR(VLOOKUP(J83,'NR-PI 2.0 Structure'!$B$12:$C$16,2,FALSE),\"-\")","v":"-"},{"$f":"IFERROR(VLOOKUP(K83,'NR-PI 2.0 Structure'!$B$20:$D$21,3,FALSE),\"-\")","v":"-"},{"$f":"IFERROR(VLOOKUP(L83,'NR-PI 2.0 Structure'!$B$25:$C$28,2,FALSE),\"-\")","v":"-"},{"$f":"IFERROR(VLOOKUP(L83,'NR-PI 2.0 Structure'!$B$25:$D$28,3,FALSE),\"-\")","v":"-"},{"$f":"IFERROR(\n  IF(M83 = \"≤ 1\", 'NR-PI 2.0 Structure'!$D$32,\n  IF(M83 = \">1 - 3\", 'NR-PI 2.0 Structure'!$D$33,\n  IF(M83 = \">3 - 5\", 'NR-PI 2.0 Structure'!$D$34,\n  IF(M83 = \"> 5\", 'NR-PI 2.0 Structure'!$D$35, )))),\n\"-\")","v":0},{"$f":"IFERROR(IF(ISBLANK(I83),\"N/A\",IF(I83<>'NR-PI 2.0 Structure'!$C$5,(VLOOKUP(N83,'NR-PI 2.0 Structure'!$C$39:$D$40,2,FALSE)),0)),\" - \")","v":" - "},{"$f":"IFERROR(IF(ISBLANK(I83),\"N/A\",IF(I83<>'NR-PI 2.0 Structure'!$C$5,(VLOOKUP(N83,'NR-PI 2.0 Structure'!$C$39:$E$40,3,FALSE)),0)),\" - \")","v":" - "},"-","-","-","N/A",{"$f":"IF(ISBLANK('P Index Inputs'!R85),\"-\",'P Index Inputs'!R85)","v":"-"},{"$f":"IFERROR(IF(I83<>'NR-PI 2.0 Structure'!$C$5,VLOOKUP(AA83,'NR-PI 2.0 Structure'!$G$5:$H$9,2,FALSE),IF(OR(AA83='NR-PI 2.0 Structure'!$G$5,AA83='NR-PI 2.0 Structure'!$G$6,AA83='NR-PI 2.0 Structure'!$G$7),1,VLOOKUP(AA83,'NR-PI 2.0 Structure'!$G$8:$H$9,2,FALSE))),\"-\")","v":"-"},{"$f":"IF(ISBLANK('P Index Inputs'!S85),\"-\",'P Index Inputs'!S85)","v":"-"},{"$f":"IFERROR(VLOOKUP(AC83,'NR-PI 2.0 Structure'!$G$14:$H$19,2,FALSE),\"-\")","v":"-"},"-","-","N/A","N/A",0,0,0,0,0,0,0,0,0]
[{"$f":"'P Index Inputs'!A86","v":0},{"$f":"'P Index Inputs'!B86","v":0},{"$f":"'P Index Inputs'!C86","v":0},{"$f":"'P Index Inputs'!D86","v":0},{"$f":"'P Index Inputs'!E86","v":0},{"$f":"'P Index Inputs'!F86","v":0},{"$f":"'P Index Inputs'!H86","v":0},{"$f":"'P Index Inputs'!I86","v":0},{"$f":"'P Index Inputs'!J86","v":0},{"$f":"IF(ISBLANK('P Index Inputs'!L86),'P Index Inputs'!K86,'P Index Inputs'!L86)","v":"-"},{"$f":"'P Index Inputs'!M86","v":0},{"$f":"'P Index Inputs'!O86","v":0},{"$f":"'P Index Inputs'!P86","v":0},{"$f":"'P Index Inputs'!Q86","v":0},{"$f":"IFERROR(VLOOKUP(I84,'NR-PI 2.0 Structure'!$C$5:$D$8,2,FALSE),\"-\")","v":"-"},{"$f":"IFERROR(VLOOKUP(J84,'NR-PI 2.0 Structure'!$B$12:$C$16,2,FALSE),\"-\")","v":"-"},{"$f":"IFERROR(VLOOKUP(K84,'NR-PI 2.0 Structure'!$B$20:$D$21,3,FALSE),\"-\")","v":"-"},{"$f":"IFERROR(VLOOKUP(L84,'NR-PI 2.0 Structure'!$B$25:$C$28,2,FALSE),\"-\")","v":"-"},{"$f":"IFERROR(VLOOKUP(L84,'NR-PI 2.0 Structure'!$B$25:$D$28,3,FALSE),\"-\")","v":"-"},{"$f":"IFERROR(\n  IF(M84 = \"≤ 1\", 'NR-PI 2.0 Structure'!$D$32,\n  IF(M84 = \">1 - 3\", 'NR-PI 2.0 Structure'!$D$33,\n  IF(M84 = \">3 - 5\", 'NR-PI 2.0 Structure'!$D$34,\n  IF(M84 = \"> 5\", 'NR-PI 2.0 Structure'!$D$35, )))),\n\"-\")","v":0},{"$f":"IFERROR(IF(ISBLANK(I84),\"N/A\",IF(I84<>'NR-PI 2.0 Structure'!$C$5,(VLOOKUP(N84,'NR-PI 2.0 Structure'!$C$39:$D$40,2,FALSE)),0)),\" - \")","v":" - "},{"$f":"IFERROR(IF(ISBLANK(I84),\"N/A\",IF(I84<>'NR-PI 2.0 Structure'!$C$5,(VLOOKUP(N84,'NR-PI 2.0 Structure'!$C$39:$E$40,3,FALSE)),0)),\" - \")","v":" - "},"-","-","-","N/A",{"$f":"IF(ISBLANK('P Index Inputs'!R86),\"-\",'P Index Inputs'!R86)","v":"-"},{"$f":"IFERROR(IF(I84<>'NR-PI 2.0 Structure'!$C$5,VLOOKUP(AA84,'NR-PI 2.0 Structure'!$G$5:$H$9,2,FALSE),IF(OR(AA84='NR-PI 2.0 Structure'!$G$5,AA84='NR-PI 2.0 Structure'!$G$6,AA84='NR-PI 2.0 Structure'!$G$7),1,VLOOKUP(AA84,'NR-PI 2.0 Structure'!$G$8:$H$9,2,FALSE))),\"-\")","v":"-"},{"$f":"IF(ISBLANK('P Index Inputs'!S86),\"-\",'P Index Inputs'!S86)","v":"-"},{"$f":"IFERROR(VLOOKUP(AC84,'NR-PI 2.0 Structure'!$G$14:$H$19,2,FALSE),\"-\")","v":"-"},"-","-","N/A","N/A",0,0,0,0,0,0,0,0,0]
[{"$f":"'P Index Inputs'!A87","v":0},{"$f":"'P Index Inputs'!B87","v":0},{"$f":"'P Index Inputs'!C87","v":0},{"$f":"'P Index Inputs'!D87","v":0},{"$f":"'P Index Inputs'!E87","v":0},{"$f":"'P Index Inputs'!F87","v":0},{"$f":"'P Index Inputs'!H87","v":0},{"$f":"'P Index Inputs'!I87","v":0},{"$f":"'P Index Inputs'!J87","v":0},{"$f":"IF(ISBLANK('P Index Inputs'!L87),'P Index Inputs'!K87,'P Index Inputs'!L87)","v":"-"},{"$f":"'P Index Inputs'!M87","v":0},{"$f":"'P Index Inputs'!O87","v":0},{"$f":"'P Index Inputs'!P87","v":0},{"$f":"'P Index Inputs'!Q87","v":0},{"$f":"IFERROR(VLOOKUP(I85,'NR-PI 2.0 Structure'!$C$5:$D$8,2,FALSE),\"-\")","v":"-"},{"$f":"IFERROR(VLOOKUP(J85,'NR-PI 2.0 Structure'!$B$12:$C$16,2,FALSE),\"-\")","v":"-"},{"$f":"IFERROR(VLOOKUP(K85,'NR-PI 2.0 Structure'!$B$20:$D$21,3,FALSE),\"-\")","v":"-"},{"$f":"IFERROR(VLOOKUP(L85,'NR-PI 2.0 Structure'!$B$25:$C$28,2,FALSE),\"-\")","v":"-"},{"$f":"IFERROR(VLOOKUP(L85,'NR-PI 2.0 Structure'!$B$25:$D$28,3,FALSE),\"-\")","v":"-"},{"$f":"IFERROR(\n  IF(M85 = \"≤ 1\", 'NR-PI 2.0 Structure'!$D$32,\n  IF(M85 = \">1 - 3\", 'NR-PI 2.0 Structure'!$D$33,\n  IF(M85 = \">3 - 5\", 'NR-PI 2.0 Structure'!$D$34,\n  IF(M85 = \"> 5\", 'NR-PI 2.0 Structure'!$D$35, )))),\n\"-\")","v":0},{"$f":"IFERROR(IF(ISBLANK(I85),\"N/A\",IF(I85<>'NR-PI 2.0 Structure'!$C$5,(VLOOKUP(N85,'NR-PI 2.0 Structure'!$C$39:$D$40,2,FALSE)),0)),\" - \")","v":" - "},{"$f":"IFERROR(IF(ISBLANK(I85),\"N/A\",IF(I85<>'NR-PI 2.0 Structure'!$C$5,(VLOOKUP(N85,'NR-PI 2.0 Structure'!$C$39:$E$40,3,FALSE)),0)),\" - \")","v":" - "},"-","-","-",{"$f":"IF(Y85=\"-\",\"N/A\",IF(Y85<50, \"Low\", IF(Y85<75, \"Medium\", IF(Y85<100, \"High\", IF(Y85>=100, \"Very High\")))))","v":"N/A"},{"$f":"IF(ISBLANK('P Index Inputs'!R87),\"-\",'P Index Inputs'!R87)","v":"-"},{"$f":"IFERROR(IF(I85<>'NR-PI 2.0 Structure'!$C$5,VLOOKUP(AA85,'NR-PI 2.0 Structure'!$G$5:$H$9,2,FALSE),IF(OR(AA85='NR-PI 2.0 Structure'!$G$5,AA85='NR-PI 2.0 Structure'!$G$6,AA85='NR-PI 2.0 Structure'!$G$7),1,VLOOKUP(AA85,'NR-PI 2.0 Structure'!$G$8:$H$9,2,FALSE))),\"-\")","v":"-"},{"$f":"IF(ISBLANK('P Index Inputs'!S87),\"-\",'P Index Inputs'!S87)","v":"-"},{"$f":"IFERROR(VLOOKUP(AC85,'NR-PI 2.0 Structure'!$G$14:$H$19,2,FALSE),\"-\")","v":"-"},"-","-","N/A","N/A",0,0,0,0,0,0,0,0,0]
[{"$f":"'P Index Inputs'!A88","v":0},{"$f":"'P Index Inputs'!B88","v":0},{"$f":"'P Index Inputs'!C88","v":0},{"$f":"'P Index Inputs'!D88","v":0},{"$f":"'P Index Inputs'!E88","v":0},{"$f":"'P Index Inputs'!F88","v":0},{"$f":"'P Index Inputs'!H88","v":0},{"$f":"'P Index Inputs'!I88","v":0},{"$f":"'P Index Inputs'!J88","v":0},{"$f":"IF(ISBLANK('P Index Inputs'!L88),'P Index Inputs'!K88,'P Index Inputs'!L88)","v":"-"},{"$f":"'P Index Inputs'!M88","v":0},{"$f":"'P Index Inputs'!O88","v":0},{"$f":"'P Index Inputs'!P88","v":0},{"$f":"'P Index Inputs'!Q88","v":0},{"$f":"IFERROR(VLOOKUP(I86,'NR-PI 2.0 Structure'!$C$5:$D$8,2,FALSE),\"-\")","v":"-"},{"$f":"IFERROR(VLOOKUP(J86,'NR-PI 2.0 Structure'!$B$12:$C$16,2,FALSE),\"-\")","v":"-"},{"$f":"IFERROR(VLOOKUP(K86,'NR-PI 2.0 Structure'!$B$20:$D$21,3,FALSE),\"-\")","v":"-"},{"$f":"IFERROR(VLOOKUP(L86,'NR-PI 2.0 Structure'!$B$25:$C$28,2,FALSE),\"-\")","v":"-"},{"$f":"IFERROR(VLOOKUP(L86,'NR-PI 2.0 Structure'!$B$25:$D$28,3,FALSE),\"-\")","v":"-"},{"$f":"IFERROR(\n  IF(M86 = \"≤ 1\", 'NR-PI 2.0 Structure'!$D$32,\n  IF(M86 = \">1 - 3\", 'NR-PI 2.0 Structure'!$D$33,\n  IF(M86 = \">3 - 5\", 'NR-PI 2.0 Structure'!$D$34,\n  IF(M86 = \"> 5\", 'NR-PI 2.0 Structure'!$D$35, )))),\n\"-\")","v":0},{"$f":"IFERROR(IF(ISBLANK(I86),\"N/A\",IF(I86<>'NR-PI 2.0 Structure'!$C$5,(VLOOKUP(N86,'NR-PI 2.0 Structure'!$C$39:$D$40,2,FALSE)),0)),\" - \")","v":" - "},{"$f":"IFERROR(IF(ISBLANK(I86),\"N/A\",IF(I86<>'NR-PI 2.0 Structure'!$C$5,(VLOOKUP(N86,'NR-PI 2.0 Structure'!$C$39:$E$40,3,FALSE)),0)),\" - \")","v":" - "},"-","-","-","N/A",{"$f":"IF(ISBLANK('P Index Inputs'!R88),\"-\",'P Index Inputs'!R88)","v":"-"},{"$f":"IFERROR(IF(I86<>'NR-PI 2.0 Structure'!$C$5,VLOOKUP(AA86,'NR-PI 2.0 Structure'!$G$5:$H$9,2,FALSE),IF(OR(AA86='NR-PI 2.0 Structure'!$G$5,AA86='NR-PI 2.0 Structure'!$G$6,AA86='NR-PI 2.0 Structure'!$G$7),1,VLOOKUP(AA86,'NR-PI 2.0 Structure'!$G$8:$H$9,2,FALSE))),\"-\")","v":"-"},{"$f":"IF(ISBLANK('P Index Inputs'!S88),\"-\",'P Index Inputs'!S88)","v":"-"},{"$f":"IFERROR(VLOOKUP(AC86,'NR-PI 2.0 Structure'!$G$14:$H$19,2,FALSE),\"-\")","v":"-"},"-","-","N/A","N/A",0,0,0,0,0,0,0,0,0]
[{"$f":"'P Index Inputs'!A89","v":0},{"$f":"'P Index Inputs'!B89","v":0},{"$f":"'P Index Inputs'!C89","v":0},{"$f":"'P Index Inputs'!D89","v":0},{"$f":"'P Index Inputs'!E89","v":0},{"$f":"'P Index Inputs'!F89","v":0},{"$f":"'P Index Inputs'!H89","v":0},{"$f":"'P Index Inputs'!I89","v":0},{"$f":"'P Index Inputs'!J89","v":0},{"$f":"IF(ISBLANK('P Index Inputs'!L89),'P Index Inputs'!K89,'P Index Inputs'!L89)","v":"-"},{"$f":"'P Index Inputs'!M89","v":0},{"$f":"'P Index Inputs'!O89","v":0},{"$f":"'P Index Inputs'!P89","v":0},{"$f":"'P Index Inputs'!Q89","v":0},{"$f":"IFERROR(VLOOKUP(I87,'NR-PI 2.0 Structure'!$C$5:$D$8,2,FALSE),\"-\")","v":"-"},{"$f":"IFERROR(VLOOKUP(J87,'NR-PI 2.0 Structure'!$B$12:$C$16,2,FALSE),\"-\")","v":"-"},{"$f":"IFERROR(VLOOKUP(K87,'NR-PI 2.0 Structure'!$B$20:$D$21,3,FALSE),\"-\")","v":"-"},{"$f":"IFERROR(VLOOKUP(L87,'NR-PI 2.0 Structure'!$B$25:$C$28,2,FALSE),\"-\")","v":"-"},{"$f":"IFERROR(VLOOKUP(L87,'NR-PI 2.0 Structure'!$B$25:$D$28,3,FALSE),\"-\")","v":"-"},{"$f":"IFERROR(\n  IF(M87 = \"≤ 1\", 'NR-PI 2.0 Structure'!$D$32,\n  IF(M87 = \">1 - 3\", 'NR-PI 2.0 Structure'!$D$33,\n  IF(M87 = \">3 - 5\", 'NR-PI 2.0 Structure'!$D$34,\n  IF(M87 = \"> 5\", 'NR-PI 2.0 Structure'!$D$35, )))),\n\"-\")","v":0},{"$f":"IFERROR(IF(ISBLANK(I87),\"N/A\",IF(I87<>'NR-PI 2.0 Structure'!$C$5,(VLOOKUP(N87,'NR-PI 2.0 Structure'!$C$39:$D$40,2,FALSE)),0)),\" - \")","v":" - "},{"$f":"IFERROR(IF(ISBLANK(I87),\"N/A\",IF(I87<>'NR-PI 2.0 Structure'!$C$5,(VLOOKUP(N87,'NR-PI 2.0 Structure'!$C$39:$E$40,3,FALSE)),0)),\" - \")","v":" - "},"-","-","-","N/A",{"$f":"IF(ISBLANK('P Index Inputs'!R89),\"-\",'P Index Inputs'!R89)","v":"-"},{"$f":"IFERROR(IF(I87<>'NR-PI 2.0 Structure'!$C$5,VLOOKUP(AA87,'NR-PI 2.0 Structure'!$G$5:$H$9,2,FALSE),IF(OR(AA87='NR-PI 2.0 Structure'!$G$5,AA87='NR-PI 2.0 Structure'!$G$6,AA87='NR-PI 2.0 Structure'!$G$7),1,VLOOKUP(AA87,'NR-PI 2.0 Structure'!$G$8:$H$9,2,FALSE))),\"-\")","v":"-"},{"$f":"IF(ISBLANK('P Index Inputs'!S89),\"-\",'P Index Inputs'!S89)","v":"-"},{"$f":"IFERROR(VLOOKUP(AC87,'NR-PI 2.0 Structure'!$G$14:$H$19,2,FALSE),\"-\")","v":"-"},"-","-","N/A","N/A",0,0,0,0,0,0,0,0,0]
[{"$f":"'P Index Inputs'!A90","v":0},{"$f":"'P Index Inputs'!B90","v":0},{"$f":"'P Index Inputs'!C90","v":0},{"$f":"'P Index Inputs'!D90","v":0},{"$f":"'P Index Inputs'!E90","v":0},{"$f":"'P Index Inputs'!F90","v":0},{"$f":"'P Index Inputs'!H90","v":0},{"$f":"'P Index Inputs'!I90","v":0},{"$f":"'P Index Inputs'!J90","v":0},{"$f":"IF(ISBLANK('P Index Inputs'!L90),'P Index Inputs'!K90,'P Index Inputs'!L90)","v":"-"},{"$f":"'P Index Inputs'!M90","v":0},{"$f":"'P Index Inputs'!O90","v":0},{"$f":"'P Index Inputs'!P90","v":0},{"$f":"'P Index Inputs'!Q90","v":0},{"$f":"IFERROR(VLOOKUP(I88,'NR-PI 2.0 Structure'!$C$5:$D$8,2,FALSE),\"-\")","v":"-"},{"$f":"IFERROR(VLOOKUP(J88,'NR-PI 2.0 Structure'!$B$12:$C$16,2,FALSE),\"-\")","v":"-"},{"$f":"IFERROR(VLOOKUP(K88,'NR-PI 2.0 Structure'!$B$20:$D$21,3,FALSE),\"-\")","v":"-"},{"$f":"IFERROR(VLOOKUP(L88,'NR-PI 2.0 Structure'!$B$25:$C$28,2,FALSE),\"-\")","v":"-"},{"$f":"IFERROR(VLOOKUP(L88,'NR-PI 2.0 Structure'!$B$25:$D$28,3,FALSE),\"-\")","v":"-"},{"$f":"IFERROR(\n  IF(M88 = \"≤ 1\", 'NR-PI 2.0 Structure'!$D$32,\n  IF(M88 = \">1 - 3\", 'NR-PI 2.0 Structure'!$D$33,\n  IF(M88 = \">3 - 5\", 'NR-PI 2.0 Structure'!$D$34,\n  IF(M88 = \"> 5\", 'NR-PI 2.0 Structure'!$D$35, )))),\n\"-\")","v":0},{"$f":"IFERROR(IF(ISBLANK(I88),\"N/A\",IF(I88<>'NR-PI 2.0 Structure'!$C$5,(VLOOKUP(N88,'NR-PI 2.0 Structure'!$C$39:$D$40,2,FALSE)),0)),\" - \")","v":" - "},{"$f":"IFERROR(IF(ISBLANK(I88),\"N/A\",IF(I88<>'NR-PI 2.0 Structure'!$C$5,(VLOOKUP(N88,'NR-PI 2.0 Structure'!$C$39:$E$40,3,FALSE)),0)),\" - \")","v":" - "},"-","-","-","N/A",{"$f":"IF(ISBLANK('P Index Inputs'!R90),\"-\",'P Index Inputs'!R90)","v":"-"},{"$f":"IFERROR(IF(I88<>'NR-PI 2.0 Structure'!$C$5,VLOOKUP(AA88,'NR-PI 2.0 Structure'!$G$5:$H$9,2,FALSE),IF(OR(AA88='NR-PI 2.0 Structure'!$G$5,AA88='NR-PI 2.0 Structure'!$G$6,AA88='NR-PI 2.0 Structure'!$G$7),1,VLOOKUP(AA88,'NR-PI 2.0 Structure'!$G$8:$H$9,2,FALSE))),\"-\")","v":"-"},{"$f":"IF(ISBLANK('P Index Inputs'!S90),\"-\",'P Index Inputs'!S90)","v":"-"},{"$f":"IFERROR(VLOOKUP(AC88,'NR-PI 2.0 Structure'!$G$14:$H$19,2,FALSE),\"-\")","v":"-"},"-","-","N/A","N/A",0,0,0,0,0,0,0,0,0]
[{"$f":"'P Index Inputs'!A91","v":0},{"$f":"'P Index Inputs'!B91","v":0},{"$f":"'P Index Inputs'!C91","v":0},{"$f":"'P Index Inputs'!D91","v":0},{"$f":"'P Index Inputs'!E91","v":0},{"$f":"'P Index Inputs'!F91","v":0},{"$f":"'P Index Inputs'!H91","v":0},{"$f":"'P Index Inputs'!I91","v":0},{"$f":"'P Index Inputs'!J91","v":0},{"$f":"IF(ISBLANK('P Index Inputs'!L91),'P Index Inputs'!K91,'P Index Inputs'!L91)","v":"-"},{"$f":"'P Index Inputs'!M91","v":0},{"$f":"'P Index Inputs'!O91","v":0},{"$f":"'P Index Inputs'!P91","v":0},{"$f":"'P Index Inputs'!Q91","v":0},{"$f":"IFERROR(VLOOKUP(I89,'NR-PI 2.0 Structure'!$C$5:$D$8,2,FALSE),\"-\")","v":"-"},{"$f":"IFERROR(VLOOKUP(J89,'NR-PI 2.0 Structure'!$B$12:$C$16,2,FALSE),\"-\")","v":"-"},{"$f":"IFERROR(VLOOKUP(K89,'NR-PI 2.0 Structure'!$B$20:$D$21,3,FALSE),\"-\")","v":"-"},{"$f":"IFERROR(VLOOKUP(L89,'NR-PI 2.0 Structure'!$B$25:$C$28,2,FALSE),\"-\")","v":"-"},{"$f":"IFERROR(VLOOKUP(L89,'NR-PI 2.0 Structure'!$B$25:$D$28,3,FALSE),\"-\")","v":"-"},{"$f":"IFERROR(\n  IF(M89 = \"≤ 1\", 'NR-PI 2.0 Structure'!$D$32,\n  IF(M89 = \">1 - 3\", 'NR-PI 2.0 Structure'!$D$33,\n  IF(M89 = \">3 - 5\", 'NR-PI 2.0 Structure'!$D$34,\n  IF(M89 = \"> 5\", 'NR-PI 2.0 Structure'!$D$35, )))),\n\"-\")","v":0},{"$f":"IFERROR(IF(ISBLANK(I89),\"N/A\",IF(I89<>'NR-PI 2.0 Structure'!$C$5,(VLOOKUP(N89,'NR-PI 2.0 Structure'!$C$39:$D$40,2,FALSE)),0)),\" - \")","v":" - "},{"$f":"IFERROR(IF(ISBLANK(I89),\"N/A\",IF(I89<>'NR-PI 2.0 Structure'!$C$5,(VLOOKUP(N89,'NR-PI 2.0 Structure'!$C$39:$E$40,3,FALSE)),0)),\" - \")","v":" - "},"-","-","-","N/A",{"$f":"IF(ISBLANK('P Index Inputs'!R91),\"-\",'P Index Inputs'!R91)","v":"-"},{"$f":"IFERROR(IF(I89<>'NR-PI 2.0 Structure'!$C$5,VLOOKUP(AA89,'NR-PI 2.0 Structure'!$G$5:$H$9,2,FALSE),IF(OR(AA89='NR-PI 2.0 Structure'!$G$5,AA89='NR-PI 2.0 Structure'!$G$6,AA89='NR-PI 2.0 Structure'!$G$7),1,VLOOKUP(AA89,'NR-PI 2.0 Structure'!$G$8:$H$9,2,FALSE))),\"-\")","v":"-"},{"$f":"IF(ISBLANK('P Index Inputs'!S91),\"-\",'P Index Inputs'!S91)","v":"-"},{"$f":"IFERROR(VLOOKUP(AC89,'NR-PI 2.0 Structure'!$G$14:$H$19,2,FALSE),\"-\")","v":"-"},"-","-","N/A","N/A",0,0,0,0,0,0,0,0,0]
[{"$f":"'P Index Inputs'!A92","v":0},{"$f":"'P Index Inputs'!B92","v":0},{"$f":"'P Index Inputs'!C92","v":0},{"$f":"'P Index Inputs'!D92","v":0},{"$f":"'P Index Inputs'!E92","v":0},{"$f":"'P Index Inputs'!F92","v":0},{"$f":"'P Index Inputs'!H92","v":0},{"$f":"'P Index Inputs'!I92","v":0},{"$f":"'P Index Inputs'!J92","v":0},{"$f":"IF(ISBLANK('P Index Inputs'!L92),'P Index Inputs'!K92,'P Index Inputs'!L92)","v":"-"},{"$f":"'P Index Inputs'!M92","v":0},{"$f":"'P Index Inputs'!O92","v":0},{"$f":"'P Index Inputs'!P92","v":0},{"$f":"'P Index Inputs'!Q92","v":0},{"$f":"IFERROR(VLOOKUP(I90,'NR-PI 2.0 Structure'!$C$5:$D$8,2,FALSE),\"-\")","v":"-"},{"$f":"IFERROR(VLOOKUP(J90,'NR-PI 2.0 Structure'!$B$12:$C$16,2,FALSE),\"-\")","v":"-"},{"$f":"IFERROR(VLOOKUP(K90,'NR-PI 2.0 Structure'!$B$20:$D$21,3,FALSE),\"-\")","v":"-"},{"$f":"IFERROR(VLOOKUP(L90,'NR-PI 2.0 Structure'!$B$25:$C$28,2,FALSE),\"-\")","v":"-"},{"$f":"IFERROR(VLOOKUP(L90,'NR-PI 2.0 Structure'!$B$25:$D$28,3,FALSE),\"-\")","v":"-"},{"$f":"IFERROR(\n  IF(M90 = \"≤ 1\", 'NR-PI 2.0 Structure'!$D$32,\n  IF(M90 = \">1 - 3\", 'NR-PI 2.0 Structure'!$D$33,\n  IF(M90 = \">3 - 5\", 'NR-PI 2.0 Structure'!$D$34,\n  IF(M90 = \"> 5\", 'NR-PI 2.0 Structure'!$D$35, )))),\n\"-\")","v":0},{"$f":"IFERROR(IF(ISBLANK(I90),\"N/A\",IF(I90<>'NR-PI 2.0 Structure'!$C$5,(VLOOKUP(N90,'NR-PI 2.0 Structure'!$C$39:$D$40,2,FALSE)),0)),\" - \")","v":" - "},{"$f":"IFERROR(IF(ISBLANK(I90),\"N/A\",IF(I90<>'NR-PI 2.0 Structure'!$C$5,(VLOOKUP(N90,'NR-PI 2.0 Structure'!$C$39:$E$40,3,FALSE)),0)),\" - \")","v":" - "},"-","-","-","N/A",{"$f":"IF(ISBLANK('P Index Inputs'!R92),\"-\",'P Index Inputs'!R92)","v":"-"},{"$f":"IFERROR(IF(I90<>'NR-PI 2.0 Structure'!$C$5,VLOOKUP(AA90,'NR-PI 2.0 Structure'!$G$5:$H$9,2,FALSE),IF(OR(AA90='NR-PI 2.0 Structure'!$G$5,AA90='NR-PI 2.0 Structure'!$G$6,AA90='NR-PI 2.0 Structure'!$G$7),1,VLOOKUP(AA90,'NR-PI 2.0 Structure'!$G$8:$H$9,2,FALSE))),\"-\")","v":"-"},{"$f":"IF(ISBLANK('P Index Inputs'!S92),\"-\",'P Index Inputs'!S92)","v":"-"},{"$f":"IFERROR(VLOOKUP(AC90,'NR-PI 2.0 Structure'!$G$14:$H$19,2,FALSE),\"-\")","v":"-"},"-","-","N/A","N/A",0,0,0,0,0,0,0,0,0]
[{"$f":"'P Index Inputs'!A93","v":0},{"$f":"'P Index Inputs'!B93","v":0},{"$f":"'P Index Inputs'!C93","v":0},{"$f":"'P Index Inputs'!D93","v":0},{"$f":"'P Index Inputs'!E93","v":0},{"$f":"'P Index Inputs'!F93","v":0},{"$f":"'P Index Inputs'!H93","v":0},{"$f":"'P Index Inputs'!I93","v":0},{"$f":"'P Index Inputs'!J93","v":0},{"$f":"IF(ISBLANK('P Index Inputs'!L93),'P Index Inputs'!K93,'P Index Inputs'!L93)","v":"-"},{"$f":"'P Index Inputs'!M93","v":0},{"$f":"'P Index Inputs'!O93","v":0},{"$f":"'P Index Inputs'!P93","v":0},{"$f":"'P Index Inputs'!Q93","v":0},{"$f":"IFERROR(VLOOKUP(I91,'NR-PI 2.0 Structure'!$C$5:$D$8,2,FALSE),\"-\")","v":"-"},{"$f":"IFERROR(VLOOKUP(J91,'NR-PI 2.0 Structure'!$B$12:$C$16,2,FALSE),\"-\")","v":"-"},{"$f":"IFERROR(VLOOKUP(K91,'NR-PI 2.0 Structure'!$B$20:$D$21,3,FALSE),\"-\")","v":"-"},{"$f":"IFERROR(VLOOKUP(L91,'NR-PI 2.0 Structure'!$B$25:$C$28,2,FALSE),\"-\")","v":"-"},{"$f":"IFERROR(VLOOKUP(L91,'NR-PI 2.0 Structure'!$B$25:$D$28,3,FALSE),\"-\")","v":"-"},{"$f":"IFERROR(\n  IF(M91 = \"≤ 1\", 'NR-PI 2.0 Structure'!$D$32,\n  IF(M91 = \">1 - 3\", 'NR-PI 2.0 Structure'!$D$33,\n  IF(M91 = \">3 - 5\", 'NR-PI 2.0 Structure'!$D$34,\n  IF(M91 = \"> 5\", 'NR-PI 2.0 Structure'!$D$35, )))),\n\"-\")","v":0},{"$f":"IFERROR(IF(ISBLANK(I91),\"N/A\",IF(I91<>'NR-PI 2.0 Structure'!$C$5,(VLOOKUP(N91,'NR-PI 2.0 Structure'!$C$39:$D$40,2,FALSE)),0)),\" - \")","v":" - "},{"$f":"IFERROR(IF(ISBLANK(I91),\"N/A\",IF(I91<>'NR-PI 2.0 Structure'!$C$5,(VLOOKUP(N91,'NR-PI 2.0 Structure'!$C$39:$E$40,3,FALSE)),0)),\" - \")","v":" - "},"-","-","-","N/A",{"$f":"IF(ISBLANK('P Index Inputs'!R93),\"-\",'P Index Inputs'!R93)","v":"-"},{"$f":"IFERROR(IF(I91<>'NR-PI 2.0 Structure'!$C$5,VLOOKUP(AA91,'NR-PI 2.0 Structure'!$G$5:$H$9,2,FALSE),IF(OR(AA91='NR-PI 2.0 Structure'!$G$5,AA91='NR-PI 2.0 Structure'!$G$6,AA91='NR-PI 2.0 Structure'!$G$7),1,VLOOKUP(AA91,'NR-PI 2.0 Structure'!$G$8:$H$9,2,FALSE))),\"-\")","v":"-"},{"$f":"IF(ISBLANK('P Index Inputs'!S93),\"-\",'P Index Inputs'!S93)","v":"-"},{"$f":"IFERROR(VLOOKUP(AC91,'NR-PI 2.0 Structure'!$G$14:$H$19,2,FALSE),\"-\")","v":"-"},"-","-","N/A","N/A",0,0,0,0,0,0,0,0,0]
[{"$f":"'P Index Inputs'!A94","v":0},{"$f":"'P Index Inputs'!B94","v":0},{"$f":"'P Index Inputs'!C94","v":0},{"$f":"'P Index Inputs'!D94","v":0},{"$f":"'P Index Inputs'!E94","v":0},{"$f":"'P Index Inputs'!F94","v":0},{"$f":"'P Index Inputs'!H94","v":0},{"$f":"'P Index Inputs'!I94","v":0},{"$f":"'P Index Inputs'!J94","v":0},{"$f":"IF(ISBLANK('P Index Inputs'!L94),'P Index Inputs'!K94,'P Index Inputs'!L94)","v":"-"},{"$f":"'P Index Inputs'!M94","v":0},{"$f":"'P Index Inputs'!O94","v":0},{"$f":"'P Index Inputs'!P94","v":0},{"$f":"'P Index Inputs'!Q94","v":0},{"$f":"IFERROR(VLOOKUP(I92,'NR-PI 2.0 Structure'!$C$5:$D$8,2,FALSE),\"-\")","v":"-"},{"$f":"IFERROR(VLOOKUP(J92,'NR-PI 2.0 Structure'!$B$12:$C$16,2,FALSE),\"-\")","v":"-"},{"$f":"IFERROR(VLOOKUP(K92,'NR-PI 2.0 Structure'!$B$20:$D$21,3,FALSE),\"-\")","v":"-"},{"$f":"IFERROR(VLOOKUP(L92,'NR-PI 2.0 Structure'!$B$25:$C$28,2,FALSE),\"-\")","v":"-"},{"$f":"IFERROR(VLOOKUP(L92,'NR-PI 2.0 Structure'!$B$25:$D$28,3,FALSE),\"-\")","v":"-"},{"$f":"IFERROR(\n  IF(M92 = \"≤ 1\", 'NR-PI 2.0 Structure'!$D$32,\n  IF(M92 = \">1 - 3\", 'NR-PI 2.0 Structure'!$D$33,\n  IF(M92 = \">3 - 5\", 'NR-PI 2.0 Structure'!$D$34,\n  IF(M92 = \"> 5\", 'NR-PI 2.0 Structure'!$D$35, )))),\n\"-\")","v":0},{"$f":"IFERROR(IF(ISBLANK(I92),\"N/A\",IF(I92<>'NR-PI 2.0 Structure'!$C$5,(VLOOKUP(N92,'NR-PI 2.0 Structure'!$C$39:$D$40,2,FALSE)),0)),\" - \")","v":" - "},{"$f":"IFERROR(IF(ISBLANK(I92),\"N/A\",IF(I92<>'NR-PI 2.0 Structure'!$C$5,(VLOOKUP(N92,'NR-PI 2.0 Structure'!$C$39:$E$40,3,FALSE)),0)),\" - \")","v":" - "},"-","-","-","N/A",{"$f":"IF(ISBLANK('P Index Inputs'!R94),\"-\",'P Index Inputs'!R94)","v":"-"},{"$f":"IFERROR(IF(I92<>'NR-PI 2.0 Structure'!$C$5,VLOOKUP(AA92,'NR-PI 2.0 Structure'!$G$5:$H$9,2,FALSE),IF(OR(AA92='NR-PI 2.0 Structure'!$G$5,AA92='NR-PI 2.0 Structure'!$G$6,AA92='NR-PI 2.0 Structure'!$G$7),1,VLOOKUP(AA92,'NR-PI 2.0 Structure'!$G$8:$H$9,2,FALSE))),\"-\")","v":"-"},{"$f":"IF(ISBLANK('P Index Inputs'!S94),\"-\",'P Index Inputs'!S94)","v":"-"},{"$f":"IFERROR(VLOOKUP(AC92,'NR-PI 2.0 Structure'!$G$14:$H$19,2,FALSE),\"-\")","v":"-"},"-","-","N/A","N/A",0,0,0,0,0,0,0,0,0]
[{"$f":"'P Index Inputs'!A95","v":0},{"$f":"'P Index Inputs'!B95","v":0},{"$f":"'P Index Inputs'!C95","v":0},{"$f":"'P Index Inputs'!D95","v":0},{"$f":"'P Index Inputs'!E95","v":0},{"$f":"'P Index Inputs'!F95","v":0},{"$f":"'P Index Inputs'!H95","v":0},{"$f":"'P Index Inputs'!I95","v":0},{"$f":"'P Index Inputs'!J95","v":0},{"$f":"IF(ISBLANK('P Index Inputs'!L95),'P Index Inputs'!K95,'P Index Inputs'!L95)","v":"-"},{"$f":"'P Index Inputs'!M95","v":0},{"$f":"'P Index Inputs'!O95","v":0},{"$f":"'P Index Inputs'!P95","v":0},{"$f":"'P Index Inputs'!Q95","v":0},{"$f":"IFERROR(VLOOKUP(I93,'NR-PI 2.0 Structure'!$C$5:$D$8,2,FALSE),\"-\")","v":"-"},{"$f":"IFERROR(VLOOKUP(J93,'NR-PI 2.0 Structure'!$B$12:$C$16,2,FALSE),\"-\")","v":"-"},{"$f":"IFERROR(VLOOKUP(K93,'NR-PI 2.0 Structure'!$B$20:$D$21,3,FALSE),\"-\")","v":"-"},{"$f":"IFERROR(VLOOKUP(L93,'NR-PI 2.0 Structure'!$B$25:$C$28,2,FALSE),\"-\")","v":"-"},{"$f":"IFERROR(VLOOKUP(L93,'NR-PI 2.0 Structure'!$B$25:$D$28,3,FALSE),\"-\")","v":"-"},{"$f":"IFERROR(\n  IF(M93 = \"≤ 1\", 'NR-PI 2.0 Structure'!$D$32,\n  IF(M93 = \">1 - 3\", 'NR-PI 2.0 Structure'!$D$33,\n  IF(M93 = \">3 - 5\", 'NR-PI 2.0 Structure'!$D$34,\n  IF(M93 = \"> 5\", 'NR-PI 2.0 Structure'!$D$35, )))),\n\"-\")","v":0},{"$f":"IFERROR(IF(ISBLANK(I93),\"N/A\",IF(I93<>'NR-PI 2.0 Structure'!$C$5,(VLOOKUP(N93,'NR-PI 2.0 Structure'!$C$39:$D$40,2,FALSE)),0)),\" - \")","v":" - "},{"$f":"IFERROR(IF(ISBLANK(I93),\"N/A\",IF(I93<>'NR-PI 2.0 Structure'!$C$5,(VLOOKUP(N93,'NR-PI 2.0 Structure'!$C$39:$E$40,3,FALSE)),0)),\" - \")","v":" - "},"-","-","-","N/A",{"$f":"IF(ISBLANK('P Index Inputs'!R95),\"-\",'P Index Inputs'!R95)","v":"-"},{"$f":"IFERROR(IF(I93<>'NR-PI 2.0 Structure'!$C$5,VLOOKUP(AA93,'NR-PI 2.0 Structure'!$G$5:$H$9,2,FALSE),IF(OR(AA93='NR-PI 2.0 Structure'!$G$5,AA93='NR-PI 2.0 Structure'!$G$6,AA93='NR-PI 2.0 Structure'!$G$7),1,VLOOKUP(AA93,'NR-PI 2.0 Structure'!$G$8:$H$9,2,FALSE))),\"-\")","v":"-"},{"$f":"IF(ISBLANK('P Index Inputs'!S95),\"-\",'P Index Inputs'!S95)","v":"-"},{"$f":"IFERROR(VLOOKUP(AC93,'NR-PI 2.0 Structure'!$G$14:$H$19,2,FALSE),\"-\")","v":"-"},"-","-","N/A","N/A",0,0,0,0,0,0,0,0,0]
[{"$f":"'P Index Inputs'!A96","v":0},{"$f":"'P Index Inputs'!B96","v":0},{"$f":"'P Index Inputs'!C96","v":0},{"$f":"'P Index Inputs'!D96","v":0},{"$f":"'P Index Inputs'!E96","v":0},{"$f":"'P Index Inputs'!F96","v":0},{"$f":"'P Index Inputs'!H96","v":0},{"$f":"'P Index Inputs'!I96","v":0},{"$f":"'P Index Inputs'!J96","v":0},{"$f":"IF(ISBLANK('P Index Inputs'!L96),'P Index Inputs'!K96,'P Index Inputs'!L96)","v":"-"},{"$f":"'P Index Inputs'!M96","v":0},{"$f":"'P Index Inputs'!O96","v":0},{"$f":"'P Index Inputs'!P96","v":0},{"$f":"'P Index Inputs'!Q96","v":0},{"$f":"IFERROR(VLOOKUP(I94,'NR-PI 2.0 Structure'!$C$5:$D$8,2,FALSE),\"-\")","v":"-"},{"$f":"IFERROR(VLOOKUP(J94,'NR-PI 2.0 Structure'!$B$12:$C$16,2,FALSE),\"-\")","v":"-"},{"$f":"IFERROR(VLOOKUP(K94,'NR-PI 2.0 Structure'!$B$20:$D$21,3,FALSE),\"-\")","v":"-"},{"$f":"IFERROR(VLOOKUP(L94,'NR-PI 2.0 Structure'!$B$25:$C$28,2,FALSE),\"-\")","v":"-"},{"$f":"IFERROR(VLOOKUP(L94,'NR-PI 2.0 Structure'!$B$25:$D$28,3,FALSE),\"-\")","v":"-"},{"$f":"IFERROR(\n  IF(M94 = \"≤ 1\", 'NR-PI 2.0 Structure'!$D$32,\n  IF(M94 = \">1 - 3\", 'NR-PI 2.0 Structure'!$D$33,\n  IF(M94 = \">3 - 5\", 'NR-PI 2.0 Structure'!$D$34,\n  IF(M94 = \"> 5\", 'NR-PI 2.0 Structure'!$D$35, )))),\n\"-\")","v":0},{"$f":"IFERROR(IF(ISBLANK(I94),\"N/A\",IF(I94<>'NR-PI 2.0 Structure'!$C$5,(VLOOKUP(N94,'NR-PI 2.0 Structure'!$C$39:$D$40,2,FALSE)),0)),\" - \")","v":" - "},{"$f":"IFERROR(IF(ISBLANK(I94),\"N/A\",IF(I94<>'NR-PI 2.0 Structure'!$C$5,(VLOOKUP(N94,'NR-PI 2.0 Structure'!$C$39:$E$40,3,FALSE)),0)),\" - \")","v":" - "},"-","-","-","N/A",{"$f":"IF(ISBLANK('P Index Inputs'!R96),\"-\",'P Index Inputs'!R96)","v":"-"},{"$f":"IFERROR(IF(I94<>'NR-PI 2.0 Structure'!$C$5,VLOOKUP(AA94,'NR-PI 2.0 Structure'!$G$5:$H$9,2,FALSE),IF(OR(AA94='NR-PI 2.0 Structure'!$G$5,AA94='NR-PI 2.0 Structure'!$G$6,AA94='NR-PI 2.0 Structure'!$G$7),1,VLOOKUP(AA94,'NR-PI 2.0 Structure'!$G$8:$H$9,2,FALSE))),\"-\")","v":"-"},{"$f":"IF(ISBLANK('P Index Inputs'!S96),\"-\",'P Index Inputs'!S96)","v":"-"},{"$f":"IFERROR(VLOOKUP(AC94,'NR-PI 2.0 Structure'!$G$14:$H$19,2,FALSE),\"-\")","v":"-"},"-","-","N/A","N/A",0,0,0,0,0,0,0,0,0]
[{"$f":"'P Index Inputs'!A97","v":0},{"$f":"'P Index Inputs'!B97","v":0},{"$f":"'P Index Inputs'!C97","v":0},{"$f":"'P Index Inputs'!D97","v":0},{"$f":"'P Index Inputs'!E97","v":0},{"$f":"'P Index Inputs'!F97","v":0},{"$f":"'P Index Inputs'!H97","v":0},{"$f":"'P Index Inputs'!I97","v":0},{"$f":"'P Index Inputs'!J97","v":0},{"$f":"IF(ISBLANK('P Index Inputs'!L97),'P Index Inputs'!K97,'P Index Inputs'!L97)","v":"-"},{"$f":"'P Index Inputs'!M97","v":0},{"$f":"'P Index Inputs'!O97","v":0},{"$f":"'P Index Inputs'!P97","v":0},{"$f":"'P Index Inputs'!Q97","v":0},{"$f":"IFERROR(VLOOKUP(I95,'NR-PI 2.0 Structure'!$C$5:$D$8,2,FALSE),\"-\")","v":"-"},{"$f":"IFERROR(VLOOKUP(J95,'NR-PI 2.0 Structure'!$B$12:$C$16,2,FALSE),\"-\")","v":"-"},{"$f":"IFERROR(VLOOKUP(K95,'NR-PI 2.0 Structure'!$B$20:$D$21,3,FALSE),\"-\")","v":"-"},{"$f":"IFERROR(VLOOKUP(L95,'NR-PI 2.0 Structure'!$B$25:$C$28,2,FALSE),\"-\")","v":"-"},{"$f":"IFERROR(VLOOKUP(L95,'NR-PI 2.0 Structure'!$B$25:$D$28,3,FALSE),\"-\")","v":"-"},{"$f":"IFERROR(\n  IF(M95 = \"≤ 1\", 'NR-PI 2.0 Structure'!$D$32,\n  IF(M95 = \">1 - 3\", 'NR-PI 2.0 Structure'!$D$33,\n  IF(M95 = \">3 - 5\", 'NR-PI 2.0 Structure'!$D$34,\n  IF(M95 = \"> 5\", 'NR-PI 2.0 Structure'!$D$35, )))),\n\"-\")","v":0},{"$f":"IFERROR(IF(ISBLANK(I95),\"N/A\",IF(I95<>'NR-PI 2.0 Structure'!$C$5,(VLOOKUP(N95,'NR-PI 2.0 Structure'!$C$39:$D$40,2,FALSE)),0)),\" - \")","v":" - "},{"$f":"IFERROR(IF(ISBLANK(I95),\"N/A\",IF(I95<>'NR-PI 2.0 Structure'!$C$5,(VLOOKUP(N95,'NR-PI 2.0 Structure'!$C$39:$E$40,3,FALSE)),0)),\" - \")","v":" - "},"-","-","-","N/A",{"$f":"IF(ISBLANK('P Index Inputs'!R97),\"-\",'P Index Inputs'!R97)","v":"-"},{"$f":"IFERROR(IF(I95<>'NR-PI 2.0 Structure'!$C$5,VLOOKUP(AA95,'NR-PI 2.0 Structure'!$G$5:$H$9,2,FALSE),IF(OR(AA95='NR-PI 2.0 Structure'!$G$5,AA95='NR-PI 2.0 Structure'!$G$6,AA95='NR-PI 2.0 Structure'!$G$7),1,VLOOKUP(AA95,'NR-PI 2.0 Structure'!$G$8:$H$9,2,FALSE))),\"-\")","v":"-"},{"$f":"IF(ISBLANK('P Index Inputs'!S97),\"-\",'P Index Inputs'!S97)","v":"-"},{"$f":"IFERROR(VLOOKUP(AC95,'NR-PI 2.0 Structure'!$G$14:$H$19,2,FALSE),\"-\")","v":"-"},"-","-","N/A","N/A",0,0,0,0,0,0,0,0,0]
[{"$f":"'P Index Inputs'!A98","v":0},{"$f":"'P Index Inputs'!B98","v":0},{"$f":"'P Index Inputs'!C98","v":0},{"$f":"'P Index Inputs'!D98","v":0},{"$f":"'P Index Inputs'!E98","v":0},{"$f":"'P Index Inputs'!F98","v":0},{"$f":"'P Index Inputs'!H98","v":0},{"$f":"'P Index Inputs'!I98","v":0},{"$f":"'P Index Inputs'!J98","v":0},{"$f":"IF(ISBLANK('P Index Inputs'!L98),'P Index Inputs'!K98,'P Index Inputs'!L98)","v":"-"},{"$f":"'P Index Inputs'!M98","v":0},{"$f":"'P Index Inputs'!O98","v":0},{"$f":"'P Index Inputs'!P98","v":0},{"$f":"'P Index Inputs'!Q98","v":0},{"$f":"IFERROR(VLOOKUP(I96,'NR-PI 2.0 Structure'!$C$5:$D$8,2,FALSE),\"-\")","v":"-"},{"$f":"IFERROR(VLOOKUP(J96,'NR-PI 2.0 Structure'!$B$12:$C$16,2,FALSE),\"-\")","v":"-"},{"$f":"IFERROR(VLOOKUP(K96,'NR-PI 2.0 Structure'!$B$20:$D$21,3,FALSE),\"-\")","v":"-"},{"$f":"IFERROR(VLOOKUP(L96,'NR-PI 2.0 Structure'!$B$25:$C$28,2,FALSE),\"-\")","v":"-"},{"$f":"IFERROR(VLOOKUP(L96,'NR-PI 2.0 Structure'!$B$25:$D$28,3,FALSE),\"-\")","v":"-"},{"$f":"IFERROR(\n  IF(M96 = \"≤ 1\", 'NR-PI 2.0 Structure'!$D$32,\n  IF(M96 = \">1 - 3\", 'NR-PI 2.0 Structure'!$D$33,\n  IF(M96 = \">3 - 5\", 'NR-PI 2.0 Structure'!$D$34,\n  IF(M96 = \"> 5\", 'NR-PI 2.0 Structure'!$D$35, )))),\n\"-\")","v":0},{"$f":"IFERROR(IF(ISBLANK(I96),\"N/A\",IF(I96<>'NR-PI 2.0 Structure'!$C$5,(VLOOKUP(N96,'NR-PI 2.0 Structure'!$C$39:$D$40,2,FALSE)),0)),\" - \")","v":" - "},{"$f":"IFERROR(IF(ISBLANK(I96),\"N/A\",IF(I96<>'NR-PI 2.0 Structure'!$C$5,(VLOOKUP(N96,'NR-PI 2.0 Structure'!$C$39:$E$40,3,FALSE)),0)),\" - \")","v":" - "},"-","-","-","N/A",{"$f":"IF(ISBLANK('P Index Inputs'!R98),\"-\",'P Index Inputs'!R98)","v":"-"},{"$f":"IFERROR(IF(I96<>'NR-PI 2.0 Structure'!$C$5,VLOOKUP(AA96,'NR-PI 2.0 Structure'!$G$5:$H$9,2,FALSE),IF(OR(AA96='NR-PI 2.0 Structure'!$G$5,AA96='NR-PI 2.0 Structure'!$G$6,AA96='NR-PI 2.0 Structure'!$G$7),1,VLOOKUP(AA96,'NR-PI 2.0 Structure'!$G$8:$H$9,2,FALSE))),\"-\")","v":"-"},{"$f":"IF(ISBLANK('P Index Inputs'!S98),\"-\",'P Index Inputs'!S98)","v":"-"},{"$f":"IFERROR(VLOOKUP(AC96,'NR-PI 2.0 Structure'!$G$14:$H$19,2,FALSE),\"-\")","v":"-"},"-","-","N/A","N/A",0,0,0,0,0,0,0,0,0]
[{"$f":"'P Index Inputs'!A99","v":0},{"$f":"'P Index Inputs'!B99","v":0},{"$f":"'P Index Inputs'!C99","v":0},{"$f":"'P Index Inputs'!D99","v":0},{"$f":"'P Index Inputs'!E99","v":0},{"$f":"'P Index Inputs'!F99","v":0},{"$f":"'P Index Inputs'!H99","v":0},{"$f":"'P Index Inputs'!I99","v":0},{"$f":"'P Index Inputs'!J99","v":0},{"$f":"IF(ISBLANK('P Index Inputs'!L99),'P Index Inputs'!K99,'P Index Inputs'!L99)","v":"-"},{"$f":"'P Index Inputs'!M99","v":0},{"$f":"'P Index Inputs'!O99","v":0},{"$f":"'P Index Inputs'!P99","v":0},{"$f":"'P Index Inputs'!Q99","v":0},{"$f":"IFERROR(VLOOKUP(I97,'NR-PI 2.0 Structure'!$C$5:$D$8,2,FALSE),\"-\")","v":"-"},{"$f":"IFERROR(VLOOKUP(J97,'NR-PI 2.0 Structure'!$B$12:$C$16,2,FALSE),\"-\")","v":"-"},{"$f":"IFERROR(VLOOKUP(K97,'NR-PI 2.0 Structure'!$B$20:$D$21,3,FALSE),\"-\")","v":"-"},{"$f":"IFERROR(VLOOKUP(L97,'NR-PI 2.0 Structure'!$B$25:$C$28,2,FALSE),\"-\")","v":"-"},{"$f":"IFERROR(VLOOKUP(L97,'NR-PI 2.0 Structure'!$B$25:$D$28,3,FALSE),\"-\")","v":"-"},{"$f":"IFERROR(\n  IF(M97 = \"≤ 1\", 'NR-PI 2.0 Structure'!$D$32,\n  IF(M97 = \">1 - 3\", 'NR-PI 2.0 Structure'!$D$33,\n  IF(M97 = \">3 - 5\", 'NR-PI 2.0 Structure'!$D$34,\n  IF(M97 = \"> 5\", 'NR-PI 2.0 Structure'!$D$35, )))),\n\"-\")","v":0},{"$f":"IFERROR(IF(ISBLANK(I97),\"N/A\",IF(I97<>'NR-PI 2.0 Structure'!$C$5,(VLOOKUP(N97,'NR-PI 2.0 Structure'!$C$39:$D$40,2,FALSE)),0)),\" - \")","v":" - "},{"$f":"IFERROR(IF(ISBLANK(I97),\"N/A\",IF(I97<>'NR-PI 2.0 Structure'!$C$5,(VLOOKUP(N97,'NR-PI 2.0 Structure'!$C$39:$E$40,3,FALSE)),0)),\" - \")","v":" - "},"-","-","-","N/A",{"$f":"IF(ISBLANK('P Index Inputs'!R99),\"-\",'P Index Inputs'!R99)","v":"-"},{"$f":"IFERROR(IF(I97<>'NR-PI 2.0 Structure'!$C$5,VLOOKUP(AA97,'NR-PI 2.0 Structure'!$G$5:$H$9,2,FALSE),IF(OR(AA97='NR-PI 2.0 Structure'!$G$5,AA97='NR-PI 2.0 Structure'!$G$6,AA97='NR-PI 2.0 Structure'!$G$7),1,VLOOKUP(AA97,'NR-PI 2.0 Structure'!$G$8:$H$9,2,FALSE))),\"-\")","v":"-"},{"$f":"IF(ISBLANK('P Index Inputs'!S99),\"-\",'P Index Inputs'!S99)","v":"-"},{"$f":"IFERROR(VLOOKUP(AC97,'NR-PI 2.0 Structure'!$G$14:$H$19,2,FALSE),\"-\")","v":"-"},"-","-","N/A","N/A",0,0,0,0,0,0,0,0,0]
[{"$f":"'P Index Inputs'!A100","v":0},{"$f":"'P Index Inputs'!B100","v":0},{"$f":"'P Index Inputs'!C100","v":0},{"$f":"'P Index Inputs'!D100","v":0},{"$f":"'P Index Inputs'!E100","v":0},{"$f":"'P Index Inputs'!F100","v":0},{"$f":"'P Index Inputs'!H100","v":0},{"$f":"'P Index Inputs'!I100","v":0},{"$f":"'P Index Inputs'!J100","v":0},{"$f":"IF(ISBLANK('P Index Inputs'!L100),'P Index Inputs'!K100,'P Index Inputs'!L100)","v":"-"},{"$f":"'P Index Inputs'!M100","v":0},{"$f":"'P Index Inputs'!O100","v":0},{"$f":"'P Index Inputs'!P100","v":0},{"$f":"'P Index Inputs'!Q100","v":0},{"$f":"IFERROR(VLOOKUP(I98,'NR-PI 2.0 Structure'!$C$5:$D$8,2,FALSE),\"-\")","v":"-"},{"$f":"IFERROR(VLOOKUP(J98,'NR-PI 2.0 Structure'!$B$12:$C$16,2,FALSE),\"-\")","v":"-"},{"$f":"IFERROR(VLOOKUP(K98,'NR-PI 2.0 Structure'!$B$20:$D$21,3,FALSE),\"-\")","v":"-"},{"$f":"IFERROR(VLOOKUP(L98,'NR-PI 2.0 Structure'!$B$25:$C$28,2,FALSE),\"-\")","v":"-"},{"$f":"IFERROR(VLOOKUP(L98,'NR-PI 2.0 Structure'!$B$25:$D$28,3,FALSE),\"-\")","v":"-"},{"$f":"IFERROR(\n  IF(M98 = \"≤ 1\", 'NR-PI 2.0 Structure'!$D$32,\n  IF(M98 = \">1 - 3\", 'NR-PI 2.0 Structure'!$D$33,\n  IF(M98 = \">3 - 5\", 'NR-PI 2.0 Structure'!$D$34,\n  IF(M98 = \"> 5\", 'NR-PI 2.0 Structure'!$D$35, )))),\n\"-\")","v":0},{"$f":"IFERROR(IF(ISBLANK(I98),\"N/A\",IF(I98<>'NR-PI 2.0 Structure'!$C$5,(VLOOKUP(N98,'NR-PI 2.0 Structure'!$C$39:$D$40,2,FALSE)),0)),\" - \")","v":" - "},{"$f":"IFERROR(IF(ISBLANK(I98),\"N/A\",IF(I98<>'NR-PI 2.0 Structure'!$C$5,(VLOOKUP(N98,'NR-PI 2.0 Structure'!$C$39:$E$40,3,FALSE)),0)),\" - \")","v":" - "},"-","-","-","N/A",{"$f":"IF(ISBLANK('P Index Inputs'!R100),\"-\",'P Index Inputs'!R100)","v":"-"},{"$f":"IFERROR(IF(I98<>'NR-PI 2.0 Structure'!$C$5,VLOOKUP(AA98,'NR-PI 2.0 Structure'!$G$5:$H$9,2,FALSE),IF(OR(AA98='NR-PI 2.0 Structure'!$G$5,AA98='NR-PI 2.0 Structure'!$G$6,AA98='NR-PI 2.0 Structure'!$G$7),1,VLOOKUP(AA98,'NR-PI 2.0 Structure'!$G$8:$H$9,2,FALSE))),\"-\")","v":"-"},{"$f":"IF(ISBLANK('P Index Inputs'!S100),\"-\",'P Index Inputs'!S100)","v":"-"},{"$f":"IFERROR(VLOOKUP(AC98,'NR-PI 2.0 Structure'!$G$14:$H$19,2,FALSE),\"-\")","v":"-"},"-","-","N/A","N/A",0,0,0,0,0,0,0,0,0]
[{"$f":"'P Index Inputs'!A101","v":0},{"$f":"'P Index Inputs'!B101","v":0},{"$f":"'P Index Inputs'!C101","v":0},{"$f":"'P Index Inputs'!D101","v":0},{"$f":"'P Index Inputs'!E101","v":0},{"$f":"'P Index Inputs'!F101","v":0},{"$f":"'P Index Inputs'!H101","v":0},{"$f":"'P Index Inputs'!I101","v":0},{"$f":"'P Index Inputs'!J101","v":0},{"$f":"IF(ISBLANK('P Index Inputs'!L101),'P Index Inputs'!K101,'P Index Inputs'!L101)","v":"-"},{"$f":"'P Index Inputs'!M101","v":0},{"$f":"'P Index Inputs'!O101","v":0},{"$f":"'P Index Inputs'!P101","v":0},{"$f":"'P Index Inputs'!Q101","v":0},{"$f":"IFERROR(VLOOKUP(I99,'NR-PI 2.0 Structure'!$C$5:$D$8,2,FALSE),\"-\")","v":"-"},{"$f":"IFERROR(VLOOKUP(J99,'NR-PI 2.0 Structure'!$B$12:$C$16,2,FALSE),\"-\")","v":"-"},{"$f":"IFERROR(VLOOKUP(K99,'NR-PI 2.0 Structure'!$B$20:$D$21,3,FALSE),\"-\")","v":"-"},{"$f":"IFERROR(VLOOKUP(L99,'NR-PI 2.0 Structure'!$B$25:$C$28,2,FALSE),\"-\")","v":"-"},{"$f":"IFERROR(VLOOKUP(L99,'NR-PI 2.0 Structure'!$B$25:$D$28,3,FALSE),\"-\")","v":"-"},{"$f":"IFERROR(\n  IF(M99 = \"≤ 1\", 'NR-PI 2.0 Structure'!$D$32,\n  IF(M99 = \">1 - 3\", 'NR-PI 2.0 Structure'!$D$33,\n  IF(M99 = \">3 - 5\", 'NR-PI 2.0 Structure'!$D$34,\n  IF(M99 = \"> 5\", 'NR-PI 2.0 Structure'!$D$35, )))),\n\"-\")","v":0},{"$f":"IFERROR(IF(ISBLANK(I99),\"N/A\",IF(I99<>'NR-PI 2.0 Structure'!$C$5,(VLOOKUP(N99,'NR-PI 2.0 Structure'!$C$39:$D$40,2,FALSE)),0)),\" - \")","v":" - "},{"$f":"IFERROR(IF(ISBLANK(I99),\"N/A\",IF(I99<>'NR-PI 2.0 Structure'!$C$5,(VLOOKUP(N99,'NR-PI 2.0 Structure'!$C$39:$E$40,3,FALSE)),0)),\" - \")","v":" - "},"-","-","-","N/A",{"$f":"IF(ISBLANK('P Index Inputs'!R101),\"-\",'P Index Inputs'!R101)","v":"-"},{"$f":"IFERROR(IF(I99<>'NR-PI 2.0 Structure'!$C$5,VLOOKUP(AA99,'NR-PI 2.0 Structure'!$G$5:$H$9,2,FALSE),IF(OR(AA99='NR-PI 2.0 Structure'!$G$5,AA99='NR-PI 2.0 Structure'!$G$6,AA99='NR-PI 2.0 Structure'!$G$7),1,VLOOKUP(AA99,'NR-PI 2.0 Structure'!$G$8:$H$9,2,FALSE))),\"-\")","v":"-"},{"$f":"IF(ISBLANK('P Index Inputs'!S101),\"-\",'P Index Inputs'!S101)","v":"-"},{"$f":"IFERROR(VLOOKUP(AC99,'NR-PI 2.0 Structure'!$G$14:$H$19,2,FALSE),\"-\")","v":"-"},"-","-","N/A","N/A",0,0,0,0,0,0,0,0,0]
[{"$f":"'P Index Inputs'!A102","v":0},{"$f":"'P Index Inputs'!B102","v":0},{"$f":"'P Index Inputs'!C102","v":0},{"$f":"'P Index Inputs'!D102","v":0},{"$f":"'P Index Inputs'!E102","v":0},{"$f":"'P Index Inputs'!F102","v":0},{"$f":"'P Index Inputs'!H102","v":0},{"$f":"'P Index Inputs'!I102","v":0},{"$f":"'P Index Inputs'!J102","v":0},{"$f":"IF(ISBLANK('P Index Inputs'!L102),'P Index Inputs'!K102,'P Index Inputs'!L102)","v":"-"},{"$f":"'P Index Inputs'!M102","v":0},{"$f":"'P Index Inputs'!O102","v":0},{"$f":"'P Index Inputs'!P102","v":0},{"$f":"'P Index Inputs'!Q102","v":0},{"$f":"IFERROR(VLOOKUP(I100,'NR-PI 2.0 Structure'!$C$5:$D$8,2,FALSE),\"-\")","v":"-"},{"$f":"IFERROR(VLOOKUP(J100,'NR-PI 2.0 Structure'!$B$12:$C$16,2,FALSE),\"-\")","v":"-"},{"$f":"IFERROR(VLOOKUP(K100,'NR-PI 2.0 Structure'!$B$20:$D$21,3,FALSE),\"-\")","v":"-"},{"$f":"IFERROR(VLOOKUP(L100,'NR-PI 2.0 Structure'!$B$25:$C$28,2,FALSE),\"-\")","v":"-"},{"$f":"IFERROR(VLOOKUP(L100,'NR-PI 2.0 Structure'!$B$25:$D$28,3,FALSE),\"-\")","v":"-"},{"$f":"IFERROR(\n  IF(M100 = \"≤ 1\", 'NR-PI 2.0 Structure'!$D$32,\n  IF(M100 = \">1 - 3\", 'NR-PI 2.0 Structure'!$D$33,\n  IF(M100 = \">3 - 5\", 'NR-PI 2.0 Structure'!$D$34,\n  IF(M100 = \"> 5\", 'NR-PI 2.0 Structure'!$D$35, )))),\n\"-\")","v":0},{"$f":"IFERROR(IF(ISBLANK(I100),\"N/A\",IF(I100<>'NR-PI 2.0 Structure'!$C$5,(VLOOKUP(N100,'NR-PI 2.0 Structure'!$C$39:$D$40,2,FALSE)),0)),\" - \")","v":" - "},{"$f":"IFERROR(IF(ISBLANK(I100),\"N/A\",IF(I100<>'NR-PI 2.0 Structure'!$C$5,(VLOOKUP(N100,'NR-PI 2.0 Structure'!$C$39:$E$40,3,FALSE)),0)),\" - \")","v":" - "},"-","-","-","N/A",{"$f":"IF(ISBLANK('P Index Inputs'!R102),\"-\",'P Index Inputs'!R102)","v":"-"},{"$f":"IFERROR(IF(I100<>'NR-PI 2.0 Structure'!$C$5,VLOOKUP(AA100,'NR-PI 2.0 Structure'!$G$5:$H$9,2,FALSE),IF(OR(AA100='NR-PI 2.0 Structure'!$G$5,AA100='NR-PI 2.0 Structure'!$G$6,AA100='NR-PI 2.0 Structure'!$G$7),1,VLOOKUP(AA100,'NR-PI 2.0 Structure'!$G$8:$H$9,2,FALSE))),\"-\")","v":"-"},{"$f":"IF(ISBLANK('P Index Inputs'!S102),\"-\",'P Index Inputs'!S102)","v":"-"},{"$f":"IFERROR(VLOOKUP(AC100,'NR-PI 2.0 Structure'!$G$14:$H$19,2,FALSE),\"-\")","v":"-"},"-","-","N/A","N/A",0,0,0,0,0,0,0,0,0]
[{"$f":"'P Index Inputs'!A103","v":0},{"$f":"'P Index Inputs'!B103","v":0},{"$f":"'P Index Inputs'!C103","v":0},{"$f":"'P Index Inputs'!D103","v":0},{"$f":"'P Index Inputs'!E103","v":0},{"$f":"'P Index Inputs'!F103","v":0},{"$f":"'P Index Inputs'!H103","v":0},{"$f":"'P Index Inputs'!I103","v":0},{"$f":"'P Index Inputs'!J103","v":0},{"$f":"IF(ISBLANK('P Index Inputs'!L103),'P Index Inputs'!K103,'P Index Inputs'!L103)","v":"-"},{"$f":"'P Index Inputs'!M103","v":0},{"$f":"'P Index Inputs'!O103","v":0},{"$f":"'P Index Inputs'!P103","v":0},{"$f":"'P Index Inputs'!Q103","v":0},{"$f":"IFERROR(VLOOKUP(I101,'NR-PI 2.0 Structure'!$C$5:$D$8,2,FALSE),\"-\")","v":"-"},{"$f":"IFERROR(VLOOKUP(J101,'NR-PI 2.0 Structure'!$B$12:$C$16,2,FALSE),\"-\")","v":"-"},{"$f":"IFERROR(VLOOKUP(K101,'NR-PI 2.0 Structure'!$B$20:$D$21,3,FALSE),\"-\")","v":"-"},{"$f":"IFERROR(VLOOKUP(L101,'NR-PI 2.0 Structure'!$B$25:$C$28,2,FALSE),\"-\")","v":"-"},{"$f":"IFERROR(VLOOKUP(L101,'NR-PI 2.0 Structure'!$B$25:$D$28,3,FALSE),\"-\")","v":"-"},{"$f":"IFERROR(\n  IF(M101 = \"≤ 1\", 'NR-PI 2.0 Structure'!$D$32,\n  IF(M101 = \">1 - 3\", 'NR-PI 2.0 Structure'!$D$33,\n  IF(M101 = \">3 - 5\", 'NR-PI 2.0 Structure'!$D$34,\n  IF(M101 = \"> 5\", 'NR-PI 2.0 Structure'!$D$35, )))),\n\"-\")","v":0},{"$f":"IFERROR(IF(ISBLANK(I101),\"N/A\",IF(I101<>'NR-PI 2.0 Structure'!$C$5,(VLOOKUP(N101,'NR-PI 2.0 Structure'!$C$39:$D$40,2,FALSE)),0)),\" - \")","v":" - "},{"$f":"IFERROR(IF(ISBLANK(I101),\"N/A\",IF(I101<>'NR-PI 2.0 Structure'!$C$5,(VLOOKUP(N101,'NR-PI 2.0 Structure'!$C$39:$E$40,3,FALSE)),0)),\" - \")","v":" - "},"-","-","-","N/A",{"$f":"IF(ISBLANK('P Index Inputs'!R103),\"-\",'P Index Inputs'!R103)","v":"-"},{"$f":"IFERROR(IF(I101<>'NR-PI 2.0 Structure'!$C$5,VLOOKUP(AA101,'NR-PI 2.0 Structure'!$G$5:$H$9,2,FALSE),IF(OR(AA101='NR-PI 2.0 Structure'!$G$5,AA101='NR-PI 2.0 Structure'!$G$6,AA101='NR-PI 2.0 Structure'!$G$7),1,VLOOKUP(AA101,'NR-PI 2.0 Structure'!$G$8:$H$9,2,FALSE))),\"-\")","v":"-"},{"$f":"IF(ISBLANK('P Index Inputs'!S103),\"-\",'P Index Inputs'!S103)","v":"-"},{"$f":"IFERROR(VLOOKUP(AC101,'NR-PI 2.0 Structure'!$G$14:$H$19,2,FALSE),\"-\")","v":"-"},"-","-","N/A","N/A",0,0,0,0,0,0,0,0,0]
[{"$f":"'P Index Inputs'!A104","v":0},{"$f":"'P Index Inputs'!B104","v":0},{"$f":"'P Index Inputs'!C104","v":0},{"$f":"'P Index Inputs'!D104","v":0},{"$f":"'P Index Inputs'!E104","v":0},{"$f":"'P Index Inputs'!F104","v":0},{"$f":"'P Index Inputs'!H104","v":0},{"$f":"'P Index Inputs'!I104","v":0},{"$f":"'P Index Inputs'!J104","v":0},{"$f":"IF(ISBLANK('P Index Inputs'!L104),'P Index Inputs'!K104,'P Index Inputs'!L104)","v":"-"},{"$f":"'P Index Inputs'!M104","v":0},{"$f":"'P Index Inputs'!O104","v":0},{"$f":"'P Index Inputs'!P104","v":0},{"$f":"'P Index Inputs'!Q104","v":0},{"$f":"IFERROR(VLOOKUP(I102,'NR-PI 2.0 Structure'!$C$5:$D$8,2,FALSE),\"-\")","v":"-"},{"$f":"IFERROR(VLOOKUP(J102,'NR-PI 2.0 Structure'!$B$12:$C$16,2,FALSE),\"-\")","v":"-"},{"$f":"IFERROR(VLOOKUP(K102,'NR-PI 2.0 Structure'!$B$20:$D$21,3,FALSE),\"-\")","v":"-"},{"$f":"IFERROR(VLOOKUP(L102,'NR-PI 2.0 Structure'!$B$25:$C$28,2,FALSE),\"-\")","v":"-"},{"$f":"IFERROR(VLOOKUP(L102,'NR-PI 2.0 Structure'!$B$25:$D$28,3,FALSE),\"-\")","v":"-"},{"$f":"IFERROR(\n  IF(M102 = \"≤ 1\", 'NR-PI 2.0 Structure'!$D$32,\n  IF(M102 = \">1 - 3\", 'NR-PI 2.0 Structure'!$D$33,\n  IF(M102 = \">3 - 5\", 'NR-PI 2.0 Structure'!$D$34,\n  IF(M102 = \"> 5\", 'NR-PI 2.0 Structure'!$D$35, )))),\n\"-\")","v":0},{"$f":"IFERROR(IF(ISBLANK(I102),\"N/A\",IF(I102<>'NR-PI 2.0 Structure'!$C$5,(VLOOKUP(N102,'NR-PI 2.0 Structure'!$C$39:$D$40,2,FALSE)),0)),\" - \")","v":" - "},{"$f":"IFERROR(IF(ISBLANK(I102),\"N/A\",IF(I102<>'NR-PI 2.0 Structure'!$C$5,(VLOOKUP(N102,'NR-PI 2.0 Structure'!$C$39:$E$40,3,FALSE)),0)),\" - \")","v":" - "},"-","-","-","N/A",{"$f":"IF(ISBLANK('P Index Inputs'!R104),\"-\",'P Index Inputs'!R104)","v":"-"},{"$f":"IFERROR(IF(I102<>'NR-PI 2.0 Structure'!$C$5,VLOOKUP(AA102,'NR-PI 2.0 Structure'!$G$5:$H$9,2,FALSE),IF(OR(AA102='NR-PI 2.0 Structure'!$G$5,AA102='NR-PI 2.0 Structure'!$G$6,AA102='NR-PI 2.0 Structure'!$G$7),1,VLOOKUP(AA102,'NR-PI 2.0 Structure'!$G$8:$H$9,2,FALSE))),\"-\")","v":"-"},{"$f":"IF(ISBLANK('P Index Inputs'!S104),\"-\",'P Index Inputs'!S104)","v":"-"},{"$f":"IFERROR(VLOOKUP(AC102,'NR-PI 2.0 Structure'!$G$14:$H$19,2,FALSE),\"-\")","v":"-"},"-","-","N/A","N/A",0,0,0,0,0,0,0,0,0]
[{"$f":"'P Index Inputs'!A105","v":0},{"$f":"'P Index Inputs'!B105","v":0},{"$f":"'P Index Inputs'!C105","v":0},{"$f":"'P Index Inputs'!D105","v":0},{"$f":"'P Index Inputs'!E105","v":0},{"$f":"'P Index Inputs'!F105","v":0},{"$f":"'P Index Inputs'!H105","v":0},{"$f":"'P Index Inputs'!I105","v":0},{"$f":"'P Index Inputs'!J105","v":0},{"$f":"IF(ISBLANK('P Index Inputs'!L105),'P Index Inputs'!K105,'P Index Inputs'!L105)","v":"-"},{"$f":"'P Index Inputs'!M105","v":0},{"$f":"'P Index Inputs'!O105","v":0},{"$f":"'P Index Inputs'!P105","v":0},{"$f":"'P Index Inputs'!Q105","v":0},{"$f":"IFERROR(VLOOKUP(I103,'NR-PI 2.0 Structure'!$C$5:$D$8,2,FALSE),\"-\")","v":"-"},{"$f":"IFERROR(VLOOKUP(J103,'NR-PI 2.0 Structure'!$B$12:$C$16,2,FALSE),\"-\")","v":"-"},{"$f":"IFERROR(VLOOKUP(K103,'NR-PI 2.0 Structure'!$B$20:$D$21,3,FALSE),\"-\")","v":"-"},{"$f":"IFERROR(VLOOKUP(L103,'NR-PI 2.0 Structure'!$B$25:$C$28,2,FALSE),\"-\")","v":"-"},{"$f":"IFERROR(VLOOKUP(L103,'NR-PI 2.0 Structure'!$B$25:$D$28,3,FALSE),\"-\")","v":"-"},{"$f":"IFERROR(\n  IF(M103 = \"≤ 1\", 'NR-PI 2.0 Structure'!$D$32,\n  IF(M103 = \">1 - 3\", 'NR-PI 2.0 Structure'!$D$33,\n  IF(M103 = \">3 - 5\", 'NR-PI 2.0 Structure'!$D$34,\n  IF(M103 = \"> 5\", 'NR-PI 2.0 Structure'!$D$35, )))),\n\"-\")","v":0},{"$f":"IFERROR(IF(ISBLANK(I103),\"N/A\",IF(I103<>'NR-PI 2.0 Structure'!$C$5,(VLOOKUP(N103,'NR-PI 2.0 Structure'!$C$39:$D$40,2,FALSE)),0)),\" - \")","v":" - "},{"$f":"IFERROR(IF(ISBLANK(I103),\"N/A\",IF(I103<>'NR-PI 2.0 Structure'!$C$5,(VLOOKUP(N103,'NR-PI 2.0 Structure'!$C$39:$E$40,3,FALSE)),0)),\" - \")","v":" - "},"-","-","-","N/A",{"$f":"IF(ISBLANK('P Index Inputs'!R105),\"-\",'P Index Inputs'!R105)","v":"-"},{"$f":"IFERROR(IF(I103<>'NR-PI 2.0 Structure'!$C$5,VLOOKUP(AA103,'NR-PI 2.0 Structure'!$G$5:$H$9,2,FALSE),IF(OR(AA103='NR-PI 2.0 Structure'!$G$5,AA103='NR-PI 2.0 Structure'!$G$6,AA103='NR-PI 2.0 Structure'!$G$7),1,VLOOKUP(AA103,'NR-PI 2.0 Structure'!$G$8:$H$9,2,FALSE))),\"-\")","v":"-"},{"$f":"IF(ISBLANK('P Index Inputs'!S105),\"-\",'P Index Inputs'!S105)","v":"-"},{"$f":"IFERROR(VLOOKUP(AC103,'NR-PI 2.0 Structure'!$G$14:$H$19,2,FALSE),\"-\")","v":"-"},"-","-","N/A","N/A",0,0,0,0,0,0,0,0,0]
[{"$f":"'P Index Inputs'!A106","v":0},{"$f":"'P Index Inputs'!B106","v":0},{"$f":"'P Index Inputs'!C106","v":0},{"$f":"'P Index Inputs'!D106","v":0},{"$f":"'P Index Inputs'!E106","v":0},{"$f":"'P Index Inputs'!F106","v":0},{"$f":"'P Index Inputs'!H106","v":0},{"$f":"'P Index Inputs'!I106","v":0},{"$f":"'P Index Inputs'!J106","v":0},{"$f":"IF(ISBLANK('P Index Inputs'!L106),'P Index Inputs'!K106,'P Index Inputs'!L106)","v":"-"},{"$f":"'P Index Inputs'!M106","v":0},{"$f":"'P Index Inputs'!O106","v":0},{"$f":"'P Index Inputs'!P106","v":0},{"$f":"'P Index Inputs'!Q106","v":0},{"$f":"IFERROR(VLOOKUP(I104,'NR-PI 2.0 Structure'!$C$5:$D$8,2,FALSE),\"-\")","v":"-"},{"$f":"IFERROR(VLOOKUP(J104,'NR-PI 2.0 Structure'!$B$12:$C$16,2,FALSE),\"-\")","v":"-"},{"$f":"IFERROR(VLOOKUP(K104,'NR-PI 2.0 Structure'!$B$20:$D$21,3,FALSE),\"-\")","v":"-"},{"$f":"IFERROR(VLOOKUP(L104,'NR-PI 2.0 Structure'!$B$25:$C$28,2,FALSE),\"-\")","v":"-"},{"$f":"IFERROR(VLOOKUP(L104,'NR-PI 2.0 Structure'!$B$25:$D$28,3,FALSE),\"-\")","v":"-"},{"$f":"IFERROR(\n  IF(M104 = \"≤ 1\", 'NR-PI 2.0 Structure'!$D$32,\n  IF(M104 = \">1 - 3\", 'NR-PI 2.0 Structure'!$D$33,\n  IF(M104 = \">3 - 5\", 'NR-PI 2.0 Structure'!$D$34,\n  IF(M104 = \"> 5\", 'NR-PI 2.0 Structure'!$D$35, )))),\n\"-\")","v":0},{"$f":"IFERROR(IF(ISBLANK(I104),\"N/A\",IF(I104<>'NR-PI 2.0 Structure'!$C$5,(VLOOKUP(N104,'NR-PI 2.0 Structure'!$C$39:$D$40,2,FALSE)),0)),\" - \")","v":" - "},{"$f":"IFERROR(IF(ISBLANK(I104),\"N/A\",IF(I104<>'NR-PI 2.0 Structure'!$C$5,(VLOOKUP(N104,'NR-PI 2.0 Structure'!$C$39:$E$40,3,FALSE)),0)),\" - \")","v":" - "},"-","-","-","N/A",{"$f":"IF(ISBLANK('P Index Inputs'!R106),\"-\",'P Index Inputs'!R106)","v":"-"},{"$f":"IFERROR(IF(I104<>'NR-PI 2.0 Structure'!$C$5,VLOOKUP(AA104,'NR-PI 2.0 Structure'!$G$5:$H$9,2,FALSE),IF(OR(AA104='NR-PI 2.0 Structure'!$G$5,AA104='NR-PI 2.0 Structure'!$G$6,AA104='NR-PI 2.0 Structure'!$G$7),1,VLOOKUP(AA104,'NR-PI 2.0 Structure'!$G$8:$H$9,2,FALSE))),\"-\")","v":"-"},{"$f":"IF(ISBLANK('P Index Inputs'!S106),\"-\",'P Index Inputs'!S106)","v":"-"},{"$f":"IFERROR(VLOOKUP(AC104,'NR-PI 2.0 Structure'!$G$14:$H$19,2,FALSE),\"-\")","v":"-"},"-","-","N/A","N/A",0,0,0,0,0,0,0,0,0]
[{"$f":"'P Index Inputs'!A107","v":0},{"$f":"'P Index Inputs'!B107","v":0},{"$f":"'P Index Inputs'!C107","v":0},{"$f":"'P Index Inputs'!D107","v":0},{"$f":"'P Index Inputs'!E107","v":0},{"$f":"'P Index Inputs'!F107","v":0},{"$f":"'P Index Inputs'!H107","v":0},{"$f":"'P Index Inputs'!I107","v":0},{"$f":"'P Index Inputs'!J107","v":0},{"$f":"IF(ISBLANK('P Index Inputs'!L107),'P Index Inputs'!K107,'P Index Inputs'!L107)","v":"-"},{"$f":"'P Index Inputs'!M107","v":0},{"$f":"'P Index Inputs'!O107","v":0},{"$f":"'P Index Inputs'!P107","v":0},{"$f":"'P Index Inputs'!Q107","v":0},{"$f":"IFERROR(VLOOKUP(I105,'NR-PI 2.0 Structure'!$C$5:$D$8,2,FALSE),\"-\")","v":"-"},{"$f":"IFERROR(VLOOKUP(J105,'NR-PI 2.0 Structure'!$B$12:$C$16,2,FALSE),\"-\")","v":"-"},{"$f":"IFERROR(VLOOKUP(K105,'NR-PI 2.0 Structure'!$B$20:$D$21,3,FALSE),\"-\")","v":"-"},{"$f":"IFERROR(VLOOKUP(L105,'NR-PI 2.0 Structure'!$B$25:$C$28,2,FALSE),\"-\")","v":"-"},{"$f":"IFERROR(VLOOKUP(L105,'NR-PI 2.0 Structure'!$B$25:$D$28,3,FALSE),\"-\")","v":"-"},{"$f":"IFERROR(\n  IF(M105 = \"≤ 1\", 'NR-PI 2.0 Structure'!$D$32,\n  IF(M105 = \">1 - 3\", 'NR-PI 2.0 Structure'!$D$33,\n  IF(M105 = \">3 - 5\", 'NR-PI 2.0 Structure'!$D$34,\n  IF(M105 = \"> 5\", 'NR-PI 2.0 Structure'!$D$35, )))),\n\"-\")","v":0},{"$f":"IFERROR(IF(ISBLANK(I105),\"N/A\",IF(I105<>'NR-PI 2.0 Structure'!$C$5,(VLOOKUP(N105,'NR-PI 2.0 Structure'!$C$39:$D$40,2,FALSE)),0)),\" - \")","v":" - "},{"$f":"IFERROR(IF(ISBLANK(I105),\"N/A\",IF(I105<>'NR-PI 2.0 Structure'!$C$5,(VLOOKUP(N105,'NR-PI 2.0 Structure'!$C$39:$E$40,3,FALSE)),0)),\" - \")","v":" - "},"-","-","-","N/A",{"$f":"IF(ISBLANK('P Index Inputs'!R107),\"-\",'P Index Inputs'!R107)","v":"-"},{"$f":"IFERROR(IF(I105<>'NR-PI 2.0 Structure'!$C$5,VLOOKUP(AA105,'NR-PI 2.0 Structure'!$G$5:$H$9,2,FALSE),IF(OR(AA105='NR-PI 2.0 Structure'!$G$5,AA105='NR-PI 2.0 Structure'!$G$6,AA105='NR-PI 2.0 Structure'!$G$7),1,VLOOKUP(AA105,'NR-PI 2.0 Structure'!$G$8:$H$9,2,FALSE))),\"-\")","v":"-"},{"$f":"IF(ISBLANK('P Index Inputs'!S107),\"-\",'P Index Inputs'!S107)","v":"-"},{"$f":"IFERROR(VLOOKUP(AC105,'NR-PI 2.0 Structure'!$G$14:$H$19,2,FALSE),\"-\")","v":"-"},"-","-","N/A","N/A",0,0,0,0,0,0,0,0,0]
[{"$f":"'P Index Inputs'!A108","v":0},{"$f":"'P Index Inputs'!B108","v":0},{"$f":"'P Index Inputs'!C108","v":0},{"$f":"'P Index Inputs'!D108","v":0},{"$f":"'P Index Inputs'!E108","v":0},{"$f":"'P Index Inputs'!F108","v":0},{"$f":"'P Index Inputs'!H108","v":0},{"$f":"'P Index Inputs'!I108","v":0},{"$f":"'P Index Inputs'!J108","v":0},{"$f":"IF(ISBLANK('P Index Inputs'!L108),'P Index Inputs'!K108,'P Index Inputs'!L108)","v":"-"},{"$f":"'P Index Inputs'!M108","v":0},{"$f":"'P Index Inputs'!O108","v":0},{"$f":"'P Index Inputs'!P108","v":0},{"$f":"'P Index Inputs'!Q108","v":0},{"$f":"IFERROR(VLOOKUP(I106,'NR-PI 2.0 Structure'!$C$5:$D$8,2,FALSE),\"-\")","v":"-"},{"$f":"IFERROR(VLOOKUP(J106,'NR-PI 2.0 Structure'!$B$12:$C$16,2,FALSE),\"-\")","v":"-"},{"$f":"IFERROR(VLOOKUP(K106,'NR-PI 2.0 Structure'!$B$20:$D$21,3,FALSE),\"-\")","v":"-"},{"$f":"IFERROR(VLOOKUP(L106,'NR-PI 2.0 Structure'!$B$25:$C$28,2,FALSE),\"-\")","v":"-"},{"$f":"IFERROR(VLOOKUP(L106,'NR-PI 2.0 Structure'!$B$25:$D$28,3,FALSE),\"-\")","v":"-"},{"$f":"IFERROR(\n  IF(M106 = \"≤ 1\", 'NR-PI 2.0 Structure'!$D$32,\n  IF(M106 = \">1 - 3\", 'NR-PI 2.0 Structure'!$D$33,\n  IF(M106 = \">3 - 5\", 'NR-PI 2.0 Structure'!$D$34,\n  IF(M106 = \"> 5\", 'NR-PI 2.0 Structure'!$D$35, )))),\n\"-\")","v":0},{"$f":"IFERROR(IF(ISBLANK(I106),\"N/A\",IF(I106<>'NR-PI 2.0 Structure'!$C$5,(VLOOKUP(N106,'NR-PI 2.0 Structure'!$C$39:$D$40,2,FALSE)),0)),\" - \")","v":" - "},{"$f":"IFERROR(IF(ISBLANK(I106),\"N/A\",IF(I106<>'NR-PI 2.0 Structure'!$C$5,(VLOOKUP(N106,'NR-PI 2.0 Structure'!$C$39:$E$40,3,FALSE)),0)),\" - \")","v":" - "},"-","-","-","N/A",{"$f":"IF(ISBLANK('P Index Inputs'!R108),\"-\",'P Index Inputs'!R108)","v":"-"},{"$f":"IFERROR(IF(I106<>'NR-PI 2.0 Structure'!$C$5,VLOOKUP(AA106,'NR-PI 2.0 Structure'!$G$5:$H$9,2,FALSE),IF(OR(AA106='NR-PI 2.0 Structure'!$G$5,AA106='NR-PI 2.0 Structure'!$G$6,AA106='NR-PI 2.0 Structure'!$G$7),1,VLOOKUP(AA106,'NR-PI 2.0 Structure'!$G$8:$H$9,2,FALSE))),\"-\")","v":"-"},{"$f":"IF(ISBLANK('P Index Inputs'!S108),\"-\",'P Index Inputs'!S108)","v":"-"},{"$f":"IFERROR(VLOOKUP(AC106,'NR-PI 2.0 Structure'!$G$14:$H$19,2,FALSE),\"-\")","v":"-"},"-","-","N/A","N/A",0,0,0,0,0,0,0,0,0]
[{"$f":"'P Index Inputs'!A109","v":0},{"$f":"'P Index Inputs'!B109","v":0},{"$f":"'P Index Inputs'!C109","v":0},{"$f":"'P Index Inputs'!D109","v":0},{"$f":"'P Index Inputs'!E109","v":0},{"$f":"'P Index Inputs'!F109","v":0},{"$f":"'P Index Inputs'!H109","v":0},{"$f":"'P Index Inputs'!I109","v":0},{"$f":"'P Index Inputs'!J109","v":0},{"$f":"IF(ISBLANK('P Index Inputs'!L109),'P Index Inputs'!K109,'P Index Inputs'!L109)","v":"-"},{"$f":"'P Index Inputs'!M109","v":0},{"$f":"'P Index Inputs'!O109","v":0},{"$f":"'P Index Inputs'!P109","v":0},{"$f":"'P Index Inputs'!Q109","v":0},{"$f":"IFERROR(VLOOKUP(I107,'NR-PI 2.0 Structure'!$C$5:$D$8,2,FALSE),\"-\")","v":"-"},{"$f":"IFERROR(VLOOKUP(J107,'NR-PI 2.0 Structure'!$B$12:$C$16,2,FALSE),\"-\")","v":"-"},{"$f":"IFERROR(VLOOKUP(K107,'NR-PI 2.0 Structure'!$B$20:$D$21,3,FALSE),\"-\")","v":"-"},{"$f":"IFERROR(VLOOKUP(L107,'NR-PI 2.0 Structure'!$B$25:$C$28,2,FALSE),\"-\")","v":"-"},{"$f":"IFERROR(VLOOKUP(L107,'NR-PI 2.0 Structure'!$B$25:$D$28,3,FALSE),\"-\")","v":"-"},{"$f":"IFERROR(\n  IF(M107 = \"≤ 1\", 'NR-PI 2.0 Structure'!$D$32,\n  IF(M107 = \">1 - 3\", 'NR-PI 2.0 Structure'!$D$33,\n  IF(M107 = \">3 - 5\", 'NR-PI 2.0 Structure'!$D$34,\n  IF(M107 = \"> 5\", 'NR-PI 2.0 Structure'!$D$35, )))),\n\"-\")","v":0},{"$f":"IFERROR(IF(ISBLANK(I107),\"N/A\",IF(I107<>'NR-PI 2.0 Structure'!$C$5,(VLOOKUP(N107,'NR-PI 2.0 Structure'!$C$39:$D$40,2,FALSE)),0)),\" - \")","v":" - "},{"$f":"IFERROR(IF(ISBLANK(I107),\"N/A\",IF(I107<>'NR-PI 2.0 Structure'!$C$5,(VLOOKUP(N107,'NR-PI 2.0 Structure'!$C$39:$E$40,3,FALSE)),0)),\" - \")","v":" - "},"-","-","-","N/A",{"$f":"IF(ISBLANK('P Index Inputs'!R109),\"-\",'P Index Inputs'!R109)","v":"-"},{"$f":"IFERROR(IF(I107<>'NR-PI 2.0 Structure'!$C$5,VLOOKUP(AA107,'NR-PI 2.0 Structure'!$G$5:$H$9,2,FALSE),IF(OR(AA107='NR-PI 2.0 Structure'!$G$5,AA107='NR-PI 2.0 Structure'!$G$6,AA107='NR-PI 2.0 Structure'!$G$7),1,VLOOKUP(AA107,'NR-PI 2.0 Structure'!$G$8:$H$9,2,FALSE))),\"-\")","v":"-"},{"$f":"IF(ISBLANK('P Index Inputs'!S109),\"-\",'P Index Inputs'!S109)","v":"-"},{"$f":"IFERROR(VLOOKUP(AC107,'NR-PI 2.0 Structure'!$G$14:$H$19,2,FALSE),\"-\")","v":"-"},"-","-","N/A","N/A",0,0,0,0,0,0,0,0,0]
[{"$f":"'P Index Inputs'!A110","v":0},{"$f":"'P Index Inputs'!B110","v":0},{"$f":"'P Index Inputs'!C110","v":0},{"$f":"'P Index Inputs'!D110","v":0},{"$f":"'P Index Inputs'!E110","v":0},{"$f":"'P Index Inputs'!F110","v":0},{"$f":"'P Index Inputs'!H110","v":0},{"$f":"'P Index Inputs'!I110","v":0},{"$f":"'P Index Inputs'!J110","v":0},{"$f":"IF(ISBLANK('P Index Inputs'!L110),'P Index Inputs'!K110,'P Index Inputs'!L110)","v":"-"},{"$f":"'P Index Inputs'!M110","v":0},{"$f":"'P Index Inputs'!O110","v":0},{"$f":"'P Index Inputs'!P110","v":0},{"$f":"'P Index Inputs'!Q110","v":0},{"$f":"IFERROR(VLOOKUP(I108,'NR-PI 2.0 Structure'!$C$5:$D$8,2,FALSE),\"-\")","v":"-"},{"$f":"IFERROR(VLOOKUP(J108,'NR-PI 2.0 Structure'!$B$12:$C$16,2,FALSE),\"-\")","v":"-"},{"$f":"IFERROR(VLOOKUP(K108,'NR-PI 2.0 Structure'!$B$20:$D$21,3,FALSE),\"-\")","v":"-"},{"$f":"IFERROR(VLOOKUP(L108,'NR-PI 2.0 Structure'!$B$25:$C$28,2,FALSE),\"-\")","v":"-"},{"$f":"IFERROR(VLOOKUP(L108,'NR-PI 2.0 Structure'!$B$25:$D$28,3,FALSE),\"-\")","v":"-"},{"$f":"IFERROR(\n  IF(M108 = \"≤ 1\", 'NR-PI 2.0 Structure'!$D$32,\n  IF(M108 = \">1 - 3\", 'NR-PI 2.0 Structure'!$D$33,\n  IF(M108 = \">3 - 5\", 'NR-PI 2.0 Structure'!$D$34,\n  IF(M108 = \"> 5\", 'NR-PI 2.0 Structure'!$D$35, )))),\n\"-\")","v":0},{"$f":"IFERROR(IF(ISBLANK(I108),\"N/A\",IF(I108<>'NR-PI 2.0 Structure'!$C$5,(VLOOKUP(N108,'NR-PI 2.0 Structure'!$C$39:$D$40,2,FALSE)),0)),\" - \")","v":" - "},{"$f":"IFERROR(IF(ISBLANK(I108),\"N/A\",IF(I108<>'NR-PI 2.0 Structure'!$C$5,(VLOOKUP(N108,'NR-PI 2.0 Structure'!$C$39:$E$40,3,FALSE)),0)),\" - \")","v":" - "},"-","-","-","N/A",{"$f":"IF(ISBLANK('P Index Inputs'!R110),\"-\",'P Index Inputs'!R110)","v":"-"},{"$f":"IFERROR(IF(I108<>'NR-PI 2.0 Structure'!$C$5,VLOOKUP(AA108,'NR-PI 2.0 Structure'!$G$5:$H$9,2,FALSE),IF(OR(AA108='NR-PI 2.0 Structure'!$G$5,AA108='NR-PI 2.0 Structure'!$G$6,AA108='NR-PI 2.0 Structure'!$G$7),1,VLOOKUP(AA108,'NR-PI 2.0 Structure'!$G$8:$H$9,2,FALSE))),\"-\")","v":"-"},{"$f":"IF(ISBLANK('P Index Inputs'!S110),\"-\",'P Index Inputs'!S110)","v":"-"},{"$f":"IFERROR(VLOOKUP(AC108,'NR-PI 2.0 Structure'!$G$14:$H$19,2,FALSE),\"-\")","v":"-"},"-","-","N/A","N/A",0,0,0,0,0,0,0,0,0]
[{"$f":"'P Index Inputs'!A111","v":0},{"$f":"'P Index Inputs'!B111","v":0},{"$f":"'P Index Inputs'!C111","v":0},{"$f":"'P Index Inputs'!D111","v":0},{"$f":"'P Index Inputs'!E111","v":0},{"$f":"'P Index Inputs'!F111","v":0},{"$f":"'P Index Inputs'!H111","v":0},{"$f":"'P Index Inputs'!I111","v":0},{"$f":"'P Index Inputs'!J111","v":0},{"$f":"IF(ISBLANK('P Index Inputs'!L111),'P Index Inputs'!K111,'P Index Inputs'!L111)","v":"-"},{"$f":"'P Index Inputs'!M111","v":0},{"$f":"'P Index Inputs'!O111","v":0},{"$f":"'P Index Inputs'!P111","v":0},{"$f":"'P Index Inputs'!Q111","v":0},{"$f":"IFERROR(VLOOKUP(I109,'NR-PI 2.0 Structure'!$C$5:$D$8,2,FALSE),\"-\")","v":"-"},{"$f":"IFERROR(VLOOKUP(J109,'NR-PI 2.0 Structure'!$B$12:$C$16,2,FALSE),\"-\")","v":"-"},{"$f":"IFERROR(VLOOKUP(K109,'NR-PI 2.0 Structure'!$B$20:$D$21,3,FALSE),\"-\")","v":"-"},{"$f":"IFERROR(VLOOKUP(L109,'NR-PI 2.0 Structure'!$B$25:$C$28,2,FALSE),\"-\")","v":"-"},{"$f":"IFERROR(VLOOKUP(L109,'NR-PI 2.0 Structure'!$B$25:$D$28,3,FALSE),\"-\")","v":"-"},{"$f":"IFERROR(\n  IF(M109 = \"≤ 1\", 'NR-PI 2.0 Structure'!$D$32,\n  IF(M109 = \">1 - 3\", 'NR-PI 2.0 Structure'!$D$33,\n  IF(M109 = \">3 - 5\", 'NR-PI 2.0 Structure'!$D$34,\n  IF(M109 = \"> 5\", 'NR-PI 2.0 Structure'!$D$35, )))),\n\"-\")","v":0},{"$f":"IFERROR(IF(ISBLANK(I109),\"N/A\",IF(I109<>'NR-PI 2.0 Structure'!$C$5,(VLOOKUP(N109,'NR-PI 2.0 Structure'!$C$39:$D$40,2,FALSE)),0)),\" - \")","v":" - "},{"$f":"IFERROR(IF(ISBLANK(I109),\"N/A\",IF(I109<>'NR-PI 2.0 Structure'!$C$5,(VLOOKUP(N109,'NR-PI 2.0 Structure'!$C$39:$E$40,3,FALSE)),0)),\" - \")","v":" - "},"-","-","-","N/A",{"$f":"IF(ISBLANK('P Index Inputs'!R111),\"-\",'P Index Inputs'!R111)","v":"-"},{"$f":"IFERROR(IF(I109<>'NR-PI 2.0 Structure'!$C$5,VLOOKUP(AA109,'NR-PI 2.0 Structure'!$G$5:$H$9,2,FALSE),IF(OR(AA109='NR-PI 2.0 Structure'!$G$5,AA109='NR-PI 2.0 Structure'!$G$6,AA109='NR-PI 2.0 Structure'!$G$7),1,VLOOKUP(AA109,'NR-PI 2.0 Structure'!$G$8:$H$9,2,FALSE))),\"-\")","v":"-"},{"$f":"IF(ISBLANK('P Index Inputs'!S111),\"-\",'P Index Inputs'!S111)","v":"-"},{"$f":"IFERROR(VLOOKUP(AC109,'NR-PI 2.0 Structure'!$G$14:$H$19,2,FALSE),\"-\")","v":"-"},"-","-","N/A","N/A",0,0,0,0,0,0,0,0,0]
[{"$f":"'P Index Inputs'!A112","v":0},{"$f":"'P Index Inputs'!B112","v":0},{"$f":"'P Index Inputs'!C112","v":0},{"$f":"'P Index Inputs'!D112","v":0},{"$f":"'P Index Inputs'!E112","v":0},{"$f":"'P Index Inputs'!F112","v":0},{"$f":"'P Index Inputs'!H112","v":0},{"$f":"'P Index Inputs'!I112","v":0},{"$f":"'P Index Inputs'!J112","v":0},{"$f":"IF(ISBLANK('P Index Inputs'!L112),'P Index Inputs'!K112,'P Index Inputs'!L112)","v":"-"},{"$f":"'P Index Inputs'!M112","v":0},{"$f":"'P Index Inputs'!O112","v":0},{"$f":"'P Index Inputs'!P112","v":0},{"$f":"'P Index Inputs'!Q112","v":0},{"$f":"IFERROR(VLOOKUP(I110,'NR-PI 2.0 Structure'!$C$5:$D$8,2,FALSE),\"-\")","v":"-"},{"$f":"IFERROR(VLOOKUP(J110,'NR-PI 2.0 Structure'!$B$12:$C$16,2,FALSE),\"-\")","v":"-"},{"$f":"IFERROR(VLOOKUP(K110,'NR-PI 2.0 Structure'!$B$20:$D$21,3,FALSE),\"-\")","v":"-"},{"$f":"IFERROR(VLOOKUP(L110,'NR-PI 2.0 Structure'!$B$25:$C$28,2,FALSE),\"-\")","v":"-"},{"$f":"IFERROR(VLOOKUP(L110,'NR-PI 2.0 Structure'!$B$25:$D$28,3,FALSE),\"-\")","v":"-"},{"$f":"IFERROR(\n  IF(M110 = \"≤ 1\", 'NR-PI 2.0 Structure'!$D$32,\n  IF(M110 = \">1 - 3\", 'NR-PI 2.0 Structure'!$D$33,\n  IF(M110 = \">3 - 5\", 'NR-PI 2.0 Structure'!$D$34,\n  IF(M110 = \"> 5\", 'NR-PI 2.0 Structure'!$D$35, )))),\n\"-\")","v":0},{"$f":"IFERROR(IF(ISBLANK(I110),\"N/A\",IF(I110<>'NR-PI 2.0 Structure'!$C$5,(VLOOKUP(N110,'NR-PI 2.0 Structure'!$C$39:$D$40,2,FALSE)),0)),\" - \")","v":" - "},{"$f":"IFERROR(IF(ISBLANK(I110),\"N/A\",IF(I110<>'NR-PI 2.0 Structure'!$C$5,(VLOOKUP(N110,'NR-PI 2.0 Structure'!$C$39:$E$40,3,FALSE)),0)),\" - \")","v":" - "},"-","-","-","N/A",{"$f":"IF(ISBLANK('P Index Inputs'!R112),\"-\",'P Index Inputs'!R112)","v":"-"},{"$f":"IFERROR(IF(I110<>'NR-PI 2.0 Structure'!$C$5,VLOOKUP(AA110,'NR-PI 2.0 Structure'!$G$5:$H$9,2,FALSE),IF(OR(AA110='NR-PI 2.0 Structure'!$G$5,AA110='NR-PI 2.0 Structure'!$G$6,AA110='NR-PI 2.0 Structure'!$G$7),1,VLOOKUP(AA110,'NR-PI 2.0 Structure'!$G$8:$H$9,2,FALSE))),\"-\")","v":"-"},{"$f":"IF(ISBLANK('P Index Inputs'!S112),\"-\",'P Index Inputs'!S112)","v":"-"},{"$f":"IFERROR(VLOOKUP(AC110,'NR-PI 2.0 Structure'!$G$14:$H$19,2,FALSE),\"-\")","v":"-"},"-","-","N/A","N/A",0,0,0,0,0,0,0,0,0]
[{"$f":"'P Index Inputs'!A113","v":0},{"$f":"'P Index Inputs'!B113","v":0},{"$f":"'P Index Inputs'!C113","v":0},{"$f":"'P Index Inputs'!D113","v":0},{"$f":"'P Index Inputs'!E113","v":0},{"$f":"'P Index Inputs'!F113","v":0},{"$f":"'P Index Inputs'!H113","v":0},{"$f":"'P Index Inputs'!I113","v":0},{"$f":"'P Index Inputs'!J113","v":0},{"$f":"IF(ISBLANK('P Index Inputs'!L113),'P Index Inputs'!K113,'P Index Inputs'!L113)","v":"-"},{"$f":"'P Index Inputs'!M113","v":0},{"$f":"'P Index Inputs'!O113","v":0},{"$f":"'P Index Inputs'!P113","v":0},{"$f":"'P Index Inputs'!Q113","v":0},{"$f":"IFERROR(VLOOKUP(I111,'NR-PI 2.0 Structure'!$C$5:$D$8,2,FALSE),\"-\")","v":"-"},{"$f":"IFERROR(VLOOKUP(J111,'NR-PI 2.0 Structure'!$B$12:$C$16,2,FALSE),\"-\")","v":"-"},{"$f":"IFERROR(VLOOKUP(K111,'NR-PI 2.0 Structure'!$B$20:$D$21,3,FALSE),\"-\")","v":"-"},{"$f":"IFERROR(VLOOKUP(L111,'NR-PI 2.0 Structure'!$B$25:$C$28,2,FALSE),\"-\")","v":"-"},{"$f":"IFERROR(VLOOKUP(L111,'NR-PI 2.0 Structure'!$B$25:$D$28,3,FALSE),\"-\")","v":"-"},{"$f":"IFERROR(\n  IF(M111 = \"≤ 1\", 'NR-PI 2.0 Structure'!$D$32,\n  IF(M111 = \">1 - 3\", 'NR-PI 2.0 Structure'!$D$33,\n  IF(M111 = \">3 - 5\", 'NR-PI 2.0 Structure'!$D$34,\n  IF(M111 = \"> 5\", 'NR-PI 2.0 Structure'!$D$35, )))),\n\"-\")","v":0},{"$f":"IFERROR(IF(ISBLANK(I111),\"N/A\",IF(I111<>'NR-PI 2.0 Structure'!$C$5,(VLOOKUP(N111,'NR-PI 2.0 Structure'!$C$39:$D$40,2,FALSE)),0)),\" - \")","v":" - "},{"$f":"IFERROR(IF(ISBLANK(I111),\"N/A\",IF(I111<>'NR-PI 2.0 Structure'!$C$5,(VLOOKUP(N111,'NR-PI 2.0 Structure'!$C$39:$E$40,3,FALSE)),0)),\" - \")","v":" - "},"-","-","-","N/A",{"$f":"IF(ISBLANK('P Index Inputs'!R113),\"-\",'P Index Inputs'!R113)","v":"-"},{"$f":"IFERROR(IF(I111<>'NR-PI 2.0 Structure'!$C$5,VLOOKUP(AA111,'NR-PI 2.0 Structure'!$G$5:$H$9,2,FALSE),IF(OR(AA111='NR-PI 2.0 Structure'!$G$5,AA111='NR-PI 2.0 Structure'!$G$6,AA111='NR-PI 2.0 Structure'!$G$7),1,VLOOKUP(AA111,'NR-PI 2.0 Structure'!$G$8:$H$9,2,FALSE))),\"-\")","v":"-"},{"$f":"IF(ISBLANK('P Index Inputs'!S113),\"-\",'P Index Inputs'!S113)","v":"-"},{"$f":"IFERROR(VLOOKUP(AC111,'NR-PI 2.0 Structure'!$G$14:$H$19,2,FALSE),\"-\")","v":"-"},"-","-","N/A","N/A",0,0,0,0,0,0,0,0,0]
[{"$f":"'P Index Inputs'!A114","v":0},{"$f":"'P Index Inputs'!B114","v":0},{"$f":"'P Index Inputs'!C114","v":0},{"$f":"'P Index Inputs'!D114","v":0},{"$f":"'P Index Inputs'!E114","v":0},{"$f":"'P Index Inputs'!F114","v":0},{"$f":"'P Index Inputs'!H114","v":0},{"$f":"'P Index Inputs'!I114","v":0},{"$f":"'P Index Inputs'!J114","v":0},{"$f":"IF(ISBLANK('P Index Inputs'!L114),'P Index Inputs'!K114,'P Index Inputs'!L114)","v":"-"},{"$f":"'P Index Inputs'!M114","v":0},{"$f":"'P Index Inputs'!O114","v":0},{"$f":"'P Index Inputs'!P114","v":0},{"$f":"'P Index Inputs'!Q114","v":0},{"$f":"IFERROR(VLOOKUP(I112,'NR-PI 2.0 Structure'!$C$5:$D$8,2,FALSE),\"-\")","v":"-"},{"$f":"IFERROR(VLOOKUP(J112,'NR-PI 2.0 Structure'!$B$12:$C$16,2,FALSE),\"-\")","v":"-"},{"$f":"IFERROR(VLOOKUP(K112,'NR-PI 2.0 Structure'!$B$20:$D$21,3,FALSE),\"-\")","v":"-"},{"$f":"IFERROR(VLOOKUP(L112,'NR-PI 2.0 Structure'!$B$25:$C$28,2,FALSE),\"-\")","v":"-"},{"$f":"IFERROR(VLOOKUP(L112,'NR-PI 2.0 Structure'!$B$25:$D$28,3,FALSE),\"-\")","v":"-"},{"$f":"IFERROR(\n  IF(M112 = \"≤ 1\", 'NR-PI 2.0 Structure'!$D$32,\n  IF(M112 = \">1 - 3\", 'NR-PI 2.0 Structure'!$D$33,\n  IF(M112 = \">3 - 5\", 'NR-PI 2.0 Structure'!$D$34,\n  IF(M112 = \"> 5\", 'NR-PI 2.0 Structure'!$D$35, )))),\n\"-\")","v":0},{"$f":"IFERROR(IF(ISBLANK(I112),\"N/A\",IF(I112<>'NR-PI 2.0 Structure'!$C$5,(VLOOKUP(N112,'NR-PI 2.0 Structure'!$C$39:$D$40,2,FALSE)),0)),\" - \")","v":" - "},{"$f":"IFERROR(IF(ISBLANK(I112),\"N/A\",IF(I112<>'NR-PI 2.0 Structure'!$C$5,(VLOOKUP(N112,'NR-PI 2.0 Structure'!$C$39:$E$40,3,FALSE)),0)),\" - \")","v":" - "},"-","-","-","N/A",{"$f":"IF(ISBLANK('P Index Inputs'!R114),\"-\",'P Index Inputs'!R114)","v":"-"},{"$f":"IFERROR(IF(I112<>'NR-PI 2.0 Structure'!$C$5,VLOOKUP(AA112,'NR-PI 2.0 Structure'!$G$5:$H$9,2,FALSE),IF(OR(AA112='NR-PI 2.0 Structure'!$G$5,AA112='NR-PI 2.0 Structure'!$G$6,AA112='NR-PI 2.0 Structure'!$G$7),1,VLOOKUP(AA112,'NR-PI 2.0 Structure'!$G$8:$H$9,2,FALSE))),\"-\")","v":"-"},{"$f":"IF(ISBLANK('P Index Inputs'!S114),\"-\",'P Index Inputs'!S114)","v":"-"},{"$f":"IFERROR(VLOOKUP(AC112,'NR-PI 2.0 Structure'!$G$14:$H$19,2,FALSE),\"-\")","v":"-"},"-","-","N/A","N/A",0,0,0,0,0,0,0,0,0]
[{"$f":"'P Index Inputs'!A115","v":0},{"$f":"'P Index Inputs'!B115","v":0},{"$f":"'P Index Inputs'!C115","v":0},{"$f":"'P Index Inputs'!D115","v":0},{"$f":"'P Index Inputs'!E115","v":0},{"$f":"'P Index Inputs'!F115","v":0},{"$f":"'P Index Inputs'!H115","v":0},{"$f":"'P Index Inputs'!I115","v":0},{"$f":"'P Index Inputs'!J115","v":0},{"$f":"IF(ISBLANK('P Index Inputs'!L115),'P Index Inputs'!K115,'P Index Inputs'!L115)","v":"-"},{"$f":"'P Index Inputs'!M115","v":0},{"$f":"'P Index Inputs'!O115","v":0},{"$f":"'P Index Inputs'!P115","v":0},{"$f":"'P Index Inputs'!Q115","v":0},{"$f":"IFERROR(VLOOKUP(I113,'NR-PI 2.0 Structure'!$C$5:$D$8,2,FALSE),\"-\")","v":"-"},{"$f":"IFERROR(VLOOKUP(J113,'NR-PI 2.0 Structure'!$B$12:$C$16,2,FALSE),\"-\")","v":"-"},{"$f":"IFERROR(VLOOKUP(K113,'NR-PI 2.0 Structure'!$B$20:$D$21,3,FALSE),\"-\")","v":"-"},{"$f":"IFERROR(VLOOKUP(L113,'NR-PI 2.0 Structure'!$B$25:$C$28,2,FALSE),\"-\")","v":"-"},{"$f":"IFERROR(VLOOKUP(L113,'NR-PI 2.0 Structure'!$B$25:$D$28,3,FALSE),\"-\")","v":"-"},{"$f":"IFERROR(\n  IF(M113 = \"≤ 1\", 'NR-PI 2.0 Structure'!$D$32,\n  IF(M113 = \">1 - 3\", 'NR-PI 2.0 Structure'!$D$33,\n  IF(M113 = \">3 - 5\", 'NR-PI 2.0 Structure'!$D$34,\n  IF(M113 = \"> 5\", 'NR-PI 2.0 Structure'!$D$35, )))),\n\"-\")","v":0},{"$f":"IFERROR(IF(ISBLANK(I113),\"N/A\",IF(I113<>'NR-PI 2.0 Structure'!$C$5,(VLOOKUP(N113,'NR-PI 2.0 Structure'!$C$39:$D$40,2,FALSE)),0)),\" - \")","v":" - "},{"$f":"IFERROR(IF(ISBLANK(I113),\"N/A\",IF(I113<>'NR-PI 2.0 Structure'!$C$5,(VLOOKUP(N113,'NR-PI 2.0 Structure'!$C$39:$E$40,3,FALSE)),0)),\" - \")","v":" - "},"-","-","-","N/A",{"$f":"IF(ISBLANK('P Index Inputs'!R115),\"-\",'P Index Inputs'!R115)","v":"-"},{"$f":"IFERROR(IF(I113<>'NR-PI 2.0 Structure'!$C$5,VLOOKUP(AA113,'NR-PI 2.0 Structure'!$G$5:$H$9,2,FALSE),IF(OR(AA113='NR-PI 2.0 Structure'!$G$5,AA113='NR-PI 2.0 Structure'!$G$6,AA113='NR-PI 2.0 Structure'!$G$7),1,VLOOKUP(AA113,'NR-PI 2.0 Structure'!$G$8:$H$9,2,FALSE))),\"-\")","v":"-"},{"$f":"IF(ISBLANK('P Index Inputs'!S115),\"-\",'P Index Inputs'!S115)","v":"-"},{"$f":"IFERROR(VLOOKUP(AC113,'NR-PI 2.0 Structure'!$G$14:$H$19,2,FALSE),\"-\")","v":"-"},"-","-","N/A","N/A",0,0,0,0,0,0,0,0,0]
[{"$f":"'P Index Inputs'!A116","v":0},{"$f":"'P Index Inputs'!B116","v":0},{"$f":"'P Index Inputs'!C116","v":0},{"$f":"'P Index Inputs'!D116","v":0},{"$f":"'P Index Inputs'!E116","v":0},{"$f":"'P Index Inputs'!F116","v":0},{"$f":"'P Index Inputs'!H116","v":0},{"$f":"'P Index Inputs'!I116","v":0},{"$f":"'P Index Inputs'!J116","v":0},{"$f":"IF(ISBLANK('P Index Inputs'!L116),'P Index Inputs'!K116,'P Index Inputs'!L116)","v":"-"},{"$f":"'P Index Inputs'!M116","v":0},{"$f":"'P Index Inputs'!O116","v":0},{"$f":"'P Index Inputs'!P116","v":0},{"$f":"'P Index Inputs'!Q116","v":0},{"$f":"IFERROR(VLOOKUP(I114,'NR-PI 2.0 Structure'!$C$5:$D$8,2,FALSE),\"-\")","v":"-"},{"$f":"IFERROR(VLOOKUP(J114,'NR-PI 2.0 Structure'!$B$12:$C$16,2,FALSE),\"-\")","v":"-"},{"$f":"IFERROR(VLOOKUP(K114,'NR-PI 2.0 Structure'!$B$20:$D$21,3,FALSE),\"-\")","v":"-"},{"$f":"IFERROR(VLOOKUP(L114,'NR-PI 2.0 Structure'!$B$25:$C$28,2,FALSE),\"-\")","v":"-"},{"$f":"IFERROR(VLOOKUP(L114,'NR-PI 2.0 Structure'!$B$25:$D$28,3,FALSE),\"-\")","v":"-"},{"$f":"IFERROR(\n  IF(M114 = \"≤ 1\", 'NR-PI 2.0 Structure'!$D$32,\n  IF(M114 = \">1 - 3\", 'NR-PI 2.0 Structure'!$D$33,\n  IF(M114 = \">3 - 5\", 'NR-PI 2.0 Structure'!$D$34,\n  IF(M114 = \"> 5\", 'NR-PI 2.0 Structure'!$D$35, )))),\n\"-\")","v":0},{"$f":"IFERROR(IF(ISBLANK(I114),\"N/A\",IF(I114<>'NR-PI 2.0 Structure'!$C$5,(VLOOKUP(N114,'NR-PI 2.0 Structure'!$C$39:$D$40,2,FALSE)),0)),\" - \")","v":" - "},{"$f":"IFERROR(IF(ISBLANK(I114),\"N/A\",IF(I114<>'NR-PI 2.0 Structure'!$C$5,(VLOOKUP(N114,'NR-PI 2.0 Structure'!$C$39:$E$40,3,FALSE)),0)),\" - \")","v":" - "},"-","-","-","N/A",{"$f":"IF(ISBLANK('P Index Inputs'!R116),\"-\",'P Index Inputs'!R116)","v":"-"},{"$f":"IFERROR(IF(I114<>'NR-PI 2.0 Structure'!$C$5,VLOOKUP(AA114,'NR-PI 2.0 Structure'!$G$5:$H$9,2,FALSE),IF(OR(AA114='NR-PI 2.0 Structure'!$G$5,AA114='NR-PI 2.0 Structure'!$G$6,AA114='NR-PI 2.0 Structure'!$G$7),1,VLOOKUP(AA114,'NR-PI 2.0 Structure'!$G$8:$H$9,2,FALSE))),\"-\")","v":"-"},{"$f":"IF(ISBLANK('P Index Inputs'!S116),\"-\",'P Index Inputs'!S116)","v":"-"},{"$f":"IFERROR(VLOOKUP(AC114,'NR-PI 2.0 Structure'!$G$14:$H$19,2,FALSE),\"-\")","v":"-"},"-","-","N/A","N/A",0,0,0,0,0,0,0,0,0]
[{"$f":"'P Index Inputs'!A117","v":0},{"$f":"'P Index Inputs'!B117","v":0},{"$f":"'P Index Inputs'!C117","v":0},{"$f":"'P Index Inputs'!D117","v":0},{"$f":"'P Index Inputs'!E117","v":0},{"$f":"'P Index Inputs'!F117","v":0},{"$f":"'P Index Inputs'!H117","v":0},{"$f":"'P Index Inputs'!I117","v":0},{"$f":"'P Index Inputs'!J117","v":0},{"$f":"IF(ISBLANK('P Index Inputs'!L117),'P Index Inputs'!K117,'P Index Inputs'!L117)","v":"-"},{"$f":"'P Index Inputs'!M117","v":0},{"$f":"'P Index Inputs'!O117","v":0},{"$f":"'P Index Inputs'!P117","v":0},{"$f":"'P Index Inputs'!Q117","v":0},{"$f":"IFERROR(VLOOKUP(I115,'NR-PI 2.0 Structure'!$C$5:$D$8,2,FALSE),\"-\")","v":"-"},{"$f":"IFERROR(VLOOKUP(J115,'NR-PI 2.0 Structure'!$B$12:$C$16,2,FALSE),\"-\")","v":"-"},{"$f":"IFERROR(VLOOKUP(K115,'NR-PI 2.0 Structure'!$B$20:$D$21,3,FALSE),\"-\")","v":"-"},{"$f":"IFERROR(VLOOKUP(L115,'NR-PI 2.0 Structure'!$B$25:$C$28,2,FALSE),\"-\")","v":"-"},{"$f":"IFERROR(VLOOKUP(L115,'NR-PI 2.0 Structure'!$B$25:$D$28,3,FALSE),\"-\")","v":"-"},{"$f":"IFERROR(\n  IF(M115 = \"≤ 1\", 'NR-PI 2.0 Structure'!$D$32,\n  IF(M115 = \">1 - 3\", 'NR-PI 2.0 Structure'!$D$33,\n  IF(M115 = \">3 - 5\", 'NR-PI 2.0 Structure'!$D$34,\n  IF(M115 = \"> 5\", 'NR-PI 2.0 Structure'!$D$35, )))),\n\"-\")","v":0},{"$f":"IFERROR(IF(ISBLANK(I115),\"N/A\",IF(I115<>'NR-PI 2.0 Structure'!$C$5,(VLOOKUP(N115,'NR-PI 2.0 Structure'!$C$39:$D$40,2,FALSE)),0)),\" - \")","v":" - "},{"$f":"IFERROR(IF(ISBLANK(I115),\"N/A\",IF(I115<>'NR-PI 2.0 Structure'!$C$5,(VLOOKUP(N115,'NR-PI 2.0 Structure'!$C$39:$E$40,3,FALSE)),0)),\" - \")","v":" - "},"-","-","-","N/A",{"$f":"IF(ISBLANK('P Index Inputs'!R117),\"-\",'P Index Inputs'!R117)","v":"-"},{"$f":"IFERROR(IF(I115<>'NR-PI 2.0 Structure'!$C$5,VLOOKUP(AA115,'NR-PI 2.0 Structure'!$G$5:$H$9,2,FALSE),IF(OR(AA115='NR-PI 2.0 Structure'!$G$5,AA115='NR-PI 2.0 Structure'!$G$6,AA115='NR-PI 2.0 Structure'!$G$7),1,VLOOKUP(AA115,'NR-PI 2.0 Structure'!$G$8:$H$9,2,FALSE))),\"-\")","v":"-"},{"$f":"IF(ISBLANK('P Index Inputs'!S117),\"-\",'P Index Inputs'!S117)","v":"-"},{"$f":"IFERROR(VLOOKUP(AC115,'NR-PI 2.0 Structure'!$G$14:$H$19,2,FALSE),\"-\")","v":"-"},"-","-","N/A","N/A",0,0,0,0,0,0,0,0,0]
[{"$f":"'P Index Inputs'!A118","v":0},{"$f":"'P Index Inputs'!B118","v":0},{"$f":"'P Index Inputs'!C118","v":0},{"$f":"'P Index Inputs'!D118","v":0},{"$f":"'P Index Inputs'!E118","v":0},{"$f":"'P Index Inputs'!F118","v":0},{"$f":"'P Index Inputs'!H118","v":0},{"$f":"'P Index Inputs'!I118","v":0},{"$f":"'P Index Inputs'!J118","v":0},{"$f":"IF(ISBLANK('P Index Inputs'!L118),'P Index Inputs'!K118,'P Index Inputs'!L118)","v":"-"},{"$f":"'P Index Inputs'!M118","v":0},{"$f":"'P Index Inputs'!O118","v":0},{"$f":"'P Index Inputs'!P118","v":0},{"$f":"'P Index Inputs'!Q118","v":0},{"$f":"IFERROR(VLOOKUP(I116,'NR-PI 2.0 Structure'!$C$5:$D$8,2,FALSE),\"-\")","v":"-"},{"$f":"IFERROR(VLOOKUP(J116,'NR-PI 2.0 Structure'!$B$12:$C$16,2,FALSE),\"-\")","v":"-"},{"$f":"IFERROR(VLOOKUP(K116,'NR-PI 2.0 Structure'!$B$20:$D$21,3,FALSE),\"-\")","v":"-"},{"$f":"IFERROR(VLOOKUP(L116,'NR-PI 2.0 Structure'!$B$25:$C$28,2,FALSE),\"-\")","v":"-"},{"$f":"IFERROR(VLOOKUP(L116,'NR-PI 2.0 Structure'!$B$25:$D$28,3,FALSE),\"-\")","v":"-"},{"$f":"IFERROR(\n  IF(M116 = \"≤ 1\", 'NR-PI 2.0 Structure'!$D$32,\n  IF(M116 = \">1 - 3\", 'NR-PI 2.0 Structure'!$D$33,\n  IF(M116 = \">3 - 5\", 'NR-PI 2.0 Structure'!$D$34,\n  IF(M116 = \"> 5\", 'NR-PI 2.0 Structure'!$D$35, )))),\n\"-\")","v":0},{"$f":"IFERROR(IF(ISBLANK(I116),\"N/A\",IF(I116<>'NR-PI 2.0 Structure'!$C$5,(VLOOKUP(N116,'NR-PI 2.0 Structure'!$C$39:$D$40,2,FALSE)),0)),\" - \")","v":" - "},{"$f":"IFERROR(IF(ISBLANK(I116),\"N/A\",IF(I116<>'NR-PI 2.0 Structure'!$C$5,(VLOOKUP(N116,'NR-PI 2.0 Structure'!$C$39:$E$40,3,FALSE)),0)),\" - \")","v":" - "},"-","-","-","N/A",{"$f":"IF(ISBLANK('P Index Inputs'!R118),\"-\",'P Index Inputs'!R118)","v":"-"},{"$f":"IFERROR(IF(I116<>'NR-PI 2.0 Structure'!$C$5,VLOOKUP(AA116,'NR-PI 2.0 Structure'!$G$5:$H$9,2,FALSE),IF(OR(AA116='NR-PI 2.0 Structure'!$G$5,AA116='NR-PI 2.0 Structure'!$G$6,AA116='NR-PI 2.0 Structure'!$G$7),1,VLOOKUP(AA116,'NR-PI 2.0 Structure'!$G$8:$H$9,2,FALSE))),\"-\")","v":"-"},{"$f":"IF(ISBLANK('P Index Inputs'!S118),\"-\",'P Index Inputs'!S118)","v":"-"},{"$f":"IFERROR(VLOOKUP(AC116,'NR-PI 2.0 Structure'!$G$14:$H$19,2,FALSE),\"-\")","v":"-"},"-","-","N/A","N/A",0,0,0,0,0,0,0,0,0]
[{"$f":"'P Index Inputs'!A119","v":0},{"$f":"'P Index Inputs'!B119","v":0},{"$f":"'P Index Inputs'!C119","v":0},{"$f":"'P Index Inputs'!D119","v":0},{"$f":"'P Index Inputs'!E119","v":0},{"$f":"'P Index Inputs'!F119","v":0},{"$f":"'P Index Inputs'!H119","v":0},{"$f":"'P Index Inputs'!I119","v":0},{"$f":"'P Index Inputs'!J119","v":0},{"$f":"IF(ISBLANK('P Index Inputs'!L119),'P Index Inputs'!K119,'P Index Inputs'!L119)","v":"-"},{"$f":"'P Index Inputs'!M119","v":0},{"$f":"'P Index Inputs'!O119","v":0},{"$f":"'P Index Inputs'!P119","v":0},{"$f":"'P Index Inputs'!Q119","v":0},{"$f":"IFERROR(VLOOKUP(I117,'NR-PI 2.0 Structure'!$C$5:$D$8,2,FALSE),\"-\")","v":"-"},{"$f":"IFERROR(VLOOKUP(J117,'NR-PI 2.0 Structure'!$B$12:$C$16,2,FALSE),\"-\")","v":"-"},{"$f":"IFERROR(VLOOKUP(K117,'NR-PI 2.0 Structure'!$B$20:$D$21,3,FALSE),\"-\")","v":"-"},{"$f":"IFERROR(VLOOKUP(L117,'NR-PI 2.0 Structure'!$B$25:$C$28,2,FALSE),\"-\")","v":"-"},{"$f":"IFERROR(VLOOKUP(L117,'NR-PI 2.0 Structure'!$B$25:$D$28,3,FALSE),\"-\")","v":"-"},{"$f":"IFERROR(\n  IF(M117 = \"≤ 1\", 'NR-PI 2.0 Structure'!$D$32,\n  IF(M117 = \">1 - 3\", 'NR-PI 2.0 Structure'!$D$33,\n  IF(M117 = \">3 - 5\", 'NR-PI 2.0 Structure'!$D$34,\n  IF(M117 = \"> 5\", 'NR-PI 2.0 Structure'!$D$35, )))),\n\"-\")","v":0},{"$f":"IFERROR(IF(ISBLANK(I117),\"N/A\",IF(I117<>'NR-PI 2.0 Structure'!$C$5,(VLOOKUP(N117,'NR-PI 2.0 Structure'!$C$39:$D$40,2,FALSE)),0)),\" - \")","v":" - "},{"$f":"IFERROR(IF(ISBLANK(I117),\"N/A\",IF(I117<>'NR-PI 2.0 Structure'!$C$5,(VLOOKUP(N117,'NR-PI 2.0 Structure'!$C$39:$E$40,3,FALSE)),0)),\" - \")","v":" - "},"-","-","-","N/A",{"$f":"IF(ISBLANK('P Index Inputs'!R119),\"-\",'P Index Inputs'!R119)","v":"-"},{"$f":"IFERROR(IF(I117<>'NR-PI 2.0 Structure'!$C$5,VLOOKUP(AA117,'NR-PI 2.0 Structure'!$G$5:$H$9,2,FALSE),IF(OR(AA117='NR-PI 2.0 Structure'!$G$5,AA117='NR-PI 2.0 Structure'!$G$6,AA117='NR-PI 2.0 Structure'!$G$7),1,VLOOKUP(AA117,'NR-PI 2.0 Structure'!$G$8:$H$9,2,FALSE))),\"-\")","v":"-"},{"$f":"IF(ISBLANK('P Index Inputs'!S119),\"-\",'P Index Inputs'!S119)","v":"-"},{"$f":"IFERROR(VLOOKUP(AC117,'NR-PI 2.0 Structure'!$G$14:$H$19,2,FALSE),\"-\")","v":"-"},"-","-","N/A","N/A",0,0,0,0,0,0,0,0,0]
[{"$f":"'P Index Inputs'!A120","v":0},{"$f":"'P Index Inputs'!B120","v":0},{"$f":"'P Index Inputs'!C120","v":0},{"$f":"'P Index Inputs'!D120","v":0},{"$f":"'P Index Inputs'!E120","v":0},{"$f":"'P Index Inputs'!F120","v":0},{"$f":"'P Index Inputs'!H120","v":0},{"$f":"'P Index Inputs'!I120","v":0},{"$f":"'P Index Inputs'!J120","v":0},{"$f":"IF(ISBLANK('P Index Inputs'!L120),'P Index Inputs'!K120,'P Index Inputs'!L120)","v":"-"},{"$f":"'P Index Inputs'!M120","v":0},{"$f":"'P Index Inputs'!O120","v":0},{"$f":"'P Index Inputs'!P120","v":0},{"$f":"'P Index Inputs'!Q120","v":0},{"$f":"IFERROR(VLOOKUP(I118,'NR-PI 2.0 Structure'!$C$5:$D$8,2,FALSE),\"-\")","v":"-"},{"$f":"IFERROR(VLOOKUP(J118,'NR-PI 2.0 Structure'!$B$12:$C$16,2,FALSE),\"-\")","v":"-"},{"$f":"IFERROR(VLOOKUP(K118,'NR-PI 2.0 Structure'!$B$20:$D$21,3,FALSE),\"-\")","v":"-"},{"$f":"IFERROR(VLOOKUP(L118,'NR-PI 2.0 Structure'!$B$25:$C$28,2,FALSE),\"-\")","v":"-"},{"$f":"IFERROR(VLOOKUP(L118,'NR-PI 2.0 Structure'!$B$25:$D$28,3,FALSE),\"-\")","v":"-"},{"$f":"IFERROR(\n  IF(M118 = \"≤ 1\", 'NR-PI 2.0 Structure'!$D$32,\n  IF(M118 = \">1 - 3\", 'NR-PI 2.0 Structure'!$D$33,\n  IF(M118 = \">3 - 5\", 'NR-PI 2.0 Structure'!$D$34,\n  IF(M118 = \"> 5\", 'NR-PI 2.0 Structure'!$D$35, )))),\n\"-\")","v":0},{"$f":"IFERROR(IF(ISBLANK(I118),\"N/A\",IF(I118<>'NR-PI 2.0 Structure'!$C$5,(VLOOKUP(N118,'NR-PI 2.0 Structure'!$C$39:$D$40,2,FALSE)),0)),\" - \")","v":" - "},{"$f":"IFERROR(IF(ISBLANK(I118),\"N/A\",IF(I118<>'NR-PI 2.0 Structure'!$C$5,(VLOOKUP(N118,'NR-PI 2.0 Structure'!$C$39:$E$40,3,FALSE)),0)),\" - \")","v":" - "},"-","-","-","N/A",{"$f":"IF(ISBLANK('P Index Inputs'!R120),\"-\",'P Index Inputs'!R120)","v":"-"},{"$f":"IFERROR(IF(I118<>'NR-PI 2.0 Structure'!$C$5,VLOOKUP(AA118,'NR-PI 2.0 Structure'!$G$5:$H$9,2,FALSE),IF(OR(AA118='NR-PI 2.0 Structure'!$G$5,AA118='NR-PI 2.0 Structure'!$G$6,AA118='NR-PI 2.0 Structure'!$G$7),1,VLOOKUP(AA118,'NR-PI 2.0 Structure'!$G$8:$H$9,2,FALSE))),\"-\")","v":"-"},{"$f":"IF(ISBLANK('P Index Inputs'!S120),\"-\",'P Index Inputs'!S120)","v":"-"},{"$f":"IFERROR(VLOOKUP(AC118,'NR-PI 2.0 Structure'!$G$14:$H$19,2,FALSE),\"-\")","v":"-"},"-","-","N/A","N/A",0,0,0,0,0,0,0,0,0]
[{"$f":"'P Index Inputs'!A121","v":0},{"$f":"'P Index Inputs'!B121","v":0},{"$f":"'P Index Inputs'!C121","v":0},{"$f":"'P Index Inputs'!D121","v":0},{"$f":"'P Index Inputs'!E121","v":0},{"$f":"'P Index Inputs'!F121","v":0},{"$f":"'P Index Inputs'!H121","v":0},{"$f":"'P Index Inputs'!I121","v":0},{"$f":"'P Index Inputs'!J121","v":0},{"$f":"IF(ISBLANK('P Index Inputs'!L121),'P Index Inputs'!K121,'P Index Inputs'!L121)","v":"-"},{"$f":"'P Index Inputs'!M121","v":0},{"$f":"'P Index Inputs'!O121","v":0},{"$f":"'P Index Inputs'!P121","v":0},{"$f":"'P Index Inputs'!Q121","v":0},{"$f":"IFERROR(VLOOKUP(I119,'NR-PI 2.0 Structure'!$C$5:$D$8,2,FALSE),\"-\")","v":"-"},{"$f":"IFERROR(VLOOKUP(J119,'NR-PI 2.0 Structure'!$B$12:$C$16,2,FALSE),\"-\")","v":"-"},{"$f":"IFERROR(VLOOKUP(K119,'NR-PI 2.0 Structure'!$B$20:$D$21,3,FALSE),\"-\")","v":"-"},{"$f":"IFERROR(VLOOKUP(L119,'NR-PI 2.0 Structure'!$B$25:$C$28,2,FALSE),\"-\")","v":"-"},{"$f":"IFERROR(VLOOKUP(L119,'NR-PI 2.0 Structure'!$B$25:$D$28,3,FALSE),\"-\")","v":"-"},{"$f":"IFERROR(\n  IF(M119 = \"≤ 1\", 'NR-PI 2.0 Structure'!$D$32,\n  IF(M119 = \">1 - 3\", 'NR-PI 2.0 Structure'!$D$33,\n  IF(M119 = \">3 - 5\", 'NR-PI 2.0 Structure'!$D$34,\n  IF(M119 = \"> 5\", 'NR-PI 2.0 Structure'!$D$35, )))),\n\"-\")","v":0},{"$f":"IFERROR(IF(ISBLANK(I119),\"N/A\",IF(I119<>'NR-PI 2.0 Structure'!$C$5,(VLOOKUP(N119,'NR-PI 2.0 Structure'!$C$39:$D$40,2,FALSE)),0)),\" - \")","v":" - "},{"$f":"IFERROR(IF(ISBLANK(I119),\"N/A\",IF(I119<>'NR-PI 2.0 Structure'!$C$5,(VLOOKUP(N119,'NR-PI 2.0 Structure'!$C$39:$E$40,3,FALSE)),0)),\" - \")","v":" - "},"-","-",{"$f":"IF(W119>X119,W119,X119)","v":"-"},"N/A",{"$f":"IF(ISBLANK('P Index Inputs'!R121),\"-\",'P Index Inputs'!R121)","v":"-"},{"$f":"IFERROR(IF(I119<>'NR-PI 2.0 Structure'!$C$5,VLOOKUP(AA119,'NR-PI 2.0 Structure'!$G$5:$H$9,2,FALSE),IF(OR(AA119='NR-PI 2.0 Structure'!$G$5,AA119='NR-PI 2.0 Structure'!$G$6,AA119='NR-PI 2.0 Structure'!$G$7),1,VLOOKUP(AA119,'NR-PI 2.0 Structure'!$G$8:$H$9,2,FALSE))),\"-\")","v":"-"},{"$f":"IF(ISBLANK('P Index Inputs'!S121),\"-\",'P Index Inputs'!S121)","v":"-"},{"$f":"IFERROR(VLOOKUP(AC119,'NR-PI 2.0 Structure'!$G$14:$H$19,2,FALSE),\"-\")","v":"-"},"-","-","N/A","N/A",0,0,0,0,0,0,0,0,0]
[{"$f":"'P Index Inputs'!A122","v":0},{"$f":"'P Index Inputs'!B122","v":0},{"$f":"'P Index Inputs'!C122","v":0},{"$f":"'P Index Inputs'!D122","v":0},{"$f":"'P Index Inputs'!E122","v":0},{"$f":"'P Index Inputs'!F122","v":0},{"$f":"'P Index Inputs'!H122","v":0},{"$f":"'P Index Inputs'!I122","v":0},{"$f":"'P Index Inputs'!J122","v":0},{"$f":"IF(ISBLANK('P Index Inputs'!L122),'P Index Inputs'!K122,'P Index Inputs'!L122)","v":"-"},{"$f":"'P Index Inputs'!M122","v":0},{"$f":"'P Index Inputs'!O122","v":0},{"$f":"'P Index Inputs'!P122","v":0},{"$f":"'P Index Inputs'!Q122","v":0},{"$f":"IFERROR(VLOOKUP(I120,'NR-PI 2.0 Structure'!$C$5:$D$8,2,FALSE),\"-\")","v":"-"},{"$f":"IFERROR(VLOOKUP(J120,'NR-PI 2.0 Structure'!$B$12:$C$16,2,FALSE),\"-\")","v":"-"},{"$f":"IFERROR(VLOOKUP(K120,'NR-PI 2.0 Structure'!$B$20:$D$21,3,FALSE),\"-\")","v":"-"},{"$f":"IFERROR(VLOOKUP(L120,'NR-PI 2.0 Structure'!$B$25:$C$28,2,FALSE),\"-\")","v":"-"},{"$f":"IFERROR(VLOOKUP(L120,'NR-PI 2.0 Structure'!$B$25:$D$28,3,FALSE),\"-\")","v":"-"},{"$f":"IFERROR(\n  IF(M120 = \"≤ 1\", 'NR-PI 2.0 Structure'!$D$32,\n  IF(M120 = \">1 - 3\", 'NR-PI 2.0 Structure'!$D$33,\n  IF(M120 = \">3 - 5\", 'NR-PI 2.0 Structure'!$D$34,\n  IF(M120 = \"> 5\", 'NR-PI 2.0 Structure'!$D$35, )))),\n\"-\")","v":0},{"$f":"IFERROR(IF(ISBLANK(I120),\"N/A\",IF(I120<>'NR-PI 2.0 Structure'!$C$5,(VLOOKUP(N120,'NR-PI 2.0 Structure'!$C$39:$D$40,2,FALSE)),0)),\" - \")","v":" - "},{"$f":"IFERROR(IF(ISBLANK(I120),\"N/A\",IF(I120<>'NR-PI 2.0 Structure'!$C$5,(VLOOKUP(N120,'NR-PI 2.0 Structure'!$C$39:$E$40,3,FALSE)),0)),\" - \")","v":" - "},"-","-","-","N/A",{"$f":"IF(ISBLANK('P Index Inputs'!R122),\"-\",'P Index Inputs'!R122)","v":"-"},{"$f":"IFERROR(IF(I120<>'NR-PI 2.0 Structure'!$C$5,VLOOKUP(AA120,'NR-PI 2.0 Structure'!$G$5:$H$9,2,FALSE),IF(OR(AA120='NR-PI 2.0 Structure'!$G$5,AA120='NR-PI 2.0 Structure'!$G$6,AA120='NR-PI 2.0 Structure'!$G$7),1,VLOOKUP(AA120,'NR-PI 2.0 Structure'!$G$8:$H$9,2,FALSE))),\"-\")","v":"-"},{"$f":"IF(ISBLANK('P Index Inputs'!S122),\"-\",'P Index Inputs'!S122)","v":"-"},{"$f":"IFERROR(VLOOKUP(AC120,'NR-PI 2.0 Structure'!$G$14:$H$19,2,FALSE),\"-\")","v":"-"},"-","-","N/A","N/A",0,0,0,0,0,0,0,0,0]
[{"$f":"'P Index Inputs'!A123","v":0},{"$f":"'P Index Inputs'!B123","v":0},{"$f":"'P Index Inputs'!C123","v":0},{"$f":"'P Index Inputs'!D123","v":0},{"$f":"'P Index Inputs'!E123","v":0},{"$f":"'P Index Inputs'!F123","v":0},{"$f":"'P Index Inputs'!H123","v":0},{"$f":"'P Index Inputs'!I123","v":0},{"$f":"'P Index Inputs'!J123","v":0},{"$f":"IF(ISBLANK('P Index Inputs'!L123),'P Index Inputs'!K123,'P Index Inputs'!L123)","v":"-"},{"$f":"'P Index Inputs'!M123","v":0},{"$f":"'P Index Inputs'!O123","v":0},{"$f":"'P Index Inputs'!P123","v":0},{"$f":"'P Index Inputs'!Q123","v":0},{"$f":"IFERROR(VLOOKUP(I121,'NR-PI 2.0 Structure'!$C$5:$D$8,2,FALSE),\"-\")","v":"-"},{"$f":"IFERROR(VLOOKUP(J121,'NR-PI 2.0 Structure'!$B$12:$C$16,2,FALSE),\"-\")","v":"-"},{"$f":"IFERROR(VLOOKUP(K121,'NR-PI 2.0 Structure'!$B$20:$D$21,3,FALSE),\"-\")","v":"-"},{"$f":"IFERROR(VLOOKUP(L121,'NR-PI 2.0 Structure'!$B$25:$C$28,2,FALSE),\"-\")","v":"-"},{"$f":"IFERROR(VLOOKUP(L121,'NR-PI 2.0 Structure'!$B$25:$D$28,3,FALSE),\"-\")","v":"-"},{"$f":"IFERROR(\n  IF(M121 = \"≤ 1\", 'NR-PI 2.0 Structure'!$D$32,\n  IF(M121 = \">1 - 3\", 'NR-PI 2.0 Structure'!$D$33,\n  IF(M121 = \">3 - 5\", 'NR-PI 2.0 Structure'!$D$34,\n  IF(M121 = \"> 5\", 'NR-PI 2.0 Structure'!$D$35, )))),\n\"-\")","v":0},{"$f":"IFERROR(IF(ISBLANK(I121),\"N/A\",IF(I121<>'NR-PI 2.0 Structure'!$C$5,(VLOOKUP(N121,'NR-PI 2.0 Structure'!$C$39:$D$40,2,FALSE)),0)),\" - \")","v":" - "},{"$f":"IFERROR(IF(ISBLANK(I121),\"N/A\",IF(I121<>'NR-PI 2.0 Structure'!$C$5,(VLOOKUP(N121,'NR-PI 2.0 Structure'!$C$39:$E$40,3,FALSE)),0)),\" - \")","v":" - "},"-","-","-","N/A",{"$f":"IF(ISBLANK('P Index Inputs'!R123),\"-\",'P Index Inputs'!R123)","v":"-"},{"$f":"IFERROR(IF(I121<>'NR-PI 2.0 Structure'!$C$5,VLOOKUP(AA121,'NR-PI 2.0 Structure'!$G$5:$H$9,2,FALSE),IF(OR(AA121='NR-PI 2.0 Structure'!$G$5,AA121='NR-PI 2.0 Structure'!$G$6,AA121='NR-PI 2.0 Structure'!$G$7),1,VLOOKUP(AA121,'NR-PI 2.0 Structure'!$G$8:$H$9,2,FALSE))),\"-\")","v":"-"},{"$f":"IF(ISBLANK('P Index Inputs'!S123),\"-\",'P Index Inputs'!S123)","v":"-"},{"$f":"IFERROR(VLOOKUP(AC121,'NR-PI 2.0 Structure'!$G$14:$H$19,2,FALSE),\"-\")","v":"-"},"-","-","N/A","N/A",0,0,0,0,0,0,0,0,0]
[{"$f":"'P Index Inputs'!A124","v":0},{"$f":"'P Index Inputs'!B124","v":0},{"$f":"'P Index Inputs'!C124","v":0},{"$f":"'P Index Inputs'!D124","v":0},{"$f":"'P Index Inputs'!E124","v":0},{"$f":"'P Index Inputs'!F124","v":0},{"$f":"'P Index Inputs'!H124","v":0},{"$f":"'P Index Inputs'!I124","v":0},{"$f":"'P Index Inputs'!J124","v":0},{"$f":"IF(ISBLANK('P Index Inputs'!L124),'P Index Inputs'!K124,'P Index Inputs'!L124)","v":"-"},{"$f":"'P Index Inputs'!M124","v":0},{"$f":"'P Index Inputs'!O124","v":0},{"$f":"'P Index Inputs'!P124","v":0},{"$f":"'P Index Inputs'!Q124","v":0},{"$f":"IFERROR(VLOOKUP(I122,'NR-PI 2.0 Structure'!$C$5:$D$8,2,FALSE),\"-\")","v":"-"},{"$f":"IFERROR(VLOOKUP(J122,'NR-PI 2.0 Structure'!$B$12:$C$16,2,FALSE),\"-\")","v":"-"},{"$f":"IFERROR(VLOOKUP(K122,'NR-PI 2.0 Structure'!$B$20:$D$21,3,FALSE),\"-\")","v":"-"},{"$f":"IFERROR(VLOOKUP(L122,'NR-PI 2.0 Structure'!$B$25:$C$28,2,FALSE),\"-\")","v":"-"},{"$f":"IFERROR(VLOOKUP(L122,'NR-PI 2.0 Structure'!$B$25:$D$28,3,FALSE),\"-\")","v":"-"},{"$f":"IFERROR(\n  IF(M122 = \"≤ 1\", 'NR-PI 2.0 Structure'!$D$32,\n  IF(M122 = \">1 - 3\", 'NR-PI 2.0 Structure'!$D$33,\n  IF(M122 = \">3 - 5\", 'NR-PI 2.0 Structure'!$D$34,\n  IF(M122 = \"> 5\", 'NR-PI 2.0 Structure'!$D$35, )))),\n\"-\")","v":0},{"$f":"IFERROR(IF(ISBLANK(I122),\"N/A\",IF(I122<>'NR-PI 2.0 Structure'!$C$5,(VLOOKUP(N122,'NR-PI 2.0 Structure'!$C$39:$D$40,2,FALSE)),0)),\" - \")","v":" - "},{"$f":"IFERROR(IF(ISBLANK(I122),\"N/A\",IF(I122<>'NR-PI 2.0 Structure'!$C$5,(VLOOKUP(N122,'NR-PI 2.0 Structure'!$C$39:$E$40,3,FALSE)),0)),\" - \")","v":" - "},"-","-","-","N/A",{"$f":"IF(ISBLANK('P Index Inputs'!R124),\"-\",'P Index Inputs'!R124)","v":"-"},{"$f":"IFERROR(IF(I122<>'NR-PI 2.0 Structure'!$C$5,VLOOKUP(AA122,'NR-PI 2.0 Structure'!$G$5:$H$9,2,FALSE),IF(OR(AA122='NR-PI 2.0 Structure'!$G$5,AA122='NR-PI 2.0 Structure'!$G$6,AA122='NR-PI 2.0 Structure'!$G$7),1,VLOOKUP(AA122,'NR-PI 2.0 Structure'!$G$8:$H$9,2,FALSE))),\"-\")","v":"-"},{"$f":"IF(ISBLANK('P Index Inputs'!S124),\"-\",'P Index Inputs'!S124)","v":"-"},{"$f":"IFERROR(VLOOKUP(AC122,'NR-PI 2.0 Structure'!$G$14:$H$19,2,FALSE),\"-\")","v":"-"},"-","-","N/A","N/A",0,0,0,0,0,0,0,0,0]
[{"$f":"'P Index Inputs'!A125","v":0},{"$f":"'P Index Inputs'!B125","v":0},{"$f":"'P Index Inputs'!C125","v":0},{"$f":"'P Index Inputs'!D125","v":0},{"$f":"'P Index Inputs'!E125","v":0},{"$f":"'P Index Inputs'!F125","v":0},{"$f":"'P Index Inputs'!H125","v":0},{"$f":"'P Index Inputs'!I125","v":0},{"$f":"'P Index Inputs'!J125","v":0},{"$f":"IF(ISBLANK('P Index Inputs'!L125),'P Index Inputs'!K125,'P Index Inputs'!L125)","v":"-"},{"$f":"'P Index Inputs'!M125","v":0},{"$f":"'P Index Inputs'!O125","v":0},{"$f":"'P Index Inputs'!P125","v":0},{"$f":"'P Index Inputs'!Q125","v":0},{"$f":"IFERROR(VLOOKUP(I123,'NR-PI 2.0 Structure'!$C$5:$D$8,2,FALSE),\"-\")","v":"-"},{"$f":"IFERROR(VLOOKUP(J123,'NR-PI 2.0 Structure'!$B$12:$C$16,2,FALSE),\"-\")","v":"-"},{"$f":"IFERROR(VLOOKUP(K123,'NR-PI 2.0 Structure'!$B$20:$D$21,3,FALSE),\"-\")","v":"-"},{"$f":"IFERROR(VLOOKUP(L123,'NR-PI 2.0 Structure'!$B$25:$C$28,2,FALSE),\"-\")","v":"-"},{"$f":"IFERROR(VLOOKUP(L123,'NR-PI 2.0 Structure'!$B$25:$D$28,3,FALSE),\"-\")","v":"-"},{"$f":"IFERROR(\n  IF(M123 = \"≤ 1\", 'NR-PI 2.0 Structure'!$D$32,\n  IF(M123 = \">1 - 3\", 'NR-PI 2.0 Structure'!$D$33,\n  IF(M123 = \">3 - 5\", 'NR-PI 2.0 Structure'!$D$34,\n  IF(M123 = \"> 5\", 'NR-PI 2.0 Structure'!$D$35, )))),\n\"-\")","v":0},{"$f":"IFERROR(IF(ISBLANK(I123),\"N/A\",IF(I123<>'NR-PI 2.0 Structure'!$C$5,(VLOOKUP(N123,'NR-PI 2.0 Structure'!$C$39:$D$40,2,FALSE)),0)),\" - \")","v":" - "},{"$f":"IFERROR(IF(ISBLANK(I123),\"N/A\",IF(I123<>'NR-PI 2.0 Structure'!$C$5,(VLOOKUP(N123,'NR-PI 2.0 Structure'!$C$39:$E$40,3,FALSE)),0)),\" - \")","v":" - "},"-","-","-","N/A",{"$f":"IF(ISBLANK('P Index Inputs'!R125),\"-\",'P Index Inputs'!R125)","v":"-"},{"$f":"IFERROR(IF(I123<>'NR-PI 2.0 Structure'!$C$5,VLOOKUP(AA123,'NR-PI 2.0 Structure'!$G$5:$H$9,2,FALSE),IF(OR(AA123='NR-PI 2.0 Structure'!$G$5,AA123='NR-PI 2.0 Structure'!$G$6,AA123='NR-PI 2.0 Structure'!$G$7),1,VLOOKUP(AA123,'NR-PI 2.0 Structure'!$G$8:$H$9,2,FALSE))),\"-\")","v":"-"},{"$f":"IF(ISBLANK('P Index Inputs'!S125),\"-\",'P Index Inputs'!S125)","v":"-"},{"$f":"IFERROR(VLOOKUP(AC123,'NR-PI 2.0 Structure'!$G$14:$H$19,2,FALSE),\"-\")","v":"-"},"-","-","N/A","N/A",0,0,0,0,0,0,0,0,0]
[{"$f":"'P Index Inputs'!A126","v":0},{"$f":"'P Index Inputs'!B126","v":0},{"$f":"'P Index Inputs'!C126","v":0},{"$f":"'P Index Inputs'!D126","v":0},{"$f":"'P Index Inputs'!E126","v":0},{"$f":"'P Index Inputs'!F126","v":0},{"$f":"'P Index Inputs'!H126","v":0},{"$f":"'P Index Inputs'!I126","v":0},{"$f":"'P Index Inputs'!J126","v":0},{"$f":"IF(ISBLANK('P Index Inputs'!L126),'P Index Inputs'!K126,'P Index Inputs'!L126)","v":"-"},{"$f":"'P Index Inputs'!M126","v":0},{"$f":"'P Index Inputs'!O126","v":0},{"$f":"'P Index Inputs'!P126","v":0},{"$f":"'P Index Inputs'!Q126","v":0},{"$f":"IFERROR(VLOOKUP(I124,'NR-PI 2.0 Structure'!$C$5:$D$8,2,FALSE),\"-\")","v":"-"},{"$f":"IFERROR(VLOOKUP(J124,'NR-PI 2.0 Structure'!$B$12:$C$16,2,FALSE),\"-\")","v":"-"},{"$f":"IFERROR(VLOOKUP(K124,'NR-PI 2.0 Structure'!$B$20:$D$21,3,FALSE),\"-\")","v":"-"},{"$f":"IFERROR(VLOOKUP(L124,'NR-PI 2.0 Structure'!$B$25:$C$28,2,FALSE),\"-\")","v":"-"},{"$f":"IFERROR(VLOOKUP(L124,'NR-PI 2.0 Structure'!$B$25:$D$28,3,FALSE),\"-\")","v":"-"},{"$f":"IFERROR(\n  IF(M124 = \"≤ 1\", 'NR-PI 2.0 Structure'!$D$32,\n  IF(M124 = \">1 - 3\", 'NR-PI 2.0 Structure'!$D$33,\n  IF(M124 = \">3 - 5\", 'NR-PI 2.0 Structure'!$D$34,\n  IF(M124 = \"> 5\", 'NR-PI 2.0 Structure'!$D$35, )))),\n\"-\")","v":0},{"$f":"IFERROR(IF(ISBLANK(I124),\"N/A\",IF(I124<>'NR-PI 2.0 Structure'!$C$5,(VLOOKUP(N124,'NR-PI 2.0 Structure'!$C$39:$D$40,2,FALSE)),0)),\" - \")","v":" - "},{"$f":"IFERROR(IF(ISBLANK(I124),\"N/A\",IF(I124<>'NR-PI 2.0 Structure'!$C$5,(VLOOKUP(N124,'NR-PI 2.0 Structure'!$C$39:$E$40,3,FALSE)),0)),\" - \")","v":" - "},"-","-","-","N/A",{"$f":"IF(ISBLANK('P Index Inputs'!R126),\"-\",'P Index Inputs'!R126)","v":"-"},{"$f":"IFERROR(IF(I124<>'NR-PI 2.0 Structure'!$C$5,VLOOKUP(AA124,'NR-PI 2.0 Structure'!$G$5:$H$9,2,FALSE),IF(OR(AA124='NR-PI 2.0 Structure'!$G$5,AA124='NR-PI 2.0 Structure'!$G$6,AA124='NR-PI 2.0 Structure'!$G$7),1,VLOOKUP(AA124,'NR-PI 2.0 Structure'!$G$8:$H$9,2,FALSE))),\"-\")","v":"-"},{"$f":"IF(ISBLANK('P Index Inputs'!S126),\"-\",'P Index Inputs'!S126)","v":"-"},{"$f":"IFERROR(VLOOKUP(AC124,'NR-PI 2.0 Structure'!$G$14:$H$19,2,FALSE),\"-\")","v":"-"},"-","-","N/A","N/A",0,0,0,0,0,0,0,0,0]
[{"$f":"'P Index Inputs'!A127","v":0},{"$f":"'P Index Inputs'!B127","v":0},{"$f":"'P Index Inputs'!C127","v":0},{"$f":"'P Index Inputs'!D127","v":0},{"$f":"'P Index Inputs'!E127","v":0},{"$f":"'P Index Inputs'!F127","v":0},{"$f":"'P Index Inputs'!H127","v":0},{"$f":"'P Index Inputs'!I127","v":0},{"$f":"'P Index Inputs'!J127","v":0},{"$f":"IF(ISBLANK('P Index Inputs'!L127),'P Index Inputs'!K127,'P Index Inputs'!L127)","v":"-"},{"$f":"'P Index Inputs'!M127","v":0},{"$f":"'P Index Inputs'!O127","v":0},{"$f":"'P Index Inputs'!P127","v":0},{"$f":"'P Index Inputs'!Q127","v":0},{"$f":"IFERROR(VLOOKUP(I125,'NR-PI 2.0 Structure'!$C$5:$D$8,2,FALSE),\"-\")","v":"-"},{"$f":"IFERROR(VLOOKUP(J125,'NR-PI 2.0 Structure'!$B$12:$C$16,2,FALSE),\"-\")","v":"-"},{"$f":"IFERROR(VLOOKUP(K125,'NR-PI 2.0 Structure'!$B$20:$D$21,3,FALSE),\"-\")","v":"-"},{"$f":"IFERROR(VLOOKUP(L125,'NR-PI 2.0 Structure'!$B$25:$C$28,2,FALSE),\"-\")","v":"-"},{"$f":"IFERROR(VLOOKUP(L125,'NR-PI 2.0 Structure'!$B$25:$D$28,3,FALSE),\"-\")","v":"-"},{"$f":"IFERROR(\n  IF(M125 = \"≤ 1\", 'NR-PI 2.0 Structure'!$D$32,\n  IF(M125 = \">1 - 3\", 'NR-PI 2.0 Structure'!$D$33,\n  IF(M125 = \">3 - 5\", 'NR-PI 2.0 Structure'!$D$34,\n  IF(M125 = \"> 5\", 'NR-PI 2.0 Structure'!$D$35, )))),\n\"-\")","v":0},{"$f":"IFERROR(IF(ISBLANK(I125),\"N/A\",IF(I125<>'NR-PI 2.0 Structure'!$C$5,(VLOOKUP(N125,'NR-PI 2.0 Structure'!$C$39:$D$40,2,FALSE)),0)),\" - \")","v":" - "},{"$f":"IFERROR(IF(ISBLANK(I125),\"N/A\",IF(I125<>'NR-PI 2.0 Structure'!$C$5,(VLOOKUP(N125,'NR-PI 2.0 Structure'!$C$39:$E$40,3,FALSE)),0)),\" - \")","v":" - "},"-","-","-","N/A",{"$f":"IF(ISBLANK('P Index Inputs'!R127),\"-\",'P Index Inputs'!R127)","v":"-"},{"$f":"IFERROR(IF(I125<>'NR-PI 2.0 Structure'!$C$5,VLOOKUP(AA125,'NR-PI 2.0 Structure'!$G$5:$H$9,2,FALSE),IF(OR(AA125='NR-PI 2.0 Structure'!$G$5,AA125='NR-PI 2.0 Structure'!$G$6,AA125='NR-PI 2.0 Structure'!$G$7),1,VLOOKUP(AA125,'NR-PI 2.0 Structure'!$G$8:$H$9,2,FALSE))),\"-\")","v":"-"},{"$f":"IF(ISBLANK('P Index Inputs'!S127),\"-\",'P Index Inputs'!S127)","v":"-"},{"$f":"IFERROR(VLOOKUP(AC125,'NR-PI 2.0 Structure'!$G$14:$H$19,2,FALSE),\"-\")","v":"-"},"-","-","N/A","N/A",0,0,0,0,0,0,0,0,0]
[{"$f":"'P Index Inputs'!A128","v":0},{"$f":"'P Index Inputs'!B128","v":0},{"$f":"'P Index Inputs'!C128","v":0},{"$f":"'P Index Inputs'!D128","v":0},{"$f":"'P Index Inputs'!E128","v":0},{"$f":"'P Index Inputs'!F128","v":0},{"$f":"'P Index Inputs'!H128","v":0},{"$f":"'P Index Inputs'!I128","v":0},{"$f":"'P Index Inputs'!J128","v":0},{"$f":"IF(ISBLANK('P Index Inputs'!L128),'P Index Inputs'!K128,'P Index Inputs'!L128)","v":"-"},{"$f":"'P Index Inputs'!M128","v":0},{"$f":"'P Index Inputs'!O128","v":0},{"$f":"'P Index Inputs'!P128","v":0},{"$f":"'P Index Inputs'!Q128","v":0},{"$f":"IFERROR(VLOOKUP(I126,'NR-PI 2.0 Structure'!$C$5:$D$8,2,FALSE),\"-\")","v":"-"},{"$f":"IFERROR(VLOOKUP(J126,'NR-PI 2.0 Structure'!$B$12:$C$16,2,FALSE),\"-\")","v":"-"},{"$f":"IFERROR(VLOOKUP(K126,'NR-PI 2.0 Structure'!$B$20:$D$21,3,FALSE),\"-\")","v":"-"},{"$f":"IFERROR(VLOOKUP(L126,'NR-PI 2.0 Structure'!$B$25:$C$28,2,FALSE),\"-\")","v":"-"},{"$f":"IFERROR(VLOOKUP(L126,'NR-PI 2.0 Structure'!$B$25:$D$28,3,FALSE),\"-\")","v":"-"},{"$f":"IFERROR(\n  IF(M126 = \"≤ 1\", 'NR-PI 2.0 Structure'!$D$32,\n  IF(M126 = \">1 - 3\", 'NR-PI 2.0 Structure'!$D$33,\n  IF(M126 = \">3 - 5\", 'NR-PI 2.0 Structure'!$D$34,\n  IF(M126 = \"> 5\", 'NR-PI 2.0 Structure'!$D$35, )))),\n\"-\")","v":0},{"$f":"IFERROR(IF(ISBLANK(I126),\"N/A\",IF(I126<>'NR-PI 2.0 Structure'!$C$5,(VLOOKUP(N126,'NR-PI 2.0 Structure'!$C$39:$D$40,2,FALSE)),0)),\" - \")","v":" - "},{"$f":"IFERROR(IF(ISBLANK(I126),\"N/A\",IF(I126<>'NR-PI 2.0 Structure'!$C$5,(VLOOKUP(N126,'NR-PI 2.0 Structure'!$C$39:$E$40,3,FALSE)),0)),\" - \")","v":" - "},"-","-","-","N/A",{"$f":"IF(ISBLANK('P Index Inputs'!R128),\"-\",'P Index Inputs'!R128)","v":"-"},{"$f":"IFERROR(IF(I126<>'NR-PI 2.0 Structure'!$C$5,VLOOKUP(AA126,'NR-PI 2.0 Structure'!$G$5:$H$9,2,FALSE),IF(OR(AA126='NR-PI 2.0 Structure'!$G$5,AA126='NR-PI 2.0 Structure'!$G$6,AA126='NR-PI 2.0 Structure'!$G$7),1,VLOOKUP(AA126,'NR-PI 2.0 Structure'!$G$8:$H$9,2,FALSE))),\"-\")","v":"-"},{"$f":"IF(ISBLANK('P Index Inputs'!S128),\"-\",'P Index Inputs'!S128)","v":"-"},{"$f":"IFERROR(VLOOKUP(AC126,'NR-PI 2.0 Structure'!$G$14:$H$19,2,FALSE),\"-\")","v":"-"},"-","-","N/A","N/A",0,0,0,0,0,0,0,0,0]
[{"$f":"'P Index Inputs'!A129","v":0},{"$f":"'P Index Inputs'!B129","v":0},{"$f":"'P Index Inputs'!C129","v":0},{"$f":"'P Index Inputs'!D129","v":0},{"$f":"'P Index Inputs'!E129","v":0},{"$f":"'P Index Inputs'!F129","v":0},{"$f":"'P Index Inputs'!H129","v":0},{"$f":"'P Index Inputs'!I129","v":0},{"$f":"'P Index Inputs'!J129","v":0},{"$f":"IF(ISBLANK('P Index Inputs'!L129),'P Index Inputs'!K129,'P Index Inputs'!L129)","v":"-"},{"$f":"'P Index Inputs'!M129","v":0},{"$f":"'P Index Inputs'!O129","v":0},{"$f":"'P Index Inputs'!P129","v":0},{"$f":"'P Index Inputs'!Q129","v":0},{"$f":"IFERROR(VLOOKUP(I127,'NR-PI 2.0 Structure'!$C$5:$D$8,2,FALSE),\"-\")","v":"-"},{"$f":"IFERROR(VLOOKUP(J127,'NR-PI 2.0 Structure'!$B$12:$C$16,2,FALSE),\"-\")","v":"-"},{"$f":"IFERROR(VLOOKUP(K127,'NR-PI 2.0 Structure'!$B$20:$D$21,3,FALSE),\"-\")","v":"-"},{"$f":"IFERROR(VLOOKUP(L127,'NR-PI 2.0 Structure'!$B$25:$C$28,2,FALSE),\"-\")","v":"-"},{"$f":"IFERROR(VLOOKUP(L127,'NR-PI 2.0 Structure'!$B$25:$D$28,3,FALSE),\"-\")","v":"-"},{"$f":"IFERROR(\n  IF(M127 = \"≤ 1\", 'NR-PI 2.0 Structure'!$D$32,\n  IF(M127 = \">1 - 3\", 'NR-PI 2.0 Structure'!$D$33,\n  IF(M127 = \">3 - 5\", 'NR-PI 2.0 Structure'!$D$34,\n  IF(M127 = \"> 5\", 'NR-PI 2.0 Structure'!$D$35, )))),\n\"-\")","v":0},{"$f":"IFERROR(IF(ISBLANK(I127),\"N/A\",IF(I127<>'NR-PI 2.0 Structure'!$C$5,(VLOOKUP(N127,'NR-PI 2.0 Structure'!$C$39:$D$40,2,FALSE)),0)),\" - \")","v":" - "},{"$f":"IFERROR(IF(ISBLANK(I127),\"N/A\",IF(I127<>'NR-PI 2.0 Structure'!$C$5,(VLOOKUP(N127,'NR-PI 2.0 Structure'!$C$39:$E$40,3,FALSE)),0)),\" - \")","v":" - "},"-","-","-","N/A",{"$f":"IF(ISBLANK('P Index Inputs'!R129),\"-\",'P Index Inputs'!R129)","v":"-"},{"$f":"IFERROR(IF(I127<>'NR-PI 2.0 Structure'!$C$5,VLOOKUP(AA127,'NR-PI 2.0 Structure'!$G$5:$H$9,2,FALSE),IF(OR(AA127='NR-PI 2.0 Structure'!$G$5,AA127='NR-PI 2.0 Structure'!$G$6,AA127='NR-PI 2.0 Structure'!$G$7),1,VLOOKUP(AA127,'NR-PI 2.0 Structure'!$G$8:$H$9,2,FALSE))),\"-\")","v":"-"},{"$f":"IF(ISBLANK('P Index Inputs'!S129),\"-\",'P Index Inputs'!S129)","v":"-"},{"$f":"IFERROR(VLOOKUP(AC127,'NR-PI 2.0 Structure'!$G$14:$H$19,2,FALSE),\"-\")","v":"-"},"-","-","N/A","N/A",0,0,0,0,0,0,0,0,0]
[{"$f":"'P Index Inputs'!A130","v":0},{"$f":"'P Index Inputs'!B130","v":0},{"$f":"'P Index Inputs'!C130","v":0},{"$f":"'P Index Inputs'!D130","v":0},{"$f":"'P Index Inputs'!E130","v":0},{"$f":"'P Index Inputs'!F130","v":0},{"$f":"'P Index Inputs'!H130","v":0},{"$f":"'P Index Inputs'!I130","v":0},{"$f":"'P Index Inputs'!J130","v":0},{"$f":"IF(ISBLANK('P Index Inputs'!L130),'P Index Inputs'!K130,'P Index Inputs'!L130)","v":"-"},{"$f":"'P Index Inputs'!M130","v":0},{"$f":"'P Index Inputs'!O130","v":0},{"$f":"'P Index Inputs'!P130","v":0},{"$f":"'P Index Inputs'!Q130","v":0},{"$f":"IFERROR(VLOOKUP(I128,'NR-PI 2.0 Structure'!$C$5:$D$8,2,FALSE),\"-\")","v":"-"},{"$f":"IFERROR(VLOOKUP(J128,'NR-PI 2.0 Structure'!$B$12:$C$16,2,FALSE),\"-\")","v":"-"},{"$f":"IFERROR(VLOOKUP(K128,'NR-PI 2.0 Structure'!$B$20:$D$21,3,FALSE),\"-\")","v":"-"},{"$f":"IFERROR(VLOOKUP(L128,'NR-PI 2.0 Structure'!$B$25:$C$28,2,FALSE),\"-\")","v":"-"},{"$f":"IFERROR(VLOOKUP(L128,'NR-PI 2.0 Structure'!$B$25:$D$28,3,FALSE),\"-\")","v":"-"},{"$f":"IFERROR(\n  IF(M128 = \"≤ 1\", 'NR-PI 2.0 Structure'!$D$32,\n  IF(M128 = \">1 - 3\", 'NR-PI 2.0 Structure'!$D$33,\n  IF(M128 = \">3 - 5\", 'NR-PI 2.0 Structure'!$D$34,\n  IF(M128 = \"> 5\", 'NR-PI 2.0 Structure'!$D$35, )))),\n\"-\")","v":0},{"$f":"IFERROR(IF(ISBLANK(I128),\"N/A\",IF(I128<>'NR-PI 2.0 Structure'!$C$5,(VLOOKUP(N128,'NR-PI 2.0 Structure'!$C$39:$D$40,2,FALSE)),0)),\" - \")","v":" - "},{"$f":"IFERROR(IF(ISBLANK(I128),\"N/A\",IF(I128<>'NR-PI 2.0 Structure'!$C$5,(VLOOKUP(N128,'NR-PI 2.0 Structure'!$C$39:$E$40,3,FALSE)),0)),\" - \")","v":" - "},"-","-","-","N/A",{"$f":"IF(ISBLANK('P Index Inputs'!R130),\"-\",'P Index Inputs'!R130)","v":"-"},{"$f":"IFERROR(IF(I128<>'NR-PI 2.0 Structure'!$C$5,VLOOKUP(AA128,'NR-PI 2.0 Structure'!$G$5:$H$9,2,FALSE),IF(OR(AA128='NR-PI 2.0 Structure'!$G$5,AA128='NR-PI 2.0 Structure'!$G$6,AA128='NR-PI 2.0 Structure'!$G$7),1,VLOOKUP(AA128,'NR-PI 2.0 Structure'!$G$8:$H$9,2,FALSE))),\"-\")","v":"-"},{"$f":"IF(ISBLANK('P Index Inputs'!S130),\"-\",'P Index Inputs'!S130)","v":"-"},{"$f":"IFERROR(VLOOKUP(AC128,'NR-PI 2.0 Structure'!$G$14:$H$19,2,FALSE),\"-\")","v":"-"},"-","-","N/A","N/A",0,0,0,0,0,0,0,0,0]
[{"$f":"'P Index Inputs'!A131","v":0},{"$f":"'P Index Inputs'!B131","v":0},{"$f":"'P Index Inputs'!C131","v":0},{"$f":"'P Index Inputs'!D131","v":0},{"$f":"'P Index Inputs'!E131","v":0},{"$f":"'P Index Inputs'!F131","v":0},{"$f":"'P Index Inputs'!H131","v":0},{"$f":"'P Index Inputs'!I131","v":0},{"$f":"'P Index Inputs'!J131","v":0},{"$f":"IF(ISBLANK('P Index Inputs'!L131),'P Index Inputs'!K131,'P Index Inputs'!L131)","v":"-"},{"$f":"'P Index Inputs'!M131","v":0},{"$f":"'P Index Inputs'!O131","v":0},{"$f":"'P Index Inputs'!P131","v":0},{"$f":"'P Index Inputs'!Q131","v":0},{"$f":"IFERROR(VLOOKUP(I129,'NR-PI 2.0 Structure'!$C$5:$D$8,2,FALSE),\"-\")","v":"-"},{"$f":"IFERROR(VLOOKUP(J129,'NR-PI 2.0 Structure'!$B$12:$C$16,2,FALSE),\"-\")","v":"-"},{"$f":"IFERROR(VLOOKUP(K129,'NR-PI 2.0 Structure'!$B$20:$D$21,3,FALSE),\"-\")","v":"-"},{"$f":"IFERROR(VLOOKUP(L129,'NR-PI 2.0 Structure'!$B$25:$C$28,2,FALSE),\"-\")","v":"-"},{"$f":"IFERROR(VLOOKUP(L129,'NR-PI 2.0 Structure'!$B$25:$D$28,3,FALSE),\"-\")","v":"-"},{"$f":"IFERROR(\n  IF(M129 = \"≤ 1\", 'NR-PI 2.0 Structure'!$D$32,\n  IF(M129 = \">1 - 3\", 'NR-PI 2.0 Structure'!$D$33,\n  IF(M129 = \">3 - 5\", 'NR-PI 2.0 Structure'!$D$34,\n  IF(M129 = \"> 5\", 'NR-PI 2.0 Structure'!$D$35, )))),\n\"-\")","v":0},{"$f":"IFERROR(IF(ISBLANK(I129),\"N/A\",IF(I129<>'NR-PI 2.0 Structure'!$C$5,(VLOOKUP(N129,'NR-PI 2.0 Structure'!$C$39:$D$40,2,FALSE)),0)),\" - \")","v":" - "},{"$f":"IFERROR(IF(ISBLANK(I129),\"N/A\",IF(I129<>'NR-PI 2.0 Structure'!$C$5,(VLOOKUP(N129,'NR-PI 2.0 Structure'!$C$39:$E$40,3,FALSE)),0)),\" - \")","v":" - "},"-","-","-","N/A",{"$f":"IF(ISBLANK('P Index Inputs'!R131),\"-\",'P Index Inputs'!R131)","v":"-"},{"$f":"IFERROR(IF(I129<>'NR-PI 2.0 Structure'!$C$5,VLOOKUP(AA129,'NR-PI 2.0 Structure'!$G$5:$H$9,2,FALSE),IF(OR(AA129='NR-PI 2.0 Structure'!$G$5,AA129='NR-PI 2.0 Structure'!$G$6,AA129='NR-PI 2.0 Structure'!$G$7),1,VLOOKUP(AA129,'NR-PI 2.0 Structure'!$G$8:$H$9,2,FALSE))),\"-\")","v":"-"},{"$f":"IF(ISBLANK('P Index Inputs'!S131),\"-\",'P Index Inputs'!S131)","v":"-"},{"$f":"IFERROR(VLOOKUP(AC129,'NR-PI 2.0 Structure'!$G$14:$H$19,2,FALSE),\"-\")","v":"-"},"-","-","N/A","N/A",0,0,0,0,0,0,0,0,0]
[{"$f":"'P Index Inputs'!A132","v":0},{"$f":"'P Index Inputs'!B132","v":0},{"$f":"'P Index Inputs'!C132","v":0},{"$f":"'P Index Inputs'!D132","v":0},{"$f":"'P Index Inputs'!E132","v":0},{"$f":"'P Index Inputs'!F132","v":0},{"$f":"'P Index Inputs'!H132","v":0},{"$f":"'P Index Inputs'!I132","v":0},{"$f":"'P Index Inputs'!J132","v":0},{"$f":"IF(ISBLANK('P Index Inputs'!L132),'P Index Inputs'!K132,'P Index Inputs'!L132)","v":"-"},{"$f":"'P Index Inputs'!M132","v":0},{"$f":"'P Index Inputs'!O132","v":0},{"$f":"'P Index Inputs'!P132","v":0},{"$f":"'P Index Inputs'!Q132","v":0},{"$f":"IFERROR(VLOOKUP(I130,'NR-PI 2.0 Structure'!$C$5:$D$8,2,FALSE),\"-\")","v":"-"},{"$f":"IFERROR(VLOOKUP(J130,'NR-PI 2.0 Structure'!$B$12:$C$16,2,FALSE),\"-\")","v":"-"},{"$f":"IFERROR(VLOOKUP(K130,'NR-PI 2.0 Structure'!$B$20:$D$21,3,FALSE),\"-\")","v":"-"},{"$f":"IFERROR(VLOOKUP(L130,'NR-PI 2.0 Structure'!$B$25:$C$28,2,FALSE),\"-\")","v":"-"},{"$f":"IFERROR(VLOOKUP(L130,'NR-PI 2.0 Structure'!$B$25:$D$28,3,FALSE),\"-\")","v":"-"},{"$f":"IFERROR(\n  IF(M130 = \"≤ 1\", 'NR-PI 2.0 Structure'!$D$32,\n  IF(M130 = \">1 - 3\", 'NR-PI 2.0 Structure'!$D$33,\n  IF(M130 = \">3 - 5\", 'NR-PI 2.0 Structure'!$D$34,\n  IF(M130 = \"> 5\", 'NR-PI 2.0 Structure'!$D$35, )))),\n\"-\")","v":0},{"$f":"IFERROR(IF(ISBLANK(I130),\"N/A\",IF(I130<>'NR-PI 2.0 Structure'!$C$5,(VLOOKUP(N130,'NR-PI 2.0 Structure'!$C$39:$D$40,2,FALSE)),0)),\" - \")","v":" - "},{"$f":"IFERROR(IF(ISBLANK(I130),\"N/A\",IF(I130<>'NR-PI 2.0 Structure'!$C$5,(VLOOKUP(N130,'NR-PI 2.0 Structure'!$C$39:$E$40,3,FALSE)),0)),\" - \")","v":" - "},"-","-","-","N/A",{"$f":"IF(ISBLANK('P Index Inputs'!R132),\"-\",'P Index Inputs'!R132)","v":"-"},{"$f":"IFERROR(IF(I130<>'NR-PI 2.0 Structure'!$C$5,VLOOKUP(AA130,'NR-PI 2.0 Structure'!$G$5:$H$9,2,FALSE),IF(OR(AA130='NR-PI 2.0 Structure'!$G$5,AA130='NR-PI 2.0 Structure'!$G$6,AA130='NR-PI 2.0 Structure'!$G$7),1,VLOOKUP(AA130,'NR-PI 2.0 Structure'!$G$8:$H$9,2,FALSE))),\"-\")","v":"-"},{"$f":"IF(ISBLANK('P Index Inputs'!S132),\"-\",'P Index Inputs'!S132)","v":"-"},{"$f":"IFERROR(VLOOKUP(AC130,'NR-PI 2.0 Structure'!$G$14:$H$19,2,FALSE),\"-\")","v":"-"},"-","-","N/A","N/A",0,0,0,0,0,0,0,0,0]
[{"$f":"'P Index Inputs'!A133","v":0},{"$f":"'P Index Inputs'!B133","v":0},{"$f":"'P Index Inputs'!C133","v":0},{"$f":"'P Index Inputs'!D133","v":0},{"$f":"'P Index Inputs'!E133","v":0},{"$f":"'P Index Inputs'!F133","v":0},{"$f":"'P Index Inputs'!H133","v":0},{"$f":"'P Index Inputs'!I133","v":0},{"$f":"'P Index Inputs'!J133","v":0},{"$f":"IF(ISBLANK('P Index Inputs'!L133),'P Index Inputs'!K133,'P Index Inputs'!L133)","v":"-"},{"$f":"'P Index Inputs'!M133","v":0},{"$f":"'P Index Inputs'!O133","v":0},{"$f":"'P Index Inputs'!P133","v":0},{"$f":"'P Index Inputs'!Q133","v":0},{"$f":"IFERROR(VLOOKUP(I131,'NR-PI 2.0 Structure'!$C$5:$D$8,2,FALSE),\"-\")","v":"-"},{"$f":"IFERROR(VLOOKUP(J131,'NR-PI 2.0 Structure'!$B$12:$C$16,2,FALSE),\"-\")","v":"-"},{"$f":"IFERROR(VLOOKUP(K131,'NR-PI 2.0 Structure'!$B$20:$D$21,3,FALSE),\"-\")","v":"-"},{"$f":"IFERROR(VLOOKUP(L131,'NR-PI 2.0 Structure'!$B$25:$C$28,2,FALSE),\"-\")","v":"-"},{"$f":"IFERROR(VLOOKUP(L131,'NR-PI 2.0 Structure'!$B$25:$D$28,3,FALSE),\"-\")","v":"-"},{"$f":"IFERROR(\n  IF(M131 = \"≤ 1\", 'NR-PI 2.0 Structure'!$D$32,\n  IF(M131 = \">1 - 3\", 'NR-PI 2.0 Structure'!$D$33,\n  IF(M131 = \">3 - 5\", 'NR-PI 2.0 Structure'!$D$34,\n  IF(M131 = \"> 5\", 'NR-PI 2.0 Structure'!$D$35, )))),\n\"-\")","v":0},{"$f":"IFERROR(IF(ISBLANK(I131),\"N/A\",IF(I131<>'NR-PI 2.0 Structure'!$C$5,(VLOOKUP(N131,'NR-PI 2.0 Structure'!$C$39:$D$40,2,FALSE)),0)),\" - \")","v":" - "},{"$f":"IFERROR(IF(ISBLANK(I131),\"N/A\",IF(I131<>'NR-PI 2.0 Structure'!$C$5,(VLOOKUP(N131,'NR-PI 2.0 Structure'!$C$39:$E$40,3,FALSE)),0)),\" - \")","v":" - "},"-","-","-","N/A",{"$f":"IF(ISBLANK('P Index Inputs'!R133),\"-\",'P Index Inputs'!R133)","v":"-"},{"$f":"IFERROR(IF(I131<>'NR-PI 2.0 Structure'!$C$5,VLOOKUP(AA131,'NR-PI 2.0 Structure'!$G$5:$H$9,2,FALSE),IF(OR(AA131='NR-PI 2.0 Structure'!$G$5,AA131='NR-PI 2.0 Structure'!$G$6,AA131='NR-PI 2.0 Structure'!$G$7),1,VLOOKUP(AA131,'NR-PI 2.0 Structure'!$G$8:$H$9,2,FALSE))),\"-\")","v":"-"},{"$f":"IF(ISBLANK('P Index Inputs'!S133),\"-\",'P Index Inputs'!S133)","v":"-"},{"$f":"IFERROR(VLOOKUP(AC131,'NR-PI 2.0 Structure'!$G$14:$H$19,2,FALSE),\"-\")","v":"-"},"-","-","N/A","N/A",0,0,0,0,0,0,0,0,0]
[{"$f":"'P Index Inputs'!A134","v":0},{"$f":"'P Index Inputs'!B134","v":0},{"$f":"'P Index Inputs'!C134","v":0},{"$f":"'P Index Inputs'!D134","v":0},{"$f":"'P Index Inputs'!E134","v":0},{"$f":"'P Index Inputs'!F134","v":0},{"$f":"'P Index Inputs'!H134","v":0},{"$f":"'P Index Inputs'!I134","v":0},{"$f":"'P Index Inputs'!J134","v":0},{"$f":"IF(ISBLANK('P Index Inputs'!L134),'P Index Inputs'!K134,'P Index Inputs'!L134)","v":"-"},{"$f":"'P Index Inputs'!M134","v":0},{"$f":"'P Index Inputs'!O134","v":0},{"$f":"'P Index Inputs'!P134","v":0},{"$f":"'P Index Inputs'!Q134","v":0},{"$f":"IFERROR(VLOOKUP(I132,'NR-PI 2.0 Structure'!$C$5:$D$8,2,FALSE),\"-\")","v":"-"},{"$f":"IFERROR(VLOOKUP(J132,'NR-PI 2.0 Structure'!$B$12:$C$16,2,FALSE),\"-\")","v":"-"},{"$f":"IFERROR(VLOOKUP(K132,'NR-PI 2.0 Structure'!$B$20:$D$21,3,FALSE),\"-\")","v":"-"},{"$f":"IFERROR(VLOOKUP(L132,'NR-PI 2.0 Structure'!$B$25:$C$28,2,FALSE),\"-\")","v":"-"},{"$f":"IFERROR(VLOOKUP(L132,'NR-PI 2.0 Structure'!$B$25:$D$28,3,FALSE),\"-\")","v":"-"},{"$f":"IFERROR(\n  IF(M132 = \"≤ 1\", 'NR-PI 2.0 Structure'!$D$32,\n  IF(M132 = \">1 - 3\", 'NR-PI 2.0 Structure'!$D$33,\n  IF(M132 = \">3 - 5\", 'NR-PI 2.0 Structure'!$D$34,\n  IF(M132 = \"> 5\", 'NR-PI 2.0 Structure'!$D$35, )))),\n\"-\")","v":0},{"$f":"IFERROR(IF(ISBLANK(I132),\"N/A\",IF(I132<>'NR-PI 2.0 Structure'!$C$5,(VLOOKUP(N132,'NR-PI 2.0 Structure'!$C$39:$D$40,2,FALSE)),0)),\" - \")","v":" - "},{"$f":"IFERROR(IF(ISBLANK(I132),\"N/A\",IF(I132<>'NR-PI 2.0 Structure'!$C$5,(VLOOKUP(N132,'NR-PI 2.0 Structure'!$C$39:$E$40,3,FALSE)),0)),\" - \")","v":" - "},"-","-","-","N/A",{"$f":"IF(ISBLANK('P Index Inputs'!R134),\"-\",'P Index Inputs'!R134)","v":"-"},{"$f":"IFERROR(IF(I132<>'NR-PI 2.0 Structure'!$C$5,VLOOKUP(AA132,'NR-PI 2.0 Structure'!$G$5:$H$9,2,FALSE),IF(OR(AA132='NR-PI 2.0 Structure'!$G$5,AA132='NR-PI 2.0 Structure'!$G$6,AA132='NR-PI 2.0 Structure'!$G$7),1,VLOOKUP(AA132,'NR-PI 2.0 Structure'!$G$8:$H$9,2,FALSE))),\"-\")","v":"-"},{"$f":"IF(ISBLANK('P Index Inputs'!S134),\"-\",'P Index Inputs'!S134)","v":"-"},{"$f":"IFERROR(VLOOKUP(AC132,'NR-PI 2.0 Structure'!$G$14:$H$19,2,FALSE),\"-\")","v":"-"},"-","-","N/A","N/A",{"$f":"IFERROR(IF(AH132=\"N-based\",F132,0),\"-\")","v":0},{"$f":"IFERROR(IF(AH132 = \"P-based\", F132, 0),\"-\")","v":0},0,{"$f":"IFERROR(IF(AND(E132=\"sod\",AH132=\"N-based\"),F132,0),\"-\")","v":0},{"$f":"IFERROR(IF(AND(E132=\"sod\",AH132=\"P-based\"),F132,0),\"-\")","v":0},0,{"$f":"IFERROR(IF(AND(E132=\"row\",AH132=\"N-based\"),F132,0),\"-\")","v":0},{"$f":"IFERROR(IF(AND(E132=\"row\",AH132=\"P-based\"),F132,0),\"-\")","v":0},0]
[{"$f":"'P Index Inputs'!A135","v":0},{"$f":"'P Index Inputs'!B135","v":0},{"$f":"'P Index Inputs'!C135","v":0},{"$f":"'P Index Inputs'!D135","v":0},{"$f":"'P Index Inputs'!E135","v":0},{"$f":"'P Index Inputs'!F135","v":0},{"$f":"'P Index Inputs'!H135","v":0},{"$f":"'P Index Inputs'!I135","v":0},{"$f":"'P Index Inputs'!J135","v":0},{"$f":"IF(ISBLANK('P Index Inputs'!L135),'P Index Inputs'!K135,'P Index Inputs'!L135)","v":"-"},{"$f":"'P Index Inputs'!M135","v":0},{"$f":"'P Index Inputs'!O135","v":0},{"$f":"'P Index Inputs'!P135","v":0},{"$f":"'P Index Inputs'!Q135","v":0},{"$f":"IFERROR(VLOOKUP(I133,'NR-PI 2.0 Structure'!$C$5:$D$8,2,FALSE),\"-\")","v":"-"},{"$f":"IFERROR(VLOOKUP(J133,'NR-PI 2.0 Structure'!$B$12:$C$16,2,FALSE),\"-\")","v":"-"},{"$f":"IFERROR(VLOOKUP(K133,'NR-PI 2.0 Structure'!$B$20:$D$21,3,FALSE),\"-\")","v":"-"},{"$f":"IFERROR(VLOOKUP(L133,'NR-PI 2.0 Structure'!$B$25:$C$28,2,FALSE),\"-\")","v":"-"},{"$f":"IFERROR(VLOOKUP(L133,'NR-PI 2.0 Structure'!$B$25:$D$28,3,FALSE),\"-\")","v":"-"},{"$f":"IFERROR(\n  IF(M133 = \"≤ 1\", 'NR-PI 2.0 Structure'!$D$32,\n  IF(M133 = \">1 - 3\", 'NR-PI 2.0 Structure'!$D$33,\n  IF(M133 = \">3 - 5\", 'NR-PI 2.0 Structure'!$D$34,\n  IF(M133 = \"> 5\", 'NR-PI 2.0 Structure'!$D$35, )))),\n\"-\")","v":0},{"$f":"IFERROR(IF(ISBLANK(I133),\"N/A\",IF(I133<>'NR-PI 2.0 Structure'!$C$5,(VLOOKUP(N133,'NR-PI 2.0 Structure'!$C$39:$D$40,2,FALSE)),0)),\" - \")","v":" - "},{"$f":"IFERROR(IF(ISBLANK(I133),\"N/A\",IF(I133<>'NR-PI 2.0 Structure'!$C$5,(VLOOKUP(N133,'NR-PI 2.0 Structure'!$C$39:$E$40,3,FALSE)),0)),\" - \")","v":" - "},{"$f":"IFERROR(SUM(O133+P133+Q133+R133+U133)*10,\"-\")","v":"-"},{"$f":"IFERROR(SUM(O133+P133+Q133+S133+T133+V133)*10,\"-\")","v":"-"},"-","N/A",{"$f":"IF(ISBLANK('P Index Inputs'!R135),\"-\",'P Index Inputs'!R135)","v":"-"},{"$f":"IFERROR(IF(I133<>'NR-PI 2.0 Structure'!$C$5,VLOOKUP(AA133,'NR-PI 2.0 Structure'!$G$5:$H$9,2,FALSE),IF(OR(AA133='NR-PI 2.0 Structure'!$G$5,AA133='NR-PI 2.0 Structure'!$G$6,AA133='NR-PI 2.0 Structure'!$G$7),1,VLOOKUP(AA133,'NR-PI 2.0 Structure'!$G$8:$H$9,2,FALSE))),\"-\")","v":"-"},{"$f":"IF(ISBLANK('P Index Inputs'!S135),\"-\",'P Index Inputs'!S135)","v":"-"},{"$f":"IFERROR(VLOOKUP(AC133,'NR-PI 2.0 Structure'!$G$14:$H$19,2,FALSE),\"-\")","v":"-"},{"$f":"IFERROR(AB133*AD133,\"-\")","v":"-"},{"$f":"IFERROR(Y133*AE133,\"-\")","v":"-"},{"$f":"IFERROR(IF(AF133<50, \"Low\", IF(AF133<75, \"Medium\", IF(AF133<100, \"High\", IF(AND(AF133>=100,AF133<>\"-\"),\"Very High\",\"N/A\")))),\"N/A\")","v":"N/A"},{"$f":"IF(ISNUMBER(AF133),IF(H133>=160,\"Zero P\",IF(H133>100,IF(AF133<50,\"P-based\",\"Zero P\"),IF(H133>=40,IF(AF133<50,\"N-based\",IF(AF133<100,\"P-based\",\"Zero P\")),IF(H133<40,IF(AF133<75,\"N-based\",IF(AF133<100,\"P-based\",\"Zero P\")))))),\"N/A\")","v":"N/A"},0,0,{"$f":"IFERROR(IF(AH133 = \"Zero P\", F133, 0),\"-\")","v":0},0,0,{"$f":"IFERROR(IF(AND(E133=\"sod\",AH133=\"Zero P\"),F133,0),\"-\")","v":0},0,0,{"$f":"IFERROR(IF(AND(E133=\"row\",AH133=\"Zero P\"),F133,0),\"-\")","v":0}]
[{"$f":"'P Index Inputs'!A136","v":0},{"$f":"'P Index Inputs'!B136","v":0},{"$f":"'P Index Inputs'!C136","v":0},{"$f":"'P Index Inputs'!D136","v":0},{"$f":"'P Index Inputs'!E136","v":0},{"$f":"'P Index Inputs'!F136","v":0},{"$f":"'P Index Inputs'!H136","v":0},{"$f":"'P Index Inputs'!I136","v":0},{"$f":"'P Index Inputs'!J136","v":0},{"$f":"IF(ISBLANK('P Index Inputs'!L136),'P Index Inputs'!K136,'P Index Inputs'!L136)","v":"-"},{"$f":"'P Index Inputs'!M136","v":0},{"$f":"'P Index Inputs'!O136","v":0},{"$f":"'P Index Inputs'!P136","v":0},{"$f":"'P Index Inputs'!Q136","v":0},{"$f":"IFERROR(VLOOKUP(I134,'NR-PI 2.0 Structure'!$C$5:$D$8,2,FALSE),\"-\")","v":"-"},{"$f":"IFERROR(VLOOKUP(J134,'NR-PI 2.0 Structure'!$B$12:$C$16,2,FALSE),\"-\")","v":"-"},{"$f":"IFERROR(VLOOKUP(K134,'NR-PI 2.0 Structure'!$B$20:$D$21,3,FALSE),\"-\")","v":"-"},{"$f":"IFERROR(VLOOKUP(L134,'NR-PI 2.0 Structure'!$B$25:$C$28,2,FALSE),\"-\")","v":"-"},{"$f":"IFERROR(VLOOKUP(L134,'NR-PI 2.0 Structure'!$B$25:$D$28,3,FALSE),\"-\")","v":"-"},{"$f":"IFERROR(\n  IF(M134 = \"≤ 1\", 'NR-PI 2.0 Structure'!$D$32,\n  IF(M134 = \">1 - 3\", 'NR-PI 2.0 Structure'!$D$33,\n  IF(M134 = \">3 - 5\", 'NR-PI 2.0 Structure'!$D$34,\n  IF(M134 = \"> 5\", 'NR-PI 2.0 Structure'!$D$35, )))),\n\"-\")","v":0},{"$f":"IFERROR(IF(ISBLANK(I134),\"N/A\",IF(I134<>'NR-PI 2.0 Structure'!$C$5,(VLOOKUP(N134,'NR-PI 2.0 Structure'!$C$39:$D$40,2,FALSE)),0)),\" - \")","v":" - "},{"$f":"IFERROR(IF(ISBLANK(I134),\"N/A\",IF(I134<>'NR-PI 2.0 Structure'!$C$5,(VLOOKUP(N134,'NR-PI 2.0 Structure'!$C$39:$E$40,3,FALSE)),0)),\" - \")","v":" - "},"-","-","-","N/A",{"$f":"IF(ISBLANK('P Index Inputs'!R136),\"-\",'P Index Inputs'!R136)","v":"-"},{"$f":"IFERROR(IF(I134<>'NR-PI 2.0 Structure'!$C$5,VLOOKUP(AA134,'NR-PI 2.0 Structure'!$G$5:$H$9,2,FALSE),IF(OR(AA134='NR-PI 2.0 Structure'!$G$5,AA134='NR-PI 2.0 Structure'!$G$6,AA134='NR-PI 2.0 Structure'!$G$7),1,VLOOKUP(AA134,'NR-PI 2.0 Structure'!$G$8:$H$9,2,FALSE))),\"-\")","v":"-"},{"$f":"IF(ISBLANK('P Index Inputs'!S136),\"-\",'P Index Inputs'!S136)","v":"-"},{"$f":"IFERROR(VLOOKUP(AC134,'NR-PI 2.0 Structure'!$G$14:$H$19,2,FALSE),\"-\")","v":"-"},"-","-","N/A","N/A",0,0,0,0,0,0,0,0,0]
[{"$f":"'P Index Inputs'!A137","v":0},{"$f":"'P Index Inputs'!B137","v":0},{"$f":"'P Index Inputs'!C137","v":0},{"$f":"'P Index Inputs'!D137","v":0},{"$f":"'P Index Inputs'!E137","v":0},{"$f":"'P Index Inputs'!F137","v":0},{"$f":"'P Index Inputs'!H137","v":0},{"$f":"'P Index Inputs'!I137","v":0},{"$f":"'P Index Inputs'!J137","v":0},{"$f":"IF(ISBLANK('P Index Inputs'!L137),'P Index Inputs'!K137,'P Index Inputs'!L137)","v":"-"},{"$f":"'P Index Inputs'!M137","v":0},{"$f":"'P Index Inputs'!O137","v":0},{"$f":"'P Index Inputs'!P137","v":0},{"$f":"'P Index Inputs'!Q137","v":0},{"$f":"IFERROR(VLOOKUP(I135,'NR-PI 2.0 Structure'!$C$5:$D$8,2,FALSE),\"-\")","v":"-"},{"$f":"IFERROR(VLOOKUP(J135,'NR-PI 2.0 Structure'!$B$12:$C$16,2,FALSE),\"-\")","v":"-"},{"$f":"IFERROR(VLOOKUP(K135,'NR-PI 2.0 Structure'!$B$20:$D$21,3,FALSE),\"-\")","v":"-"},{"$f":"IFERROR(VLOOKUP(L135,'NR-PI 2.0 Structure'!$B$25:$C$28,2,FALSE),\"-\")","v":"-"},{"$f":"IFERROR(VLOOKUP(L135,'NR-PI 2.0 Structure'!$B$25:$D$28,3,FALSE),\"-\")","v":"-"},{"$f":"IFERROR(\n  IF(M135 = \"≤ 1\", 'NR-PI 2.0 Structure'!$D$32,\n  IF(M135 = \">1 - 3\", 'NR-PI 2.0 Structure'!$D$33,\n  IF(M135 = \">3 - 5\", 'NR-PI 2.0 Structure'!$D$34,\n  IF(M135 = \"> 5\", 'NR-PI 2.0 Structure'!$D$35, )))),\n\"-\")","v":0},{"$f":"IFERROR(IF(ISBLANK(I135),\"N/A\",IF(I135<>'NR-PI 2.0 Structure'!$C$5,(VLOOKUP(N135,'NR-PI 2.0 Structure'!$C$39:$D$40,2,FALSE)),0)),\" - \")","v":" - "},{"$f":"IFERROR(IF(ISBLANK(I135),\"N/A\",IF(I135<>'NR-PI 2.0 Structure'!$C$5,(VLOOKUP(N135,'NR-PI 2.0 Structure'!$C$39:$E$40,3,FALSE)),0)),\" - \")","v":" - "},"-","-","-","N/A",{"$f":"IF(ISBLANK('P Index Inputs'!R137),\"-\",'P Index Inputs'!R137)","v":"-"},{"$f":"IFERROR(IF(I135<>'NR-PI 2.0 Structure'!$C$5,VLOOKUP(AA135,'NR-PI 2.0 Structure'!$G$5:$H$9,2,FALSE),IF(OR(AA135='NR-PI 2.0 Structure'!$G$5,AA135='NR-PI 2.0 Structure'!$G$6,AA135='NR-PI 2.0 Structure'!$G$7),1,VLOOKUP(AA135,'NR-PI 2.0 Structure'!$G$8:$H$9,2,FALSE))),\"-\")","v":"-"},{"$f":"IF(ISBLANK('P Index Inputs'!S137),\"-\",'P Index Inputs'!S137)","v":"-"},{"$f":"IFERROR(VLOOKUP(AC135,'NR-PI 2.0 Structure'!$G$14:$H$19,2,FALSE),\"-\")","v":"-"},"-","-","N/A","N/A",0,0,0,0,0,0,0,0,0]
[{"$f":"'P Index Inputs'!A138","v":0},{"$f":"'P Index Inputs'!B138","v":0},{"$f":"'P Index Inputs'!C138","v":0},{"$f":"'P Index Inputs'!D138","v":0},{"$f":"'P Index Inputs'!E138","v":0},{"$f":"'P Index Inputs'!F138","v":0},{"$f":"'P Index Inputs'!H138","v":0},{"$f":"'P Index Inputs'!I138","v":0},{"$f":"'P Index Inputs'!J138","v":0},{"$f":"IF(ISBLANK('P Index Inputs'!L138),'P Index Inputs'!K138,'P Index Inputs'!L138)","v":"-"},{"$f":"'P Index Inputs'!M138","v":0},{"$f":"'P Index Inputs'!O138","v":0},{"$f":"'P Index Inputs'!P138","v":0},{"$f":"'P Index Inputs'!Q138","v":0},{"$f":"IFERROR(VLOOKUP(I136,'NR-PI 2.0 Structure'!$C$5:$D$8,2,FALSE),\"-\")","v":"-"},{"$f":"IFERROR(VLOOKUP(J136,'NR-PI 2.0 Structure'!$B$12:$C$16,2,FALSE),\"-\")","v":"-"},{"$f":"IFERROR(VLOOKUP(K136,'NR-PI 2.0 Structure'!$B$20:$D$21,3,FALSE),\"-\")","v":"-"},{"$f":"IFERROR(VLOOKUP(L136,'NR-PI 2.0 Structure'!$B$25:$C$28,2,FALSE),\"-\")","v":"-"},{"$f":"IFERROR(VLOOKUP(L136,'NR-PI 2.0 Structure'!$B$25:$D$28,3,FALSE),\"-\")","v":"-"},{"$f":"IFERROR(\n  IF(M136 = \"≤ 1\", 'NR-PI 2.0 Structure'!$D$32,\n  IF(M136 = \">1 - 3\", 'NR-PI 2.0 Structure'!$D$33,\n  IF(M136 = \">3 - 5\", 'NR-PI 2.0 Structure'!$D$34,\n  IF(M136 = \"> 5\", 'NR-PI 2.0 Structure'!$D$35, )))),\n\"-\")","v":0},{"$f":"IFERROR(IF(ISBLANK(I136),\"N/A\",IF(I136<>'NR-PI 2.0 Structure'!$C$5,(VLOOKUP(N136,'NR-PI 2.0 Structure'!$C$39:$D$40,2,FALSE)),0)),\" - \")","v":" - "},{"$f":"IFERROR(IF(ISBLANK(I136),\"N/A\",IF(I136<>'NR-PI 2.0 Structure'!$C$5,(VLOOKUP(N136,'NR-PI 2.0 Structure'!$C$39:$E$40,3,FALSE)),0)),\" - \")","v":" - "},"-","-","-","N/A",{"$f":"IF(ISBLANK('P Index Inputs'!R138),\"-\",'P Index Inputs'!R138)","v":"-"},{"$f":"IFERROR(IF(I136<>'NR-PI 2.0 Structure'!$C$5,VLOOKUP(AA136,'NR-PI 2.0 Structure'!$G$5:$H$9,2,FALSE),IF(OR(AA136='NR-PI 2.0 Structure'!$G$5,AA136='NR-PI 2.0 Structure'!$G$6,AA136='NR-PI 2.0 Structure'!$G$7),1,VLOOKUP(AA136,'NR-PI 2.0 Structure'!$G$8:$H$9,2,FALSE))),\"-\")","v":"-"},{"$f":"IF(ISBLANK('P Index Inputs'!S138),\"-\",'P Index Inputs'!S138)","v":"-"},{"$f":"IFERROR(VLOOKUP(AC136,'NR-PI 2.0 Structure'!$G$14:$H$19,2,FALSE),\"-\")","v":"-"},"-","-","N/A","N/A",0,0,0,0,0,0,0,0,0]
[{"$f":"'P Index Inputs'!A139","v":0},{"$f":"'P Index Inputs'!B139","v":0},{"$f":"'P Index Inputs'!C139","v":0},{"$f":"'P Index Inputs'!D139","v":0},{"$f":"'P Index Inputs'!E139","v":0},{"$f":"'P Index Inputs'!F139","v":0},{"$f":"'P Index Inputs'!H139","v":0},{"$f":"'P Index Inputs'!I139","v":0},{"$f":"'P Index Inputs'!J139","v":0},{"$f":"IF(ISBLANK('P Index Inputs'!L139),'P Index Inputs'!K139,'P Index Inputs'!L139)","v":"-"},{"$f":"'P Index Inputs'!M139","v":0},{"$f":"'P Index Inputs'!O139","v":0},{"$f":"'P Index Inputs'!P139","v":0},{"$f":"'P Index Inputs'!Q139","v":0},{"$f":"IFERROR(VLOOKUP(I137,'NR-PI 2.0 Structure'!$C$5:$D$8,2,FALSE),\"-\")","v":"-"},{"$f":"IFERROR(VLOOKUP(J137,'NR-PI 2.0 Structure'!$B$12:$C$16,2,FALSE),\"-\")","v":"-"},{"$f":"IFERROR(VLOOKUP(K137,'NR-PI 2.0 Structure'!$B$20:$D$21,3,FALSE),\"-\")","v":"-"},{"$f":"IFERROR(VLOOKUP(L137,'NR-PI 2.0 Structure'!$B$25:$C$28,2,FALSE),\"-\")","v":"-"},{"$f":"IFERROR(VLOOKUP(L137,'NR-PI 2.0 Structure'!$B$25:$D$28,3,FALSE),\"-\")","v":"-"},{"$f":"IFERROR(\n  IF(M137 = \"≤ 1\", 'NR-PI 2.0 Structure'!$D$32,\n  IF(M137 = \">1 - 3\", 'NR-PI 2.0 Structure'!$D$33,\n  IF(M137 = \">3 - 5\", 'NR-PI 2.0 Structure'!$D$34,\n  IF(M137 = \"> 5\", 'NR-PI 2.0 Structure'!$D$35, )))),\n\"-\")","v":0},{"$f":"IFERROR(IF(ISBLANK(I137),\"N/A\",IF(I137<>'NR-PI 2.0 Structure'!$C$5,(VLOOKUP(N137,'NR-PI 2.0 Structure'!$C$39:$D$40,2,FALSE)),0)),\" - \")","v":" - "},{"$f":"IFERROR(IF(ISBLANK(I137),\"N/A\",IF(I137<>'NR-PI 2.0 Structure'!$C$5,(VLOOKUP(N137,'NR-PI 2.0 Structure'!$C$39:$E$40,3,FALSE)),0)),\" - \")","v":" - "},"-","-","-","N/A",{"$f":"IF(ISBLANK('P Index Inputs'!R139),\"-\",'P Index Inputs'!R139)","v":"-"},{"$f":"IFERROR(IF(I137<>'NR-PI 2.0 Structure'!$C$5,VLOOKUP(AA137,'NR-PI 2.0 Structure'!$G$5:$H$9,2,FALSE),IF(OR(AA137='NR-PI 2.0 Structure'!$G$5,AA137='NR-PI 2.0 Structure'!$G$6,AA137='NR-PI 2.0 Structure'!$G$7),1,VLOOKUP(AA137,'NR-PI 2.0 Structure'!$G$8:$H$9,2,FALSE))),\"-\")","v":"-"},{"$f":"IF(ISBLANK('P Index Inputs'!S139),\"-\",'P Index Inputs'!S139)","v":"-"},{"$f":"IFERROR(VLOOKUP(AC137,'NR-PI 2.0 Structure'!$G$14:$H$19,2,FALSE),\"-\")","v":"-"},"-","-","N/A","N/A",0,0,0,0,0,0,0,0,0]
[{"$f":"'P Index Inputs'!A140","v":0},{"$f":"'P Index Inputs'!B140","v":0},{"$f":"'P Index Inputs'!C140","v":0},{"$f":"'P Index Inputs'!D140","v":0},{"$f":"'P Index Inputs'!E140","v":0},{"$f":"'P Index Inputs'!F140","v":0},{"$f":"'P Index Inputs'!H140","v":0},{"$f":"'P Index Inputs'!I140","v":0},{"$f":"'P Index Inputs'!J140","v":0},{"$f":"IF(ISBLANK('P Index Inputs'!L140),'P Index Inputs'!K140,'P Index Inputs'!L140)","v":"-"},{"$f":"'P Index Inputs'!M140","v":0},{"$f":"'P Index Inputs'!O140","v":0},{"$f":"'P Index Inputs'!P140","v":0},{"$f":"'P Index Inputs'!Q140","v":0},{"$f":"IFERROR(VLOOKUP(I138,'NR-PI 2.0 Structure'!$C$5:$D$8,2,FALSE),\"-\")","v":"-"},{"$f":"IFERROR(VLOOKUP(J138,'NR-PI 2.0 Structure'!$B$12:$C$16,2,FALSE),\"-\")","v":"-"},{"$f":"IFERROR(VLOOKUP(K138,'NR-PI 2.0 Structure'!$B$20:$D$21,3,FALSE),\"-\")","v":"-"},{"$f":"IFERROR(VLOOKUP(L138,'NR-PI 2.0 Structure'!$B$25:$C$28,2,FALSE),\"-\")","v":"-"},{"$f":"IFERROR(VLOOKUP(L138,'NR-PI 2.0 Structure'!$B$25:$D$28,3,FALSE),\"-\")","v":"-"},{"$f":"IFERROR(\n  IF(M138 = \"≤ 1\", 'NR-PI 2.0 Structure'!$D$32,\n  IF(M138 = \">1 - 3\", 'NR-PI 2.0 Structure'!$D$33,\n  IF(M138 = \">3 - 5\", 'NR-PI 2.0 Structure'!$D$34,\n  IF(M138 = \"> 5\", 'NR-PI 2.0 Structure'!$D$35, )))),\n\"-\")","v":0},{"$f":"IFERROR(IF(ISBLANK(I138),\"N/A\",IF(I138<>'NR-PI 2.0 Structure'!$C$5,(VLOOKUP(N138,'NR-PI 2.0 Structure'!$C$39:$D$40,2,FALSE)),0)),\" - \")","v":" - "},{"$f":"IFERROR(IF(ISBLANK(I138),\"N/A\",IF(I138<>'NR-PI 2.0 Structure'!$C$5,(VLOOKUP(N138,'NR-PI 2.0 Structure'!$C$39:$E$40,3,FALSE)),0)),\" - \")","v":" - "},"-","-","-","N/A",{"$f":"IF(ISBLANK('P Index Inputs'!R140),\"-\",'P Index Inputs'!R140)","v":"-"},{"$f":"IFERROR(IF(I138<>'NR-PI 2.0 Structure'!$C$5,VLOOKUP(AA138,'NR-PI 2.0 Structure'!$G$5:$H$9,2,FALSE),IF(OR(AA138='NR-PI 2.0 Structure'!$G$5,AA138='NR-PI 2.0 Structure'!$G$6,AA138='NR-PI 2.0 Structure'!$G$7),1,VLOOKUP(AA138,'NR-PI 2.0 Structure'!$G$8:$H$9,2,FALSE))),\"-\")","v":"-"},{"$f":"IF(ISBLANK('P Index Inputs'!S140),\"-\",'P Index Inputs'!S140)","v":"-"},{"$f":"IFERROR(VLOOKUP(AC138,'NR-PI 2.0 Structure'!$G$14:$H$19,2,FALSE),\"-\")","v":"-"},"-","-","N/A","N/A",0,0,0,0,0,0,0,0,0]
[{"$f":"'P Index Inputs'!A141","v":0},{"$f":"'P Index Inputs'!B141","v":0},{"$f":"'P Index Inputs'!C141","v":0},{"$f":"'P Index Inputs'!D141","v":0},{"$f":"'P Index Inputs'!E141","v":0},{"$f":"'P Index Inputs'!F141","v":0},{"$f":"'P Index Inputs'!H141","v":0},{"$f":"'P Index Inputs'!I141","v":0},{"$f":"'P Index Inputs'!J141","v":0},{"$f":"IF(ISBLANK('P Index Inputs'!L141),'P Index Inputs'!K141,'P Index Inputs'!L141)","v":"-"},{"$f":"'P Index Inputs'!M141","v":0},{"$f":"'P Index Inputs'!O141","v":0},{"$f":"'P Index Inputs'!P141","v":0},{"$f":"'P Index Inputs'!Q141","v":0},{"$f":"IFERROR(VLOOKUP(I139,'NR-PI 2.0 Structure'!$C$5:$D$8,2,FALSE),\"-\")","v":"-"},{"$f":"IFERROR(VLOOKUP(J139,'NR-PI 2.0 Structure'!$B$12:$C$16,2,FALSE),\"-\")","v":"-"},{"$f":"IFERROR(VLOOKUP(K139,'NR-PI 2.0 Structure'!$B$20:$D$21,3,FALSE),\"-\")","v":"-"},{"$f":"IFERROR(VLOOKUP(L139,'NR-PI 2.0 Structure'!$B$25:$C$28,2,FALSE),\"-\")","v":"-"},{"$f":"IFERROR(VLOOKUP(L139,'NR-PI 2.0 Structure'!$B$25:$D$28,3,FALSE),\"-\")","v":"-"},{"$f":"IFERROR(\n  IF(M139 = \"≤ 1\", 'NR-PI 2.0 Structure'!$D$32,\n  IF(M139 = \">1 - 3\", 'NR-PI 2.0 Structure'!$D$33,\n  IF(M139 = \">3 - 5\", 'NR-PI 2.0 Structure'!$D$34,\n  IF(M139 = \"> 5\", 'NR-PI 2.0 Structure'!$D$35, )))),\n\"-\")","v":0},{"$f":"IFERROR(IF(ISBLANK(I139),\"N/A\",IF(I139<>'NR-PI 2.0 Structure'!$C$5,(VLOOKUP(N139,'NR-PI 2.0 Structure'!$C$39:$D$40,2,FALSE)),0)),\" - \")","v":" - "},{"$f":"IFERROR(IF(ISBLANK(I139),\"N/A\",IF(I139<>'NR-PI 2.0 Structure'!$C$5,(VLOOKUP(N139,'NR-PI 2.0 Structure'!$C$39:$E$40,3,FALSE)),0)),\" - \")","v":" - "},"-","-","-","N/A",{"$f":"IF(ISBLANK('P Index Inputs'!R141),\"-\",'P Index Inputs'!R141)","v":"-"},{"$f":"IFERROR(IF(I139<>'NR-PI 2.0 Structure'!$C$5,VLOOKUP(AA139,'NR-PI 2.0 Structure'!$G$5:$H$9,2,FALSE),IF(OR(AA139='NR-PI 2.0 Structure'!$G$5,AA139='NR-PI 2.0 Structure'!$G$6,AA139='NR-PI 2.0 Structure'!$G$7),1,VLOOKUP(AA139,'NR-PI 2.0 Structure'!$G$8:$H$9,2,FALSE))),\"-\")","v":"-"},{"$f":"IF(ISBLANK('P Index Inputs'!S141),\"-\",'P Index Inputs'!S141)","v":"-"},{"$f":"IFERROR(VLOOKUP(AC139,'NR-PI 2.0 Structure'!$G$14:$H$19,2,FALSE),\"-\")","v":"-"},"-","-","N/A","N/A",0,0,0,0,0,0,0,0,0]
[{"$f":"'P Index Inputs'!A142","v":0},{"$f":"'P Index Inputs'!B142","v":0},{"$f":"'P Index Inputs'!C142","v":0},{"$f":"'P Index Inputs'!D142","v":0},{"$f":"'P Index Inputs'!E142","v":0},{"$f":"'P Index Inputs'!F142","v":0},{"$f":"'P Index Inputs'!H142","v":0},{"$f":"'P Index Inputs'!I142","v":0},{"$f":"'P Index Inputs'!J142","v":0},{"$f":"IF(ISBLANK('P Index Inputs'!L142),'P Index Inputs'!K142,'P Index Inputs'!L142)","v":"-"},{"$f":"'P Index Inputs'!M142","v":0},{"$f":"'P Index Inputs'!O142","v":0},{"$f":"'P Index Inputs'!P142","v":0},{"$f":"'P Index Inputs'!Q142","v":0},{"$f":"IFERROR(VLOOKUP(I140,'NR-PI 2.0 Structure'!$C$5:$D$8,2,FALSE),\"-\")","v":"-"},{"$f":"IFERROR(VLOOKUP(J140,'NR-PI 2.0 Structure'!$B$12:$C$16,2,FALSE),\"-\")","v":"-"},{"$f":"IFERROR(VLOOKUP(K140,'NR-PI 2.0 Structure'!$B$20:$D$21,3,FALSE),\"-\")","v":"-"},{"$f":"IFERROR(VLOOKUP(L140,'NR-PI 2.0 Structure'!$B$25:$C$28,2,FALSE),\"-\")","v":"-"},{"$f":"IFERROR(VLOOKUP(L140,'NR-PI 2.0 Structure'!$B$25:$D$28,3,FALSE),\"-\")","v":"-"},{"$f":"IFERROR(\n  IF(M140 = \"≤ 1\", 'NR-PI 2.0 Structure'!$D$32,\n  IF(M140 = \">1 - 3\", 'NR-PI 2.0 Structure'!$D$33,\n  IF(M140 = \">3 - 5\", 'NR-PI 2.0 Structure'!$D$34,\n  IF(M140 = \"> 5\", 'NR-PI 2.0 Structure'!$D$35, )))),\n\"-\")","v":0},{"$f":"IFERROR(IF(ISBLANK(I140),\"N/A\",IF(I140<>'NR-PI 2.0 Structure'!$C$5,(VLOOKUP(N140,'NR-PI 2.0 Structure'!$C$39:$D$40,2,FALSE)),0)),\" - \")","v":" - "},{"$f":"IFERROR(IF(ISBLANK(I140),\"N/A\",IF(I140<>'NR-PI 2.0 Structure'!$C$5,(VLOOKUP(N140,'NR-PI 2.0 Structure'!$C$39:$E$40,3,FALSE)),0)),\" - \")","v":" - "},"-","-","-","N/A",{"$f":"IF(ISBLANK('P Index Inputs'!R142),\"-\",'P Index Inputs'!R142)","v":"-"},{"$f":"IFERROR(IF(I140<>'NR-PI 2.0 Structure'!$C$5,VLOOKUP(AA140,'NR-PI 2.0 Structure'!$G$5:$H$9,2,FALSE),IF(OR(AA140='NR-PI 2.0 Structure'!$G$5,AA140='NR-PI 2.0 Structure'!$G$6,AA140='NR-PI 2.0 Structure'!$G$7),1,VLOOKUP(AA140,'NR-PI 2.0 Structure'!$G$8:$H$9,2,FALSE))),\"-\")","v":"-"},{"$f":"IF(ISBLANK('P Index Inputs'!S142),\"-\",'P Index Inputs'!S142)","v":"-"},{"$f":"IFERROR(VLOOKUP(AC140,'NR-PI 2.0 Structure'!$G$14:$H$19,2,FALSE),\"-\")","v":"-"},"-","-","N/A","N/A",0,0,0,0,0,0,0,0,0]
[{"$f":"'P Index Inputs'!A143","v":0},{"$f":"'P Index Inputs'!B143","v":0},{"$f":"'P Index Inputs'!C143","v":0},{"$f":"'P Index Inputs'!D143","v":0},{"$f":"'P Index Inputs'!E143","v":0},{"$f":"'P Index Inputs'!F143","v":0},{"$f":"'P Index Inputs'!H143","v":0},{"$f":"'P Index Inputs'!I143","v":0},{"$f":"'P Index Inputs'!J143","v":0},{"$f":"IF(ISBLANK('P Index Inputs'!L143),'P Index Inputs'!K143,'P Index Inputs'!L143)","v":"-"},{"$f":"'P Index Inputs'!M143","v":0},{"$f":"'P Index Inputs'!O143","v":0},{"$f":"'P Index Inputs'!P143","v":0},{"$f":"'P Index Inputs'!Q143","v":0},{"$f":"IFERROR(VLOOKUP(I141,'NR-PI 2.0 Structure'!$C$5:$D$8,2,FALSE),\"-\")","v":"-"},{"$f":"IFERROR(VLOOKUP(J141,'NR-PI 2.0 Structure'!$B$12:$C$16,2,FALSE),\"-\")","v":"-"},{"$f":"IFERROR(VLOOKUP(K141,'NR-PI 2.0 Structure'!$B$20:$D$21,3,FALSE),\"-\")","v":"-"},{"$f":"IFERROR(VLOOKUP(L141,'NR-PI 2.0 Structure'!$B$25:$C$28,2,FALSE),\"-\")","v":"-"},{"$f":"IFERROR(VLOOKUP(L141,'NR-PI 2.0 Structure'!$B$25:$D$28,3,FALSE),\"-\")","v":"-"},{"$f":"IFERROR(\n  IF(M141 = \"≤ 1\", 'NR-PI 2.0 Structure'!$D$32,\n  IF(M141 = \">1 - 3\", 'NR-PI 2.0 Structure'!$D$33,\n  IF(M141 = \">3 - 5\", 'NR-PI 2.0 Structure'!$D$34,\n  IF(M141 = \"> 5\", 'NR-PI 2.0 Structure'!$D$35, )))),\n\"-\")","v":0},{"$f":"IFERROR(IF(ISBLANK(I141),\"N/A\",IF(I141<>'NR-PI 2.0 Structure'!$C$5,(VLOOKUP(N141,'NR-PI 2.0 Structure'!$C$39:$D$40,2,FALSE)),0)),\" - \")","v":" - "},{"$f":"IFERROR(IF(ISBLANK(I141),\"N/A\",IF(I141<>'NR-PI 2.0 Structure'!$C$5,(VLOOKUP(N141,'NR-PI 2.0 Structure'!$C$39:$E$40,3,FALSE)),0)),\" - \")","v":" - "},"-","-","-","N/A",{"$f":"IF(ISBLANK('P Index Inputs'!R143),\"-\",'P Index Inputs'!R143)","v":"-"},{"$f":"IFERROR(IF(I141<>'NR-PI 2.0 Structure'!$C$5,VLOOKUP(AA141,'NR-PI 2.0 Structure'!$G$5:$H$9,2,FALSE),IF(OR(AA141='NR-PI 2.0 Structure'!$G$5,AA141='NR-PI 2.0 Structure'!$G$6,AA141='NR-PI 2.0 Structure'!$G$7),1,VLOOKUP(AA141,'NR-PI 2.0 Structure'!$G$8:$H$9,2,FALSE))),\"-\")","v":"-"},{"$f":"IF(ISBLANK('P Index Inputs'!S143),\"-\",'P Index Inputs'!S143)","v":"-"},{"$f":"IFERROR(VLOOKUP(AC141,'NR-PI 2.0 Structure'!$G$14:$H$19,2,FALSE),\"-\")","v":"-"},"-","-","N/A","N/A",0,0,0,0,0,0,0,0,0]
[{"$f":"'P Index Inputs'!A144","v":0},{"$f":"'P Index Inputs'!B144","v":0},{"$f":"'P Index Inputs'!C144","v":0},{"$f":"'P Index Inputs'!D144","v":0},{"$f":"'P Index Inputs'!E144","v":0},{"$f":"'P Index Inputs'!F144","v":0},{"$f":"'P Index Inputs'!H144","v":0},{"$f":"'P Index Inputs'!I144","v":0},{"$f":"'P Index Inputs'!J144","v":0},{"$f":"IF(ISBLANK('P Index Inputs'!L144),'P Index Inputs'!K144,'P Index Inputs'!L144)","v":"-"},{"$f":"'P Index Inputs'!M144","v":0},{"$f":"'P Index Inputs'!O144","v":0},{"$f":"'P Index Inputs'!P144","v":0},{"$f":"'P Index Inputs'!Q144","v":0},{"$f":"IFERROR(VLOOKUP(I142,'NR-PI 2.0 Structure'!$C$5:$D$8,2,FALSE),\"-\")","v":"-"},{"$f":"IFERROR(VLOOKUP(J142,'NR-PI 2.0 Structure'!$B$12:$C$16,2,FALSE),\"-\")","v":"-"},{"$f":"IFERROR(VLOOKUP(K142,'NR-PI 2.0 Structure'!$B$20:$D$21,3,FALSE),\"-\")","v":"-"},{"$f":"IFERROR(VLOOKUP(L142,'NR-PI 2.0 Structure'!$B$25:$C$28,2,FALSE),\"-\")","v":"-"},{"$f":"IFERROR(VLOOKUP(L142,'NR-PI 2.0 Structure'!$B$25:$D$28,3,FALSE),\"-\")","v":"-"},{"$f":"IFERROR(\n  IF(M142 = \"≤ 1\", 'NR-PI 2.0 Structure'!$D$32,\n  IF(M142 = \">1 - 3\", 'NR-PI 2.0 Structure'!$D$33,\n  IF(M142 = \">3 - 5\", 'NR-PI 2.0 Structure'!$D$34,\n  IF(M142 = \"> 5\", 'NR-PI 2.0 Structure'!$D$35, )))),\n\"-\")","v":0},{"$f":"IFERROR(IF(ISBLANK(I142),\"N/A\",IF(I142<>'NR-PI 2.0 Structure'!$C$5,(VLOOKUP(N142,'NR-PI 2.0 Structure'!$C$39:$D$40,2,FALSE)),0)),\" - \")","v":" - "},{"$f":"IFERROR(IF(ISBLANK(I142),\"N/A\",IF(I142<>'NR-PI 2.0 Structure'!$C$5,(VLOOKUP(N142,'NR-PI 2.0 Structure'!$C$39:$E$40,3,FALSE)),0)),\" - \")","v":" - "},"-","-","-","N/A",{"$f":"IF(ISBLANK('P Index Inputs'!R144),\"-\",'P Index Inputs'!R144)","v":"-"},{"$f":"IFERROR(IF(I142<>'NR-PI 2.0 Structure'!$C$5,VLOOKUP(AA142,'NR-PI 2.0 Structure'!$G$5:$H$9,2,FALSE),IF(OR(AA142='NR-PI 2.0 Structure'!$G$5,AA142='NR-PI 2.0 Structure'!$G$6,AA142='NR-PI 2.0 Structure'!$G$7),1,VLOOKUP(AA142,'NR-PI 2.0 Structure'!$G$8:$H$9,2,FALSE))),\"-\")","v":"-"},{"$f":"IF(ISBLANK('P Index Inputs'!S144),\"-\",'P Index Inputs'!S144)","v":"-"},{"$f":"IFERROR(VLOOKUP(AC142,'NR-PI 2.0 Structure'!$G$14:$H$19,2,FALSE),\"-\")","v":"-"},"-","-","N/A","N/A",0,0,0,0,0,0,0,0,0]
[{"$f":"'P Index Inputs'!A145","v":0},{"$f":"'P Index Inputs'!B145","v":0},{"$f":"'P Index Inputs'!C145","v":0},{"$f":"'P Index Inputs'!D145","v":0},{"$f":"'P Index Inputs'!E145","v":0},{"$f":"'P Index Inputs'!F145","v":0},{"$f":"'P Index Inputs'!H145","v":0},{"$f":"'P Index Inputs'!I145","v":0},{"$f":"'P Index Inputs'!J145","v":0},{"$f":"IF(ISBLANK('P Index Inputs'!L145),'P Index Inputs'!K145,'P Index Inputs'!L145)","v":"-"},{"$f":"'P Index Inputs'!M145","v":0},{"$f":"'P Index Inputs'!O145","v":0},{"$f":"'P Index Inputs'!P145","v":0},{"$f":"'P Index Inputs'!Q145","v":0},{"$f":"IFERROR(VLOOKUP(I143,'NR-PI 2.0 Structure'!$C$5:$D$8,2,FALSE),\"-\")","v":"-"},{"$f":"IFERROR(VLOOKUP(J143,'NR-PI 2.0 Structure'!$B$12:$C$16,2,FALSE),\"-\")","v":"-"},{"$f":"IFERROR(VLOOKUP(K143,'NR-PI 2.0 Structure'!$B$20:$D$21,3,FALSE),\"-\")","v":"-"},{"$f":"IFERROR(VLOOKUP(L143,'NR-PI 2.0 Structure'!$B$25:$C$28,2,FALSE),\"-\")","v":"-"},{"$f":"IFERROR(VLOOKUP(L143,'NR-PI 2.0 Structure'!$B$25:$D$28,3,FALSE),\"-\")","v":"-"},{"$f":"IFERROR(\n  IF(M143 = \"≤ 1\", 'NR-PI 2.0 Structure'!$D$32,\n  IF(M143 = \">1 - 3\", 'NR-PI 2.0 Structure'!$D$33,\n  IF(M143 = \">3 - 5\", 'NR-PI 2.0 Structure'!$D$34,\n  IF(M143 = \"> 5\", 'NR-PI 2.0 Structure'!$D$35, )))),\n\"-\")","v":0},{"$f":"IFERROR(IF(ISBLANK(I143),\"N/A\",IF(I143<>'NR-PI 2.0 Structure'!$C$5,(VLOOKUP(N143,'NR-PI 2.0 Structure'!$C$39:$D$40,2,FALSE)),0)),\" - \")","v":" - "},{"$f":"IFERROR(IF(ISBLANK(I143),\"N/A\",IF(I143<>'NR-PI 2.0 Structure'!$C$5,(VLOOKUP(N143,'NR-PI 2.0 Structure'!$C$39:$E$40,3,FALSE)),0)),\" - \")","v":" - "},"-","-","-","N/A",{"$f":"IF(ISBLANK('P Index Inputs'!R145),\"-\",'P Index Inputs'!R145)","v":"-"},{"$f":"IFERROR(IF(I143<>'NR-PI 2.0 Structure'!$C$5,VLOOKUP(AA143,'NR-PI 2.0 Structure'!$G$5:$H$9,2,FALSE),IF(OR(AA143='NR-PI 2.0 Structure'!$G$5,AA143='NR-PI 2.0 Structure'!$G$6,AA143='NR-PI 2.0 Structure'!$G$7),1,VLOOKUP(AA143,'NR-PI 2.0 Structure'!$G$8:$H$9,2,FALSE))),\"-\")","v":"-"},{"$f":"IF(ISBLANK('P Index Inputs'!S145),\"-\",'P Index Inputs'!S145)","v":"-"},{"$f":"IFERROR(VLOOKUP(AC143,'NR-PI 2.0 Structure'!$G$14:$H$19,2,FALSE),\"-\")","v":"-"},"-","-","N/A","N/A",0,0,0,0,0,0,0,0,0]
[{"$f":"'P Index Inputs'!A146","v":0},{"$f":"'P Index Inputs'!B146","v":0},{"$f":"'P Index Inputs'!C146","v":0},{"$f":"'P Index Inputs'!D146","v":0},{"$f":"'P Index Inputs'!E146","v":0},{"$f":"'P Index Inputs'!F146","v":0},{"$f":"'P Index Inputs'!H146","v":0},{"$f":"'P Index Inputs'!I146","v":0},{"$f":"'P Index Inputs'!J146","v":0},{"$f":"IF(ISBLANK('P Index Inputs'!L146),'P Index Inputs'!K146,'P Index Inputs'!L146)","v":"-"},{"$f":"'P Index Inputs'!M146","v":0},{"$f":"'P Index Inputs'!O146","v":0},{"$f":"'P Index Inputs'!P146","v":0},{"$f":"'P Index Inputs'!Q146","v":0},{"$f":"IFERROR(VLOOKUP(I144,'NR-PI 2.0 Structure'!$C$5:$D$8,2,FALSE),\"-\")","v":"-"},{"$f":"IFERROR(VLOOKUP(J144,'NR-PI 2.0 Structure'!$B$12:$C$16,2,FALSE),\"-\")","v":"-"},{"$f":"IFERROR(VLOOKUP(K144,'NR-PI 2.0 Structure'!$B$20:$D$21,3,FALSE),\"-\")","v":"-"},{"$f":"IFERROR(VLOOKUP(L144,'NR-PI 2.0 Structure'!$B$25:$C$28,2,FALSE),\"-\")","v":"-"},{"$f":"IFERROR(VLOOKUP(L144,'NR-PI 2.0 Structure'!$B$25:$D$28,3,FALSE),\"-\")","v":"-"},{"$f":"IFERROR(\n  IF(M144 = \"≤ 1\", 'NR-PI 2.0 Structure'!$D$32,\n  IF(M144 = \">1 - 3\", 'NR-PI 2.0 Structure'!$D$33,\n  IF(M144 = \">3 - 5\", 'NR-PI 2.0 Structure'!$D$34,\n  IF(M144 = \"> 5\", 'NR-PI 2.0 Structure'!$D$35, )))),\n\"-\")","v":0},{"$f":"IFERROR(IF(ISBLANK(I144),\"N/A\",IF(I144<>'NR-PI 2.0 Structure'!$C$5,(VLOOKUP(N144,'NR-PI 2.0 Structure'!$C$39:$D$40,2,FALSE)),0)),\" - \")","v":" - "},{"$f":"IFERROR(IF(ISBLANK(I144),\"N/A\",IF(I144<>'NR-PI 2.0 Structure'!$C$5,(VLOOKUP(N144,'NR-PI 2.0 Structure'!$C$39:$E$40,3,FALSE)),0)),\" - \")","v":" - "},"-","-","-","N/A",{"$f":"IF(ISBLANK('P Index Inputs'!R146),\"-\",'P Index Inputs'!R146)","v":"-"},{"$f":"IFERROR(IF(I144<>'NR-PI 2.0 Structure'!$C$5,VLOOKUP(AA144,'NR-PI 2.0 Structure'!$G$5:$H$9,2,FALSE),IF(OR(AA144='NR-PI 2.0 Structure'!$G$5,AA144='NR-PI 2.0 Structure'!$G$6,AA144='NR-PI 2.0 Structure'!$G$7),1,VLOOKUP(AA144,'NR-PI 2.0 Structure'!$G$8:$H$9,2,FALSE))),\"-\")","v":"-"},{"$f":"IF(ISBLANK('P Index Inputs'!S146),\"-\",'P Index Inputs'!S146)","v":"-"},{"$f":"IFERROR(VLOOKUP(AC144,'NR-PI 2.0 Structure'!$G$14:$H$19,2,FALSE),\"-\")","v":"-"},"-","-","N/A","N/A",0,0,0,0,0,0,0,0,0]
[{"$f":"'P Index Inputs'!A147","v":0},{"$f":"'P Index Inputs'!B147","v":0},{"$f":"'P Index Inputs'!C147","v":0},{"$f":"'P Index Inputs'!D147","v":0},{"$f":"'P Index Inputs'!E147","v":0},{"$f":"'P Index Inputs'!F147","v":0},{"$f":"'P Index Inputs'!H147","v":0},{"$f":"'P Index Inputs'!I147","v":0},{"$f":"'P Index Inputs'!J147","v":0},{"$f":"IF(ISBLANK('P Index Inputs'!L147),'P Index Inputs'!K147,'P Index Inputs'!L147)","v":"-"},{"$f":"'P Index Inputs'!M147","v":0},{"$f":"'P Index Inputs'!O147","v":0},{"$f":"'P Index Inputs'!P147","v":0},{"$f":"'P Index Inputs'!Q147","v":0},{"$f":"IFERROR(VLOOKUP(I145,'NR-PI 2.0 Structure'!$C$5:$D$8,2,FALSE),\"-\")","v":"-"},{"$f":"IFERROR(VLOOKUP(J145,'NR-PI 2.0 Structure'!$B$12:$C$16,2,FALSE),\"-\")","v":"-"},{"$f":"IFERROR(VLOOKUP(K145,'NR-PI 2.0 Structure'!$B$20:$D$21,3,FALSE),\"-\")","v":"-"},{"$f":"IFERROR(VLOOKUP(L145,'NR-PI 2.0 Structure'!$B$25:$C$28,2,FALSE),\"-\")","v":"-"},{"$f":"IFERROR(VLOOKUP(L145,'NR-PI 2.0 Structure'!$B$25:$D$28,3,FALSE),\"-\")","v":"-"},{"$f":"IFERROR(\n  IF(M145 = \"≤ 1\", 'NR-PI 2.0 Structure'!$D$32,\n  IF(M145 = \">1 - 3\", 'NR-PI 2.0 Structure'!$D$33,\n  IF(M145 = \">3 - 5\", 'NR-PI 2.0 Structure'!$D$34,\n  IF(M145 = \"> 5\", 'NR-PI 2.0 Structure'!$D$35, )))),\n\"-\")","v":0},{"$f":"IFERROR(IF(ISBLANK(I145),\"N/A\",IF(I145<>'NR-PI 2.0 Structure'!$C$5,(VLOOKUP(N145,'NR-PI 2.0 Structure'!$C$39:$D$40,2,FALSE)),0)),\" - \")","v":" - "},{"$f":"IFERROR(IF(ISBLANK(I145),\"N/A\",IF(I145<>'NR-PI 2.0 Structure'!$C$5,(VLOOKUP(N145,'NR-PI 2.0 Structure'!$C$39:$E$40,3,FALSE)),0)),\" - \")","v":" - "},"-","-","-","N/A",{"$f":"IF(ISBLANK('P Index Inputs'!R147),\"-\",'P Index Inputs'!R147)","v":"-"},{"$f":"IFERROR(IF(I145<>'NR-PI 2.0 Structure'!$C$5,VLOOKUP(AA145,'NR-PI 2.0 Structure'!$G$5:$H$9,2,FALSE),IF(OR(AA145='NR-PI 2.0 Structure'!$G$5,AA145='NR-PI 2.0 Structure'!$G$6,AA145='NR-PI 2.0 Structure'!$G$7),1,VLOOKUP(AA145,'NR-PI 2.0 Structure'!$G$8:$H$9,2,FALSE))),\"-\")","v":"-"},{"$f":"IF(ISBLANK('P Index Inputs'!S147),\"-\",'P Index Inputs'!S147)","v":"-"},{"$f":"IFERROR(VLOOKUP(AC145,'NR-PI 2.0 Structure'!$G$14:$H$19,2,FALSE),\"-\")","v":"-"},"-","-","N/A","N/A",0,0,0,0,0,0,0,0,0]
[{"$f":"'P Index Inputs'!A148","v":0},{"$f":"'P Index Inputs'!B148","v":0},{"$f":"'P Index Inputs'!C148","v":0},{"$f":"'P Index Inputs'!D148","v":0},{"$f":"'P Index Inputs'!E148","v":0},{"$f":"'P Index Inputs'!F148","v":0},{"$f":"'P Index Inputs'!H148","v":0},{"$f":"'P Index Inputs'!I148","v":0},{"$f":"'P Index Inputs'!J148","v":0},{"$f":"IF(ISBLANK('P Index Inputs'!L148),'P Index Inputs'!K148,'P Index Inputs'!L148)","v":"-"},{"$f":"'P Index Inputs'!M148","v":0},{"$f":"'P Index Inputs'!O148","v":0},{"$f":"'P Index Inputs'!P148","v":0},{"$f":"'P Index Inputs'!Q148","v":0},{"$f":"IFERROR(VLOOKUP(I146,'NR-PI 2.0 Structure'!$C$5:$D$8,2,FALSE),\"-\")","v":"-"},{"$f":"IFERROR(VLOOKUP(J146,'NR-PI 2.0 Structure'!$B$12:$C$16,2,FALSE),\"-\")","v":"-"},{"$f":"IFERROR(VLOOKUP(K146,'NR-PI 2.0 Structure'!$B$20:$D$21,3,FALSE),\"-\")","v":"-"},{"$f":"IFERROR(VLOOKUP(L146,'NR-PI 2.0 Structure'!$B$25:$C$28,2,FALSE),\"-\")","v":"-"},{"$f":"IFERROR(VLOOKUP(L146,'NR-PI 2.0 Structure'!$B$25:$D$28,3,FALSE),\"-\")","v":"-"},{"$f":"IFERROR(\n  IF(M146 = \"≤ 1\", 'NR-PI 2.0 Structure'!$D$32,\n  IF(M146 = \">1 - 3\", 'NR-PI 2.0 Structure'!$D$33,\n  IF(M146 = \">3 - 5\", 'NR-PI 2.0 Structure'!$D$34,\n  IF(M146 = \"> 5\", 'NR-PI 2.0 Structure'!$D$35, )))),\n\"-\")","v":0},{"$f":"IFERROR(IF(ISBLANK(I146),\"N/A\",IF(I146<>'NR-PI 2.0 Structure'!$C$5,(VLOOKUP(N146,'NR-PI 2.0 Structure'!$C$39:$D$40,2,FALSE)),0)),\" - \")","v":" - "},{"$f":"IFERROR(IF(ISBLANK(I146),\"N/A\",IF(I146<>'NR-PI 2.0 Structure'!$C$5,(VLOOKUP(N146,'NR-PI 2.0 Structure'!$C$39:$E$40,3,FALSE)),0)),\" - \")","v":" - "},"-","-","-","N/A",{"$f":"IF(ISBLANK('P Index Inputs'!R148),\"-\",'P Index Inputs'!R148)","v":"-"},{"$f":"IFERROR(IF(I146<>'NR-PI 2.0 Structure'!$C$5,VLOOKUP(AA146,'NR-PI 2.0 Structure'!$G$5:$H$9,2,FALSE),IF(OR(AA146='NR-PI 2.0 Structure'!$G$5,AA146='NR-PI 2.0 Structure'!$G$6,AA146='NR-PI 2.0 Structure'!$G$7),1,VLOOKUP(AA146,'NR-PI 2.0 Structure'!$G$8:$H$9,2,FALSE))),\"-\")","v":"-"},{"$f":"IF(ISBLANK('P Index Inputs'!S148),\"-\",'P Index Inputs'!S148)","v":"-"},{"$f":"IFERROR(VLOOKUP(AC146,'NR-PI 2.0 Structure'!$G$14:$H$19,2,FALSE),\"-\")","v":"-"},"-","-","N/A","N/A",0,0,0,0,0,0,0,0,0]
[{"$f":"'P Index Inputs'!A149","v":0},{"$f":"'P Index Inputs'!B149","v":0},{"$f":"'P Index Inputs'!C149","v":0},{"$f":"'P Index Inputs'!D149","v":0},{"$f":"'P Index Inputs'!E149","v":0},{"$f":"'P Index Inputs'!F149","v":0},{"$f":"'P Index Inputs'!H149","v":0},{"$f":"'P Index Inputs'!I149","v":0},{"$f":"'P Index Inputs'!J149","v":0},{"$f":"IF(ISBLANK('P Index Inputs'!L149),'P Index Inputs'!K149,'P Index Inputs'!L149)","v":"-"},{"$f":"'P Index Inputs'!M149","v":0},{"$f":"'P Index Inputs'!O149","v":0},{"$f":"'P Index Inputs'!P149","v":0},{"$f":"'P Index Inputs'!Q149","v":0},{"$f":"IFERROR(VLOOKUP(I147,'NR-PI 2.0 Structure'!$C$5:$D$8,2,FALSE),\"-\")","v":"-"},{"$f":"IFERROR(VLOOKUP(J147,'NR-PI 2.0 Structure'!$B$12:$C$16,2,FALSE),\"-\")","v":"-"},{"$f":"IFERROR(VLOOKUP(K147,'NR-PI 2.0 Structure'!$B$20:$D$21,3,FALSE),\"-\")","v":"-"},{"$f":"IFERROR(VLOOKUP(L147,'NR-PI 2.0 Structure'!$B$25:$C$28,2,FALSE),\"-\")","v":"-"},{"$f":"IFERROR(VLOOKUP(L147,'NR-PI 2.0 Structure'!$B$25:$D$28,3,FALSE),\"-\")","v":"-"},{"$f":"IFERROR(\n  IF(M147 = \"≤ 1\", 'NR-PI 2.0 Structure'!$D$32,\n  IF(M147 = \">1 - 3\", 'NR-PI 2.0 Structure'!$D$33,\n  IF(M147 = \">3 - 5\", 'NR-PI 2.0 Structure'!$D$34,\n  IF(M147 = \"> 5\", 'NR-PI 2.0 Structure'!$D$35, )))),\n\"-\")","v":0},{"$f":"IFERROR(IF(ISBLANK(I147),\"N/A\",IF(I147<>'NR-PI 2.0 Structure'!$C$5,(VLOOKUP(N147,'NR-PI 2.0 Structure'!$C$39:$D$40,2,FALSE)),0)),\" - \")","v":" - "},{"$f":"IFERROR(IF(ISBLANK(I147),\"N/A\",IF(I147<>'NR-PI 2.0 Structure'!$C$5,(VLOOKUP(N147,'NR-PI 2.0 Structure'!$C$39:$E$40,3,FALSE)),0)),\" - \")","v":" - "},"-","-","-","N/A",{"$f":"IF(ISBLANK('P Index Inputs'!R149),\"-\",'P Index Inputs'!R149)","v":"-"},{"$f":"IFERROR(IF(I147<>'NR-PI 2.0 Structure'!$C$5,VLOOKUP(AA147,'NR-PI 2.0 Structure'!$G$5:$H$9,2,FALSE),IF(OR(AA147='NR-PI 2.0 Structure'!$G$5,AA147='NR-PI 2.0 Structure'!$G$6,AA147='NR-PI 2.0 Structure'!$G$7),1,VLOOKUP(AA147,'NR-PI 2.0 Structure'!$G$8:$H$9,2,FALSE))),\"-\")","v":"-"},{"$f":"IF(ISBLANK('P Index Inputs'!S149),\"-\",'P Index Inputs'!S149)","v":"-"},{"$f":"IFERROR(VLOOKUP(AC147,'NR-PI 2.0 Structure'!$G$14:$H$19,2,FALSE),\"-\")","v":"-"},"-","-","N/A","N/A",0,0,0,0,0,0,0,0,0]
[{"$f":"'P Index Inputs'!A150","v":0},{"$f":"'P Index Inputs'!B150","v":0},{"$f":"'P Index Inputs'!C150","v":0},{"$f":"'P Index Inputs'!D150","v":0},{"$f":"'P Index Inputs'!E150","v":0},{"$f":"'P Index Inputs'!F150","v":0},{"$f":"'P Index Inputs'!H150","v":0},{"$f":"'P Index Inputs'!I150","v":0},{"$f":"'P Index Inputs'!J150","v":0},{"$f":"IF(ISBLANK('P Index Inputs'!L150),'P Index Inputs'!K150,'P Index Inputs'!L150)","v":"-"},{"$f":"'P Index Inputs'!M150","v":0},{"$f":"'P Index Inputs'!O150","v":0},{"$f":"'P Index Inputs'!P150","v":0},{"$f":"'P Index Inputs'!Q150","v":0},{"$f":"IFERROR(VLOOKUP(I148,'NR-PI 2.0 Structure'!$C$5:$D$8,2,FALSE),\"-\")","v":"-"},{"$f":"IFERROR(VLOOKUP(J148,'NR-PI 2.0 Structure'!$B$12:$C$16,2,FALSE),\"-\")","v":"-"},{"$f":"IFERROR(VLOOKUP(K148,'NR-PI 2.0 Structure'!$B$20:$D$21,3,FALSE),\"-\")","v":"-"},{"$f":"IFERROR(VLOOKUP(L148,'NR-PI 2.0 Structure'!$B$25:$C$28,2,FALSE),\"-\")","v":"-"},{"$f":"IFERROR(VLOOKUP(L148,'NR-PI 2.0 Structure'!$B$25:$D$28,3,FALSE),\"-\")","v":"-"},{"$f":"IFERROR(\n  IF(M148 = \"≤ 1\", 'NR-PI 2.0 Structure'!$D$32,\n  IF(M148 = \">1 - 3\", 'NR-PI 2.0 Structure'!$D$33,\n  IF(M148 = \">3 - 5\", 'NR-PI 2.0 Structure'!$D$34,\n  IF(M148 = \"> 5\", 'NR-PI 2.0 Structure'!$D$35, )))),\n\"-\")","v":0},{"$f":"IFERROR(IF(ISBLANK(I148),\"N/A\",IF(I148<>'NR-PI 2.0 Structure'!$C$5,(VLOOKUP(N148,'NR-PI 2.0 Structure'!$C$39:$D$40,2,FALSE)),0)),\" - \")","v":" - "},{"$f":"IFERROR(IF(ISBLANK(I148),\"N/A\",IF(I148<>'NR-PI 2.0 Structure'!$C$5,(VLOOKUP(N148,'NR-PI 2.0 Structure'!$C$39:$E$40,3,FALSE)),0)),\" - \")","v":" - "},"-","-","-","N/A",{"$f":"IF(ISBLANK('P Index Inputs'!R150),\"-\",'P Index Inputs'!R150)","v":"-"},{"$f":"IFERROR(IF(I148<>'NR-PI 2.0 Structure'!$C$5,VLOOKUP(AA148,'NR-PI 2.0 Structure'!$G$5:$H$9,2,FALSE),IF(OR(AA148='NR-PI 2.0 Structure'!$G$5,AA148='NR-PI 2.0 Structure'!$G$6,AA148='NR-PI 2.0 Structure'!$G$7),1,VLOOKUP(AA148,'NR-PI 2.0 Structure'!$G$8:$H$9,2,FALSE))),\"-\")","v":"-"},{"$f":"IF(ISBLANK('P Index Inputs'!S150),\"-\",'P Index Inputs'!S150)","v":"-"},{"$f":"IFERROR(VLOOKUP(AC148,'NR-PI 2.0 Structure'!$G$14:$H$19,2,FALSE),\"-\")","v":"-"},"-","-","N/A","N/A",0,0,0,0,0,0,0,0,0]
[{"$f":"'P Index Inputs'!A151","v":0},{"$f":"'P Index Inputs'!B151","v":0},{"$f":"'P Index Inputs'!C151","v":0},{"$f":"'P Index Inputs'!D151","v":0},{"$f":"'P Index Inputs'!E151","v":0},{"$f":"'P Index Inputs'!F151","v":0},{"$f":"'P Index Inputs'!H151","v":0},{"$f":"'P Index Inputs'!I151","v":0},{"$f":"'P Index Inputs'!J151","v":0},{"$f":"IF(ISBLANK('P Index Inputs'!L151),'P Index Inputs'!K151,'P Index Inputs'!L151)","v":"-"},{"$f":"'P Index Inputs'!M151","v":0},{"$f":"'P Index Inputs'!O151","v":0},{"$f":"'P Index Inputs'!P151","v":0},{"$f":"'P Index Inputs'!Q151","v":0},{"$f":"IFERROR(VLOOKUP(I149,'NR-PI 2.0 Structure'!$C$5:$D$8,2,FALSE),\"-\")","v":"-"},{"$f":"IFERROR(VLOOKUP(J149,'NR-PI 2.0 Structure'!$B$12:$C$16,2,FALSE),\"-\")","v":"-"},{"$f":"IFERROR(VLOOKUP(K149,'NR-PI 2.0 Structure'!$B$20:$D$21,3,FALSE),\"-\")","v":"-"},{"$f":"IFERROR(VLOOKUP(L149,'NR-PI 2.0 Structure'!$B$25:$C$28,2,FALSE),\"-\")","v":"-"},{"$f":"IFERROR(VLOOKUP(L149,'NR-PI 2.0 Structure'!$B$25:$D$28,3,FALSE),\"-\")","v":"-"},{"$f":"IFERROR(\n  IF(M149 = \"≤ 1\", 'NR-PI 2.0 Structure'!$D$32,\n  IF(M149 = \">1 - 3\", 'NR-PI 2.0 Structure'!$D$33,\n  IF(M149 = \">3 - 5\", 'NR-PI 2.0 Structure'!$D$34,\n  IF(M149 = \"> 5\", 'NR-PI 2.0 Structure'!$D$35, )))),\n\"-\")","v":0},{"$f":"IFERROR(IF(ISBLANK(I149),\"N/A\",IF(I149<>'NR-PI 2.0 Structure'!$C$5,(VLOOKUP(N149,'NR-PI 2.0 Structure'!$C$39:$D$40,2,FALSE)),0)),\" - \")","v":" - "},{"$f":"IFERROR(IF(ISBLANK(I149),\"N/A\",IF(I149<>'NR-PI 2.0 Structure'!$C$5,(VLOOKUP(N149,'NR-PI 2.0 Structure'!$C$39:$E$40,3,FALSE)),0)),\" - \")","v":" - "},"-","-","-",{"$f":"IF(Y149=\"-\",\"N/A\",IF(Y149<50, \"Low\", IF(Y149<75, \"Medium\", IF(Y149<100, \"High\", IF(Y149>=100, \"Very High\")))))","v":"N/A"},{"$f":"IF(ISBLANK('P Index Inputs'!R151),\"-\",'P Index Inputs'!R151)","v":"-"},{"$f":"IFERROR(IF(I149<>'NR-PI 2.0 Structure'!$C$5,VLOOKUP(AA149,'NR-PI 2.0 Structure'!$G$5:$H$9,2,FALSE),IF(OR(AA149='NR-PI 2.0 Structure'!$G$5,AA149='NR-PI 2.0 Structure'!$G$6,AA149='NR-PI 2.0 Structure'!$G$7),1,VLOOKUP(AA149,'NR-PI 2.0 Structure'!$G$8:$H$9,2,FALSE))),\"-\")","v":"-"},{"$f":"IF(ISBLANK('P Index Inputs'!S151),\"-\",'P Index Inputs'!S151)","v":"-"},{"$f":"IFERROR(VLOOKUP(AC149,'NR-PI 2.0 Structure'!$G$14:$H$19,2,FALSE),\"-\")","v":"-"},"-","-","N/A","N/A",0,0,0,0,0,0,0,0,0]
[{"$f":"'P Index Inputs'!A152","v":0},{"$f":"'P Index Inputs'!B152","v":0},{"$f":"'P Index Inputs'!C152","v":0},{"$f":"'P Index Inputs'!D152","v":0},{"$f":"'P Index Inputs'!E152","v":0},{"$f":"'P Index Inputs'!F152","v":0},{"$f":"'P Index Inputs'!H152","v":0},{"$f":"'P Index Inputs'!I152","v":0},{"$f":"'P Index Inputs'!J152","v":0},{"$f":"IF(ISBLANK('P Index Inputs'!L152),'P Index Inputs'!K152,'P Index Inputs'!L152)","v":"-"},{"$f":"'P Index Inputs'!M152","v":0},{"$f":"'P Index Inputs'!O152","v":0},{"$f":"'P Index Inputs'!P152","v":0},{"$f":"'P Index Inputs'!Q152","v":0},{"$f":"IFERROR(VLOOKUP(I150,'NR-PI 2.0 Structure'!$C$5:$D$8,2,FALSE),\"-\")","v":"-"},{"$f":"IFERROR(VLOOKUP(J150,'NR-PI 2.0 Structure'!$B$12:$C$16,2,FALSE),\"-\")","v":"-"},{"$f":"IFERROR(VLOOKUP(K150,'NR-PI 2.0 Structure'!$B$20:$D$21,3,FALSE),\"-\")","v":"-"},{"$f":"IFERROR(VLOOKUP(L150,'NR-PI 2.0 Structure'!$B$25:$C$28,2,FALSE),\"-\")","v":"-"},{"$f":"IFERROR(VLOOKUP(L150,'NR-PI 2.0 Structure'!$B$25:$D$28,3,FALSE),\"-\")","v":"-"},{"$f":"IFERROR(\n  IF(M150 = \"≤ 1\", 'NR-PI 2.0 Structure'!$D$32,\n  IF(M150 = \">1 - 3\", 'NR-PI 2.0 Structure'!$D$33,\n  IF(M150 = \">3 - 5\", 'NR-PI 2.0 Structure'!$D$34,\n  IF(M150 = \"> 5\", 'NR-PI 2.0 Structure'!$D$35, )))),\n\"-\")","v":0},{"$f":"IFERROR(IF(ISBLANK(I150),\"N/A\",IF(I150<>'NR-PI 2.0 Structure'!$C$5,(VLOOKUP(N150,'NR-PI 2.0 Structure'!$C$39:$D$40,2,FALSE)),0)),\" - \")","v":" - "},{"$f":"IFERROR(IF(ISBLANK(I150),\"N/A\",IF(I150<>'NR-PI 2.0 Structure'!$C$5,(VLOOKUP(N150,'NR-PI 2.0 Structure'!$C$39:$E$40,3,FALSE)),0)),\" - \")","v":" - "},"-","-","-","N/A",{"$f":"IF(ISBLANK('P Index Inputs'!R152),\"-\",'P Index Inputs'!R152)","v":"-"},{"$f":"IFERROR(IF(I150<>'NR-PI 2.0 Structure'!$C$5,VLOOKUP(AA150,'NR-PI 2.0 Structure'!$G$5:$H$9,2,FALSE),IF(OR(AA150='NR-PI 2.0 Structure'!$G$5,AA150='NR-PI 2.0 Structure'!$G$6,AA150='NR-PI 2.0 Structure'!$G$7),1,VLOOKUP(AA150,'NR-PI 2.0 Structure'!$G$8:$H$9,2,FALSE))),\"-\")","v":"-"},{"$f":"IF(ISBLANK('P Index Inputs'!S152),\"-\",'P Index Inputs'!S152)","v":"-"},{"$f":"IFERROR(VLOOKUP(AC150,'NR-PI 2.0 Structure'!$G$14:$H$19,2,FALSE),\"-\")","v":"-"},"-","-","N/A","N/A",0,0,0,0,0,0,0,0,0]
[{"$f":"'P Index Inputs'!A153","v":0},{"$f":"'P Index Inputs'!B153","v":0},{"$f":"'P Index Inputs'!C153","v":0},{"$f":"'P Index Inputs'!D153","v":0},{"$f":"'P Index Inputs'!E153","v":0},{"$f":"'P Index Inputs'!F153","v":0},{"$f":"'P Index Inputs'!H153","v":0},{"$f":"'P Index Inputs'!I153","v":0},{"$f":"'P Index Inputs'!J153","v":0},{"$f":"IF(ISBLANK('P Index Inputs'!L153),'P Index Inputs'!K153,'P Index Inputs'!L153)","v":"-"},{"$f":"'P Index Inputs'!M153","v":0},{"$f":"'P Index Inputs'!O153","v":0},{"$f":"'P Index Inputs'!P153","v":0},{"$f":"'P Index Inputs'!Q153","v":0},{"$f":"IFERROR(VLOOKUP(I151,'NR-PI 2.0 Structure'!$C$5:$D$8,2,FALSE),\"-\")","v":"-"},{"$f":"IFERROR(VLOOKUP(J151,'NR-PI 2.0 Structure'!$B$12:$C$16,2,FALSE),\"-\")","v":"-"},{"$f":"IFERROR(VLOOKUP(K151,'NR-PI 2.0 Structure'!$B$20:$D$21,3,FALSE),\"-\")","v":"-"},{"$f":"IFERROR(VLOOKUP(L151,'NR-PI 2.0 Structure'!$B$25:$C$28,2,FALSE),\"-\")","v":"-"},{"$f":"IFERROR(VLOOKUP(L151,'NR-PI 2.0 Structure'!$B$25:$D$28,3,FALSE),\"-\")","v":"-"},{"$f":"IFERROR(\n  IF(M151 = \"≤ 1\", 'NR-PI 2.0 Structure'!$D$32,\n  IF(M151 = \">1 - 3\", 'NR-PI 2.0 Structure'!$D$33,\n  IF(M151 = \">3 - 5\", 'NR-PI 2.0 Structure'!$D$34,\n  IF(M151 = \"> 5\", 'NR-PI 2.0 Structure'!$D$35, )))),\n\"-\")","v":0},{"$f":"IFERROR(IF(ISBLANK(I151),\"N/A\",IF(I151<>'NR-PI 2.0 Structure'!$C$5,(VLOOKUP(N151,'NR-PI 2.0 Structure'!$C$39:$D$40,2,FALSE)),0)),\" - \")","v":" - "},{"$f":"IFERROR(IF(ISBLANK(I151),\"N/A\",IF(I151<>'NR-PI 2.0 Structure'!$C$5,(VLOOKUP(N151,'NR-PI 2.0 Structure'!$C$39:$E$40,3,FALSE)),0)),\" - \")","v":" - "},"-","-","-","N/A",{"$f":"IF(ISBLANK('P Index Inputs'!R153),\"-\",'P Index Inputs'!R153)","v":"-"},{"$f":"IFERROR(IF(I151<>'NR-PI 2.0 Structure'!$C$5,VLOOKUP(AA151,'NR-PI 2.0 Structure'!$G$5:$H$9,2,FALSE),IF(OR(AA151='NR-PI 2.0 Structure'!$G$5,AA151='NR-PI 2.0 Structure'!$G$6,AA151='NR-PI 2.0 Structure'!$G$7),1,VLOOKUP(AA151,'NR-PI 2.0 Structure'!$G$8:$H$9,2,FALSE))),\"-\")","v":"-"},{"$f":"IF(ISBLANK('P Index Inputs'!S153),\"-\",'P Index Inputs'!S153)","v":"-"},{"$f":"IFERROR(VLOOKUP(AC151,'NR-PI 2.0 Structure'!$G$14:$H$19,2,FALSE),\"-\")","v":"-"},"-","-","N/A","N/A",0,0,0,0,0,0,0,0,0]
[{"$f":"'P Index Inputs'!A154","v":0},{"$f":"'P Index Inputs'!B154","v":0},{"$f":"'P Index Inputs'!C154","v":0},{"$f":"'P Index Inputs'!D154","v":0},{"$f":"'P Index Inputs'!E154","v":0},{"$f":"'P Index Inputs'!F154","v":0},{"$f":"'P Index Inputs'!H154","v":0},{"$f":"'P Index Inputs'!I154","v":0},{"$f":"'P Index Inputs'!J154","v":0},{"$f":"IF(ISBLANK('P Index Inputs'!L154),'P Index Inputs'!K154,'P Index Inputs'!L154)","v":"-"},{"$f":"'P Index Inputs'!M154","v":0},{"$f":"'P Index Inputs'!O154","v":0},{"$f":"'P Index Inputs'!P154","v":0},{"$f":"'P Index Inputs'!Q154","v":0},{"$f":"IFERROR(VLOOKUP(I152,'NR-PI 2.0 Structure'!$C$5:$D$8,2,FALSE),\"-\")","v":"-"},{"$f":"IFERROR(VLOOKUP(J152,'NR-PI 2.0 Structure'!$B$12:$C$16,2,FALSE),\"-\")","v":"-"},{"$f":"IFERROR(VLOOKUP(K152,'NR-PI 2.0 Structure'!$B$20:$D$21,3,FALSE),\"-\")","v":"-"},{"$f":"IFERROR(VLOOKUP(L152,'NR-PI 2.0 Structure'!$B$25:$C$28,2,FALSE),\"-\")","v":"-"},{"$f":"IFERROR(VLOOKUP(L152,'NR-PI 2.0 Structure'!$B$25:$D$28,3,FALSE),\"-\")","v":"-"},{"$f":"IFERROR(\n  IF(M152 = \"≤ 1\", 'NR-PI 2.0 Structure'!$D$32,\n  IF(M152 = \">1 - 3\", 'NR-PI 2.0 Structure'!$D$33,\n  IF(M152 = \">3 - 5\", 'NR-PI 2.0 Structure'!$D$34,\n  IF(M152 = \"> 5\", 'NR-PI 2.0 Structure'!$D$35, )))),\n\"-\")","v":0},{"$f":"IFERROR(IF(ISBLANK(I152),\"N/A\",IF(I152<>'NR-PI 2.0 Structure'!$C$5,(VLOOKUP(N152,'NR-PI 2.0 Structure'!$C$39:$D$40,2,FALSE)),0)),\" - \")","v":" - "},{"$f":"IFERROR(IF(ISBLANK(I152),\"N/A\",IF(I152<>'NR-PI 2.0 Structure'!$C$5,(VLOOKUP(N152,'NR-PI 2.0 Structure'!$C$39:$E$40,3,FALSE)),0)),\" - \")","v":" - "},"-","-","-","N/A",{"$f":"IF(ISBLANK('P Index Inputs'!R154),\"-\",'P Index Inputs'!R154)","v":"-"},{"$f":"IFERROR(IF(I152<>'NR-PI 2.0 Structure'!$C$5,VLOOKUP(AA152,'NR-PI 2.0 Structure'!$G$5:$H$9,2,FALSE),IF(OR(AA152='NR-PI 2.0 Structure'!$G$5,AA152='NR-PI 2.0 Structure'!$G$6,AA152='NR-PI 2.0 Structure'!$G$7),1,VLOOKUP(AA152,'NR-PI 2.0 Structure'!$G$8:$H$9,2,FALSE))),\"-\")","v":"-"},{"$f":"IF(ISBLANK('P Index Inputs'!S154),\"-\",'P Index Inputs'!S154)","v":"-"},{"$f":"IFERROR(VLOOKUP(AC152,'NR-PI 2.0 Structure'!$G$14:$H$19,2,FALSE),\"-\")","v":"-"},"-","-","N/A","N/A",0,0,0,0,0,0,0,0,0]
[{"$f":"'P Index Inputs'!A155","v":0},{"$f":"'P Index Inputs'!B155","v":0},{"$f":"'P Index Inputs'!C155","v":0},{"$f":"'P Index Inputs'!D155","v":0},{"$f":"'P Index Inputs'!E155","v":0},{"$f":"'P Index Inputs'!F155","v":0},{"$f":"'P Index Inputs'!H155","v":0},{"$f":"'P Index Inputs'!I155","v":0},{"$f":"'P Index Inputs'!J155","v":0},{"$f":"IF(ISBLANK('P Index Inputs'!L155),'P Index Inputs'!K155,'P Index Inputs'!L155)","v":"-"},{"$f":"'P Index Inputs'!M155","v":0},{"$f":"'P Index Inputs'!O155","v":0},{"$f":"'P Index Inputs'!P155","v":0},{"$f":"'P Index Inputs'!Q155","v":0},{"$f":"IFERROR(VLOOKUP(I153,'NR-PI 2.0 Structure'!$C$5:$D$8,2,FALSE),\"-\")","v":"-"},{"$f":"IFERROR(VLOOKUP(J153,'NR-PI 2.0 Structure'!$B$12:$C$16,2,FALSE),\"-\")","v":"-"},{"$f":"IFERROR(VLOOKUP(K153,'NR-PI 2.0 Structure'!$B$20:$D$21,3,FALSE),\"-\")","v":"-"},{"$f":"IFERROR(VLOOKUP(L153,'NR-PI 2.0 Structure'!$B$25:$C$28,2,FALSE),\"-\")","v":"-"},{"$f":"IFERROR(VLOOKUP(L153,'NR-PI 2.0 Structure'!$B$25:$D$28,3,FALSE),\"-\")","v":"-"},{"$f":"IFERROR(\n  IF(M153 = \"≤ 1\", 'NR-PI 2.0 Structure'!$D$32,\n  IF(M153 = \">1 - 3\", 'NR-PI 2.0 Structure'!$D$33,\n  IF(M153 = \">3 - 5\", 'NR-PI 2.0 Structure'!$D$34,\n  IF(M153 = \"> 5\", 'NR-PI 2.0 Structure'!$D$35, )))),\n\"-\")","v":0},{"$f":"IFERROR(IF(ISBLANK(I153),\"N/A\",IF(I153<>'NR-PI 2.0 Structure'!$C$5,(VLOOKUP(N153,'NR-PI 2.0 Structure'!$C$39:$D$40,2,FALSE)),0)),\" - \")","v":" - "},{"$f":"IFERROR(IF(ISBLANK(I153),\"N/A\",IF(I153<>'NR-PI 2.0 Structure'!$C$5,(VLOOKUP(N153,'NR-PI 2.0 Structure'!$C$39:$E$40,3,FALSE)),0)),\" - \")","v":" - "},"-","-","-","N/A",{"$f":"IF(ISBLANK('P Index Inputs'!R155),\"-\",'P Index Inputs'!R155)","v":"-"},{"$f":"IFERROR(IF(I153<>'NR-PI 2.0 Structure'!$C$5,VLOOKUP(AA153,'NR-PI 2.0 Structure'!$G$5:$H$9,2,FALSE),IF(OR(AA153='NR-PI 2.0 Structure'!$G$5,AA153='NR-PI 2.0 Structure'!$G$6,AA153='NR-PI 2.0 Structure'!$G$7),1,VLOOKUP(AA153,'NR-PI 2.0 Structure'!$G$8:$H$9,2,FALSE))),\"-\")","v":"-"},{"$f":"IF(ISBLANK('P Index Inputs'!S155),\"-\",'P Index Inputs'!S155)","v":"-"},{"$f":"IFERROR(VLOOKUP(AC153,'NR-PI 2.0 Structure'!$G$14:$H$19,2,FALSE),\"-\")","v":"-"},"-","-","N/A","N/A",0,0,0,0,0,0,0,0,0]
[{"$f":"'P Index Inputs'!A156","v":0},{"$f":"'P Index Inputs'!B156","v":0},{"$f":"'P Index Inputs'!C156","v":0},{"$f":"'P Index Inputs'!D156","v":0},{"$f":"'P Index Inputs'!E156","v":0},{"$f":"'P Index Inputs'!F156","v":0},{"$f":"'P Index Inputs'!H156","v":0},{"$f":"'P Index Inputs'!I156","v":0},{"$f":"'P Index Inputs'!J156","v":0},{"$f":"IF(ISBLANK('P Index Inputs'!L156),'P Index Inputs'!K156,'P Index Inputs'!L156)","v":"-"},{"$f":"'P Index Inputs'!M156","v":0},{"$f":"'P Index Inputs'!O156","v":0},{"$f":"'P Index Inputs'!P156","v":0},{"$f":"'P Index Inputs'!Q156","v":0},{"$f":"IFERROR(VLOOKUP(I154,'NR-PI 2.0 Structure'!$C$5:$D$8,2,FALSE),\"-\")","v":"-"},{"$f":"IFERROR(VLOOKUP(J154,'NR-PI 2.0 Structure'!$B$12:$C$16,2,FALSE),\"-\")","v":"-"},{"$f":"IFERROR(VLOOKUP(K154,'NR-PI 2.0 Structure'!$B$20:$D$21,3,FALSE),\"-\")","v":"-"},{"$f":"IFERROR(VLOOKUP(L154,'NR-PI 2.0 Structure'!$B$25:$C$28,2,FALSE),\"-\")","v":"-"},{"$f":"IFERROR(VLOOKUP(L154,'NR-PI 2.0 Structure'!$B$25:$D$28,3,FALSE),\"-\")","v":"-"},{"$f":"IFERROR(\n  IF(M154 = \"≤ 1\", 'NR-PI 2.0 Structure'!$D$32,\n  IF(M154 = \">1 - 3\", 'NR-PI 2.0 Structure'!$D$33,\n  IF(M154 = \">3 - 5\", 'NR-PI 2.0 Structure'!$D$34,\n  IF(M154 = \"> 5\", 'NR-PI 2.0 Structure'!$D$35, )))),\n\"-\")","v":0},{"$f":"IFERROR(IF(ISBLANK(I154),\"N/A\",IF(I154<>'NR-PI 2.0 Structure'!$C$5,(VLOOKUP(N154,'NR-PI 2.0 Structure'!$C$39:$D$40,2,FALSE)),0)),\" - \")","v":" - "},{"$f":"IFERROR(IF(ISBLANK(I154),\"N/A\",IF(I154<>'NR-PI 2.0 Structure'!$C$5,(VLOOKUP(N154,'NR-PI 2.0 Structure'!$C$39:$E$40,3,FALSE)),0)),\" - \")","v":" - "},"-","-","-","N/A",{"$f":"IF(ISBLANK('P Index Inputs'!R156),\"-\",'P Index Inputs'!R156)","v":"-"},{"$f":"IFERROR(IF(I154<>'NR-PI 2.0 Structure'!$C$5,VLOOKUP(AA154,'NR-PI 2.0 Structure'!$G$5:$H$9,2,FALSE),IF(OR(AA154='NR-PI 2.0 Structure'!$G$5,AA154='NR-PI 2.0 Structure'!$G$6,AA154='NR-PI 2.0 Structure'!$G$7),1,VLOOKUP(AA154,'NR-PI 2.0 Structure'!$G$8:$H$9,2,FALSE))),\"-\")","v":"-"},{"$f":"IF(ISBLANK('P Index Inputs'!S156),\"-\",'P Index Inputs'!S156)","v":"-"},{"$f":"IFERROR(VLOOKUP(AC154,'NR-PI 2.0 Structure'!$G$14:$H$19,2,FALSE),\"-\")","v":"-"},"-","-","N/A","N/A",0,0,0,0,0,0,0,0,0]
[{"$f":"'P Index Inputs'!A157","v":0},{"$f":"'P Index Inputs'!B157","v":0},{"$f":"'P Index Inputs'!C157","v":0},{"$f":"'P Index Inputs'!D157","v":0},{"$f":"'P Index Inputs'!E157","v":0},{"$f":"'P Index Inputs'!F157","v":0},{"$f":"'P Index Inputs'!H157","v":0},{"$f":"'P Index Inputs'!I157","v":0},{"$f":"'P Index Inputs'!J157","v":0},{"$f":"IF(ISBLANK('P Index Inputs'!L157),'P Index Inputs'!K157,'P Index Inputs'!L157)","v":"-"},{"$f":"'P Index Inputs'!M157","v":0},{"$f":"'P Index Inputs'!O157","v":0},{"$f":"'P Index Inputs'!P157","v":0},{"$f":"'P Index Inputs'!Q157","v":0},{"$f":"IFERROR(VLOOKUP(I155,'NR-PI 2.0 Structure'!$C$5:$D$8,2,FALSE),\"-\")","v":"-"},{"$f":"IFERROR(VLOOKUP(J155,'NR-PI 2.0 Structure'!$B$12:$C$16,2,FALSE),\"-\")","v":"-"},{"$f":"IFERROR(VLOOKUP(K155,'NR-PI 2.0 Structure'!$B$20:$D$21,3,FALSE),\"-\")","v":"-"},{"$f":"IFERROR(VLOOKUP(L155,'NR-PI 2.0 Structure'!$B$25:$C$28,2,FALSE),\"-\")","v":"-"},{"$f":"IFERROR(VLOOKUP(L155,'NR-PI 2.0 Structure'!$B$25:$D$28,3,FALSE),\"-\")","v":"-"},{"$f":"IFERROR(\n  IF(M155 = \"≤ 1\", 'NR-PI 2.0 Structure'!$D$32,\n  IF(M155 = \">1 - 3\", 'NR-PI 2.0 Structure'!$D$33,\n  IF(M155 = \">3 - 5\", 'NR-PI 2.0 Structure'!$D$34,\n  IF(M155 = \"> 5\", 'NR-PI 2.0 Structure'!$D$35, )))),\n\"-\")","v":0},{"$f":"IFERROR(IF(ISBLANK(I155),\"N/A\",IF(I155<>'NR-PI 2.0 Structure'!$C$5,(VLOOKUP(N155,'NR-PI 2.0 Structure'!$C$39:$D$40,2,FALSE)),0)),\" - \")","v":" - "},{"$f":"IFERROR(IF(ISBLANK(I155),\"N/A\",IF(I155<>'NR-PI 2.0 Structure'!$C$5,(VLOOKUP(N155,'NR-PI 2.0 Structure'!$C$39:$E$40,3,FALSE)),0)),\" - \")","v":" - "},"-","-","-","N/A",{"$f":"IF(ISBLANK('P Index Inputs'!R157),\"-\",'P Index Inputs'!R157)","v":"-"},{"$f":"IFERROR(IF(I155<>'NR-PI 2.0 Structure'!$C$5,VLOOKUP(AA155,'NR-PI 2.0 Structure'!$G$5:$H$9,2,FALSE),IF(OR(AA155='NR-PI 2.0 Structure'!$G$5,AA155='NR-PI 2.0 Structure'!$G$6,AA155='NR-PI 2.0 Structure'!$G$7),1,VLOOKUP(AA155,'NR-PI 2.0 Structure'!$G$8:$H$9,2,FALSE))),\"-\")","v":"-"},{"$f":"IF(ISBLANK('P Index Inputs'!S157),\"-\",'P Index Inputs'!S157)","v":"-"},{"$f":"IFERROR(VLOOKUP(AC155,'NR-PI 2.0 Structure'!$G$14:$H$19,2,FALSE),\"-\")","v":"-"},"-","-","N/A","N/A",0,0,0,0,0,0,0,0,0]
[{"$f":"'P Index Inputs'!A158","v":0},{"$f":"'P Index Inputs'!B158","v":0},{"$f":"'P Index Inputs'!C158","v":0},{"$f":"'P Index Inputs'!D158","v":0},{"$f":"'P Index Inputs'!E158","v":0},{"$f":"'P Index Inputs'!F158","v":0},{"$f":"'P Index Inputs'!H158","v":0},{"$f":"'P Index Inputs'!I158","v":0},{"$f":"'P Index Inputs'!J158","v":0},{"$f":"IF(ISBLANK('P Index Inputs'!L158),'P Index Inputs'!K158,'P Index Inputs'!L158)","v":"-"},{"$f":"'P Index Inputs'!M158","v":0},{"$f":"'P Index Inputs'!O158","v":0},{"$f":"'P Index Inputs'!P158","v":0},{"$f":"'P Index Inputs'!Q158","v":0},{"$f":"IFERROR(VLOOKUP(I156,'NR-PI 2.0 Structure'!$C$5:$D$8,2,FALSE),\"-\")","v":"-"},{"$f":"IFERROR(VLOOKUP(J156,'NR-PI 2.0 Structure'!$B$12:$C$16,2,FALSE),\"-\")","v":"-"},{"$f":"IFERROR(VLOOKUP(K156,'NR-PI 2.0 Structure'!$B$20:$D$21,3,FALSE),\"-\")","v":"-"},{"$f":"IFERROR(VLOOKUP(L156,'NR-PI 2.0 Structure'!$B$25:$C$28,2,FALSE),\"-\")","v":"-"},{"$f":"IFERROR(VLOOKUP(L156,'NR-PI 2.0 Structure'!$B$25:$D$28,3,FALSE),\"-\")","v":"-"},{"$f":"IFERROR(\n  IF(M156 = \"≤ 1\", 'NR-PI 2.0 Structure'!$D$32,\n  IF(M156 = \">1 - 3\", 'NR-PI 2.0 Structure'!$D$33,\n  IF(M156 = \">3 - 5\", 'NR-PI 2.0 Structure'!$D$34,\n  IF(M156 = \"> 5\", 'NR-PI 2.0 Structure'!$D$35, )))),\n\"-\")","v":0},{"$f":"IFERROR(IF(ISBLANK(I156),\"N/A\",IF(I156<>'NR-PI 2.0 Structure'!$C$5,(VLOOKUP(N156,'NR-PI 2.0 Structure'!$C$39:$D$40,2,FALSE)),0)),\" - \")","v":" - "},{"$f":"IFERROR(IF(ISBLANK(I156),\"N/A\",IF(I156<>'NR-PI 2.0 Structure'!$C$5,(VLOOKUP(N156,'NR-PI 2.0 Structure'!$C$39:$E$40,3,FALSE)),0)),\" - \")","v":" - "},"-","-","-","N/A",{"$f":"IF(ISBLANK('P Index Inputs'!R158),\"-\",'P Index Inputs'!R158)","v":"-"},{"$f":"IFERROR(IF(I156<>'NR-PI 2.0 Structure'!$C$5,VLOOKUP(AA156,'NR-PI 2.0 Structure'!$G$5:$H$9,2,FALSE),IF(OR(AA156='NR-PI 2.0 Structure'!$G$5,AA156='NR-PI 2.0 Structure'!$G$6,AA156='NR-PI 2.0 Structure'!$G$7),1,VLOOKUP(AA156,'NR-PI 2.0 Structure'!$G$8:$H$9,2,FALSE))),\"-\")","v":"-"},{"$f":"IF(ISBLANK('P Index Inputs'!S158),\"-\",'P Index Inputs'!S158)","v":"-"},{"$f":"IFERROR(VLOOKUP(AC156,'NR-PI 2.0 Structure'!$G$14:$H$19,2,FALSE),\"-\")","v":"-"},"-","-","N/A","N/A",0,0,0,0,0,0,0,0,0]
[{"$f":"'P Index Inputs'!A159","v":0},{"$f":"'P Index Inputs'!B159","v":0},{"$f":"'P Index Inputs'!C159","v":0},{"$f":"'P Index Inputs'!D159","v":0},{"$f":"'P Index Inputs'!E159","v":0},{"$f":"'P Index Inputs'!F159","v":0},{"$f":"'P Index Inputs'!H159","v":0},{"$f":"'P Index Inputs'!I159","v":0},{"$f":"'P Index Inputs'!J159","v":0},{"$f":"IF(ISBLANK('P Index Inputs'!L159),'P Index Inputs'!K159,'P Index Inputs'!L159)","v":"-"},{"$f":"'P Index Inputs'!M159","v":0},{"$f":"'P Index Inputs'!O159","v":0},{"$f":"'P Index Inputs'!P159","v":0},{"$f":"'P Index Inputs'!Q159","v":0},{"$f":"IFERROR(VLOOKUP(I157,'NR-PI 2.0 Structure'!$C$5:$D$8,2,FALSE),\"-\")","v":"-"},{"$f":"IFERROR(VLOOKUP(J157,'NR-PI 2.0 Structure'!$B$12:$C$16,2,FALSE),\"-\")","v":"-"},{"$f":"IFERROR(VLOOKUP(K157,'NR-PI 2.0 Structure'!$B$20:$D$21,3,FALSE),\"-\")","v":"-"},{"$f":"IFERROR(VLOOKUP(L157,'NR-PI 2.0 Structure'!$B$25:$C$28,2,FALSE),\"-\")","v":"-"},{"$f":"IFERROR(VLOOKUP(L157,'NR-PI 2.0 Structure'!$B$25:$D$28,3,FALSE),\"-\")","v":"-"},{"$f":"IFERROR(\n  IF(M157 = \"≤ 1\", 'NR-PI 2.0 Structure'!$D$32,\n  IF(M157 = \">1 - 3\", 'NR-PI 2.0 Structure'!$D$33,\n  IF(M157 = \">3 - 5\", 'NR-PI 2.0 Structure'!$D$34,\n  IF(M157 = \"> 5\", 'NR-PI 2.0 Structure'!$D$35, )))),\n\"-\")","v":0},{"$f":"IFERROR(IF(ISBLANK(I157),\"N/A\",IF(I157<>'NR-PI 2.0 Structure'!$C$5,(VLOOKUP(N157,'NR-PI 2.0 Structure'!$C$39:$D$40,2,FALSE)),0)),\" - \")","v":" - "},{"$f":"IFERROR(IF(ISBLANK(I157),\"N/A\",IF(I157<>'NR-PI 2.0 Structure'!$C$5,(VLOOKUP(N157,'NR-PI 2.0 Structure'!$C$39:$E$40,3,FALSE)),0)),\" - \")","v":" - "},"-","-","-","N/A",{"$f":"IF(ISBLANK('P Index Inputs'!R159),\"-\",'P Index Inputs'!R159)","v":"-"},{"$f":"IFERROR(IF(I157<>'NR-PI 2.0 Structure'!$C$5,VLOOKUP(AA157,'NR-PI 2.0 Structure'!$G$5:$H$9,2,FALSE),IF(OR(AA157='NR-PI 2.0 Structure'!$G$5,AA157='NR-PI 2.0 Structure'!$G$6,AA157='NR-PI 2.0 Structure'!$G$7),1,VLOOKUP(AA157,'NR-PI 2.0 Structure'!$G$8:$H$9,2,FALSE))),\"-\")","v":"-"},{"$f":"IF(ISBLANK('P Index Inputs'!S159),\"-\",'P Index Inputs'!S159)","v":"-"},{"$f":"IFERROR(VLOOKUP(AC157,'NR-PI 2.0 Structure'!$G$14:$H$19,2,FALSE),\"-\")","v":"-"},"-","-","N/A","N/A",0,0,0,0,0,0,0,0,0]
[{"$f":"'P Index Inputs'!A160","v":0},{"$f":"'P Index Inputs'!B160","v":0},{"$f":"'P Index Inputs'!C160","v":0},{"$f":"'P Index Inputs'!D160","v":0},{"$f":"'P Index Inputs'!E160","v":0},{"$f":"'P Index Inputs'!F160","v":0},{"$f":"'P Index Inputs'!H160","v":0},{"$f":"'P Index Inputs'!I160","v":0},{"$f":"'P Index Inputs'!J160","v":0},{"$f":"IF(ISBLANK('P Index Inputs'!L160),'P Index Inputs'!K160,'P Index Inputs'!L160)","v":"-"},{"$f":"'P Index Inputs'!M160","v":0},{"$f":"'P Index Inputs'!O160","v":0},{"$f":"'P Index Inputs'!P160","v":0},{"$f":"'P Index Inputs'!Q160","v":0},{"$f":"IFERROR(VLOOKUP(I158,'NR-PI 2.0 Structure'!$C$5:$D$8,2,FALSE),\"-\")","v":"-"},{"$f":"IFERROR(VLOOKUP(J158,'NR-PI 2.0 Structure'!$B$12:$C$16,2,FALSE),\"-\")","v":"-"},{"$f":"IFERROR(VLOOKUP(K158,'NR-PI 2.0 Structure'!$B$20:$D$21,3,FALSE),\"-\")","v":"-"},{"$f":"IFERROR(VLOOKUP(L158,'NR-PI 2.0 Structure'!$B$25:$C$28,2,FALSE),\"-\")","v":"-"},{"$f":"IFERROR(VLOOKUP(L158,'NR-PI 2.0 Structure'!$B$25:$D$28,3,FALSE),\"-\")","v":"-"},{"$f":"IFERROR(\n  IF(M158 = \"≤ 1\", 'NR-PI 2.0 Structure'!$D$32,\n  IF(M158 = \">1 - 3\", 'NR-PI 2.0 Structure'!$D$33,\n  IF(M158 = \">3 - 5\", 'NR-PI 2.0 Structure'!$D$34,\n  IF(M158 = \"> 5\", 'NR-PI 2.0 Structure'!$D$35, )))),\n\"-\")","v":0},{"$f":"IFERROR(IF(ISBLANK(I158),\"N/A\",IF(I158<>'NR-PI 2.0 Structure'!$C$5,(VLOOKUP(N158,'NR-PI 2.0 Structure'!$C$39:$D$40,2,FALSE)),0)),\" - \")","v":" - "},{"$f":"IFERROR(IF(ISBLANK(I158),\"N/A\",IF(I158<>'NR-PI 2.0 Structure'!$C$5,(VLOOKUP(N158,'NR-PI 2.0 Structure'!$C$39:$E$40,3,FALSE)),0)),\" - \")","v":" - "},"-","-","-","N/A",{"$f":"IF(ISBLANK('P Index Inputs'!R160),\"-\",'P Index Inputs'!R160)","v":"-"},{"$f":"IFERROR(IF(I158<>'NR-PI 2.0 Structure'!$C$5,VLOOKUP(AA158,'NR-PI 2.0 Structure'!$G$5:$H$9,2,FALSE),IF(OR(AA158='NR-PI 2.0 Structure'!$G$5,AA158='NR-PI 2.0 Structure'!$G$6,AA158='NR-PI 2.0 Structure'!$G$7),1,VLOOKUP(AA158,'NR-PI 2.0 Structure'!$G$8:$H$9,2,FALSE))),\"-\")","v":"-"},{"$f":"IF(ISBLANK('P Index Inputs'!S160),\"-\",'P Index Inputs'!S160)","v":"-"},{"$f":"IFERROR(VLOOKUP(AC158,'NR-PI 2.0 Structure'!$G$14:$H$19,2,FALSE),\"-\")","v":"-"},"-","-","N/A","N/A",0,0,0,0,0,0,0,0,0]
[{"$f":"'P Index Inputs'!A161","v":0},{"$f":"'P Index Inputs'!B161","v":0},{"$f":"'P Index Inputs'!C161","v":0},{"$f":"'P Index Inputs'!D161","v":0},{"$f":"'P Index Inputs'!E161","v":0},{"$f":"'P Index Inputs'!F161","v":0},{"$f":"'P Index Inputs'!H161","v":0},{"$f":"'P Index Inputs'!I161","v":0},{"$f":"'P Index Inputs'!J161","v":0},{"$f":"IF(ISBLANK('P Index Inputs'!L161),'P Index Inputs'!K161,'P Index Inputs'!L161)","v":"-"},{"$f":"'P Index Inputs'!M161","v":0},{"$f":"'P Index Inputs'!O161","v":0},{"$f":"'P Index Inputs'!P161","v":0},{"$f":"'P Index Inputs'!Q161","v":0},{"$f":"IFERROR(VLOOKUP(I159,'NR-PI 2.0 Structure'!$C$5:$D$8,2,FALSE),\"-\")","v":"-"},{"$f":"IFERROR(VLOOKUP(J159,'NR-PI 2.0 Structure'!$B$12:$C$16,2,FALSE),\"-\")","v":"-"},{"$f":"IFERROR(VLOOKUP(K159,'NR-PI 2.0 Structure'!$B$20:$D$21,3,FALSE),\"-\")","v":"-"},{"$f":"IFERROR(VLOOKUP(L159,'NR-PI 2.0 Structure'!$B$25:$C$28,2,FALSE),\"-\")","v":"-"},{"$f":"IFERROR(VLOOKUP(L159,'NR-PI 2.0 Structure'!$B$25:$D$28,3,FALSE),\"-\")","v":"-"},{"$f":"IFERROR(\n  IF(M159 = \"≤ 1\", 'NR-PI 2.0 Structure'!$D$32,\n  IF(M159 = \">1 - 3\", 'NR-PI 2.0 Structure'!$D$33,\n  IF(M159 = \">3 - 5\", 'NR-PI 2.0 Structure'!$D$34,\n  IF(M159 = \"> 5\", 'NR-PI 2.0 Structure'!$D$35, )))),\n\"-\")","v":0},{"$f":"IFERROR(IF(ISBLANK(I159),\"N/A\",IF(I159<>'NR-PI 2.0 Structure'!$C$5,(VLOOKUP(N159,'NR-PI 2.0 Structure'!$C$39:$D$40,2,FALSE)),0)),\" - \")","v":" - "},{"$f":"IFERROR(IF(ISBLANK(I159),\"N/A\",IF(I159<>'NR-PI 2.0 Structure'!$C$5,(VLOOKUP(N159,'NR-PI 2.0 Structure'!$C$39:$E$40,3,FALSE)),0)),\" - \")","v":" - "},"-","-","-","N/A",{"$f":"IF(ISBLANK('P Index Inputs'!R161),\"-\",'P Index Inputs'!R161)","v":"-"},{"$f":"IFERROR(IF(I159<>'NR-PI 2.0 Structure'!$C$5,VLOOKUP(AA159,'NR-PI 2.0 Structure'!$G$5:$H$9,2,FALSE),IF(OR(AA159='NR-PI 2.0 Structure'!$G$5,AA159='NR-PI 2.0 Structure'!$G$6,AA159='NR-PI 2.0 Structure'!$G$7),1,VLOOKUP(AA159,'NR-PI 2.0 Structure'!$G$8:$H$9,2,FALSE))),\"-\")","v":"-"},{"$f":"IF(ISBLANK('P Index Inputs'!S161),\"-\",'P Index Inputs'!S161)","v":"-"},{"$f":"IFERROR(VLOOKUP(AC159,'NR-PI 2.0 Structure'!$G$14:$H$19,2,FALSE),\"-\")","v":"-"},"-","-","N/A","N/A",0,0,0,0,0,0,0,0,0]
[{"$f":"'P Index Inputs'!A162","v":0},{"$f":"'P Index Inputs'!B162","v":0},{"$f":"'P Index Inputs'!C162","v":0},{"$f":"'P Index Inputs'!D162","v":0},{"$f":"'P Index Inputs'!E162","v":0},{"$f":"'P Index Inputs'!F162","v":0},{"$f":"'P Index Inputs'!H162","v":0},{"$f":"'P Index Inputs'!I162","v":0},{"$f":"'P Index Inputs'!J162","v":0},{"$f":"IF(ISBLANK('P Index Inputs'!L162),'P Index Inputs'!K162,'P Index Inputs'!L162)","v":"-"},{"$f":"'P Index Inputs'!M162","v":0},{"$f":"'P Index Inputs'!O162","v":0},{"$f":"'P Index Inputs'!P162","v":0},{"$f":"'P Index Inputs'!Q162","v":0},{"$f":"IFERROR(VLOOKUP(I160,'NR-PI 2.0 Structure'!$C$5:$D$8,2,FALSE),\"-\")","v":"-"},{"$f":"IFERROR(VLOOKUP(J160,'NR-PI 2.0 Structure'!$B$12:$C$16,2,FALSE),\"-\")","v":"-"},{"$f":"IFERROR(VLOOKUP(K160,'NR-PI 2.0 Structure'!$B$20:$D$21,3,FALSE),\"-\")","v":"-"},{"$f":"IFERROR(VLOOKUP(L160,'NR-PI 2.0 Structure'!$B$25:$C$28,2,FALSE),\"-\")","v":"-"},{"$f":"IFERROR(VLOOKUP(L160,'NR-PI 2.0 Structure'!$B$25:$D$28,3,FALSE),\"-\")","v":"-"},{"$f":"IFERROR(\n  IF(M160 = \"≤ 1\", 'NR-PI 2.0 Structure'!$D$32,\n  IF(M160 = \">1 - 3\", 'NR-PI 2.0 Structure'!$D$33,\n  IF(M160 = \">3 - 5\", 'NR-PI 2.0 Structure'!$D$34,\n  IF(M160 = \"> 5\", 'NR-PI 2.0 Structure'!$D$35, )))),\n\"-\")","v":0},{"$f":"IFERROR(IF(ISBLANK(I160),\"N/A\",IF(I160<>'NR-PI 2.0 Structure'!$C$5,(VLOOKUP(N160,'NR-PI 2.0 Structure'!$C$39:$D$40,2,FALSE)),0)),\" - \")","v":" - "},{"$f":"IFERROR(IF(ISBLANK(I160),\"N/A\",IF(I160<>'NR-PI 2.0 Structure'!$C$5,(VLOOKUP(N160,'NR-PI 2.0 Structure'!$C$39:$E$40,3,FALSE)),0)),\" - \")","v":" - "},"-","-","-","N/A",{"$f":"IF(ISBLANK('P Index Inputs'!R162),\"-\",'P Index Inputs'!R162)","v":"-"},{"$f":"IFERROR(IF(I160<>'NR-PI 2.0 Structure'!$C$5,VLOOKUP(AA160,'NR-PI 2.0 Structure'!$G$5:$H$9,2,FALSE),IF(OR(AA160='NR-PI 2.0 Structure'!$G$5,AA160='NR-PI 2.0 Structure'!$G$6,AA160='NR-PI 2.0 Structure'!$G$7),1,VLOOKUP(AA160,'NR-PI 2.0 Structure'!$G$8:$H$9,2,FALSE))),\"-\")","v":"-"},{"$f":"IF(ISBLANK('P Index Inputs'!S162),\"-\",'P Index Inputs'!S162)","v":"-"},{"$f":"IFERROR(VLOOKUP(AC160,'NR-PI 2.0 Structure'!$G$14:$H$19,2,FALSE),\"-\")","v":"-"},"-","-","N/A","N/A",0,0,0,0,0,0,0,0,0]
[{"$f":"'P Index Inputs'!A163","v":0},{"$f":"'P Index Inputs'!B163","v":0},{"$f":"'P Index Inputs'!C163","v":0},{"$f":"'P Index Inputs'!D163","v":0},{"$f":"'P Index Inputs'!E163","v":0},{"$f":"'P Index Inputs'!F163","v":0},{"$f":"'P Index Inputs'!H163","v":0},{"$f":"'P Index Inputs'!I163","v":0},{"$f":"'P Index Inputs'!J163","v":0},{"$f":"IF(ISBLANK('P Index Inputs'!L163),'P Index Inputs'!K163,'P Index Inputs'!L163)","v":"-"},{"$f":"'P Index Inputs'!M163","v":0},{"$f":"'P Index Inputs'!O163","v":0},{"$f":"'P Index Inputs'!P163","v":0},{"$f":"'P Index Inputs'!Q163","v":0},{"$f":"IFERROR(VLOOKUP(I161,'NR-PI 2.0 Structure'!$C$5:$D$8,2,FALSE),\"-\")","v":"-"},{"$f":"IFERROR(VLOOKUP(J161,'NR-PI 2.0 Structure'!$B$12:$C$16,2,FALSE),\"-\")","v":"-"},{"$f":"IFERROR(VLOOKUP(K161,'NR-PI 2.0 Structure'!$B$20:$D$21,3,FALSE),\"-\")","v":"-"},{"$f":"IFERROR(VLOOKUP(L161,'NR-PI 2.0 Structure'!$B$25:$C$28,2,FALSE),\"-\")","v":"-"},{"$f":"IFERROR(VLOOKUP(L161,'NR-PI 2.0 Structure'!$B$25:$D$28,3,FALSE),\"-\")","v":"-"},{"$f":"IFERROR(\n  IF(M161 = \"≤ 1\", 'NR-PI 2.0 Structure'!$D$32,\n  IF(M161 = \">1 - 3\", 'NR-PI 2.0 Structure'!$D$33,\n  IF(M161 = \">3 - 5\", 'NR-PI 2.0 Structure'!$D$34,\n  IF(M161 = \"> 5\", 'NR-PI 2.0 Structure'!$D$35, )))),\n\"-\")","v":0},{"$f":"IFERROR(IF(ISBLANK(I161),\"N/A\",IF(I161<>'NR-PI 2.0 Structure'!$C$5,(VLOOKUP(N161,'NR-PI 2.0 Structure'!$C$39:$D$40,2,FALSE)),0)),\" - \")","v":" - "},{"$f":"IFERROR(IF(ISBLANK(I161),\"N/A\",IF(I161<>'NR-PI 2.0 Structure'!$C$5,(VLOOKUP(N161,'NR-PI 2.0 Structure'!$C$39:$E$40,3,FALSE)),0)),\" - \")","v":" - "},"-","-","-","N/A",{"$f":"IF(ISBLANK('P Index Inputs'!R163),\"-\",'P Index Inputs'!R163)","v":"-"},{"$f":"IFERROR(IF(I161<>'NR-PI 2.0 Structure'!$C$5,VLOOKUP(AA161,'NR-PI 2.0 Structure'!$G$5:$H$9,2,FALSE),IF(OR(AA161='NR-PI 2.0 Structure'!$G$5,AA161='NR-PI 2.0 Structure'!$G$6,AA161='NR-PI 2.0 Structure'!$G$7),1,VLOOKUP(AA161,'NR-PI 2.0 Structure'!$G$8:$H$9,2,FALSE))),\"-\")","v":"-"},{"$f":"IF(ISBLANK('P Index Inputs'!S163),\"-\",'P Index Inputs'!S163)","v":"-"},{"$f":"IFERROR(VLOOKUP(AC161,'NR-PI 2.0 Structure'!$G$14:$H$19,2,FALSE),\"-\")","v":"-"},"-","-","N/A","N/A",0,0,0,0,0,0,0,0,0]
[{"$f":"'P Index Inputs'!A164","v":0},{"$f":"'P Index Inputs'!B164","v":0},{"$f":"'P Index Inputs'!C164","v":0},{"$f":"'P Index Inputs'!D164","v":0},{"$f":"'P Index Inputs'!E164","v":0},{"$f":"'P Index Inputs'!F164","v":0},{"$f":"'P Index Inputs'!H164","v":0},{"$f":"'P Index Inputs'!I164","v":0},{"$f":"'P Index Inputs'!J164","v":0},{"$f":"IF(ISBLANK('P Index Inputs'!L164),'P Index Inputs'!K164,'P Index Inputs'!L164)","v":"-"},{"$f":"'P Index Inputs'!M164","v":0},{"$f":"'P Index Inputs'!O164","v":0},{"$f":"'P Index Inputs'!P164","v":0},{"$f":"'P Index Inputs'!Q164","v":0},{"$f":"IFERROR(VLOOKUP(I162,'NR-PI 2.0 Structure'!$C$5:$D$8,2,FALSE),\"-\")","v":"-"},{"$f":"IFERROR(VLOOKUP(J162,'NR-PI 2.0 Structure'!$B$12:$C$16,2,FALSE),\"-\")","v":"-"},{"$f":"IFERROR(VLOOKUP(K162,'NR-PI 2.0 Structure'!$B$20:$D$21,3,FALSE),\"-\")","v":"-"},{"$f":"IFERROR(VLOOKUP(L162,'NR-PI 2.0 Structure'!$B$25:$C$28,2,FALSE),\"-\")","v":"-"},{"$f":"IFERROR(VLOOKUP(L162,'NR-PI 2.0 Structure'!$B$25:$D$28,3,FALSE),\"-\")","v":"-"},{"$f":"IFERROR(\n  IF(M162 = \"≤ 1\", 'NR-PI 2.0 Structure'!$D$32,\n  IF(M162 = \">1 - 3\", 'NR-PI 2.0 Structure'!$D$33,\n  IF(M162 = \">3 - 5\", 'NR-PI 2.0 Structure'!$D$34,\n  IF(M162 = \"> 5\", 'NR-PI 2.0 Structure'!$D$35, )))),\n\"-\")","v":0},{"$f":"IFERROR(IF(ISBLANK(I162),\"N/A\",IF(I162<>'NR-PI 2.0 Structure'!$C$5,(VLOOKUP(N162,'NR-PI 2.0 Structure'!$C$39:$D$40,2,FALSE)),0)),\" - \")","v":" - "},{"$f":"IFERROR(IF(ISBLANK(I162),\"N/A\",IF(I162<>'NR-PI 2.0 Structure'!$C$5,(VLOOKUP(N162,'NR-PI 2.0 Structure'!$C$39:$E$40,3,FALSE)),0)),\" - \")","v":" - "},"-","-","-","N/A",{"$f":"IF(ISBLANK('P Index Inputs'!R164),\"-\",'P Index Inputs'!R164)","v":"-"},{"$f":"IFERROR(IF(I162<>'NR-PI 2.0 Structure'!$C$5,VLOOKUP(AA162,'NR-PI 2.0 Structure'!$G$5:$H$9,2,FALSE),IF(OR(AA162='NR-PI 2.0 Structure'!$G$5,AA162='NR-PI 2.0 Structure'!$G$6,AA162='NR-PI 2.0 Structure'!$G$7),1,VLOOKUP(AA162,'NR-PI 2.0 Structure'!$G$8:$H$9,2,FALSE))),\"-\")","v":"-"},{"$f":"IF(ISBLANK('P Index Inputs'!S164),\"-\",'P Index Inputs'!S164)","v":"-"},{"$f":"IFERROR(VLOOKUP(AC162,'NR-PI 2.0 Structure'!$G$14:$H$19,2,FALSE),\"-\")","v":"-"},"-","-","N/A","N/A",0,0,0,0,0,0,0,0,0]
[{"$f":"'P Index Inputs'!A165","v":0},{"$f":"'P Index Inputs'!B165","v":0},{"$f":"'P Index Inputs'!C165","v":0},{"$f":"'P Index Inputs'!D165","v":0},{"$f":"'P Index Inputs'!E165","v":0},{"$f":"'P Index Inputs'!F165","v":0},{"$f":"'P Index Inputs'!H165","v":0},{"$f":"'P Index Inputs'!I165","v":0},{"$f":"'P Index Inputs'!J165","v":0},{"$f":"IF(ISBLANK('P Index Inputs'!L165),'P Index Inputs'!K165,'P Index Inputs'!L165)","v":"-"},{"$f":"'P Index Inputs'!M165","v":0},{"$f":"'P Index Inputs'!O165","v":0},{"$f":"'P Index Inputs'!P165","v":0},{"$f":"'P Index Inputs'!Q165","v":0},{"$f":"IFERROR(VLOOKUP(I163,'NR-PI 2.0 Structure'!$C$5:$D$8,2,FALSE),\"-\")","v":"-"},{"$f":"IFERROR(VLOOKUP(J163,'NR-PI 2.0 Structure'!$B$12:$C$16,2,FALSE),\"-\")","v":"-"},{"$f":"IFERROR(VLOOKUP(K163,'NR-PI 2.0 Structure'!$B$20:$D$21,3,FALSE),\"-\")","v":"-"},{"$f":"IFERROR(VLOOKUP(L163,'NR-PI 2.0 Structure'!$B$25:$C$28,2,FALSE),\"-\")","v":"-"},{"$f":"IFERROR(VLOOKUP(L163,'NR-PI 2.0 Structure'!$B$25:$D$28,3,FALSE),\"-\")","v":"-"},{"$f":"IFERROR(\n  IF(M163 = \"≤ 1\", 'NR-PI 2.0 Structure'!$D$32,\n  IF(M163 = \">1 - 3\", 'NR-PI 2.0 Structure'!$D$33,\n  IF(M163 = \">3 - 5\", 'NR-PI 2.0 Structure'!$D$34,\n  IF(M163 = \"> 5\", 'NR-PI 2.0 Structure'!$D$35, )))),\n\"-\")","v":0},{"$f":"IFERROR(IF(ISBLANK(I163),\"N/A\",IF(I163<>'NR-PI 2.0 Structure'!$C$5,(VLOOKUP(N163,'NR-PI 2.0 Structure'!$C$39:$D$40,2,FALSE)),0)),\" - \")","v":" - "},{"$f":"IFERROR(IF(ISBLANK(I163),\"N/A\",IF(I163<>'NR-PI 2.0 Structure'!$C$5,(VLOOKUP(N163,'NR-PI 2.0 Structure'!$C$39:$E$40,3,FALSE)),0)),\" - \")","v":" - "},"-","-","-","N/A",{"$f":"IF(ISBLANK('P Index Inputs'!R165),\"-\",'P Index Inputs'!R165)","v":"-"},{"$f":"IFERROR(IF(I163<>'NR-PI 2.0 Structure'!$C$5,VLOOKUP(AA163,'NR-PI 2.0 Structure'!$G$5:$H$9,2,FALSE),IF(OR(AA163='NR-PI 2.0 Structure'!$G$5,AA163='NR-PI 2.0 Structure'!$G$6,AA163='NR-PI 2.0 Structure'!$G$7),1,VLOOKUP(AA163,'NR-PI 2.0 Structure'!$G$8:$H$9,2,FALSE))),\"-\")","v":"-"},{"$f":"IF(ISBLANK('P Index Inputs'!S165),\"-\",'P Index Inputs'!S165)","v":"-"},{"$f":"IFERROR(VLOOKUP(AC163,'NR-PI 2.0 Structure'!$G$14:$H$19,2,FALSE),\"-\")","v":"-"},"-","-","N/A","N/A",0,0,0,0,0,0,0,0,0]
[{"$f":"'P Index Inputs'!A166","v":0},{"$f":"'P Index Inputs'!B166","v":0},{"$f":"'P Index Inputs'!C166","v":0},{"$f":"'P Index Inputs'!D166","v":0},{"$f":"'P Index Inputs'!E166","v":0},{"$f":"'P Index Inputs'!F166","v":0},{"$f":"'P Index Inputs'!H166","v":0},{"$f":"'P Index Inputs'!I166","v":0},{"$f":"'P Index Inputs'!J166","v":0},{"$f":"IF(ISBLANK('P Index Inputs'!L166),'P Index Inputs'!K166,'P Index Inputs'!L166)","v":"-"},{"$f":"'P Index Inputs'!M166","v":0},{"$f":"'P Index Inputs'!O166","v":0},{"$f":"'P Index Inputs'!P166","v":0},{"$f":"'P Index Inputs'!Q166","v":0},{"$f":"IFERROR(VLOOKUP(I164,'NR-PI 2.0 Structure'!$C$5:$D$8,2,FALSE),\"-\")","v":"-"},{"$f":"IFERROR(VLOOKUP(J164,'NR-PI 2.0 Structure'!$B$12:$C$16,2,FALSE),\"-\")","v":"-"},{"$f":"IFERROR(VLOOKUP(K164,'NR-PI 2.0 Structure'!$B$20:$D$21,3,FALSE),\"-\")","v":"-"},{"$f":"IFERROR(VLOOKUP(L164,'NR-PI 2.0 Structure'!$B$25:$C$28,2,FALSE),\"-\")","v":"-"},{"$f":"IFERROR(VLOOKUP(L164,'NR-PI 2.0 Structure'!$B$25:$D$28,3,FALSE),\"-\")","v":"-"},{"$f":"IFERROR(\n  IF(M164 = \"≤ 1\", 'NR-PI 2.0 Structure'!$D$32,\n  IF(M164 = \">1 - 3\", 'NR-PI 2.0 Structure'!$D$33,\n  IF(M164 = \">3 - 5\", 'NR-PI 2.0 Structure'!$D$34,\n  IF(M164 = \"> 5\", 'NR-PI 2.0 Structure'!$D$35, )))),\n\"-\")","v":0},{"$f":"IFERROR(IF(ISBLANK(I164),\"N/A\",IF(I164<>'NR-PI 2.0 Structure'!$C$5,(VLOOKUP(N164,'NR-PI 2.0 Structure'!$C$39:$D$40,2,FALSE)),0)),\" - \")","v":" - "},{"$f":"IFERROR(IF(ISBLANK(I164),\"N/A\",IF(I164<>'NR-PI 2.0 Structure'!$C$5,(VLOOKUP(N164,'NR-PI 2.0 Structure'!$C$39:$E$40,3,FALSE)),0)),\" - \")","v":" - "},"-","-","-","N/A",{"$f":"IF(ISBLANK('P Index Inputs'!R166),\"-\",'P Index Inputs'!R166)","v":"-"},{"$f":"IFERROR(IF(I164<>'NR-PI 2.0 Structure'!$C$5,VLOOKUP(AA164,'NR-PI 2.0 Structure'!$G$5:$H$9,2,FALSE),IF(OR(AA164='NR-PI 2.0 Structure'!$G$5,AA164='NR-PI 2.0 Structure'!$G$6,AA164='NR-PI 2.0 Structure'!$G$7),1,VLOOKUP(AA164,'NR-PI 2.0 Structure'!$G$8:$H$9,2,FALSE))),\"-\")","v":"-"},{"$f":"IF(ISBLANK('P Index Inputs'!S166),\"-\",'P Index Inputs'!S166)","v":"-"},{"$f":"IFERROR(VLOOKUP(AC164,'NR-PI 2.0 Structure'!$G$14:$H$19,2,FALSE),\"-\")","v":"-"},"-","-","N/A","N/A",0,0,0,0,0,0,0,0,0]
[{"$f":"'P Index Inputs'!A167","v":0},{"$f":"'P Index Inputs'!B167","v":0},{"$f":"'P Index Inputs'!C167","v":0},{"$f":"'P Index Inputs'!D167","v":0},{"$f":"'P Index Inputs'!E167","v":0},{"$f":"'P Index Inputs'!F167","v":0},{"$f":"'P Index Inputs'!H167","v":0},{"$f":"'P Index Inputs'!I167","v":0},{"$f":"'P Index Inputs'!J167","v":0},{"$f":"IF(ISBLANK('P Index Inputs'!L167),'P Index Inputs'!K167,'P Index Inputs'!L167)","v":"-"},{"$f":"'P Index Inputs'!M167","v":0},{"$f":"'P Index Inputs'!O167","v":0},{"$f":"'P Index Inputs'!P167","v":0},{"$f":"'P Index Inputs'!Q167","v":0},{"$f":"IFERROR(VLOOKUP(I165,'NR-PI 2.0 Structure'!$C$5:$D$8,2,FALSE),\"-\")","v":"-"},{"$f":"IFERROR(VLOOKUP(J165,'NR-PI 2.0 Structure'!$B$12:$C$16,2,FALSE),\"-\")","v":"-"},{"$f":"IFERROR(VLOOKUP(K165,'NR-PI 2.0 Structure'!$B$20:$D$21,3,FALSE),\"-\")","v":"-"},{"$f":"IFERROR(VLOOKUP(L165,'NR-PI 2.0 Structure'!$B$25:$C$28,2,FALSE),\"-\")","v":"-"},{"$f":"IFERROR(VLOOKUP(L165,'NR-PI 2.0 Structure'!$B$25:$D$28,3,FALSE),\"-\")","v":"-"},{"$f":"IFERROR(\n  IF(M165 = \"≤ 1\", 'NR-PI 2.0 Structure'!$D$32,\n  IF(M165 = \">1 - 3\", 'NR-PI 2.0 Structure'!$D$33,\n  IF(M165 = \">3 - 5\", 'NR-PI 2.0 Structure'!$D$34,\n  IF(M165 = \"> 5\", 'NR-PI 2.0 Structure'!$D$35, )))),\n\"-\")","v":0},{"$f":"IFERROR(IF(ISBLANK(I165),\"N/A\",IF(I165<>'NR-PI 2.0 Structure'!$C$5,(VLOOKUP(N165,'NR-PI 2.0 Structure'!$C$39:$D$40,2,FALSE)),0)),\" - \")","v":" - "},{"$f":"IFERROR(IF(ISBLANK(I165),\"N/A\",IF(I165<>'NR-PI 2.0 Structure'!$C$5,(VLOOKUP(N165,'NR-PI 2.0 Structure'!$C$39:$E$40,3,FALSE)),0)),\" - \")","v":" - "},"-","-","-","N/A",{"$f":"IF(ISBLANK('P Index Inputs'!R167),\"-\",'P Index Inputs'!R167)","v":"-"},{"$f":"IFERROR(IF(I165<>'NR-PI 2.0 Structure'!$C$5,VLOOKUP(AA165,'NR-PI 2.0 Structure'!$G$5:$H$9,2,FALSE),IF(OR(AA165='NR-PI 2.0 Structure'!$G$5,AA165='NR-PI 2.0 Structure'!$G$6,AA165='NR-PI 2.0 Structure'!$G$7),1,VLOOKUP(AA165,'NR-PI 2.0 Structure'!$G$8:$H$9,2,FALSE))),\"-\")","v":"-"},{"$f":"IF(ISBLANK('P Index Inputs'!S167),\"-\",'P Index Inputs'!S167)","v":"-"},{"$f":"IFERROR(VLOOKUP(AC165,'NR-PI 2.0 Structure'!$G$14:$H$19,2,FALSE),\"-\")","v":"-"},"-","-","N/A","N/A",0,0,0,0,0,0,0,0,0]
[{"$f":"'P Index Inputs'!A168","v":0},{"$f":"'P Index Inputs'!B168","v":0},{"$f":"'P Index Inputs'!C168","v":0},{"$f":"'P Index Inputs'!D168","v":0},{"$f":"'P Index Inputs'!E168","v":0},{"$f":"'P Index Inputs'!F168","v":0},{"$f":"'P Index Inputs'!H168","v":0},{"$f":"'P Index Inputs'!I168","v":0},{"$f":"'P Index Inputs'!J168","v":0},{"$f":"IF(ISBLANK('P Index Inputs'!L168),'P Index Inputs'!K168,'P Index Inputs'!L168)","v":"-"},{"$f":"'P Index Inputs'!M168","v":0},{"$f":"'P Index Inputs'!O168","v":0},{"$f":"'P Index Inputs'!P168","v":0},{"$f":"'P Index Inputs'!Q168","v":0},{"$f":"IFERROR(VLOOKUP(I166,'NR-PI 2.0 Structure'!$C$5:$D$8,2,FALSE),\"-\")","v":"-"},{"$f":"IFERROR(VLOOKUP(J166,'NR-PI 2.0 Structure'!$B$12:$C$16,2,FALSE),\"-\")","v":"-"},{"$f":"IFERROR(VLOOKUP(K166,'NR-PI 2.0 Structure'!$B$20:$D$21,3,FALSE),\"-\")","v":"-"},{"$f":"IFERROR(VLOOKUP(L166,'NR-PI 2.0 Structure'!$B$25:$C$28,2,FALSE),\"-\")","v":"-"},{"$f":"IFERROR(VLOOKUP(L166,'NR-PI 2.0 Structure'!$B$25:$D$28,3,FALSE),\"-\")","v":"-"},{"$f":"IFERROR(\n  IF(M166 = \"≤ 1\", 'NR-PI 2.0 Structure'!$D$32,\n  IF(M166 = \">1 - 3\", 'NR-PI 2.0 Structure'!$D$33,\n  IF(M166 = \">3 - 5\", 'NR-PI 2.0 Structure'!$D$34,\n  IF(M166 = \"> 5\", 'NR-PI 2.0 Structure'!$D$35, )))),\n\"-\")","v":0},{"$f":"IFERROR(IF(ISBLANK(I166),\"N/A\",IF(I166<>'NR-PI 2.0 Structure'!$C$5,(VLOOKUP(N166,'NR-PI 2.0 Structure'!$C$39:$D$40,2,FALSE)),0)),\" - \")","v":" - "},{"$f":"IFERROR(IF(ISBLANK(I166),\"N/A\",IF(I166<>'NR-PI 2.0 Structure'!$C$5,(VLOOKUP(N166,'NR-PI 2.0 Structure'!$C$39:$E$40,3,FALSE)),0)),\" - \")","v":" - "},"-","-","-","N/A",{"$f":"IF(ISBLANK('P Index Inputs'!R168),\"-\",'P Index Inputs'!R168)","v":"-"},{"$f":"IFERROR(IF(I166<>'NR-PI 2.0 Structure'!$C$5,VLOOKUP(AA166,'NR-PI 2.0 Structure'!$G$5:$H$9,2,FALSE),IF(OR(AA166='NR-PI 2.0 Structure'!$G$5,AA166='NR-PI 2.0 Structure'!$G$6,AA166='NR-PI 2.0 Structure'!$G$7),1,VLOOKUP(AA166,'NR-PI 2.0 Structure'!$G$8:$H$9,2,FALSE))),\"-\")","v":"-"},{"$f":"IF(ISBLANK('P Index Inputs'!S168),\"-\",'P Index Inputs'!S168)","v":"-"},{"$f":"IFERROR(VLOOKUP(AC166,'NR-PI 2.0 Structure'!$G$14:$H$19,2,FALSE),\"-\")","v":"-"},"-","-","N/A","N/A",0,0,0,0,0,0,0,0,0]
[{"$f":"'P Index Inputs'!A169","v":0},{"$f":"'P Index Inputs'!B169","v":0},{"$f":"'P Index Inputs'!C169","v":0},{"$f":"'P Index Inputs'!D169","v":0},{"$f":"'P Index Inputs'!E169","v":0},{"$f":"'P Index Inputs'!F169","v":0},{"$f":"'P Index Inputs'!H169","v":0},{"$f":"'P Index Inputs'!I169","v":0},{"$f":"'P Index Inputs'!J169","v":0},{"$f":"IF(ISBLANK('P Index Inputs'!L169),'P Index Inputs'!K169,'P Index Inputs'!L169)","v":"-"},{"$f":"'P Index Inputs'!M169","v":0},{"$f":"'P Index Inputs'!O169","v":0},{"$f":"'P Index Inputs'!P169","v":0},{"$f":"'P Index Inputs'!Q169","v":0},{"$f":"IFERROR(VLOOKUP(I167,'NR-PI 2.0 Structure'!$C$5:$D$8,2,FALSE),\"-\")","v":"-"},{"$f":"IFERROR(VLOOKUP(J167,'NR-PI 2.0 Structure'!$B$12:$C$16,2,FALSE),\"-\")","v":"-"},{"$f":"IFERROR(VLOOKUP(K167,'NR-PI 2.0 Structure'!$B$20:$D$21,3,FALSE),\"-\")","v":"-"},{"$f":"IFERROR(VLOOKUP(L167,'NR-PI 2.0 Structure'!$B$25:$C$28,2,FALSE),\"-\")","v":"-"},{"$f":"IFERROR(VLOOKUP(L167,'NR-PI 2.0 Structure'!$B$25:$D$28,3,FALSE),\"-\")","v":"-"},{"$f":"IFERROR(\n  IF(M167 = \"≤ 1\", 'NR-PI 2.0 Structure'!$D$32,\n  IF(M167 = \">1 - 3\", 'NR-PI 2.0 Structure'!$D$33,\n  IF(M167 = \">3 - 5\", 'NR-PI 2.0 Structure'!$D$34,\n  IF(M167 = \"> 5\", 'NR-PI 2.0 Structure'!$D$35, )))),\n\"-\")","v":0},{"$f":"IFERROR(IF(ISBLANK(I167),\"N/A\",IF(I167<>'NR-PI 2.0 Structure'!$C$5,(VLOOKUP(N167,'NR-PI 2.0 Structure'!$C$39:$D$40,2,FALSE)),0)),\" - \")","v":" - "},{"$f":"IFERROR(IF(ISBLANK(I167),\"N/A\",IF(I167<>'NR-PI 2.0 Structure'!$C$5,(VLOOKUP(N167,'NR-PI 2.0 Structure'!$C$39:$E$40,3,FALSE)),0)),\" - \")","v":" - "},"-","-","-","N/A",{"$f":"IF(ISBLANK('P Index Inputs'!R169),\"-\",'P Index Inputs'!R169)","v":"-"},{"$f":"IFERROR(IF(I167<>'NR-PI 2.0 Structure'!$C$5,VLOOKUP(AA167,'NR-PI 2.0 Structure'!$G$5:$H$9,2,FALSE),IF(OR(AA167='NR-PI 2.0 Structure'!$G$5,AA167='NR-PI 2.0 Structure'!$G$6,AA167='NR-PI 2.0 Structure'!$G$7),1,VLOOKUP(AA167,'NR-PI 2.0 Structure'!$G$8:$H$9,2,FALSE))),\"-\")","v":"-"},{"$f":"IF(ISBLANK('P Index Inputs'!S169),\"-\",'P Index Inputs'!S169)","v":"-"},{"$f":"IFERROR(VLOOKUP(AC167,'NR-PI 2.0 Structure'!$G$14:$H$19,2,FALSE),\"-\")","v":"-"},"-","-","N/A","N/A",0,0,0,0,0,0,0,0,0]
[{"$f":"'P Index Inputs'!A170","v":0},{"$f":"'P Index Inputs'!B170","v":0},{"$f":"'P Index Inputs'!C170","v":0},{"$f":"'P Index Inputs'!D170","v":0},{"$f":"'P Index Inputs'!E170","v":0},{"$f":"'P Index Inputs'!F170","v":0},{"$f":"'P Index Inputs'!H170","v":0},{"$f":"'P Index Inputs'!I170","v":0},{"$f":"'P Index Inputs'!J170","v":0},{"$f":"IF(ISBLANK('P Index Inputs'!L170),'P Index Inputs'!K170,'P Index Inputs'!L170)","v":"-"},{"$f":"'P Index Inputs'!M170","v":0},{"$f":"'P Index Inputs'!O170","v":0},{"$f":"'P Index Inputs'!P170","v":0},{"$f":"'P Index Inputs'!Q170","v":0},{"$f":"IFERROR(VLOOKUP(I168,'NR-PI 2.0 Structure'!$C$5:$D$8,2,FALSE),\"-\")","v":"-"},{"$f":"IFERROR(VLOOKUP(J168,'NR-PI 2.0 Structure'!$B$12:$C$16,2,FALSE),\"-\")","v":"-"},{"$f":"IFERROR(VLOOKUP(K168,'NR-PI 2.0 Structure'!$B$20:$D$21,3,FALSE),\"-\")","v":"-"},{"$f":"IFERROR(VLOOKUP(L168,'NR-PI 2.0 Structure'!$B$25:$C$28,2,FALSE),\"-\")","v":"-"},{"$f":"IFERROR(VLOOKUP(L168,'NR-PI 2.0 Structure'!$B$25:$D$28,3,FALSE),\"-\")","v":"-"},{"$f":"IFERROR(\n  IF(M168 = \"≤ 1\", 'NR-PI 2.0 Structure'!$D$32,\n  IF(M168 = \">1 - 3\", 'NR-PI 2.0 Structure'!$D$33,\n  IF(M168 = \">3 - 5\", 'NR-PI 2.0 Structure'!$D$34,\n  IF(M168 = \"> 5\", 'NR-PI 2.0 Structure'!$D$35, )))),\n\"-\")","v":0},{"$f":"IFERROR(IF(ISBLANK(I168),\"N/A\",IF(I168<>'NR-PI 2.0 Structure'!$C$5,(VLOOKUP(N168,'NR-PI 2.0 Structure'!$C$39:$D$40,2,FALSE)),0)),\" - \")","v":" - "},{"$f":"IFERROR(IF(ISBLANK(I168),\"N/A\",IF(I168<>'NR-PI 2.0 Structure'!$C$5,(VLOOKUP(N168,'NR-PI 2.0 Structure'!$C$39:$E$40,3,FALSE)),0)),\" - \")","v":" - "},"-","-","-","N/A",{"$f":"IF(ISBLANK('P Index Inputs'!R170),\"-\",'P Index Inputs'!R170)","v":"-"},{"$f":"IFERROR(IF(I168<>'NR-PI 2.0 Structure'!$C$5,VLOOKUP(AA168,'NR-PI 2.0 Structure'!$G$5:$H$9,2,FALSE),IF(OR(AA168='NR-PI 2.0 Structure'!$G$5,AA168='NR-PI 2.0 Structure'!$G$6,AA168='NR-PI 2.0 Structure'!$G$7),1,VLOOKUP(AA168,'NR-PI 2.0 Structure'!$G$8:$H$9,2,FALSE))),\"-\")","v":"-"},{"$f":"IF(ISBLANK('P Index Inputs'!S170),\"-\",'P Index Inputs'!S170)","v":"-"},{"$f":"IFERROR(VLOOKUP(AC168,'NR-PI 2.0 Structure'!$G$14:$H$19,2,FALSE),\"-\")","v":"-"},"-","-","N/A","N/A",0,0,0,0,0,0,0,0,0]
[{"$f":"'P Index Inputs'!A171","v":0},{"$f":"'P Index Inputs'!B171","v":0},{"$f":"'P Index Inputs'!C171","v":0},{"$f":"'P Index Inputs'!D171","v":0},{"$f":"'P Index Inputs'!E171","v":0},{"$f":"'P Index Inputs'!F171","v":0},{"$f":"'P Index Inputs'!H171","v":0},{"$f":"'P Index Inputs'!I171","v":0},{"$f":"'P Index Inputs'!J171","v":0},{"$f":"IF(ISBLANK('P Index Inputs'!L171),'P Index Inputs'!K171,'P Index Inputs'!L171)","v":"-"},{"$f":"'P Index Inputs'!M171","v":0},{"$f":"'P Index Inputs'!O171","v":0},{"$f":"'P Index Inputs'!P171","v":0},{"$f":"'P Index Inputs'!Q171","v":0},{"$f":"IFERROR(VLOOKUP(I169,'NR-PI 2.0 Structure'!$C$5:$D$8,2,FALSE),\"-\")","v":"-"},{"$f":"IFERROR(VLOOKUP(J169,'NR-PI 2.0 Structure'!$B$12:$C$16,2,FALSE),\"-\")","v":"-"},{"$f":"IFERROR(VLOOKUP(K169,'NR-PI 2.0 Structure'!$B$20:$D$21,3,FALSE),\"-\")","v":"-"},{"$f":"IFERROR(VLOOKUP(L169,'NR-PI 2.0 Structure'!$B$25:$C$28,2,FALSE),\"-\")","v":"-"},{"$f":"IFERROR(VLOOKUP(L169,'NR-PI 2.0 Structure'!$B$25:$D$28,3,FALSE),\"-\")","v":"-"},{"$f":"IFERROR(\n  IF(M169 = \"≤ 1\", 'NR-PI 2.0 Structure'!$D$32,\n  IF(M169 = \">1 - 3\", 'NR-PI 2.0 Structure'!$D$33,\n  IF(M169 = \">3 - 5\", 'NR-PI 2.0 Structure'!$D$34,\n  IF(M169 = \"> 5\", 'NR-PI 2.0 Structure'!$D$35, )))),\n\"-\")","v":0},{"$f":"IFERROR(IF(ISBLANK(I169),\"N/A\",IF(I169<>'NR-PI 2.0 Structure'!$C$5,(VLOOKUP(N169,'NR-PI 2.0 Structure'!$C$39:$D$40,2,FALSE)),0)),\" - \")","v":" - "},{"$f":"IFERROR(IF(ISBLANK(I169),\"N/A\",IF(I169<>'NR-PI 2.0 Structure'!$C$5,(VLOOKUP(N169,'NR-PI 2.0 Structure'!$C$39:$E$40,3,FALSE)),0)),\" - \")","v":" - "},"-","-","-","N/A",{"$f":"IF(ISBLANK('P Index Inputs'!R171),\"-\",'P Index Inputs'!R171)","v":"-"},{"$f":"IFERROR(IF(I169<>'NR-PI 2.0 Structure'!$C$5,VLOOKUP(AA169,'NR-PI 2.0 Structure'!$G$5:$H$9,2,FALSE),IF(OR(AA169='NR-PI 2.0 Structure'!$G$5,AA169='NR-PI 2.0 Structure'!$G$6,AA169='NR-PI 2.0 Structure'!$G$7),1,VLOOKUP(AA169,'NR-PI 2.0 Structure'!$G$8:$H$9,2,FALSE))),\"-\")","v":"-"},{"$f":"IF(ISBLANK('P Index Inputs'!S171),\"-\",'P Index Inputs'!S171)","v":"-"},{"$f":"IFERROR(VLOOKUP(AC169,'NR-PI 2.0 Structure'!$G$14:$H$19,2,FALSE),\"-\")","v":"-"},"-","-","N/A","N/A",0,0,0,0,0,0,0,0,0]
[{"$f":"'P Index Inputs'!A172","v":0},{"$f":"'P Index Inputs'!B172","v":0},{"$f":"'P Index Inputs'!C172","v":0},{"$f":"'P Index Inputs'!D172","v":0},{"$f":"'P Index Inputs'!E172","v":0},{"$f":"'P Index Inputs'!F172","v":0},{"$f":"'P Index Inputs'!H172","v":0},{"$f":"'P Index Inputs'!I172","v":0},{"$f":"'P Index Inputs'!J172","v":0},{"$f":"IF(ISBLANK('P Index Inputs'!L172),'P Index Inputs'!K172,'P Index Inputs'!L172)","v":"-"},{"$f":"'P Index Inputs'!M172","v":0},{"$f":"'P Index Inputs'!O172","v":0},{"$f":"'P Index Inputs'!P172","v":0},{"$f":"'P Index Inputs'!Q172","v":0},{"$f":"IFERROR(VLOOKUP(I170,'NR-PI 2.0 Structure'!$C$5:$D$8,2,FALSE),\"-\")","v":"-"},{"$f":"IFERROR(VLOOKUP(J170,'NR-PI 2.0 Structure'!$B$12:$C$16,2,FALSE),\"-\")","v":"-"},{"$f":"IFERROR(VLOOKUP(K170,'NR-PI 2.0 Structure'!$B$20:$D$21,3,FALSE),\"-\")","v":"-"},{"$f":"IFERROR(VLOOKUP(L170,'NR-PI 2.0 Structure'!$B$25:$C$28,2,FALSE),\"-\")","v":"-"},{"$f":"IFERROR(VLOOKUP(L170,'NR-PI 2.0 Structure'!$B$25:$D$28,3,FALSE),\"-\")","v":"-"},{"$f":"IFERROR(\n  IF(M170 = \"≤ 1\", 'NR-PI 2.0 Structure'!$D$32,\n  IF(M170 = \">1 - 3\", 'NR-PI 2.0 Structure'!$D$33,\n  IF(M170 = \">3 - 5\", 'NR-PI 2.0 Structure'!$D$34,\n  IF(M170 = \"> 5\", 'NR-PI 2.0 Structure'!$D$35, )))),\n\"-\")","v":0},{"$f":"IFERROR(IF(ISBLANK(I170),\"N/A\",IF(I170<>'NR-PI 2.0 Structure'!$C$5,(VLOOKUP(N170,'NR-PI 2.0 Structure'!$C$39:$D$40,2,FALSE)),0)),\" - \")","v":" - "},{"$f":"IFERROR(IF(ISBLANK(I170),\"N/A\",IF(I170<>'NR-PI 2.0 Structure'!$C$5,(VLOOKUP(N170,'NR-PI 2.0 Structure'!$C$39:$E$40,3,FALSE)),0)),\" - \")","v":" - "},"-","-","-","N/A",{"$f":"IF(ISBLANK('P Index Inputs'!R172),\"-\",'P Index Inputs'!R172)","v":"-"},{"$f":"IFERROR(IF(I170<>'NR-PI 2.0 Structure'!$C$5,VLOOKUP(AA170,'NR-PI 2.0 Structure'!$G$5:$H$9,2,FALSE),IF(OR(AA170='NR-PI 2.0 Structure'!$G$5,AA170='NR-PI 2.0 Structure'!$G$6,AA170='NR-PI 2.0 Structure'!$G$7),1,VLOOKUP(AA170,'NR-PI 2.0 Structure'!$G$8:$H$9,2,FALSE))),\"-\")","v":"-"},{"$f":"IF(ISBLANK('P Index Inputs'!S172),\"-\",'P Index Inputs'!S172)","v":"-"},{"$f":"IFERROR(VLOOKUP(AC170,'NR-PI 2.0 Structure'!$G$14:$H$19,2,FALSE),\"-\")","v":"-"},"-","-","N/A","N/A",0,0,0,0,0,0,0,0,0]
[{"$f":"'P Index Inputs'!A173","v":0},{"$f":"'P Index Inputs'!B173","v":0},{"$f":"'P Index Inputs'!C173","v":0},{"$f":"'P Index Inputs'!D173","v":0},{"$f":"'P Index Inputs'!E173","v":0},{"$f":"'P Index Inputs'!F173","v":0},{"$f":"'P Index Inputs'!H173","v":0},{"$f":"'P Index Inputs'!I173","v":0},{"$f":"'P Index Inputs'!J173","v":0},{"$f":"IF(ISBLANK('P Index Inputs'!L173),'P Index Inputs'!K173,'P Index Inputs'!L173)","v":"-"},{"$f":"'P Index Inputs'!M173","v":0},{"$f":"'P Index Inputs'!O173","v":0},{"$f":"'P Index Inputs'!P173","v":0},{"$f":"'P Index Inputs'!Q173","v":0},{"$f":"IFERROR(VLOOKUP(I171,'NR-PI 2.0 Structure'!$C$5:$D$8,2,FALSE),\"-\")","v":"-"},{"$f":"IFERROR(VLOOKUP(J171,'NR-PI 2.0 Structure'!$B$12:$C$16,2,FALSE),\"-\")","v":"-"},{"$f":"IFERROR(VLOOKUP(K171,'NR-PI 2.0 Structure'!$B$20:$D$21,3,FALSE),\"-\")","v":"-"},{"$f":"IFERROR(VLOOKUP(L171,'NR-PI 2.0 Structure'!$B$25:$C$28,2,FALSE),\"-\")","v":"-"},{"$f":"IFERROR(VLOOKUP(L171,'NR-PI 2.0 Structure'!$B$25:$D$28,3,FALSE),\"-\")","v":"-"},{"$f":"IFERROR(\n  IF(M171 = \"≤ 1\", 'NR-PI 2.0 Structure'!$D$32,\n  IF(M171 = \">1 - 3\", 'NR-PI 2.0 Structure'!$D$33,\n  IF(M171 = \">3 - 5\", 'NR-PI 2.0 Structure'!$D$34,\n  IF(M171 = \"> 5\", 'NR-PI 2.0 Structure'!$D$35, )))),\n\"-\")","v":0},{"$f":"IFERROR(IF(ISBLANK(I171),\"N/A\",IF(I171<>'NR-PI 2.0 Structure'!$C$5,(VLOOKUP(N171,'NR-PI 2.0 Structure'!$C$39:$D$40,2,FALSE)),0)),\" - \")","v":" - "},{"$f":"IFERROR(IF(ISBLANK(I171),\"N/A\",IF(I171<>'NR-PI 2.0 Structure'!$C$5,(VLOOKUP(N171,'NR-PI 2.0 Structure'!$C$39:$E$40,3,FALSE)),0)),\" - \")","v":" - "},"-","-","-","N/A",{"$f":"IF(ISBLANK('P Index Inputs'!R173),\"-\",'P Index Inputs'!R173)","v":"-"},{"$f":"IFERROR(IF(I171<>'NR-PI 2.0 Structure'!$C$5,VLOOKUP(AA171,'NR-PI 2.0 Structure'!$G$5:$H$9,2,FALSE),IF(OR(AA171='NR-PI 2.0 Structure'!$G$5,AA171='NR-PI 2.0 Structure'!$G$6,AA171='NR-PI 2.0 Structure'!$G$7),1,VLOOKUP(AA171,'NR-PI 2.0 Structure'!$G$8:$H$9,2,FALSE))),\"-\")","v":"-"},{"$f":"IF(ISBLANK('P Index Inputs'!S173),\"-\",'P Index Inputs'!S173)","v":"-"},{"$f":"IFERROR(VLOOKUP(AC171,'NR-PI 2.0 Structure'!$G$14:$H$19,2,FALSE),\"-\")","v":"-"},"-","-","N/A","N/A",0,0,0,0,0,0,0,0,0]
[{"$f":"'P Index Inputs'!A174","v":0},{"$f":"'P Index Inputs'!B174","v":0},{"$f":"'P Index Inputs'!C174","v":0},{"$f":"'P Index Inputs'!D174","v":0},{"$f":"'P Index Inputs'!E174","v":0},{"$f":"'P Index Inputs'!F174","v":0},{"$f":"'P Index Inputs'!H174","v":0},{"$f":"'P Index Inputs'!I174","v":0},{"$f":"'P Index Inputs'!J174","v":0},{"$f":"IF(ISBLANK('P Index Inputs'!L174),'P Index Inputs'!K174,'P Index Inputs'!L174)","v":"-"},{"$f":"'P Index Inputs'!M174","v":0},{"$f":"'P Index Inputs'!O174","v":0},{"$f":"'P Index Inputs'!P174","v":0},{"$f":"'P Index Inputs'!Q174","v":0},{"$f":"IFERROR(VLOOKUP(I172,'NR-PI 2.0 Structure'!$C$5:$D$8,2,FALSE),\"-\")","v":"-"},{"$f":"IFERROR(VLOOKUP(J172,'NR-PI 2.0 Structure'!$B$12:$C$16,2,FALSE),\"-\")","v":"-"},{"$f":"IFERROR(VLOOKUP(K172,'NR-PI 2.0 Structure'!$B$20:$D$21,3,FALSE),\"-\")","v":"-"},{"$f":"IFERROR(VLOOKUP(L172,'NR-PI 2.0 Structure'!$B$25:$C$28,2,FALSE),\"-\")","v":"-"},{"$f":"IFERROR(VLOOKUP(L172,'NR-PI 2.0 Structure'!$B$25:$D$28,3,FALSE),\"-\")","v":"-"},{"$f":"IFERROR(\n  IF(M172 = \"≤ 1\", 'NR-PI 2.0 Structure'!$D$32,\n  IF(M172 = \">1 - 3\", 'NR-PI 2.0 Structure'!$D$33,\n  IF(M172 = \">3 - 5\", 'NR-PI 2.0 Structure'!$D$34,\n  IF(M172 = \"> 5\", 'NR-PI 2.0 Structure'!$D$35, )))),\n\"-\")","v":0},{"$f":"IFERROR(IF(ISBLANK(I172),\"N/A\",IF(I172<>'NR-PI 2.0 Structure'!$C$5,(VLOOKUP(N172,'NR-PI 2.0 Structure'!$C$39:$D$40,2,FALSE)),0)),\" - \")","v":" - "},{"$f":"IFERROR(IF(ISBLANK(I172),\"N/A\",IF(I172<>'NR-PI 2.0 Structure'!$C$5,(VLOOKUP(N172,'NR-PI 2.0 Structure'!$C$39:$E$40,3,FALSE)),0)),\" - \")","v":" - "},"-","-","-","N/A",{"$f":"IF(ISBLANK('P Index Inputs'!R174),\"-\",'P Index Inputs'!R174)","v":"-"},{"$f":"IFERROR(IF(I172<>'NR-PI 2.0 Structure'!$C$5,VLOOKUP(AA172,'NR-PI 2.0 Structure'!$G$5:$H$9,2,FALSE),IF(OR(AA172='NR-PI 2.0 Structure'!$G$5,AA172='NR-PI 2.0 Structure'!$G$6,AA172='NR-PI 2.0 Structure'!$G$7),1,VLOOKUP(AA172,'NR-PI 2.0 Structure'!$G$8:$H$9,2,FALSE))),\"-\")","v":"-"},{"$f":"IF(ISBLANK('P Index Inputs'!S174),\"-\",'P Index Inputs'!S174)","v":"-"},{"$f":"IFERROR(VLOOKUP(AC172,'NR-PI 2.0 Structure'!$G$14:$H$19,2,FALSE),\"-\")","v":"-"},"-","-","N/A","N/A",0,0,0,0,0,0,0,0,0]
[{"$f":"'P Index Inputs'!A175","v":0},{"$f":"'P Index Inputs'!B175","v":0},{"$f":"'P Index Inputs'!C175","v":0},{"$f":"'P Index Inputs'!D175","v":0},{"$f":"'P Index Inputs'!E175","v":0},{"$f":"'P Index Inputs'!F175","v":0},{"$f":"'P Index Inputs'!H175","v":0},{"$f":"'P Index Inputs'!I175","v":0},{"$f":"'P Index Inputs'!J175","v":0},{"$f":"IF(ISBLANK('P Index Inputs'!L175),'P Index Inputs'!K175,'P Index Inputs'!L175)","v":"-"},{"$f":"'P Index Inputs'!M175","v":0},{"$f":"'P Index Inputs'!O175","v":0},{"$f":"'P Index Inputs'!P175","v":0},{"$f":"'P Index Inputs'!Q175","v":0},{"$f":"IFERROR(VLOOKUP(I173,'NR-PI 2.0 Structure'!$C$5:$D$8,2,FALSE),\"-\")","v":"-"},{"$f":"IFERROR(VLOOKUP(J173,'NR-PI 2.0 Structure'!$B$12:$C$16,2,FALSE),\"-\")","v":"-"},{"$f":"IFERROR(VLOOKUP(K173,'NR-PI 2.0 Structure'!$B$20:$D$21,3,FALSE),\"-\")","v":"-"},{"$f":"IFERROR(VLOOKUP(L173,'NR-PI 2.0 Structure'!$B$25:$C$28,2,FALSE),\"-\")","v":"-"},{"$f":"IFERROR(VLOOKUP(L173,'NR-PI 2.0 Structure'!$B$25:$D$28,3,FALSE),\"-\")","v":"-"},{"$f":"IFERROR(\n  IF(M173 = \"≤ 1\", 'NR-PI 2.0 Structure'!$D$32,\n  IF(M173 = \">1 - 3\", 'NR-PI 2.0 Structure'!$D$33,\n  IF(M173 = \">3 - 5\", 'NR-PI 2.0 Structure'!$D$34,\n  IF(M173 = \"> 5\", 'NR-PI 2.0 Structure'!$D$35, )))),\n\"-\")","v":0},{"$f":"IFERROR(IF(ISBLANK(I173),\"N/A\",IF(I173<>'NR-PI 2.0 Structure'!$C$5,(VLOOKUP(N173,'NR-PI 2.0 Structure'!$C$39:$D$40,2,FALSE)),0)),\" - \")","v":" - "},{"$f":"IFERROR(IF(ISBLANK(I173),\"N/A\",IF(I173<>'NR-PI 2.0 Structure'!$C$5,(VLOOKUP(N173,'NR-PI 2.0 Structure'!$C$39:$E$40,3,FALSE)),0)),\" - \")","v":" - "},"-","-","-","N/A",{"$f":"IF(ISBLANK('P Index Inputs'!R175),\"-\",'P Index Inputs'!R175)","v":"-"},{"$f":"IFERROR(IF(I173<>'NR-PI 2.0 Structure'!$C$5,VLOOKUP(AA173,'NR-PI 2.0 Structure'!$G$5:$H$9,2,FALSE),IF(OR(AA173='NR-PI 2.0 Structure'!$G$5,AA173='NR-PI 2.0 Structure'!$G$6,AA173='NR-PI 2.0 Structure'!$G$7),1,VLOOKUP(AA173,'NR-PI 2.0 Structure'!$G$8:$H$9,2,FALSE))),\"-\")","v":"-"},{"$f":"IF(ISBLANK('P Index Inputs'!S175),\"-\",'P Index Inputs'!S175)","v":"-"},{"$f":"IFERROR(VLOOKUP(AC173,'NR-PI 2.0 Structure'!$G$14:$H$19,2,FALSE),\"-\")","v":"-"},"-","-","N/A","N/A",0,0,0,0,0,0,0,0,0]
[{"$f":"'P Index Inputs'!A176","v":0},{"$f":"'P Index Inputs'!B176","v":0},{"$f":"'P Index Inputs'!C176","v":0},{"$f":"'P Index Inputs'!D176","v":0},{"$f":"'P Index Inputs'!E176","v":0},{"$f":"'P Index Inputs'!F176","v":0},{"$f":"'P Index Inputs'!H176","v":0},{"$f":"'P Index Inputs'!I176","v":0},{"$f":"'P Index Inputs'!J176","v":0},{"$f":"IF(ISBLANK('P Index Inputs'!L176),'P Index Inputs'!K176,'P Index Inputs'!L176)","v":"-"},{"$f":"'P Index Inputs'!M176","v":0},{"$f":"'P Index Inputs'!O176","v":0},{"$f":"'P Index Inputs'!P176","v":0},{"$f":"'P Index Inputs'!Q176","v":0},{"$f":"IFERROR(VLOOKUP(I174,'NR-PI 2.0 Structure'!$C$5:$D$8,2,FALSE),\"-\")","v":"-"},{"$f":"IFERROR(VLOOKUP(J174,'NR-PI 2.0 Structure'!$B$12:$C$16,2,FALSE),\"-\")","v":"-"},{"$f":"IFERROR(VLOOKUP(K174,'NR-PI 2.0 Structure'!$B$20:$D$21,3,FALSE),\"-\")","v":"-"},{"$f":"IFERROR(VLOOKUP(L174,'NR-PI 2.0 Structure'!$B$25:$C$28,2,FALSE),\"-\")","v":"-"},{"$f":"IFERROR(VLOOKUP(L174,'NR-PI 2.0 Structure'!$B$25:$D$28,3,FALSE),\"-\")","v":"-"},{"$f":"IFERROR(\n  IF(M174 = \"≤ 1\", 'NR-PI 2.0 Structure'!$D$32,\n  IF(M174 = \">1 - 3\", 'NR-PI 2.0 Structure'!$D$33,\n  IF(M174 = \">3 - 5\", 'NR-PI 2.0 Structure'!$D$34,\n  IF(M174 = \"> 5\", 'NR-PI 2.0 Structure'!$D$35, )))),\n\"-\")","v":0},{"$f":"IFERROR(IF(ISBLANK(I174),\"N/A\",IF(I174<>'NR-PI 2.0 Structure'!$C$5,(VLOOKUP(N174,'NR-PI 2.0 Structure'!$C$39:$D$40,2,FALSE)),0)),\" - \")","v":" - "},{"$f":"IFERROR(IF(ISBLANK(I174),\"N/A\",IF(I174<>'NR-PI 2.0 Structure'!$C$5,(VLOOKUP(N174,'NR-PI 2.0 Structure'!$C$39:$E$40,3,FALSE)),0)),\" - \")","v":" - "},"-","-","-","N/A",{"$f":"IF(ISBLANK('P Index Inputs'!R176),\"-\",'P Index Inputs'!R176)","v":"-"},{"$f":"IFERROR(IF(I174<>'NR-PI 2.0 Structure'!$C$5,VLOOKUP(AA174,'NR-PI 2.0 Structure'!$G$5:$H$9,2,FALSE),IF(OR(AA174='NR-PI 2.0 Structure'!$G$5,AA174='NR-PI 2.0 Structure'!$G$6,AA174='NR-PI 2.0 Structure'!$G$7),1,VLOOKUP(AA174,'NR-PI 2.0 Structure'!$G$8:$H$9,2,FALSE))),\"-\")","v":"-"},{"$f":"IF(ISBLANK('P Index Inputs'!S176),\"-\",'P Index Inputs'!S176)","v":"-"},{"$f":"IFERROR(VLOOKUP(AC174,'NR-PI 2.0 Structure'!$G$14:$H$19,2,FALSE),\"-\")","v":"-"},"-","-","N/A","N/A",0,0,0,0,0,0,0,0,0]
[{"$f":"'P Index Inputs'!A177","v":0},{"$f":"'P Index Inputs'!B177","v":0},{"$f":"'P Index Inputs'!C177","v":0},{"$f":"'P Index Inputs'!D177","v":0},{"$f":"'P Index Inputs'!E177","v":0},{"$f":"'P Index Inputs'!F177","v":0},{"$f":"'P Index Inputs'!H177","v":0},{"$f":"'P Index Inputs'!I177","v":0},{"$f":"'P Index Inputs'!J177","v":0},{"$f":"IF(ISBLANK('P Index Inputs'!L177),'P Index Inputs'!K177,'P Index Inputs'!L177)","v":"-"},{"$f":"'P Index Inputs'!M177","v":0},{"$f":"'P Index Inputs'!O177","v":0},{"$f":"'P Index Inputs'!P177","v":0},{"$f":"'P Index Inputs'!Q177","v":0},{"$f":"IFERROR(VLOOKUP(I175,'NR-PI 2.0 Structure'!$C$5:$D$8,2,FALSE),\"-\")","v":"-"},{"$f":"IFERROR(VLOOKUP(J175,'NR-PI 2.0 Structure'!$B$12:$C$16,2,FALSE),\"-\")","v":"-"},{"$f":"IFERROR(VLOOKUP(K175,'NR-PI 2.0 Structure'!$B$20:$D$21,3,FALSE),\"-\")","v":"-"},{"$f":"IFERROR(VLOOKUP(L175,'NR-PI 2.0 Structure'!$B$25:$C$28,2,FALSE),\"-\")","v":"-"},{"$f":"IFERROR(VLOOKUP(L175,'NR-PI 2.0 Structure'!$B$25:$D$28,3,FALSE),\"-\")","v":"-"},{"$f":"IFERROR(\n  IF(M175 = \"≤ 1\", 'NR-PI 2.0 Structure'!$D$32,\n  IF(M175 = \">1 - 3\", 'NR-PI 2.0 Structure'!$D$33,\n  IF(M175 = \">3 - 5\", 'NR-PI 2.0 Structure'!$D$34,\n  IF(M175 = \"> 5\", 'NR-PI 2.0 Structure'!$D$35, )))),\n\"-\")","v":0},{"$f":"IFERROR(IF(ISBLANK(I175),\"N/A\",IF(I175<>'NR-PI 2.0 Structure'!$C$5,(VLOOKUP(N175,'NR-PI 2.0 Structure'!$C$39:$D$40,2,FALSE)),0)),\" - \")","v":" - "},{"$f":"IFERROR(IF(ISBLANK(I175),\"N/A\",IF(I175<>'NR-PI 2.0 Structure'!$C$5,(VLOOKUP(N175,'NR-PI 2.0 Structure'!$C$39:$E$40,3,FALSE)),0)),\" - \")","v":" - "},"-","-","-","N/A",{"$f":"IF(ISBLANK('P Index Inputs'!R177),\"-\",'P Index Inputs'!R177)","v":"-"},{"$f":"IFERROR(IF(I175<>'NR-PI 2.0 Structure'!$C$5,VLOOKUP(AA175,'NR-PI 2.0 Structure'!$G$5:$H$9,2,FALSE),IF(OR(AA175='NR-PI 2.0 Structure'!$G$5,AA175='NR-PI 2.0 Structure'!$G$6,AA175='NR-PI 2.0 Structure'!$G$7),1,VLOOKUP(AA175,'NR-PI 2.0 Structure'!$G$8:$H$9,2,FALSE))),\"-\")","v":"-"},{"$f":"IF(ISBLANK('P Index Inputs'!S177),\"-\",'P Index Inputs'!S177)","v":"-"},{"$f":"IFERROR(VLOOKUP(AC175,'NR-PI 2.0 Structure'!$G$14:$H$19,2,FALSE),\"-\")","v":"-"},"-","-","N/A","N/A",0,0,0,0,0,0,0,0,0]
[{"$f":"'P Index Inputs'!A178","v":0},{"$f":"'P Index Inputs'!B178","v":0},{"$f":"'P Index Inputs'!C178","v":0},{"$f":"'P Index Inputs'!D178","v":0},{"$f":"'P Index Inputs'!E178","v":0},{"$f":"'P Index Inputs'!F178","v":0},{"$f":"'P Index Inputs'!H178","v":0},{"$f":"'P Index Inputs'!I178","v":0},{"$f":"'P Index Inputs'!J178","v":0},{"$f":"IF(ISBLANK('P Index Inputs'!L178),'P Index Inputs'!K178,'P Index Inputs'!L178)","v":"-"},{"$f":"'P Index Inputs'!M178","v":0},{"$f":"'P Index Inputs'!O178","v":0},{"$f":"'P Index Inputs'!P178","v":0},{"$f":"'P Index Inputs'!Q178","v":0},{"$f":"IFERROR(VLOOKUP(I176,'NR-PI 2.0 Structure'!$C$5:$D$8,2,FALSE),\"-\")","v":"-"},{"$f":"IFERROR(VLOOKUP(J176,'NR-PI 2.0 Structure'!$B$12:$C$16,2,FALSE),\"-\")","v":"-"},{"$f":"IFERROR(VLOOKUP(K176,'NR-PI 2.0 Structure'!$B$20:$D$21,3,FALSE),\"-\")","v":"-"},{"$f":"IFERROR(VLOOKUP(L176,'NR-PI 2.0 Structure'!$B$25:$C$28,2,FALSE),\"-\")","v":"-"},{"$f":"IFERROR(VLOOKUP(L176,'NR-PI 2.0 Structure'!$B$25:$D$28,3,FALSE),\"-\")","v":"-"},{"$f":"IFERROR(\n  IF(M176 = \"≤ 1\", 'NR-PI 2.0 Structure'!$D$32,\n  IF(M176 = \">1 - 3\", 'NR-PI 2.0 Structure'!$D$33,\n  IF(M176 = \">3 - 5\", 'NR-PI 2.0 Structure'!$D$34,\n  IF(M176 = \"> 5\", 'NR-PI 2.0 Structure'!$D$35, )))),\n\"-\")","v":0},{"$f":"IFERROR(IF(ISBLANK(I176),\"N/A\",IF(I176<>'NR-PI 2.0 Structure'!$C$5,(VLOOKUP(N176,'NR-PI 2.0 Structure'!$C$39:$D$40,2,FALSE)),0)),\" - \")","v":" - "},{"$f":"IFERROR(IF(ISBLANK(I176),\"N/A\",IF(I176<>'NR-PI 2.0 Structure'!$C$5,(VLOOKUP(N176,'NR-PI 2.0 Structure'!$C$39:$E$40,3,FALSE)),0)),\" - \")","v":" - "},"-","-","-","N/A",{"$f":"IF(ISBLANK('P Index Inputs'!R178),\"-\",'P Index Inputs'!R178)","v":"-"},{"$f":"IFERROR(IF(I176<>'NR-PI 2.0 Structure'!$C$5,VLOOKUP(AA176,'NR-PI 2.0 Structure'!$G$5:$H$9,2,FALSE),IF(OR(AA176='NR-PI 2.0 Structure'!$G$5,AA176='NR-PI 2.0 Structure'!$G$6,AA176='NR-PI 2.0 Structure'!$G$7),1,VLOOKUP(AA176,'NR-PI 2.0 Structure'!$G$8:$H$9,2,FALSE))),\"-\")","v":"-"},{"$f":"IF(ISBLANK('P Index Inputs'!S178),\"-\",'P Index Inputs'!S178)","v":"-"},{"$f":"IFERROR(VLOOKUP(AC176,'NR-PI 2.0 Structure'!$G$14:$H$19,2,FALSE),\"-\")","v":"-"},"-","-","N/A","N/A",0,0,0,0,0,0,0,0,0]
[{"$f":"'P Index Inputs'!A179","v":0},{"$f":"'P Index Inputs'!B179","v":0},{"$f":"'P Index Inputs'!C179","v":0},{"$f":"'P Index Inputs'!D179","v":0},{"$f":"'P Index Inputs'!E179","v":0},{"$f":"'P Index Inputs'!F179","v":0},{"$f":"'P Index Inputs'!H179","v":0},{"$f":"'P Index Inputs'!I179","v":0},{"$f":"'P Index Inputs'!J179","v":0},{"$f":"IF(ISBLANK('P Index Inputs'!L179),'P Index Inputs'!K179,'P Index Inputs'!L179)","v":"-"},{"$f":"'P Index Inputs'!M179","v":0},{"$f":"'P Index Inputs'!O179","v":0},{"$f":"'P Index Inputs'!P179","v":0},{"$f":"'P Index Inputs'!Q179","v":0},{"$f":"IFERROR(VLOOKUP(I177,'NR-PI 2.0 Structure'!$C$5:$D$8,2,FALSE),\"-\")","v":"-"},{"$f":"IFERROR(VLOOKUP(J177,'NR-PI 2.0 Structure'!$B$12:$C$16,2,FALSE),\"-\")","v":"-"},{"$f":"IFERROR(VLOOKUP(K177,'NR-PI 2.0 Structure'!$B$20:$D$21,3,FALSE),\"-\")","v":"-"},{"$f":"IFERROR(VLOOKUP(L177,'NR-PI 2.0 Structure'!$B$25:$C$28,2,FALSE),\"-\")","v":"-"},{"$f":"IFERROR(VLOOKUP(L177,'NR-PI 2.0 Structure'!$B$25:$D$28,3,FALSE),\"-\")","v":"-"},{"$f":"IFERROR(\n  IF(M177 = \"≤ 1\", 'NR-PI 2.0 Structure'!$D$32,\n  IF(M177 = \">1 - 3\", 'NR-PI 2.0 Structure'!$D$33,\n  IF(M177 = \">3 - 5\", 'NR-PI 2.0 Structure'!$D$34,\n  IF(M177 = \"> 5\", 'NR-PI 2.0 Structure'!$D$35, )))),\n\"-\")","v":0},{"$f":"IFERROR(IF(ISBLANK(I177),\"N/A\",IF(I177<>'NR-PI 2.0 Structure'!$C$5,(VLOOKUP(N177,'NR-PI 2.0 Structure'!$C$39:$D$40,2,FALSE)),0)),\" - \")","v":" - "},{"$f":"IFERROR(IF(ISBLANK(I177),\"N/A\",IF(I177<>'NR-PI 2.0 Structure'!$C$5,(VLOOKUP(N177,'NR-PI 2.0 Structure'!$C$39:$E$40,3,FALSE)),0)),\" - \")","v":" - "},"-","-","-","N/A",{"$f":"IF(ISBLANK('P Index Inputs'!R179),\"-\",'P Index Inputs'!R179)","v":"-"},{"$f":"IFERROR(IF(I177<>'NR-PI 2.0 Structure'!$C$5,VLOOKUP(AA177,'NR-PI 2.0 Structure'!$G$5:$H$9,2,FALSE),IF(OR(AA177='NR-PI 2.0 Structure'!$G$5,AA177='NR-PI 2.0 Structure'!$G$6,AA177='NR-PI 2.0 Structure'!$G$7),1,VLOOKUP(AA177,'NR-PI 2.0 Structure'!$G$8:$H$9,2,FALSE))),\"-\")","v":"-"},{"$f":"IF(ISBLANK('P Index Inputs'!S179),\"-\",'P Index Inputs'!S179)","v":"-"},{"$f":"IFERROR(VLOOKUP(AC177,'NR-PI 2.0 Structure'!$G$14:$H$19,2,FALSE),\"-\")","v":"-"},"-","-","N/A","N/A",0,0,0,0,0,0,0,0,0]
[{"$f":"'P Index Inputs'!A180","v":0},{"$f":"'P Index Inputs'!B180","v":0},{"$f":"'P Index Inputs'!C180","v":0},{"$f":"'P Index Inputs'!D180","v":0},{"$f":"'P Index Inputs'!E180","v":0},{"$f":"'P Index Inputs'!F180","v":0},{"$f":"'P Index Inputs'!H180","v":0},{"$f":"'P Index Inputs'!I180","v":0},{"$f":"'P Index Inputs'!J180","v":0},{"$f":"IF(ISBLANK('P Index Inputs'!L180),'P Index Inputs'!K180,'P Index Inputs'!L180)","v":"-"},{"$f":"'P Index Inputs'!M180","v":0},{"$f":"'P Index Inputs'!O180","v":0},{"$f":"'P Index Inputs'!P180","v":0},{"$f":"'P Index Inputs'!Q180","v":0},{"$f":"IFERROR(VLOOKUP(I178,'NR-PI 2.0 Structure'!$C$5:$D$8,2,FALSE),\"-\")","v":"-"},{"$f":"IFERROR(VLOOKUP(J178,'NR-PI 2.0 Structure'!$B$12:$C$16,2,FALSE),\"-\")","v":"-"},{"$f":"IFERROR(VLOOKUP(K178,'NR-PI 2.0 Structure'!$B$20:$D$21,3,FALSE),\"-\")","v":"-"},{"$f":"IFERROR(VLOOKUP(L178,'NR-PI 2.0 Structure'!$B$25:$C$28,2,FALSE),\"-\")","v":"-"},{"$f":"IFERROR(VLOOKUP(L178,'NR-PI 2.0 Structure'!$B$25:$D$28,3,FALSE),\"-\")","v":"-"},{"$f":"IFERROR(\n  IF(M178 = \"≤ 1\", 'NR-PI 2.0 Structure'!$D$32,\n  IF(M178 = \">1 - 3\", 'NR-PI 2.0 Structure'!$D$33,\n  IF(M178 = \">3 - 5\", 'NR-PI 2.0 Structure'!$D$34,\n  IF(M178 = \"> 5\", 'NR-PI 2.0 Structure'!$D$35, )))),\n\"-\")","v":0},{"$f":"IFERROR(IF(ISBLANK(I178),\"N/A\",IF(I178<>'NR-PI 2.0 Structure'!$C$5,(VLOOKUP(N178,'NR-PI 2.0 Structure'!$C$39:$D$40,2,FALSE)),0)),\" - \")","v":" - "},{"$f":"IFERROR(IF(ISBLANK(I178),\"N/A\",IF(I178<>'NR-PI 2.0 Structure'!$C$5,(VLOOKUP(N178,'NR-PI 2.0 Structure'!$C$39:$E$40,3,FALSE)),0)),\" - \")","v":" - "},"-","-","-","N/A",{"$f":"IF(ISBLANK('P Index Inputs'!R180),\"-\",'P Index Inputs'!R180)","v":"-"},{"$f":"IFERROR(IF(I178<>'NR-PI 2.0 Structure'!$C$5,VLOOKUP(AA178,'NR-PI 2.0 Structure'!$G$5:$H$9,2,FALSE),IF(OR(AA178='NR-PI 2.0 Structure'!$G$5,AA178='NR-PI 2.0 Structure'!$G$6,AA178='NR-PI 2.0 Structure'!$G$7),1,VLOOKUP(AA178,'NR-PI 2.0 Structure'!$G$8:$H$9,2,FALSE))),\"-\")","v":"-"},{"$f":"IF(ISBLANK('P Index Inputs'!S180),\"-\",'P Index Inputs'!S180)","v":"-"},{"$f":"IFERROR(VLOOKUP(AC178,'NR-PI 2.0 Structure'!$G$14:$H$19,2,FALSE),\"-\")","v":"-"},"-","-","N/A","N/A",0,0,0,0,0,0,0,0,0]
[{"$f":"'P Index Inputs'!A181","v":0},{"$f":"'P Index Inputs'!B181","v":0},{"$f":"'P Index Inputs'!C181","v":0},{"$f":"'P Index Inputs'!D181","v":0},{"$f":"'P Index Inputs'!E181","v":0},{"$f":"'P Index Inputs'!F181","v":0},{"$f":"'P Index Inputs'!H181","v":0},{"$f":"'P Index Inputs'!I181","v":0},{"$f":"'P Index Inputs'!J181","v":0},{"$f":"IF(ISBLANK('P Index Inputs'!L181),'P Index Inputs'!K181,'P Index Inputs'!L181)","v":"-"},{"$f":"'P Index Inputs'!M181","v":0},{"$f":"'P Index Inputs'!O181","v":0},{"$f":"'P Index Inputs'!P181","v":0},{"$f":"'P Index Inputs'!Q181","v":0},{"$f":"IFERROR(VLOOKUP(I179,'NR-PI 2.0 Structure'!$C$5:$D$8,2,FALSE),\"-\")","v":"-"},{"$f":"IFERROR(VLOOKUP(J179,'NR-PI 2.0 Structure'!$B$12:$C$16,2,FALSE),\"-\")","v":"-"},{"$f":"IFERROR(VLOOKUP(K179,'NR-PI 2.0 Structure'!$B$20:$D$21,3,FALSE),\"-\")","v":"-"},{"$f":"IFERROR(VLOOKUP(L179,'NR-PI 2.0 Structure'!$B$25:$C$28,2,FALSE),\"-\")","v":"-"},{"$f":"IFERROR(VLOOKUP(L179,'NR-PI 2.0 Structure'!$B$25:$D$28,3,FALSE),\"-\")","v":"-"},{"$f":"IFERROR(\n  IF(M179 = \"≤ 1\", 'NR-PI 2.0 Structure'!$D$32,\n  IF(M179 = \">1 - 3\", 'NR-PI 2.0 Structure'!$D$33,\n  IF(M179 = \">3 - 5\", 'NR-PI 2.0 Structure'!$D$34,\n  IF(M179 = \"> 5\", 'NR-PI 2.0 Structure'!$D$35, )))),\n\"-\")","v":0},{"$f":"IFERROR(IF(ISBLANK(I179),\"N/A\",IF(I179<>'NR-PI 2.0 Structure'!$C$5,(VLOOKUP(N179,'NR-PI 2.0 Structure'!$C$39:$D$40,2,FALSE)),0)),\" - \")","v":" - "},{"$f":"IFERROR(IF(ISBLANK(I179),\"N/A\",IF(I179<>'NR-PI 2.0 Structure'!$C$5,(VLOOKUP(N179,'NR-PI 2.0 Structure'!$C$39:$E$40,3,FALSE)),0)),\" - \")","v":" - "},"-","-","-","N/A",{"$f":"IF(ISBLANK('P Index Inputs'!R181),\"-\",'P Index Inputs'!R181)","v":"-"},{"$f":"IFERROR(IF(I179<>'NR-PI 2.0 Structure'!$C$5,VLOOKUP(AA179,'NR-PI 2.0 Structure'!$G$5:$H$9,2,FALSE),IF(OR(AA179='NR-PI 2.0 Structure'!$G$5,AA179='NR-PI 2.0 Structure'!$G$6,AA179='NR-PI 2.0 Structure'!$G$7),1,VLOOKUP(AA179,'NR-PI 2.0 Structure'!$G$8:$H$9,2,FALSE))),\"-\")","v":"-"},{"$f":"IF(ISBLANK('P Index Inputs'!S181),\"-\",'P Index Inputs'!S181)","v":"-"},{"$f":"IFERROR(VLOOKUP(AC179,'NR-PI 2.0 Structure'!$G$14:$H$19,2,FALSE),\"-\")","v":"-"},"-","-","N/A","N/A",0,0,0,0,0,0,0,0,0]
[{"$f":"'P Index Inputs'!A182","v":0},{"$f":"'P Index Inputs'!B182","v":0},{"$f":"'P Index Inputs'!C182","v":0},{"$f":"'P Index Inputs'!D182","v":0},{"$f":"'P Index Inputs'!E182","v":0},{"$f":"'P Index Inputs'!F182","v":0},{"$f":"'P Index Inputs'!H182","v":0},{"$f":"'P Index Inputs'!I182","v":0},{"$f":"'P Index Inputs'!J182","v":0},{"$f":"IF(ISBLANK('P Index Inputs'!L182),'P Index Inputs'!K182,'P Index Inputs'!L182)","v":"-"},{"$f":"'P Index Inputs'!M182","v":0},{"$f":"'P Index Inputs'!O182","v":0},{"$f":"'P Index Inputs'!P182","v":0},{"$f":"'P Index Inputs'!Q182","v":0},{"$f":"IFERROR(VLOOKUP(I180,'NR-PI 2.0 Structure'!$C$5:$D$8,2,FALSE),\"-\")","v":"-"},{"$f":"IFERROR(VLOOKUP(J180,'NR-PI 2.0 Structure'!$B$12:$C$16,2,FALSE),\"-\")","v":"-"},{"$f":"IFERROR(VLOOKUP(K180,'NR-PI 2.0 Structure'!$B$20:$D$21,3,FALSE),\"-\")","v":"-"},{"$f":"IFERROR(VLOOKUP(L180,'NR-PI 2.0 Structure'!$B$25:$C$28,2,FALSE),\"-\")","v":"-"},{"$f":"IFERROR(VLOOKUP(L180,'NR-PI 2.0 Structure'!$B$25:$D$28,3,FALSE),\"-\")","v":"-"},{"$f":"IFERROR(\n  IF(M180 = \"≤ 1\", 'NR-PI 2.0 Structure'!$D$32,\n  IF(M180 = \">1 - 3\", 'NR-PI 2.0 Structure'!$D$33,\n  IF(M180 = \">3 - 5\", 'NR-PI 2.0 Structure'!$D$34,\n  IF(M180 = \"> 5\", 'NR-PI 2.0 Structure'!$D$35, )))),\n\"-\")","v":0},{"$f":"IFERROR(IF(ISBLANK(I180),\"N/A\",IF(I180<>'NR-PI 2.0 Structure'!$C$5,(VLOOKUP(N180,'NR-PI 2.0 Structure'!$C$39:$D$40,2,FALSE)),0)),\" - \")","v":" - "},{"$f":"IFERROR(IF(ISBLANK(I180),\"N/A\",IF(I180<>'NR-PI 2.0 Structure'!$C$5,(VLOOKUP(N180,'NR-PI 2.0 Structure'!$C$39:$E$40,3,FALSE)),0)),\" - \")","v":" - "},"-","-","-","N/A",{"$f":"IF(ISBLANK('P Index Inputs'!R182),\"-\",'P Index Inputs'!R182)","v":"-"},{"$f":"IFERROR(IF(I180<>'NR-PI 2.0 Structure'!$C$5,VLOOKUP(AA180,'NR-PI 2.0 Structure'!$G$5:$H$9,2,FALSE),IF(OR(AA180='NR-PI 2.0 Structure'!$G$5,AA180='NR-PI 2.0 Structure'!$G$6,AA180='NR-PI 2.0 Structure'!$G$7),1,VLOOKUP(AA180,'NR-PI 2.0 Structure'!$G$8:$H$9,2,FALSE))),\"-\")","v":"-"},{"$f":"IF(ISBLANK('P Index Inputs'!S182),\"-\",'P Index Inputs'!S182)","v":"-"},{"$f":"IFERROR(VLOOKUP(AC180,'NR-PI 2.0 Structure'!$G$14:$H$19,2,FALSE),\"-\")","v":"-"},"-","-","N/A","N/A",0,0,0,0,0,0,0,0,0]
[{"$f":"'P Index Inputs'!A183","v":0},{"$f":"'P Index Inputs'!B183","v":0},{"$f":"'P Index Inputs'!C183","v":0},{"$f":"'P Index Inputs'!D183","v":0},{"$f":"'P Index Inputs'!E183","v":0},{"$f":"'P Index Inputs'!F183","v":0},{"$f":"'P Index Inputs'!H183","v":0},{"$f":"'P Index Inputs'!I183","v":0},{"$f":"'P Index Inputs'!J183","v":0},{"$f":"IF(ISBLANK('P Index Inputs'!L183),'P Index Inputs'!K183,'P Index Inputs'!L183)","v":"-"},{"$f":"'P Index Inputs'!M183","v":0},{"$f":"'P Index Inputs'!O183","v":0},{"$f":"'P Index Inputs'!P183","v":0},{"$f":"'P Index Inputs'!Q183","v":0},{"$f":"IFERROR(VLOOKUP(I181,'NR-PI 2.0 Structure'!$C$5:$D$8,2,FALSE),\"-\")","v":"-"},{"$f":"IFERROR(VLOOKUP(J181,'NR-PI 2.0 Structure'!$B$12:$C$16,2,FALSE),\"-\")","v":"-"},{"$f":"IFERROR(VLOOKUP(K181,'NR-PI 2.0 Structure'!$B$20:$D$21,3,FALSE),\"-\")","v":"-"},{"$f":"IFERROR(VLOOKUP(L181,'NR-PI 2.0 Structure'!$B$25:$C$28,2,FALSE),\"-\")","v":"-"},{"$f":"IFERROR(VLOOKUP(L181,'NR-PI 2.0 Structure'!$B$25:$D$28,3,FALSE),\"-\")","v":"-"},{"$f":"IFERROR(\n  IF(M181 = \"≤ 1\", 'NR-PI 2.0 Structure'!$D$32,\n  IF(M181 = \">1 - 3\", 'NR-PI 2.0 Structure'!$D$33,\n  IF(M181 = \">3 - 5\", 'NR-PI 2.0 Structure'!$D$34,\n  IF(M181 = \"> 5\", 'NR-PI 2.0 Structure'!$D$35, )))),\n\"-\")","v":0},{"$f":"IFERROR(IF(ISBLANK(I181),\"N/A\",IF(I181<>'NR-PI 2.0 Structure'!$C$5,(VLOOKUP(N181,'NR-PI 2.0 Structure'!$C$39:$D$40,2,FALSE)),0)),\" - \")","v":" - "},{"$f":"IFERROR(IF(ISBLANK(I181),\"N/A\",IF(I181<>'NR-PI 2.0 Structure'!$C$5,(VLOOKUP(N181,'NR-PI 2.0 Structure'!$C$39:$E$40,3,FALSE)),0)),\" - \")","v":" - "},"-","-","-","N/A",{"$f":"IF(ISBLANK('P Index Inputs'!R183),\"-\",'P Index Inputs'!R183)","v":"-"},{"$f":"IFERROR(IF(I181<>'NR-PI 2.0 Structure'!$C$5,VLOOKUP(AA181,'NR-PI 2.0 Structure'!$G$5:$H$9,2,FALSE),IF(OR(AA181='NR-PI 2.0 Structure'!$G$5,AA181='NR-PI 2.0 Structure'!$G$6,AA181='NR-PI 2.0 Structure'!$G$7),1,VLOOKUP(AA181,'NR-PI 2.0 Structure'!$G$8:$H$9,2,FALSE))),\"-\")","v":"-"},{"$f":"IF(ISBLANK('P Index Inputs'!S183),\"-\",'P Index Inputs'!S183)","v":"-"},{"$f":"IFERROR(VLOOKUP(AC181,'NR-PI 2.0 Structure'!$G$14:$H$19,2,FALSE),\"-\")","v":"-"},"-","-","N/A","N/A",0,0,0,0,0,0,0,0,0]
[{"$f":"'P Index Inputs'!A184","v":0},{"$f":"'P Index Inputs'!B184","v":0},{"$f":"'P Index Inputs'!C184","v":0},{"$f":"'P Index Inputs'!D184","v":0},{"$f":"'P Index Inputs'!E184","v":0},{"$f":"'P Index Inputs'!F184","v":0},{"$f":"'P Index Inputs'!H184","v":0},{"$f":"'P Index Inputs'!I184","v":0},{"$f":"'P Index Inputs'!J184","v":0},{"$f":"IF(ISBLANK('P Index Inputs'!L184),'P Index Inputs'!K184,'P Index Inputs'!L184)","v":"-"},{"$f":"'P Index Inputs'!M184","v":0},{"$f":"'P Index Inputs'!O184","v":0},{"$f":"'P Index Inputs'!P184","v":0},{"$f":"'P Index Inputs'!Q184","v":0},{"$f":"IFERROR(VLOOKUP(I182,'NR-PI 2.0 Structure'!$C$5:$D$8,2,FALSE),\"-\")","v":"-"},{"$f":"IFERROR(VLOOKUP(J182,'NR-PI 2.0 Structure'!$B$12:$C$16,2,FALSE),\"-\")","v":"-"},{"$f":"IFERROR(VLOOKUP(K182,'NR-PI 2.0 Structure'!$B$20:$D$21,3,FALSE),\"-\")","v":"-"},{"$f":"IFERROR(VLOOKUP(L182,'NR-PI 2.0 Structure'!$B$25:$C$28,2,FALSE),\"-\")","v":"-"},{"$f":"IFERROR(VLOOKUP(L182,'NR-PI 2.0 Structure'!$B$25:$D$28,3,FALSE),\"-\")","v":"-"},{"$f":"IFERROR(\n  IF(M182 = \"≤ 1\", 'NR-PI 2.0 Structure'!$D$32,\n  IF(M182 = \">1 - 3\", 'NR-PI 2.0 Structure'!$D$33,\n  IF(M182 = \">3 - 5\", 'NR-PI 2.0 Structure'!$D$34,\n  IF(M182 = \"> 5\", 'NR-PI 2.0 Structure'!$D$35, )))),\n\"-\")","v":0},{"$f":"IFERROR(IF(ISBLANK(I182),\"N/A\",IF(I182<>'NR-PI 2.0 Structure'!$C$5,(VLOOKUP(N182,'NR-PI 2.0 Structure'!$C$39:$D$40,2,FALSE)),0)),\" - \")","v":" - "},{"$f":"IFERROR(IF(ISBLANK(I182),\"N/A\",IF(I182<>'NR-PI 2.0 Structure'!$C$5,(VLOOKUP(N182,'NR-PI 2.0 Structure'!$C$39:$E$40,3,FALSE)),0)),\" - \")","v":" - "},"-","-","-","N/A",{"$f":"IF(ISBLANK('P Index Inputs'!R184),\"-\",'P Index Inputs'!R184)","v":"-"},{"$f":"IFERROR(IF(I182<>'NR-PI 2.0 Structure'!$C$5,VLOOKUP(AA182,'NR-PI 2.0 Structure'!$G$5:$H$9,2,FALSE),IF(OR(AA182='NR-PI 2.0 Structure'!$G$5,AA182='NR-PI 2.0 Structure'!$G$6,AA182='NR-PI 2.0 Structure'!$G$7),1,VLOOKUP(AA182,'NR-PI 2.0 Structure'!$G$8:$H$9,2,FALSE))),\"-\")","v":"-"},{"$f":"IF(ISBLANK('P Index Inputs'!S184),\"-\",'P Index Inputs'!S184)","v":"-"},{"$f":"IFERROR(VLOOKUP(AC182,'NR-PI 2.0 Structure'!$G$14:$H$19,2,FALSE),\"-\")","v":"-"},"-","-","N/A","N/A",0,0,0,0,0,0,0,0,0]
[{"$f":"'P Index Inputs'!A185","v":0},{"$f":"'P Index Inputs'!B185","v":0},{"$f":"'P Index Inputs'!C185","v":0},{"$f":"'P Index Inputs'!D185","v":0},{"$f":"'P Index Inputs'!E185","v":0},{"$f":"'P Index Inputs'!F185","v":0},{"$f":"'P Index Inputs'!H185","v":0},{"$f":"'P Index Inputs'!I185","v":0},{"$f":"'P Index Inputs'!J185","v":0},{"$f":"IF(ISBLANK('P Index Inputs'!L185),'P Index Inputs'!K185,'P Index Inputs'!L185)","v":"-"},{"$f":"'P Index Inputs'!M185","v":0},{"$f":"'P Index Inputs'!O185","v":0},{"$f":"'P Index Inputs'!P185","v":0},{"$f":"'P Index Inputs'!Q185","v":0},{"$f":"IFERROR(VLOOKUP(I183,'NR-PI 2.0 Structure'!$C$5:$D$8,2,FALSE),\"-\")","v":"-"},{"$f":"IFERROR(VLOOKUP(J183,'NR-PI 2.0 Structure'!$B$12:$C$16,2,FALSE),\"-\")","v":"-"},{"$f":"IFERROR(VLOOKUP(K183,'NR-PI 2.0 Structure'!$B$20:$D$21,3,FALSE),\"-\")","v":"-"},{"$f":"IFERROR(VLOOKUP(L183,'NR-PI 2.0 Structure'!$B$25:$C$28,2,FALSE),\"-\")","v":"-"},{"$f":"IFERROR(VLOOKUP(L183,'NR-PI 2.0 Structure'!$B$25:$D$28,3,FALSE),\"-\")","v":"-"},{"$f":"IFERROR(\n  IF(M183 = \"≤ 1\", 'NR-PI 2.0 Structure'!$D$32,\n  IF(M183 = \">1 - 3\", 'NR-PI 2.0 Structure'!$D$33,\n  IF(M183 = \">3 - 5\", 'NR-PI 2.0 Structure'!$D$34,\n  IF(M183 = \"> 5\", 'NR-PI 2.0 Structure'!$D$35, )))),\n\"-\")","v":0},{"$f":"IFERROR(IF(ISBLANK(I183),\"N/A\",IF(I183<>'NR-PI 2.0 Structure'!$C$5,(VLOOKUP(N183,'NR-PI 2.0 Structure'!$C$39:$D$40,2,FALSE)),0)),\" - \")","v":" - "},{"$f":"IFERROR(IF(ISBLANK(I183),\"N/A\",IF(I183<>'NR-PI 2.0 Structure'!$C$5,(VLOOKUP(N183,'NR-PI 2.0 Structure'!$C$39:$E$40,3,FALSE)),0)),\" - \")","v":" - "},"-","-",{"$f":"IF(W183>X183,W183,X183)","v":"-"},"N/A",{"$f":"IF(ISBLANK('P Index Inputs'!R185),\"-\",'P Index Inputs'!R185)","v":"-"},{"$f":"IFERROR(IF(I183<>'NR-PI 2.0 Structure'!$C$5,VLOOKUP(AA183,'NR-PI 2.0 Structure'!$G$5:$H$9,2,FALSE),IF(OR(AA183='NR-PI 2.0 Structure'!$G$5,AA183='NR-PI 2.0 Structure'!$G$6,AA183='NR-PI 2.0 Structure'!$G$7),1,VLOOKUP(AA183,'NR-PI 2.0 Structure'!$G$8:$H$9,2,FALSE))),\"-\")","v":"-"},{"$f":"IF(ISBLANK('P Index Inputs'!S185),\"-\",'P Index Inputs'!S185)","v":"-"},{"$f":"IFERROR(VLOOKUP(AC183,'NR-PI 2.0 Structure'!$G$14:$H$19,2,FALSE),\"-\")","v":"-"},"-","-","N/A","N/A",0,0,0,0,0,0,0,0,0]
[{"$f":"'P Index Inputs'!A186","v":0},{"$f":"'P Index Inputs'!B186","v":0},{"$f":"'P Index Inputs'!C186","v":0},{"$f":"'P Index Inputs'!D186","v":0},{"$f":"'P Index Inputs'!E186","v":0},{"$f":"'P Index Inputs'!F186","v":0},{"$f":"'P Index Inputs'!H186","v":0},{"$f":"'P Index Inputs'!I186","v":0},{"$f":"'P Index Inputs'!J186","v":0},{"$f":"IF(ISBLANK('P Index Inputs'!L186),'P Index Inputs'!K186,'P Index Inputs'!L186)","v":"-"},{"$f":"'P Index Inputs'!M186","v":0},{"$f":"'P Index Inputs'!O186","v":0},{"$f":"'P Index Inputs'!P186","v":0},{"$f":"'P Index Inputs'!Q186","v":0},{"$f":"IFERROR(VLOOKUP(I184,'NR-PI 2.0 Structure'!$C$5:$D$8,2,FALSE),\"-\")","v":"-"},{"$f":"IFERROR(VLOOKUP(J184,'NR-PI 2.0 Structure'!$B$12:$C$16,2,FALSE),\"-\")","v":"-"},{"$f":"IFERROR(VLOOKUP(K184,'NR-PI 2.0 Structure'!$B$20:$D$21,3,FALSE),\"-\")","v":"-"},{"$f":"IFERROR(VLOOKUP(L184,'NR-PI 2.0 Structure'!$B$25:$C$28,2,FALSE),\"-\")","v":"-"},{"$f":"IFERROR(VLOOKUP(L184,'NR-PI 2.0 Structure'!$B$25:$D$28,3,FALSE),\"-\")","v":"-"},{"$f":"IFERROR(\n  IF(M184 = \"≤ 1\", 'NR-PI 2.0 Structure'!$D$32,\n  IF(M184 = \">1 - 3\", 'NR-PI 2.0 Structure'!$D$33,\n  IF(M184 = \">3 - 5\", 'NR-PI 2.0 Structure'!$D$34,\n  IF(M184 = \"> 5\", 'NR-PI 2.0 Structure'!$D$35, )))),\n\"-\")","v":0},{"$f":"IFERROR(IF(ISBLANK(I184),\"N/A\",IF(I184<>'NR-PI 2.0 Structure'!$C$5,(VLOOKUP(N184,'NR-PI 2.0 Structure'!$C$39:$D$40,2,FALSE)),0)),\" - \")","v":" - "},{"$f":"IFERROR(IF(ISBLANK(I184),\"N/A\",IF(I184<>'NR-PI 2.0 Structure'!$C$5,(VLOOKUP(N184,'NR-PI 2.0 Structure'!$C$39:$E$40,3,FALSE)),0)),\" - \")","v":" - "},"-","-","-","N/A",{"$f":"IF(ISBLANK('P Index Inputs'!R186),\"-\",'P Index Inputs'!R186)","v":"-"},{"$f":"IFERROR(IF(I184<>'NR-PI 2.0 Structure'!$C$5,VLOOKUP(AA184,'NR-PI 2.0 Structure'!$G$5:$H$9,2,FALSE),IF(OR(AA184='NR-PI 2.0 Structure'!$G$5,AA184='NR-PI 2.0 Structure'!$G$6,AA184='NR-PI 2.0 Structure'!$G$7),1,VLOOKUP(AA184,'NR-PI 2.0 Structure'!$G$8:$H$9,2,FALSE))),\"-\")","v":"-"},{"$f":"IF(ISBLANK('P Index Inputs'!S186),\"-\",'P Index Inputs'!S186)","v":"-"},{"$f":"IFERROR(VLOOKUP(AC184,'NR-PI 2.0 Structure'!$G$14:$H$19,2,FALSE),\"-\")","v":"-"},"-","-","N/A","N/A",0,0,0,0,0,0,0,0,0]
[{"$f":"'P Index Inputs'!A187","v":0},{"$f":"'P Index Inputs'!B187","v":0},{"$f":"'P Index Inputs'!C187","v":0},{"$f":"'P Index Inputs'!D187","v":0},{"$f":"'P Index Inputs'!E187","v":0},{"$f":"'P Index Inputs'!F187","v":0},{"$f":"'P Index Inputs'!H187","v":0},{"$f":"'P Index Inputs'!I187","v":0},{"$f":"'P Index Inputs'!J187","v":0},{"$f":"IF(ISBLANK('P Index Inputs'!L187),'P Index Inputs'!K187,'P Index Inputs'!L187)","v":"-"},{"$f":"'P Index Inputs'!M187","v":0},{"$f":"'P Index Inputs'!O187","v":0},{"$f":"'P Index Inputs'!P187","v":0},{"$f":"'P Index Inputs'!Q187","v":0},{"$f":"IFERROR(VLOOKUP(I185,'NR-PI 2.0 Structure'!$C$5:$D$8,2,FALSE),\"-\")","v":"-"},{"$f":"IFERROR(VLOOKUP(J185,'NR-PI 2.0 Structure'!$B$12:$C$16,2,FALSE),\"-\")","v":"-"},{"$f":"IFERROR(VLOOKUP(K185,'NR-PI 2.0 Structure'!$B$20:$D$21,3,FALSE),\"-\")","v":"-"},{"$f":"IFERROR(VLOOKUP(L185,'NR-PI 2.0 Structure'!$B$25:$C$28,2,FALSE),\"-\")","v":"-"},{"$f":"IFERROR(VLOOKUP(L185,'NR-PI 2.0 Structure'!$B$25:$D$28,3,FALSE),\"-\")","v":"-"},{"$f":"IFERROR(\n  IF(M185 = \"≤ 1\", 'NR-PI 2.0 Structure'!$D$32,\n  IF(M185 = \">1 - 3\", 'NR-PI 2.0 Structure'!$D$33,\n  IF(M185 = \">3 - 5\", 'NR-PI 2.0 Structure'!$D$34,\n  IF(M185 = \"> 5\", 'NR-PI 2.0 Structure'!$D$35, )))),\n\"-\")","v":0},{"$f":"IFERROR(IF(ISBLANK(I185),\"N/A\",IF(I185<>'NR-PI 2.0 Structure'!$C$5,(VLOOKUP(N185,'NR-PI 2.0 Structure'!$C$39:$D$40,2,FALSE)),0)),\" - \")","v":" - "},{"$f":"IFERROR(IF(ISBLANK(I185),\"N/A\",IF(I185<>'NR-PI 2.0 Structure'!$C$5,(VLOOKUP(N185,'NR-PI 2.0 Structure'!$C$39:$E$40,3,FALSE)),0)),\" - \")","v":" - "},"-","-","-","N/A",{"$f":"IF(ISBLANK('P Index Inputs'!R187),\"-\",'P Index Inputs'!R187)","v":"-"},{"$f":"IFERROR(IF(I185<>'NR-PI 2.0 Structure'!$C$5,VLOOKUP(AA185,'NR-PI 2.0 Structure'!$G$5:$H$9,2,FALSE),IF(OR(AA185='NR-PI 2.0 Structure'!$G$5,AA185='NR-PI 2.0 Structure'!$G$6,AA185='NR-PI 2.0 Structure'!$G$7),1,VLOOKUP(AA185,'NR-PI 2.0 Structure'!$G$8:$H$9,2,FALSE))),\"-\")","v":"-"},{"$f":"IF(ISBLANK('P Index Inputs'!S187),\"-\",'P Index Inputs'!S187)","v":"-"},{"$f":"IFERROR(VLOOKUP(AC185,'NR-PI 2.0 Structure'!$G$14:$H$19,2,FALSE),\"-\")","v":"-"},"-","-","N/A","N/A",0,0,0,0,0,0,0,0,0]
[{"$f":"'P Index Inputs'!A188","v":0},{"$f":"'P Index Inputs'!B188","v":0},{"$f":"'P Index Inputs'!C188","v":0},{"$f":"'P Index Inputs'!D188","v":0},{"$f":"'P Index Inputs'!E188","v":0},{"$f":"'P Index Inputs'!F188","v":0},{"$f":"'P Index Inputs'!H188","v":0},{"$f":"'P Index Inputs'!I188","v":0},{"$f":"'P Index Inputs'!J188","v":0},{"$f":"IF(ISBLANK('P Index Inputs'!L188),'P Index Inputs'!K188,'P Index Inputs'!L188)","v":"-"},{"$f":"'P Index Inputs'!M188","v":0},{"$f":"'P Index Inputs'!O188","v":0},{"$f":"'P Index Inputs'!P188","v":0},{"$f":"'P Index Inputs'!Q188","v":0},{"$f":"IFERROR(VLOOKUP(I186,'NR-PI 2.0 Structure'!$C$5:$D$8,2,FALSE),\"-\")","v":"-"},{"$f":"IFERROR(VLOOKUP(J186,'NR-PI 2.0 Structure'!$B$12:$C$16,2,FALSE),\"-\")","v":"-"},{"$f":"IFERROR(VLOOKUP(K186,'NR-PI 2.0 Structure'!$B$20:$D$21,3,FALSE),\"-\")","v":"-"},{"$f":"IFERROR(VLOOKUP(L186,'NR-PI 2.0 Structure'!$B$25:$C$28,2,FALSE),\"-\")","v":"-"},{"$f":"IFERROR(VLOOKUP(L186,'NR-PI 2.0 Structure'!$B$25:$D$28,3,FALSE),\"-\")","v":"-"},{"$f":"IFERROR(\n  IF(M186 = \"≤ 1\", 'NR-PI 2.0 Structure'!$D$32,\n  IF(M186 = \">1 - 3\", 'NR-PI 2.0 Structure'!$D$33,\n  IF(M186 = \">3 - 5\", 'NR-PI 2.0 Structure'!$D$34,\n  IF(M186 = \"> 5\", 'NR-PI 2.0 Structure'!$D$35, )))),\n\"-\")","v":0},{"$f":"IFERROR(IF(ISBLANK(I186),\"N/A\",IF(I186<>'NR-PI 2.0 Structure'!$C$5,(VLOOKUP(N186,'NR-PI 2.0 Structure'!$C$39:$D$40,2,FALSE)),0)),\" - \")","v":" - "},{"$f":"IFERROR(IF(ISBLANK(I186),\"N/A\",IF(I186<>'NR-PI 2.0 Structure'!$C$5,(VLOOKUP(N186,'NR-PI 2.0 Structure'!$C$39:$E$40,3,FALSE)),0)),\" - \")","v":" - "},"-","-","-","N/A",{"$f":"IF(ISBLANK('P Index Inputs'!R188),\"-\",'P Index Inputs'!R188)","v":"-"},{"$f":"IFERROR(IF(I186<>'NR-PI 2.0 Structure'!$C$5,VLOOKUP(AA186,'NR-PI 2.0 Structure'!$G$5:$H$9,2,FALSE),IF(OR(AA186='NR-PI 2.0 Structure'!$G$5,AA186='NR-PI 2.0 Structure'!$G$6,AA186='NR-PI 2.0 Structure'!$G$7),1,VLOOKUP(AA186,'NR-PI 2.0 Structure'!$G$8:$H$9,2,FALSE))),\"-\")","v":"-"},{"$f":"IF(ISBLANK('P Index Inputs'!S188),\"-\",'P Index Inputs'!S188)","v":"-"},{"$f":"IFERROR(VLOOKUP(AC186,'NR-PI 2.0 Structure'!$G$14:$H$19,2,FALSE),\"-\")","v":"-"},"-","-","N/A","N/A",0,0,0,0,0,0,0,0,0]
[{"$f":"'P Index Inputs'!A189","v":0},{"$f":"'P Index Inputs'!B189","v":0},{"$f":"'P Index Inputs'!C189","v":0},{"$f":"'P Index Inputs'!D189","v":0},{"$f":"'P Index Inputs'!E189","v":0},{"$f":"'P Index Inputs'!F189","v":0},{"$f":"'P Index Inputs'!H189","v":0},{"$f":"'P Index Inputs'!I189","v":0},{"$f":"'P Index Inputs'!J189","v":0},{"$f":"IF(ISBLANK('P Index Inputs'!L189),'P Index Inputs'!K189,'P Index Inputs'!L189)","v":"-"},{"$f":"'P Index Inputs'!M189","v":0},{"$f":"'P Index Inputs'!O189","v":0},{"$f":"'P Index Inputs'!P189","v":0},{"$f":"'P Index Inputs'!Q189","v":0},{"$f":"IFERROR(VLOOKUP(I187,'NR-PI 2.0 Structure'!$C$5:$D$8,2,FALSE),\"-\")","v":"-"},{"$f":"IFERROR(VLOOKUP(J187,'NR-PI 2.0 Structure'!$B$12:$C$16,2,FALSE),\"-\")","v":"-"},{"$f":"IFERROR(VLOOKUP(K187,'NR-PI 2.0 Structure'!$B$20:$D$21,3,FALSE),\"-\")","v":"-"},{"$f":"IFERROR(VLOOKUP(L187,'NR-PI 2.0 Structure'!$B$25:$C$28,2,FALSE),\"-\")","v":"-"},{"$f":"IFERROR(VLOOKUP(L187,'NR-PI 2.0 Structure'!$B$25:$D$28,3,FALSE),\"-\")","v":"-"},{"$f":"IFERROR(\n  IF(M187 = \"≤ 1\", 'NR-PI 2.0 Structure'!$D$32,\n  IF(M187 = \">1 - 3\", 'NR-PI 2.0 Structure'!$D$33,\n  IF(M187 = \">3 - 5\", 'NR-PI 2.0 Structure'!$D$34,\n  IF(M187 = \"> 5\", 'NR-PI 2.0 Structure'!$D$35, )))),\n\"-\")","v":0},{"$f":"IFERROR(IF(ISBLANK(I187),\"N/A\",IF(I187<>'NR-PI 2.0 Structure'!$C$5,(VLOOKUP(N187,'NR-PI 2.0 Structure'!$C$39:$D$40,2,FALSE)),0)),\" - \")","v":" - "},{"$f":"IFERROR(IF(ISBLANK(I187),\"N/A\",IF(I187<>'NR-PI 2.0 Structure'!$C$5,(VLOOKUP(N187,'NR-PI 2.0 Structure'!$C$39:$E$40,3,FALSE)),0)),\" - \")","v":" - "},"-","-","-","N/A",{"$f":"IF(ISBLANK('P Index Inputs'!R189),\"-\",'P Index Inputs'!R189)","v":"-"},{"$f":"IFERROR(IF(I187<>'NR-PI 2.0 Structure'!$C$5,VLOOKUP(AA187,'NR-PI 2.0 Structure'!$G$5:$H$9,2,FALSE),IF(OR(AA187='NR-PI 2.0 Structure'!$G$5,AA187='NR-PI 2.0 Structure'!$G$6,AA187='NR-PI 2.0 Structure'!$G$7),1,VLOOKUP(AA187,'NR-PI 2.0 Structure'!$G$8:$H$9,2,FALSE))),\"-\")","v":"-"},{"$f":"IF(ISBLANK('P Index Inputs'!S189),\"-\",'P Index Inputs'!S189)","v":"-"},{"$f":"IFERROR(VLOOKUP(AC187,'NR-PI 2.0 Structure'!$G$14:$H$19,2,FALSE),\"-\")","v":"-"},"-","-","N/A","N/A",0,0,0,0,0,0,0,0,0]
[{"$f":"'P Index Inputs'!A190","v":0},{"$f":"'P Index Inputs'!B190","v":0},{"$f":"'P Index Inputs'!C190","v":0},{"$f":"'P Index Inputs'!D190","v":0},{"$f":"'P Index Inputs'!E190","v":0},{"$f":"'P Index Inputs'!F190","v":0},{"$f":"'P Index Inputs'!H190","v":0},{"$f":"'P Index Inputs'!I190","v":0},{"$f":"'P Index Inputs'!J190","v":0},{"$f":"IF(ISBLANK('P Index Inputs'!L190),'P Index Inputs'!K190,'P Index Inputs'!L190)","v":"-"},{"$f":"'P Index Inputs'!M190","v":0},{"$f":"'P Index Inputs'!O190","v":0},{"$f":"'P Index Inputs'!P190","v":0},{"$f":"'P Index Inputs'!Q190","v":0},{"$f":"IFERROR(VLOOKUP(I188,'NR-PI 2.0 Structure'!$C$5:$D$8,2,FALSE),\"-\")","v":"-"},{"$f":"IFERROR(VLOOKUP(J188,'NR-PI 2.0 Structure'!$B$12:$C$16,2,FALSE),\"-\")","v":"-"},{"$f":"IFERROR(VLOOKUP(K188,'NR-PI 2.0 Structure'!$B$20:$D$21,3,FALSE),\"-\")","v":"-"},{"$f":"IFERROR(VLOOKUP(L188,'NR-PI 2.0 Structure'!$B$25:$C$28,2,FALSE),\"-\")","v":"-"},{"$f":"IFERROR(VLOOKUP(L188,'NR-PI 2.0 Structure'!$B$25:$D$28,3,FALSE),\"-\")","v":"-"},{"$f":"IFERROR(\n  IF(M188 = \"≤ 1\", 'NR-PI 2.0 Structure'!$D$32,\n  IF(M188 = \">1 - 3\", 'NR-PI 2.0 Structure'!$D$33,\n  IF(M188 = \">3 - 5\", 'NR-PI 2.0 Structure'!$D$34,\n  IF(M188 = \"> 5\", 'NR-PI 2.0 Structure'!$D$35, )))),\n\"-\")","v":0},{"$f":"IFERROR(IF(ISBLANK(I188),\"N/A\",IF(I188<>'NR-PI 2.0 Structure'!$C$5,(VLOOKUP(N188,'NR-PI 2.0 Structure'!$C$39:$D$40,2,FALSE)),0)),\" - \")","v":" - "},{"$f":"IFERROR(IF(ISBLANK(I188),\"N/A\",IF(I188<>'NR-PI 2.0 Structure'!$C$5,(VLOOKUP(N188,'NR-PI 2.0 Structure'!$C$39:$E$40,3,FALSE)),0)),\" - \")","v":" - "},"-","-","-","N/A",{"$f":"IF(ISBLANK('P Index Inputs'!R190),\"-\",'P Index Inputs'!R190)","v":"-"},{"$f":"IFERROR(IF(I188<>'NR-PI 2.0 Structure'!$C$5,VLOOKUP(AA188,'NR-PI 2.0 Structure'!$G$5:$H$9,2,FALSE),IF(OR(AA188='NR-PI 2.0 Structure'!$G$5,AA188='NR-PI 2.0 Structure'!$G$6,AA188='NR-PI 2.0 Structure'!$G$7),1,VLOOKUP(AA188,'NR-PI 2.0 Structure'!$G$8:$H$9,2,FALSE))),\"-\")","v":"-"},{"$f":"IF(ISBLANK('P Index Inputs'!S190),\"-\",'P Index Inputs'!S190)","v":"-"},{"$f":"IFERROR(VLOOKUP(AC188,'NR-PI 2.0 Structure'!$G$14:$H$19,2,FALSE),\"-\")","v":"-"},"-","-","N/A","N/A",0,0,0,0,0,0,0,0,0]
[{"$f":"'P Index Inputs'!A191","v":0},{"$f":"'P Index Inputs'!B191","v":0},{"$f":"'P Index Inputs'!C191","v":0},{"$f":"'P Index Inputs'!D191","v":0},{"$f":"'P Index Inputs'!E191","v":0},{"$f":"'P Index Inputs'!F191","v":0},{"$f":"'P Index Inputs'!H191","v":0},{"$f":"'P Index Inputs'!I191","v":0},{"$f":"'P Index Inputs'!J191","v":0},{"$f":"IF(ISBLANK('P Index Inputs'!L191),'P Index Inputs'!K191,'P Index Inputs'!L191)","v":"-"},{"$f":"'P Index Inputs'!M191","v":0},{"$f":"'P Index Inputs'!O191","v":0},{"$f":"'P Index Inputs'!P191","v":0},{"$f":"'P Index Inputs'!Q191","v":0},{"$f":"IFERROR(VLOOKUP(I189,'NR-PI 2.0 Structure'!$C$5:$D$8,2,FALSE),\"-\")","v":"-"},{"$f":"IFERROR(VLOOKUP(J189,'NR-PI 2.0 Structure'!$B$12:$C$16,2,FALSE),\"-\")","v":"-"},{"$f":"IFERROR(VLOOKUP(K189,'NR-PI 2.0 Structure'!$B$20:$D$21,3,FALSE),\"-\")","v":"-"},{"$f":"IFERROR(VLOOKUP(L189,'NR-PI 2.0 Structure'!$B$25:$C$28,2,FALSE),\"-\")","v":"-"},{"$f":"IFERROR(VLOOKUP(L189,'NR-PI 2.0 Structure'!$B$25:$D$28,3,FALSE),\"-\")","v":"-"},{"$f":"IFERROR(\n  IF(M189 = \"≤ 1\", 'NR-PI 2.0 Structure'!$D$32,\n  IF(M189 = \">1 - 3\", 'NR-PI 2.0 Structure'!$D$33,\n  IF(M189 = \">3 - 5\", 'NR-PI 2.0 Structure'!$D$34,\n  IF(M189 = \"> 5\", 'NR-PI 2.0 Structure'!$D$35, )))),\n\"-\")","v":0},{"$f":"IFERROR(IF(ISBLANK(I189),\"N/A\",IF(I189<>'NR-PI 2.0 Structure'!$C$5,(VLOOKUP(N189,'NR-PI 2.0 Structure'!$C$39:$D$40,2,FALSE)),0)),\" - \")","v":" - "},{"$f":"IFERROR(IF(ISBLANK(I189),\"N/A\",IF(I189<>'NR-PI 2.0 Structure'!$C$5,(VLOOKUP(N189,'NR-PI 2.0 Structure'!$C$39:$E$40,3,FALSE)),0)),\" - \")","v":" - "},"-","-","-","N/A",{"$f":"IF(ISBLANK('P Index Inputs'!R191),\"-\",'P Index Inputs'!R191)","v":"-"},{"$f":"IFERROR(IF(I189<>'NR-PI 2.0 Structure'!$C$5,VLOOKUP(AA189,'NR-PI 2.0 Structure'!$G$5:$H$9,2,FALSE),IF(OR(AA189='NR-PI 2.0 Structure'!$G$5,AA189='NR-PI 2.0 Structure'!$G$6,AA189='NR-PI 2.0 Structure'!$G$7),1,VLOOKUP(AA189,'NR-PI 2.0 Structure'!$G$8:$H$9,2,FALSE))),\"-\")","v":"-"},{"$f":"IF(ISBLANK('P Index Inputs'!S191),\"-\",'P Index Inputs'!S191)","v":"-"},{"$f":"IFERROR(VLOOKUP(AC189,'NR-PI 2.0 Structure'!$G$14:$H$19,2,FALSE),\"-\")","v":"-"},"-","-","N/A","N/A",0,0,0,0,0,0,0,0,0]
[{"$f":"'P Index Inputs'!A192","v":0},{"$f":"'P Index Inputs'!B192","v":0},{"$f":"'P Index Inputs'!C192","v":0},{"$f":"'P Index Inputs'!D192","v":0},{"$f":"'P Index Inputs'!E192","v":0},{"$f":"'P Index Inputs'!F192","v":0},{"$f":"'P Index Inputs'!H192","v":0},{"$f":"'P Index Inputs'!I192","v":0},{"$f":"'P Index Inputs'!J192","v":0},{"$f":"IF(ISBLANK('P Index Inputs'!L192),'P Index Inputs'!K192,'P Index Inputs'!L192)","v":"-"},{"$f":"'P Index Inputs'!M192","v":0},{"$f":"'P Index Inputs'!O192","v":0},{"$f":"'P Index Inputs'!P192","v":0},{"$f":"'P Index Inputs'!Q192","v":0},{"$f":"IFERROR(VLOOKUP(I190,'NR-PI 2.0 Structure'!$C$5:$D$8,2,FALSE),\"-\")","v":"-"},{"$f":"IFERROR(VLOOKUP(J190,'NR-PI 2.0 Structure'!$B$12:$C$16,2,FALSE),\"-\")","v":"-"},{"$f":"IFERROR(VLOOKUP(K190,'NR-PI 2.0 Structure'!$B$20:$D$21,3,FALSE),\"-\")","v":"-"},{"$f":"IFERROR(VLOOKUP(L190,'NR-PI 2.0 Structure'!$B$25:$C$28,2,FALSE),\"-\")","v":"-"},{"$f":"IFERROR(VLOOKUP(L190,'NR-PI 2.0 Structure'!$B$25:$D$28,3,FALSE),\"-\")","v":"-"},{"$f":"IFERROR(\n  IF(M190 = \"≤ 1\", 'NR-PI 2.0 Structure'!$D$32,\n  IF(M190 = \">1 - 3\", 'NR-PI 2.0 Structure'!$D$33,\n  IF(M190 = \">3 - 5\", 'NR-PI 2.0 Structure'!$D$34,\n  IF(M190 = \"> 5\", 'NR-PI 2.0 Structure'!$D$35, )))),\n\"-\")","v":0},{"$f":"IFERROR(IF(ISBLANK(I190),\"N/A\",IF(I190<>'NR-PI 2.0 Structure'!$C$5,(VLOOKUP(N190,'NR-PI 2.0 Structure'!$C$39:$D$40,2,FALSE)),0)),\" - \")","v":" - "},{"$f":"IFERROR(IF(ISBLANK(I190),\"N/A\",IF(I190<>'NR-PI 2.0 Structure'!$C$5,(VLOOKUP(N190,'NR-PI 2.0 Structure'!$C$39:$E$40,3,FALSE)),0)),\" - \")","v":" - "},"-","-","-","N/A",{"$f":"IF(ISBLANK('P Index Inputs'!R192),\"-\",'P Index Inputs'!R192)","v":"-"},{"$f":"IFERROR(IF(I190<>'NR-PI 2.0 Structure'!$C$5,VLOOKUP(AA190,'NR-PI 2.0 Structure'!$G$5:$H$9,2,FALSE),IF(OR(AA190='NR-PI 2.0 Structure'!$G$5,AA190='NR-PI 2.0 Structure'!$G$6,AA190='NR-PI 2.0 Structure'!$G$7),1,VLOOKUP(AA190,'NR-PI 2.0 Structure'!$G$8:$H$9,2,FALSE))),\"-\")","v":"-"},{"$f":"IF(ISBLANK('P Index Inputs'!S192),\"-\",'P Index Inputs'!S192)","v":"-"},{"$f":"IFERROR(VLOOKUP(AC190,'NR-PI 2.0 Structure'!$G$14:$H$19,2,FALSE),\"-\")","v":"-"},"-","-","N/A","N/A",0,0,0,0,0,0,0,0,0]
[{"$f":"'P Index Inputs'!A193","v":0},{"$f":"'P Index Inputs'!B193","v":0},{"$f":"'P Index Inputs'!C193","v":0},{"$f":"'P Index Inputs'!D193","v":0},{"$f":"'P Index Inputs'!E193","v":0},{"$f":"'P Index Inputs'!F193","v":0},{"$f":"'P Index Inputs'!H193","v":0},{"$f":"'P Index Inputs'!I193","v":0},{"$f":"'P Index Inputs'!J193","v":0},{"$f":"IF(ISBLANK('P Index Inputs'!L193),'P Index Inputs'!K193,'P Index Inputs'!L193)","v":"-"},{"$f":"'P Index Inputs'!M193","v":0},{"$f":"'P Index Inputs'!O193","v":0},{"$f":"'P Index Inputs'!P193","v":0},{"$f":"'P Index Inputs'!Q193","v":0},{"$f":"IFERROR(VLOOKUP(I191,'NR-PI 2.0 Structure'!$C$5:$D$8,2,FALSE),\"-\")","v":"-"},{"$f":"IFERROR(VLOOKUP(J191,'NR-PI 2.0 Structure'!$B$12:$C$16,2,FALSE),\"-\")","v":"-"},{"$f":"IFERROR(VLOOKUP(K191,'NR-PI 2.0 Structure'!$B$20:$D$21,3,FALSE),\"-\")","v":"-"},{"$f":"IFERROR(VLOOKUP(L191,'NR-PI 2.0 Structure'!$B$25:$C$28,2,FALSE),\"-\")","v":"-"},{"$f":"IFERROR(VLOOKUP(L191,'NR-PI 2.0 Structure'!$B$25:$D$28,3,FALSE),\"-\")","v":"-"},{"$f":"IFERROR(\n  IF(M191 = \"≤ 1\", 'NR-PI 2.0 Structure'!$D$32,\n  IF(M191 = \">1 - 3\", 'NR-PI 2.0 Structure'!$D$33,\n  IF(M191 = \">3 - 5\", 'NR-PI 2.0 Structure'!$D$34,\n  IF(M191 = \"> 5\", 'NR-PI 2.0 Structure'!$D$35, )))),\n\"-\")","v":0},{"$f":"IFERROR(IF(ISBLANK(I191),\"N/A\",IF(I191<>'NR-PI 2.0 Structure'!$C$5,(VLOOKUP(N191,'NR-PI 2.0 Structure'!$C$39:$D$40,2,FALSE)),0)),\" - \")","v":" - "},{"$f":"IFERROR(IF(ISBLANK(I191),\"N/A\",IF(I191<>'NR-PI 2.0 Structure'!$C$5,(VLOOKUP(N191,'NR-PI 2.0 Structure'!$C$39:$E$40,3,FALSE)),0)),\" - \")","v":" - "},"-","-","-","N/A",{"$f":"IF(ISBLANK('P Index Inputs'!R193),\"-\",'P Index Inputs'!R193)","v":"-"},{"$f":"IFERROR(IF(I191<>'NR-PI 2.0 Structure'!$C$5,VLOOKUP(AA191,'NR-PI 2.0 Structure'!$G$5:$H$9,2,FALSE),IF(OR(AA191='NR-PI 2.0 Structure'!$G$5,AA191='NR-PI 2.0 Structure'!$G$6,AA191='NR-PI 2.0 Structure'!$G$7),1,VLOOKUP(AA191,'NR-PI 2.0 Structure'!$G$8:$H$9,2,FALSE))),\"-\")","v":"-"},{"$f":"IF(ISBLANK('P Index Inputs'!S193),\"-\",'P Index Inputs'!S193)","v":"-"},{"$f":"IFERROR(VLOOKUP(AC191,'NR-PI 2.0 Structure'!$G$14:$H$19,2,FALSE),\"-\")","v":"-"},"-","-","N/A","N/A",0,0,0,0,0,0,0,0,0]
[{"$f":"'P Index Inputs'!A194","v":0},{"$f":"'P Index Inputs'!B194","v":0},{"$f":"'P Index Inputs'!C194","v":0},{"$f":"'P Index Inputs'!D194","v":0},{"$f":"'P Index Inputs'!E194","v":0},{"$f":"'P Index Inputs'!F194","v":0},{"$f":"'P Index Inputs'!H194","v":0},{"$f":"'P Index Inputs'!I194","v":0},{"$f":"'P Index Inputs'!J194","v":0},{"$f":"IF(ISBLANK('P Index Inputs'!L194),'P Index Inputs'!K194,'P Index Inputs'!L194)","v":"-"},{"$f":"'P Index Inputs'!M194","v":0},{"$f":"'P Index Inputs'!O194","v":0},{"$f":"'P Index Inputs'!P194","v":0},{"$f":"'P Index Inputs'!Q194","v":0},{"$f":"IFERROR(VLOOKUP(I192,'NR-PI 2.0 Structure'!$C$5:$D$8,2,FALSE),\"-\")","v":"-"},{"$f":"IFERROR(VLOOKUP(J192,'NR-PI 2.0 Structure'!$B$12:$C$16,2,FALSE),\"-\")","v":"-"},{"$f":"IFERROR(VLOOKUP(K192,'NR-PI 2.0 Structure'!$B$20:$D$21,3,FALSE),\"-\")","v":"-"},{"$f":"IFERROR(VLOOKUP(L192,'NR-PI 2.0 Structure'!$B$25:$C$28,2,FALSE),\"-\")","v":"-"},{"$f":"IFERROR(VLOOKUP(L192,'NR-PI 2.0 Structure'!$B$25:$D$28,3,FALSE),\"-\")","v":"-"},{"$f":"IFERROR(\n  IF(M192 = \"≤ 1\", 'NR-PI 2.0 Structure'!$D$32,\n  IF(M192 = \">1 - 3\", 'NR-PI 2.0 Structure'!$D$33,\n  IF(M192 = \">3 - 5\", 'NR-PI 2.0 Structure'!$D$34,\n  IF(M192 = \"> 5\", 'NR-PI 2.0 Structure'!$D$35, )))),\n\"-\")","v":0},{"$f":"IFERROR(IF(ISBLANK(I192),\"N/A\",IF(I192<>'NR-PI 2.0 Structure'!$C$5,(VLOOKUP(N192,'NR-PI 2.0 Structure'!$C$39:$D$40,2,FALSE)),0)),\" - \")","v":" - "},{"$f":"IFERROR(IF(ISBLANK(I192),\"N/A\",IF(I192<>'NR-PI 2.0 Structure'!$C$5,(VLOOKUP(N192,'NR-PI 2.0 Structure'!$C$39:$E$40,3,FALSE)),0)),\" - \")","v":" - "},"-","-","-","N/A",{"$f":"IF(ISBLANK('P Index Inputs'!R194),\"-\",'P Index Inputs'!R194)","v":"-"},{"$f":"IFERROR(IF(I192<>'NR-PI 2.0 Structure'!$C$5,VLOOKUP(AA192,'NR-PI 2.0 Structure'!$G$5:$H$9,2,FALSE),IF(OR(AA192='NR-PI 2.0 Structure'!$G$5,AA192='NR-PI 2.0 Structure'!$G$6,AA192='NR-PI 2.0 Structure'!$G$7),1,VLOOKUP(AA192,'NR-PI 2.0 Structure'!$G$8:$H$9,2,FALSE))),\"-\")","v":"-"},{"$f":"IF(ISBLANK('P Index Inputs'!S194),\"-\",'P Index Inputs'!S194)","v":"-"},{"$f":"IFERROR(VLOOKUP(AC192,'NR-PI 2.0 Structure'!$G$14:$H$19,2,FALSE),\"-\")","v":"-"},"-","-","N/A","N/A",0,0,0,0,0,0,0,0,0]
[{"$f":"'P Index Inputs'!A195","v":0},{"$f":"'P Index Inputs'!B195","v":0},{"$f":"'P Index Inputs'!C195","v":0},{"$f":"'P Index Inputs'!D195","v":0},{"$f":"'P Index Inputs'!E195","v":0},{"$f":"'P Index Inputs'!F195","v":0},{"$f":"'P Index Inputs'!H195","v":0},{"$f":"'P Index Inputs'!I195","v":0},{"$f":"'P Index Inputs'!J195","v":0},{"$f":"IF(ISBLANK('P Index Inputs'!L195),'P Index Inputs'!K195,'P Index Inputs'!L195)","v":"-"},{"$f":"'P Index Inputs'!M195","v":0},{"$f":"'P Index Inputs'!O195","v":0},{"$f":"'P Index Inputs'!P195","v":0},{"$f":"'P Index Inputs'!Q195","v":0},{"$f":"IFERROR(VLOOKUP(I193,'NR-PI 2.0 Structure'!$C$5:$D$8,2,FALSE),\"-\")","v":"-"},{"$f":"IFERROR(VLOOKUP(J193,'NR-PI 2.0 Structure'!$B$12:$C$16,2,FALSE),\"-\")","v":"-"},{"$f":"IFERROR(VLOOKUP(K193,'NR-PI 2.0 Structure'!$B$20:$D$21,3,FALSE),\"-\")","v":"-"},{"$f":"IFERROR(VLOOKUP(L193,'NR-PI 2.0 Structure'!$B$25:$C$28,2,FALSE),\"-\")","v":"-"},{"$f":"IFERROR(VLOOKUP(L193,'NR-PI 2.0 Structure'!$B$25:$D$28,3,FALSE),\"-\")","v":"-"},{"$f":"IFERROR(\n  IF(M193 = \"≤ 1\", 'NR-PI 2.0 Structure'!$D$32,\n  IF(M193 = \">1 - 3\", 'NR-PI 2.0 Structure'!$D$33,\n  IF(M193 = \">3 - 5\", 'NR-PI 2.0 Structure'!$D$34,\n  IF(M193 = \"> 5\", 'NR-PI 2.0 Structure'!$D$35, )))),\n\"-\")","v":0},{"$f":"IFERROR(IF(ISBLANK(I193),\"N/A\",IF(I193<>'NR-PI 2.0 Structure'!$C$5,(VLOOKUP(N193,'NR-PI 2.0 Structure'!$C$39:$D$40,2,FALSE)),0)),\" - \")","v":" - "},{"$f":"IFERROR(IF(ISBLANK(I193),\"N/A\",IF(I193<>'NR-PI 2.0 Structure'!$C$5,(VLOOKUP(N193,'NR-PI 2.0 Structure'!$C$39:$E$40,3,FALSE)),0)),\" - \")","v":" - "},"-","-","-","N/A",{"$f":"IF(ISBLANK('P Index Inputs'!R195),\"-\",'P Index Inputs'!R195)","v":"-"},{"$f":"IFERROR(IF(I193<>'NR-PI 2.0 Structure'!$C$5,VLOOKUP(AA193,'NR-PI 2.0 Structure'!$G$5:$H$9,2,FALSE),IF(OR(AA193='NR-PI 2.0 Structure'!$G$5,AA193='NR-PI 2.0 Structure'!$G$6,AA193='NR-PI 2.0 Structure'!$G$7),1,VLOOKUP(AA193,'NR-PI 2.0 Structure'!$G$8:$H$9,2,FALSE))),\"-\")","v":"-"},{"$f":"IF(ISBLANK('P Index Inputs'!S195),\"-\",'P Index Inputs'!S195)","v":"-"},{"$f":"IFERROR(VLOOKUP(AC193,'NR-PI 2.0 Structure'!$G$14:$H$19,2,FALSE),\"-\")","v":"-"},"-","-","N/A","N/A",0,0,0,0,0,0,0,0,0]
[{"$f":"'P Index Inputs'!A196","v":0},{"$f":"'P Index Inputs'!B196","v":0},{"$f":"'P Index Inputs'!C196","v":0},{"$f":"'P Index Inputs'!D196","v":0},{"$f":"'P Index Inputs'!E196","v":0},{"$f":"'P Index Inputs'!F196","v":0},{"$f":"'P Index Inputs'!H196","v":0},{"$f":"'P Index Inputs'!I196","v":0},{"$f":"'P Index Inputs'!J196","v":0},{"$f":"IF(ISBLANK('P Index Inputs'!L196),'P Index Inputs'!K196,'P Index Inputs'!L196)","v":"-"},{"$f":"'P Index Inputs'!M196","v":0},{"$f":"'P Index Inputs'!O196","v":0},{"$f":"'P Index Inputs'!P196","v":0},{"$f":"'P Index Inputs'!Q196","v":0},{"$f":"IFERROR(VLOOKUP(I194,'NR-PI 2.0 Structure'!$C$5:$D$8,2,FALSE),\"-\")","v":"-"},{"$f":"IFERROR(VLOOKUP(J194,'NR-PI 2.0 Structure'!$B$12:$C$16,2,FALSE),\"-\")","v":"-"},{"$f":"IFERROR(VLOOKUP(K194,'NR-PI 2.0 Structure'!$B$20:$D$21,3,FALSE),\"-\")","v":"-"},{"$f":"IFERROR(VLOOKUP(L194,'NR-PI 2.0 Structure'!$B$25:$C$28,2,FALSE),\"-\")","v":"-"},{"$f":"IFERROR(VLOOKUP(L194,'NR-PI 2.0 Structure'!$B$25:$D$28,3,FALSE),\"-\")","v":"-"},{"$f":"IFERROR(\n  IF(M194 = \"≤ 1\", 'NR-PI 2.0 Structure'!$D$32,\n  IF(M194 = \">1 - 3\", 'NR-PI 2.0 Structure'!$D$33,\n  IF(M194 = \">3 - 5\", 'NR-PI 2.0 Structure'!$D$34,\n  IF(M194 = \"> 5\", 'NR-PI 2.0 Structure'!$D$35, )))),\n\"-\")","v":0},{"$f":"IFERROR(IF(ISBLANK(I194),\"N/A\",IF(I194<>'NR-PI 2.0 Structure'!$C$5,(VLOOKUP(N194,'NR-PI 2.0 Structure'!$C$39:$D$40,2,FALSE)),0)),\" - \")","v":" - "},{"$f":"IFERROR(IF(ISBLANK(I194),\"N/A\",IF(I194<>'NR-PI 2.0 Structure'!$C$5,(VLOOKUP(N194,'NR-PI 2.0 Structure'!$C$39:$E$40,3,FALSE)),0)),\" - \")","v":" - "},"-","-","-","N/A",{"$f":"IF(ISBLANK('P Index Inputs'!R196),\"-\",'P Index Inputs'!R196)","v":"-"},{"$f":"IFERROR(IF(I194<>'NR-PI 2.0 Structure'!$C$5,VLOOKUP(AA194,'NR-PI 2.0 Structure'!$G$5:$H$9,2,FALSE),IF(OR(AA194='NR-PI 2.0 Structure'!$G$5,AA194='NR-PI 2.0 Structure'!$G$6,AA194='NR-PI 2.0 Structure'!$G$7),1,VLOOKUP(AA194,'NR-PI 2.0 Structure'!$G$8:$H$9,2,FALSE))),\"-\")","v":"-"},{"$f":"IF(ISBLANK('P Index Inputs'!S196),\"-\",'P Index Inputs'!S196)","v":"-"},{"$f":"IFERROR(VLOOKUP(AC194,'NR-PI 2.0 Structure'!$G$14:$H$19,2,FALSE),\"-\")","v":"-"},"-","-","N/A","N/A",0,0,0,0,0,0,0,0,0]
[{"$f":"'P Index Inputs'!A197","v":0},{"$f":"'P Index Inputs'!B197","v":0},{"$f":"'P Index Inputs'!C197","v":0},{"$f":"'P Index Inputs'!D197","v":0},{"$f":"'P Index Inputs'!E197","v":0},{"$f":"'P Index Inputs'!F197","v":0},{"$f":"'P Index Inputs'!H197","v":0},{"$f":"'P Index Inputs'!I197","v":0},{"$f":"'P Index Inputs'!J197","v":0},{"$f":"IF(ISBLANK('P Index Inputs'!L197),'P Index Inputs'!K197,'P Index Inputs'!L197)","v":"-"},{"$f":"'P Index Inputs'!M197","v":0},{"$f":"'P Index Inputs'!O197","v":0},{"$f":"'P Index Inputs'!P197","v":0},{"$f":"'P Index Inputs'!Q197","v":0},{"$f":"IFERROR(VLOOKUP(I195,'NR-PI 2.0 Structure'!$C$5:$D$8,2,FALSE),\"-\")","v":"-"},{"$f":"IFERROR(VLOOKUP(J195,'NR-PI 2.0 Structure'!$B$12:$C$16,2,FALSE),\"-\")","v":"-"},{"$f":"IFERROR(VLOOKUP(K195,'NR-PI 2.0 Structure'!$B$20:$D$21,3,FALSE),\"-\")","v":"-"},{"$f":"IFERROR(VLOOKUP(L195,'NR-PI 2.0 Structure'!$B$25:$C$28,2,FALSE),\"-\")","v":"-"},{"$f":"IFERROR(VLOOKUP(L195,'NR-PI 2.0 Structure'!$B$25:$D$28,3,FALSE),\"-\")","v":"-"},{"$f":"IFERROR(\n  IF(M195 = \"≤ 1\", 'NR-PI 2.0 Structure'!$D$32,\n  IF(M195 = \">1 - 3\", 'NR-PI 2.0 Structure'!$D$33,\n  IF(M195 = \">3 - 5\", 'NR-PI 2.0 Structure'!$D$34,\n  IF(M195 = \"> 5\", 'NR-PI 2.0 Structure'!$D$35, )))),\n\"-\")","v":0},{"$f":"IFERROR(IF(ISBLANK(I195),\"N/A\",IF(I195<>'NR-PI 2.0 Structure'!$C$5,(VLOOKUP(N195,'NR-PI 2.0 Structure'!$C$39:$D$40,2,FALSE)),0)),\" - \")","v":" - "},{"$f":"IFERROR(IF(ISBLANK(I195),\"N/A\",IF(I195<>'NR-PI 2.0 Structure'!$C$5,(VLOOKUP(N195,'NR-PI 2.0 Structure'!$C$39:$E$40,3,FALSE)),0)),\" - \")","v":" - "},"-","-","-","N/A",{"$f":"IF(ISBLANK('P Index Inputs'!R197),\"-\",'P Index Inputs'!R197)","v":"-"},{"$f":"IFERROR(IF(I195<>'NR-PI 2.0 Structure'!$C$5,VLOOKUP(AA195,'NR-PI 2.0 Structure'!$G$5:$H$9,2,FALSE),IF(OR(AA195='NR-PI 2.0 Structure'!$G$5,AA195='NR-PI 2.0 Structure'!$G$6,AA195='NR-PI 2.0 Structure'!$G$7),1,VLOOKUP(AA195,'NR-PI 2.0 Structure'!$G$8:$H$9,2,FALSE))),\"-\")","v":"-"},{"$f":"IF(ISBLANK('P Index Inputs'!S197),\"-\",'P Index Inputs'!S197)","v":"-"},{"$f":"IFERROR(VLOOKUP(AC195,'NR-PI 2.0 Structure'!$G$14:$H$19,2,FALSE),\"-\")","v":"-"},"-","-","N/A","N/A",0,0,0,0,0,0,0,0,0]
[{"$f":"'P Index Inputs'!A198","v":0},{"$f":"'P Index Inputs'!B198","v":0},{"$f":"'P Index Inputs'!C198","v":0},{"$f":"'P Index Inputs'!D198","v":0},{"$f":"'P Index Inputs'!E198","v":0},{"$f":"'P Index Inputs'!F198","v":0},{"$f":"'P Index Inputs'!H198","v":0},{"$f":"'P Index Inputs'!I198","v":0},{"$f":"'P Index Inputs'!J198","v":0},{"$f":"IF(ISBLANK('P Index Inputs'!L198),'P Index Inputs'!K198,'P Index Inputs'!L198)","v":"-"},{"$f":"'P Index Inputs'!M198","v":0},{"$f":"'P Index Inputs'!O198","v":0},{"$f":"'P Index Inputs'!P198","v":0},{"$f":"'P Index Inputs'!Q198","v":0},{"$f":"IFERROR(VLOOKUP(I196,'NR-PI 2.0 Structure'!$C$5:$D$8,2,FALSE),\"-\")","v":"-"},{"$f":"IFERROR(VLOOKUP(J196,'NR-PI 2.0 Structure'!$B$12:$C$16,2,FALSE),\"-\")","v":"-"},{"$f":"IFERROR(VLOOKUP(K196,'NR-PI 2.0 Structure'!$B$20:$D$21,3,FALSE),\"-\")","v":"-"},{"$f":"IFERROR(VLOOKUP(L196,'NR-PI 2.0 Structure'!$B$25:$C$28,2,FALSE),\"-\")","v":"-"},{"$f":"IFERROR(VLOOKUP(L196,'NR-PI 2.0 Structure'!$B$25:$D$28,3,FALSE),\"-\")","v":"-"},{"$f":"IFERROR(\n  IF(M196 = \"≤ 1\", 'NR-PI 2.0 Structure'!$D$32,\n  IF(M196 = \">1 - 3\", 'NR-PI 2.0 Structure'!$D$33,\n  IF(M196 = \">3 - 5\", 'NR-PI 2.0 Structure'!$D$34,\n  IF(M196 = \"> 5\", 'NR-PI 2.0 Structure'!$D$35, )))),\n\"-\")","v":0},{"$f":"IFERROR(IF(ISBLANK(I196),\"N/A\",IF(I196<>'NR-PI 2.0 Structure'!$C$5,(VLOOKUP(N196,'NR-PI 2.0 Structure'!$C$39:$D$40,2,FALSE)),0)),\" - \")","v":" - "},{"$f":"IFERROR(IF(ISBLANK(I196),\"N/A\",IF(I196<>'NR-PI 2.0 Structure'!$C$5,(VLOOKUP(N196,'NR-PI 2.0 Structure'!$C$39:$E$40,3,FALSE)),0)),\" - \")","v":" - "},"-","-","-","N/A",{"$f":"IF(ISBLANK('P Index Inputs'!R198),\"-\",'P Index Inputs'!R198)","v":"-"},{"$f":"IFERROR(IF(I196<>'NR-PI 2.0 Structure'!$C$5,VLOOKUP(AA196,'NR-PI 2.0 Structure'!$G$5:$H$9,2,FALSE),IF(OR(AA196='NR-PI 2.0 Structure'!$G$5,AA196='NR-PI 2.0 Structure'!$G$6,AA196='NR-PI 2.0 Structure'!$G$7),1,VLOOKUP(AA196,'NR-PI 2.0 Structure'!$G$8:$H$9,2,FALSE))),\"-\")","v":"-"},{"$f":"IF(ISBLANK('P Index Inputs'!S198),\"-\",'P Index Inputs'!S198)","v":"-"},{"$f":"IFERROR(VLOOKUP(AC196,'NR-PI 2.0 Structure'!$G$14:$H$19,2,FALSE),\"-\")","v":"-"},"-","-","N/A","N/A",{"$f":"IFERROR(IF(AH196=\"N-based\",F196,0),\"-\")","v":0},{"$f":"IFERROR(IF(AH196 = \"P-based\", F196, 0),\"-\")","v":0},0,{"$f":"IFERROR(IF(AND(E196=\"sod\",AH196=\"N-based\"),F196,0),\"-\")","v":0},{"$f":"IFERROR(IF(AND(E196=\"sod\",AH196=\"P-based\"),F196,0),\"-\")","v":0},0,{"$f":"IFERROR(IF(AND(E196=\"row\",AH196=\"N-based\"),F196,0),\"-\")","v":0},{"$f":"IFERROR(IF(AND(E196=\"row\",AH196=\"P-based\"),F196,0),\"-\")","v":0},0]
[{"$f":"'P Index Inputs'!A199","v":0},{"$f":"'P Index Inputs'!B199","v":0},{"$f":"'P Index Inputs'!C199","v":0},{"$f":"'P Index Inputs'!D199","v":0},{"$f":"'P Index Inputs'!E199","v":0},{"$f":"'P Index Inputs'!F199","v":0},{"$f":"'P Index Inputs'!H199","v":0},{"$f":"'P Index Inputs'!I199","v":0},{"$f":"'P Index Inputs'!J199","v":0},{"$f":"IF(ISBLANK('P Index Inputs'!L199),'P Index Inputs'!K199,'P Index Inputs'!L199)","v":"-"},{"$f":"'P Index Inputs'!M199","v":0},{"$f":"'P Index Inputs'!O199","v":0},{"$f":"'P Index Inputs'!P199","v":0},{"$f":"'P Index Inputs'!Q199","v":0},{"$f":"IFERROR(VLOOKUP(I197,'NR-PI 2.0 Structure'!$C$5:$D$8,2,FALSE),\"-\")","v":"-"},{"$f":"IFERROR(VLOOKUP(J197,'NR-PI 2.0 Structure'!$B$12:$C$16,2,FALSE),\"-\")","v":"-"},{"$f":"IFERROR(VLOOKUP(K197,'NR-PI 2.0 Structure'!$B$20:$D$21,3,FALSE),\"-\")","v":"-"},{"$f":"IFERROR(VLOOKUP(L197,'NR-PI 2.0 Structure'!$B$25:$C$28,2,FALSE),\"-\")","v":"-"},{"$f":"IFERROR(VLOOKUP(L197,'NR-PI 2.0 Structure'!$B$25:$D$28,3,FALSE),\"-\")","v":"-"},{"$f":"IFERROR(\n  IF(M197 = \"≤ 1\", 'NR-PI 2.0 Structure'!$D$32,\n  IF(M197 = \">1 - 3\", 'NR-PI 2.0 Structure'!$D$33,\n  IF(M197 = \">3 - 5\", 'NR-PI 2.0 Structure'!$D$34,\n  IF(M197 = \"> 5\", 'NR-PI 2.0 Structure'!$D$35, )))),\n\"-\")","v":0},{"$f":"IFERROR(IF(ISBLANK(I197),\"N/A\",IF(I197<>'NR-PI 2.0 Structure'!$C$5,(VLOOKUP(N197,'NR-PI 2.0 Structure'!$C$39:$D$40,2,FALSE)),0)),\" - \")","v":" - "},{"$f":"IFERROR(IF(ISBLANK(I197),\"N/A\",IF(I197<>'NR-PI 2.0 Structure'!$C$5,(VLOOKUP(N197,'NR-PI 2.0 Structure'!$C$39:$E$40,3,FALSE)),0)),\" - \")","v":" - "},{"$f":"IFERROR(SUM(O197+P197+Q197+R197+U197)*10,\"-\")","v":"-"},{"$f":"IFERROR(SUM(O197+P197+Q197+S197+T197+V197)*10,\"-\")","v":"-"},"-","N/A",{"$f":"IF(ISBLANK('P Index Inputs'!R199),\"-\",'P Index Inputs'!R199)","v":"-"},{"$f":"IFERROR(IF(I197<>'NR-PI 2.0 Structure'!$C$5,VLOOKUP(AA197,'NR-PI 2.0 Structure'!$G$5:$H$9,2,FALSE),IF(OR(AA197='NR-PI 2.0 Structure'!$G$5,AA197='NR-PI 2.0 Structure'!$G$6,AA197='NR-PI 2.0 Structure'!$G$7),1,VLOOKUP(AA197,'NR-PI 2.0 Structure'!$G$8:$H$9,2,FALSE))),\"-\")","v":"-"},{"$f":"IF(ISBLANK('P Index Inputs'!S199),\"-\",'P Index Inputs'!S199)","v":"-"},{"$f":"IFERROR(VLOOKUP(AC197,'NR-PI 2.0 Structure'!$G$14:$H$19,2,FALSE),\"-\")","v":"-"},{"$f":"IFERROR(AB197*AD197,\"-\")","v":"-"},{"$f":"IFERROR(Y197*AE197,\"-\")","v":"-"},{"$f":"IFERROR(IF(AF197<50, \"Low\", IF(AF197<75, \"Medium\", IF(AF197<100, \"High\", IF(AND(AF197>=100,AF197<>\"-\"),\"Very High\",\"N/A\")))),\"N/A\")","v":"N/A"},{"$f":"IF(ISNUMBER(AF197),IF(H197>=160,\"Zero P\",IF(H197>100,IF(AF197<50,\"P-based\",\"Zero P\"),IF(H197>=40,IF(AF197<50,\"N-based\",IF(AF197<100,\"P-based\",\"Zero P\")),IF(H197<40,IF(AF197<75,\"N-based\",IF(AF197<100,\"P-based\",\"Zero P\")))))),\"N/A\")","v":"N/A"},0,0,{"$f":"IFERROR(IF(AH197 = \"Zero P\", F197, 0),\"-\")","v":0},0,0,{"$f":"IFERROR(IF(AND(E197=\"sod\",AH197=\"Zero P\"),F197,0),\"-\")","v":0},0,0,{"$f":"IFERROR(IF(AND(E197=\"row\",AH197=\"Zero P\"),F197,0),\"-\")","v":0}]
[{"$f":"'P Index Inputs'!A200","v":0},{"$f":"'P Index Inputs'!B200","v":0},{"$f":"'P Index Inputs'!C200","v":0},{"$f":"'P Index Inputs'!D200","v":0},{"$f":"'P Index Inputs'!E200","v":0},{"$f":"'P Index Inputs'!F200","v":0},{"$f":"'P Index Inputs'!H200","v":0},{"$f":"'P Index Inputs'!I200","v":0},{"$f":"'P Index Inputs'!J200","v":0},{"$f":"IF(ISBLANK('P Index Inputs'!L200),'P Index Inputs'!K200,'P Index Inputs'!L200)","v":"-"},{"$f":"'P Index Inputs'!M200","v":0},{"$f":"'P Index Inputs'!O200","v":0},{"$f":"'P Index Inputs'!P200","v":0},{"$f":"'P Index Inputs'!Q200","v":0},{"$f":"IFERROR(VLOOKUP(I198,'NR-PI 2.0 Structure'!$C$5:$D$8,2,FALSE),\"-\")","v":"-"},{"$f":"IFERROR(VLOOKUP(J198,'NR-PI 2.0 Structure'!$B$12:$C$16,2,FALSE),\"-\")","v":"-"},{"$f":"IFERROR(VLOOKUP(K198,'NR-PI 2.0 Structure'!$B$20:$D$21,3,FALSE),\"-\")","v":"-"},{"$f":"IFERROR(VLOOKUP(L198,'NR-PI 2.0 Structure'!$B$25:$C$28,2,FALSE),\"-\")","v":"-"},{"$f":"IFERROR(VLOOKUP(L198,'NR-PI 2.0 Structure'!$B$25:$D$28,3,FALSE),\"-\")","v":"-"},{"$f":"IFERROR(\n  IF(M198 = \"≤ 1\", 'NR-PI 2.0 Structure'!$D$32,\n  IF(M198 = \">1 - 3\", 'NR-PI 2.0 Structure'!$D$33,\n  IF(M198 = \">3 - 5\", 'NR-PI 2.0 Structure'!$D$34,\n  IF(M198 = \"> 5\", 'NR-PI 2.0 Structure'!$D$35, )))),\n\"-\")","v":0},{"$f":"IFERROR(IF(ISBLANK(I198),\"N/A\",IF(I198<>'NR-PI 2.0 Structure'!$C$5,(VLOOKUP(N198,'NR-PI 2.0 Structure'!$C$39:$D$40,2,FALSE)),0)),\" - \")","v":" - "},{"$f":"IFERROR(IF(ISBLANK(I198),\"N/A\",IF(I198<>'NR-PI 2.0 Structure'!$C$5,(VLOOKUP(N198,'NR-PI 2.0 Structure'!$C$39:$E$40,3,FALSE)),0)),\" - \")","v":" - "},"-","-","-","N/A",{"$f":"IF(ISBLANK('P Index Inputs'!R200),\"-\",'P Index Inputs'!R200)","v":"-"},{"$f":"IFERROR(IF(I198<>'NR-PI 2.0 Structure'!$C$5,VLOOKUP(AA198,'NR-PI 2.0 Structure'!$G$5:$H$9,2,FALSE),IF(OR(AA198='NR-PI 2.0 Structure'!$G$5,AA198='NR-PI 2.0 Structure'!$G$6,AA198='NR-PI 2.0 Structure'!$G$7),1,VLOOKUP(AA198,'NR-PI 2.0 Structure'!$G$8:$H$9,2,FALSE))),\"-\")","v":"-"},{"$f":"IF(ISBLANK('P Index Inputs'!S200),\"-\",'P Index Inputs'!S200)","v":"-"},{"$f":"IFERROR(VLOOKUP(AC198,'NR-PI 2.0 Structure'!$G$14:$H$19,2,FALSE),\"-\")","v":"-"},"-","-","N/A","N/A",0,0,0,0,0,0,0,0,0]
[{"$f":"'P Index Inputs'!A201","v":0},{"$f":"'P Index Inputs'!B201","v":0},{"$f":"'P Index Inputs'!C201","v":0},{"$f":"'P Index Inputs'!D201","v":0},{"$f":"'P Index Inputs'!E201","v":0},{"$f":"'P Index Inputs'!F201","v":0},{"$f":"'P Index Inputs'!H201","v":0},{"$f":"'P Index Inputs'!I201","v":0},{"$f":"'P Index Inputs'!J201","v":0},{"$f":"IF(ISBLANK('P Index Inputs'!L201),'P Index Inputs'!K201,'P Index Inputs'!L201)","v":"-"},{"$f":"'P Index Inputs'!M201","v":0},{"$f":"'P Index Inputs'!O201","v":0},{"$f":"'P Index Inputs'!P201","v":0},{"$f":"'P Index Inputs'!Q201","v":0},{"$f":"IFERROR(VLOOKUP(I199,'NR-PI 2.0 Structure'!$C$5:$D$8,2,FALSE),\"-\")","v":"-"},{"$f":"IFERROR(VLOOKUP(J199,'NR-PI 2.0 Structure'!$B$12:$C$16,2,FALSE),\"-\")","v":"-"},{"$f":"IFERROR(VLOOKUP(K199,'NR-PI 2.0 Structure'!$B$20:$D$21,3,FALSE),\"-\")","v":"-"},{"$f":"IFERROR(VLOOKUP(L199,'NR-PI 2.0 Structure'!$B$25:$C$28,2,FALSE),\"-\")","v":"-"},{"$f":"IFERROR(VLOOKUP(L199,'NR-PI 2.0 Structure'!$B$25:$D$28,3,FALSE),\"-\")","v":"-"},{"$f":"IFERROR(\n  IF(M199 = \"≤ 1\", 'NR-PI 2.0 Structure'!$D$32,\n  IF(M199 = \">1 - 3\", 'NR-PI 2.0 Structure'!$D$33,\n  IF(M199 = \">3 - 5\", 'NR-PI 2.0 Structure'!$D$34,\n  IF(M199 = \"> 5\", 'NR-PI 2.0 Structure'!$D$35, )))),\n\"-\")","v":0},{"$f":"IFERROR(IF(ISBLANK(I199),\"N/A\",IF(I199<>'NR-PI 2.0 Structure'!$C$5,(VLOOKUP(N199,'NR-PI 2.0 Structure'!$C$39:$D$40,2,FALSE)),0)),\" - \")","v":" - "},{"$f":"IFERROR(IF(ISBLANK(I199),\"N/A\",IF(I199<>'NR-PI 2.0 Structure'!$C$5,(VLOOKUP(N199,'NR-PI 2.0 Structure'!$C$39:$E$40,3,FALSE)),0)),\" - \")","v":" - "},"-","-","-","N/A",{"$f":"IF(ISBLANK('P Index Inputs'!R201),\"-\",'P Index Inputs'!R201)","v":"-"},{"$f":"IFERROR(IF(I199<>'NR-PI 2.0 Structure'!$C$5,VLOOKUP(AA199,'NR-PI 2.0 Structure'!$G$5:$H$9,2,FALSE),IF(OR(AA199='NR-PI 2.0 Structure'!$G$5,AA199='NR-PI 2.0 Structure'!$G$6,AA199='NR-PI 2.0 Structure'!$G$7),1,VLOOKUP(AA199,'NR-PI 2.0 Structure'!$G$8:$H$9,2,FALSE))),\"-\")","v":"-"},{"$f":"IF(ISBLANK('P Index Inputs'!S201),\"-\",'P Index Inputs'!S201)","v":"-"},{"$f":"IFERROR(VLOOKUP(AC199,'NR-PI 2.0 Structure'!$G$14:$H$19,2,FALSE),\"-\")","v":"-"},"-","-","N/A","N/A",0,0,0,0,0,0,0,0,0]
[{"$f":"'P Index Inputs'!A202","v":0},{"$f":"'P Index Inputs'!B202","v":0},{"$f":"'P Index Inputs'!C202","v":0},{"$f":"'P Index Inputs'!D202","v":0},{"$f":"'P Index Inputs'!E202","v":0},{"$f":"'P Index Inputs'!F202","v":0},{"$f":"'P Index Inputs'!H202","v":0},{"$f":"'P Index Inputs'!I202","v":0},{"$f":"'P Index Inputs'!J202","v":0},{"$f":"IF(ISBLANK('P Index Inputs'!L202),'P Index Inputs'!K202,'P Index Inputs'!L202)","v":"-"},{"$f":"'P Index Inputs'!M202","v":0},{"$f":"'P Index Inputs'!O202","v":0},{"$f":"'P Index Inputs'!P202","v":0},{"$f":"'P Index Inputs'!Q202","v":0},{"$f":"IFERROR(VLOOKUP(I200,'NR-PI 2.0 Structure'!$C$5:$D$8,2,FALSE),\"-\")","v":"-"},{"$f":"IFERROR(VLOOKUP(J200,'NR-PI 2.0 Structure'!$B$12:$C$16,2,FALSE),\"-\")","v":"-"},{"$f":"IFERROR(VLOOKUP(K200,'NR-PI 2.0 Structure'!$B$20:$D$21,3,FALSE),\"-\")","v":"-"},{"$f":"IFERROR(VLOOKUP(L200,'NR-PI 2.0 Structure'!$B$25:$C$28,2,FALSE),\"-\")","v":"-"},{"$f":"IFERROR(VLOOKUP(L200,'NR-PI 2.0 Structure'!$B$25:$D$28,3,FALSE),\"-\")","v":"-"},{"$f":"IFERROR(\n  IF(M200 = \"≤ 1\", 'NR-PI 2.0 Structure'!$D$32,\n  IF(M200 = \">1 - 3\", 'NR-PI 2.0 Structure'!$D$33,\n  IF(M200 = \">3 - 5\", 'NR-PI 2.0 Structure'!$D$34,\n  IF(M200 = \"> 5\", 'NR-PI 2.0 Structure'!$D$35, )))),\n\"-\")","v":0},{"$f":"IFERROR(IF(ISBLANK(I200),\"N/A\",IF(I200<>'NR-PI 2.0 Structure'!$C$5,(VLOOKUP(N200,'NR-PI 2.0 Structure'!$C$39:$D$40,2,FALSE)),0)),\" - \")","v":" - "},{"$f":"IFERROR(IF(ISBLANK(I200),\"N/A\",IF(I200<>'NR-PI 2.0 Structure'!$C$5,(VLOOKUP(N200,'NR-PI 2.0 Structure'!$C$39:$E$40,3,FALSE)),0)),\" - \")","v":" - "},"-","-","-","N/A",{"$f":"IF(ISBLANK('P Index Inputs'!R202),\"-\",'P Index Inputs'!R202)","v":"-"},{"$f":"IFERROR(IF(I200<>'NR-PI 2.0 Structure'!$C$5,VLOOKUP(AA200,'NR-PI 2.0 Structure'!$G$5:$H$9,2,FALSE),IF(OR(AA200='NR-PI 2.0 Structure'!$G$5,AA200='NR-PI 2.0 Structure'!$G$6,AA200='NR-PI 2.0 Structure'!$G$7),1,VLOOKUP(AA200,'NR-PI 2.0 Structure'!$G$8:$H$9,2,FALSE))),\"-\")","v":"-"},{"$f":"IF(ISBLANK('P Index Inputs'!S202),\"-\",'P Index Inputs'!S202)","v":"-"},{"$f":"IFERROR(VLOOKUP(AC200,'NR-PI 2.0 Structure'!$G$14:$H$19,2,FALSE),\"-\")","v":"-"},"-","-","N/A","N/A",0,0,0,0,0,0,0,0,0]
[{"$f":"'P Index Inputs'!A203","v":0},{"$f":"'P Index Inputs'!B203","v":0},{"$f":"'P Index Inputs'!C203","v":0},{"$f":"'P Index Inputs'!D203","v":0},{"$f":"'P Index Inputs'!E203","v":0},{"$f":"'P Index Inputs'!F203","v":0},{"$f":"'P Index Inputs'!H203","v":0},{"$f":"'P Index Inputs'!I203","v":0},{"$f":"'P Index Inputs'!J203","v":0},{"$f":"IF(ISBLANK('P Index Inputs'!L203),'P Index Inputs'!K203,'P Index Inputs'!L203)","v":"-"},{"$f":"'P Index Inputs'!M203","v":0},{"$f":"'P Index Inputs'!O203","v":0},{"$f":"'P Index Inputs'!P203","v":0},{"$f":"'P Index Inputs'!Q203","v":0},{"$f":"IFERROR(VLOOKUP(I201,'NR-PI 2.0 Structure'!$C$5:$D$8,2,FALSE),\"-\")","v":"-"},{"$f":"IFERROR(VLOOKUP(J201,'NR-PI 2.0 Structure'!$B$12:$C$16,2,FALSE),\"-\")","v":"-"},{"$f":"IFERROR(VLOOKUP(K201,'NR-PI 2.0 Structure'!$B$20:$D$21,3,FALSE),\"-\")","v":"-"},{"$f":"IFERROR(VLOOKUP(L201,'NR-PI 2.0 Structure'!$B$25:$C$28,2,FALSE),\"-\")","v":"-"},{"$f":"IFERROR(VLOOKUP(L201,'NR-PI 2.0 Structure'!$B$25:$D$28,3,FALSE),\"-\")","v":"-"},{"$f":"IFERROR(\n  IF(M201 = \"≤ 1\", 'NR-PI 2.0 Structure'!$D$32,\n  IF(M201 = \">1 - 3\", 'NR-PI 2.0 Structure'!$D$33,\n  IF(M201 = \">3 - 5\", 'NR-PI 2.0 Structure'!$D$34,\n  IF(M201 = \"> 5\", 'NR-PI 2.0 Structure'!$D$35, )))),\n\"-\")","v":0},{"$f":"IFERROR(IF(ISBLANK(I201),\"N/A\",IF(I201<>'NR-PI 2.0 Structure'!$C$5,(VLOOKUP(N201,'NR-PI 2.0 Structure'!$C$39:$D$40,2,FALSE)),0)),\" - \")","v":" - "},{"$f":"IFERROR(IF(ISBLANK(I201),\"N/A\",IF(I201<>'NR-PI 2.0 Structure'!$C$5,(VLOOKUP(N201,'NR-PI 2.0 Structure'!$C$39:$E$40,3,FALSE)),0)),\" - \")","v":" - "},"-","-","-","N/A",{"$f":"IF(ISBLANK('P Index Inputs'!R203),\"-\",'P Index Inputs'!R203)","v":"-"},{"$f":"IFERROR(IF(I201<>'NR-PI 2.0 Structure'!$C$5,VLOOKUP(AA201,'NR-PI 2.0 Structure'!$G$5:$H$9,2,FALSE),IF(OR(AA201='NR-PI 2.0 Structure'!$G$5,AA201='NR-PI 2.0 Structure'!$G$6,AA201='NR-PI 2.0 Structure'!$G$7),1,VLOOKUP(AA201,'NR-PI 2.0 Structure'!$G$8:$H$9,2,FALSE))),\"-\")","v":"-"},{"$f":"IF(ISBLANK('P Index Inputs'!S203),\"-\",'P Index Inputs'!S203)","v":"-"},{"$f":"IFERROR(VLOOKUP(AC201,'NR-PI 2.0 Structure'!$G$14:$H$19,2,FALSE),\"-\")","v":"-"},"-","-","N/A","N/A",0,0,0,0,0,0,0,0,0]
[{"$f":"'P Index Inputs'!A204","v":0},{"$f":"'P Index Inputs'!B204","v":0},{"$f":"'P Index Inputs'!C204","v":0},{"$f":"'P Index Inputs'!D204","v":0},{"$f":"'P Index Inputs'!E204","v":0},{"$f":"'P Index Inputs'!F204","v":0},{"$f":"'P Index Inputs'!H204","v":0},{"$f":"'P Index Inputs'!I204","v":0},{"$f":"'P Index Inputs'!J204","v":0},{"$f":"IF(ISBLANK('P Index Inputs'!L204),'P Index Inputs'!K204,'P Index Inputs'!L204)","v":"-"},{"$f":"'P Index Inputs'!M204","v":0},{"$f":"'P Index Inputs'!O204","v":0},{"$f":"'P Index Inputs'!P204","v":0},{"$f":"'P Index Inputs'!Q204","v":0},{"$f":"IFERROR(VLOOKUP(I202,'NR-PI 2.0 Structure'!$C$5:$D$8,2,FALSE),\"-\")","v":"-"},{"$f":"IFERROR(VLOOKUP(J202,'NR-PI 2.0 Structure'!$B$12:$C$16,2,FALSE),\"-\")","v":"-"},{"$f":"IFERROR(VLOOKUP(K202,'NR-PI 2.0 Structure'!$B$20:$D$21,3,FALSE),\"-\")","v":"-"},{"$f":"IFERROR(VLOOKUP(L202,'NR-PI 2.0 Structure'!$B$25:$C$28,2,FALSE),\"-\")","v":"-"},{"$f":"IFERROR(VLOOKUP(L202,'NR-PI 2.0 Structure'!$B$25:$D$28,3,FALSE),\"-\")","v":"-"},{"$f":"IFERROR(\n  IF(M202 = \"≤ 1\", 'NR-PI 2.0 Structure'!$D$32,\n  IF(M202 = \">1 - 3\", 'NR-PI 2.0 Structure'!$D$33,\n  IF(M202 = \">3 - 5\", 'NR-PI 2.0 Structure'!$D$34,\n  IF(M202 = \"> 5\", 'NR-PI 2.0 Structure'!$D$35, )))),\n\"-\")","v":0},{"$f":"IFERROR(IF(ISBLANK(I202),\"N/A\",IF(I202<>'NR-PI 2.0 Structure'!$C$5,(VLOOKUP(N202,'NR-PI 2.0 Structure'!$C$39:$D$40,2,FALSE)),0)),\" - \")","v":" - "},{"$f":"IFERROR(IF(ISBLANK(I202),\"N/A\",IF(I202<>'NR-PI 2.0 Structure'!$C$5,(VLOOKUP(N202,'NR-PI 2.0 Structure'!$C$39:$E$40,3,FALSE)),0)),\" - \")","v":" - "},"-","-","-","N/A",{"$f":"IF(ISBLANK('P Index Inputs'!R204),\"-\",'P Index Inputs'!R204)","v":"-"},{"$f":"IFERROR(IF(I202<>'NR-PI 2.0 Structure'!$C$5,VLOOKUP(AA202,'NR-PI 2.0 Structure'!$G$5:$H$9,2,FALSE),IF(OR(AA202='NR-PI 2.0 Structure'!$G$5,AA202='NR-PI 2.0 Structure'!$G$6,AA202='NR-PI 2.0 Structure'!$G$7),1,VLOOKUP(AA202,'NR-PI 2.0 Structure'!$G$8:$H$9,2,FALSE))),\"-\")","v":"-"},{"$f":"IF(ISBLANK('P Index Inputs'!S204),\"-\",'P Index Inputs'!S204)","v":"-"},{"$f":"IFERROR(VLOOKUP(AC202,'NR-PI 2.0 Structure'!$G$14:$H$19,2,FALSE),\"-\")","v":"-"},"-","-","N/A","N/A",0,0,0,0,0,0,0,0,0]
[{"$f":"'P Index Inputs'!A205","v":0},{"$f":"'P Index Inputs'!B205","v":0},{"$f":"'P Index Inputs'!C205","v":0},{"$f":"'P Index Inputs'!D205","v":0},{"$f":"'P Index Inputs'!E205","v":0},{"$f":"'P Index Inputs'!F205","v":0},{"$f":"'P Index Inputs'!H205","v":0},{"$f":"'P Index Inputs'!I205","v":0},{"$f":"'P Index Inputs'!J205","v":0},{"$f":"IF(ISBLANK('P Index Inputs'!L205),'P Index Inputs'!K205,'P Index Inputs'!L205)","v":"-"},{"$f":"'P Index Inputs'!M205","v":0},{"$f":"'P Index Inputs'!O205","v":0},{"$f":"'P Index Inputs'!P205","v":0},{"$f":"'P Index Inputs'!Q205","v":0},{"$f":"IFERROR(VLOOKUP(I203,'NR-PI 2.0 Structure'!$C$5:$D$8,2,FALSE),\"-\")","v":"-"},{"$f":"IFERROR(VLOOKUP(J203,'NR-PI 2.0 Structure'!$B$12:$C$16,2,FALSE),\"-\")","v":"-"},{"$f":"IFERROR(VLOOKUP(K203,'NR-PI 2.0 Structure'!$B$20:$D$21,3,FALSE),\"-\")","v":"-"},{"$f":"IFERROR(VLOOKUP(L203,'NR-PI 2.0 Structure'!$B$25:$C$28,2,FALSE),\"-\")","v":"-"},{"$f":"IFERROR(VLOOKUP(L203,'NR-PI 2.0 Structure'!$B$25:$D$28,3,FALSE),\"-\")","v":"-"},{"$f":"IFERROR(\n  IF(M203 = \"≤ 1\", 'NR-PI 2.0 Structure'!$D$32,\n  IF(M203 = \">1 - 3\", 'NR-PI 2.0 Structure'!$D$33,\n  IF(M203 = \">3 - 5\", 'NR-PI 2.0 Structure'!$D$34,\n  IF(M203 = \"> 5\", 'NR-PI 2.0 Structure'!$D$35, )))),\n\"-\")","v":0},{"$f":"IFERROR(IF(ISBLANK(I203),\"N/A\",IF(I203<>'NR-PI 2.0 Structure'!$C$5,(VLOOKUP(N203,'NR-PI 2.0 Structure'!$C$39:$D$40,2,FALSE)),0)),\" - \")","v":" - "},{"$f":"IFERROR(IF(ISBLANK(I203),\"N/A\",IF(I203<>'NR-PI 2.0 Structure'!$C$5,(VLOOKUP(N203,'NR-PI 2.0 Structure'!$C$39:$E$40,3,FALSE)),0)),\" - \")","v":" - "},"-","-","-","N/A",{"$f":"IF(ISBLANK('P Index Inputs'!R205),\"-\",'P Index Inputs'!R205)","v":"-"},{"$f":"IFERROR(IF(I203<>'NR-PI 2.0 Structure'!$C$5,VLOOKUP(AA203,'NR-PI 2.0 Structure'!$G$5:$H$9,2,FALSE),IF(OR(AA203='NR-PI 2.0 Structure'!$G$5,AA203='NR-PI 2.0 Structure'!$G$6,AA203='NR-PI 2.0 Structure'!$G$7),1,VLOOKUP(AA203,'NR-PI 2.0 Structure'!$G$8:$H$9,2,FALSE))),\"-\")","v":"-"},{"$f":"IF(ISBLANK('P Index Inputs'!S205),\"-\",'P Index Inputs'!S205)","v":"-"},{"$f":"IFERROR(VLOOKUP(AC203,'NR-PI 2.0 Structure'!$G$14:$H$19,2,FALSE),\"-\")","v":"-"},"-","-","N/A","N/A",0,0,0,0,0,0,0,0,0]
[{"$f":"'P Index Inputs'!A206","v":0},{"$f":"'P Index Inputs'!B206","v":0},{"$f":"'P Index Inputs'!C206","v":0},{"$f":"'P Index Inputs'!D206","v":0},{"$f":"'P Index Inputs'!E206","v":0},{"$f":"'P Index Inputs'!F206","v":0},{"$f":"'P Index Inputs'!H206","v":0},{"$f":"'P Index Inputs'!I206","v":0},{"$f":"'P Index Inputs'!J206","v":0},{"$f":"IF(ISBLANK('P Index Inputs'!L206),'P Index Inputs'!K206,'P Index Inputs'!L206)","v":"-"},{"$f":"'P Index Inputs'!M206","v":0},{"$f":"'P Index Inputs'!O206","v":0},{"$f":"'P Index Inputs'!P206","v":0},{"$f":"'P Index Inputs'!Q206","v":0},{"$f":"IFERROR(VLOOKUP(I204,'NR-PI 2.0 Structure'!$C$5:$D$8,2,FALSE),\"-\")","v":"-"},{"$f":"IFERROR(VLOOKUP(J204,'NR-PI 2.0 Structure'!$B$12:$C$16,2,FALSE),\"-\")","v":"-"},{"$f":"IFERROR(VLOOKUP(K204,'NR-PI 2.0 Structure'!$B$20:$D$21,3,FALSE),\"-\")","v":"-"},{"$f":"IFERROR(VLOOKUP(L204,'NR-PI 2.0 Structure'!$B$25:$C$28,2,FALSE),\"-\")","v":"-"},{"$f":"IFERROR(VLOOKUP(L204,'NR-PI 2.0 Structure'!$B$25:$D$28,3,FALSE),\"-\")","v":"-"},{"$f":"IFERROR(\n  IF(M204 = \"≤ 1\", 'NR-PI 2.0 Structure'!$D$32,\n  IF(M204 = \">1 - 3\", 'NR-PI 2.0 Structure'!$D$33,\n  IF(M204 = \">3 - 5\", 'NR-PI 2.0 Structure'!$D$34,\n  IF(M204 = \"> 5\", 'NR-PI 2.0 Structure'!$D$35, )))),\n\"-\")","v":0},{"$f":"IFERROR(IF(ISBLANK(I204),\"N/A\",IF(I204<>'NR-PI 2.0 Structure'!$C$5,(VLOOKUP(N204,'NR-PI 2.0 Structure'!$C$39:$D$40,2,FALSE)),0)),\" - \")","v":" - "},{"$f":"IFERROR(IF(ISBLANK(I204),\"N/A\",IF(I204<>'NR-PI 2.0 Structure'!$C$5,(VLOOKUP(N204,'NR-PI 2.0 Structure'!$C$39:$E$40,3,FALSE)),0)),\" - \")","v":" - "},"-","-","-","N/A",{"$f":"IF(ISBLANK('P Index Inputs'!R206),\"-\",'P Index Inputs'!R206)","v":"-"},{"$f":"IFERROR(IF(I204<>'NR-PI 2.0 Structure'!$C$5,VLOOKUP(AA204,'NR-PI 2.0 Structure'!$G$5:$H$9,2,FALSE),IF(OR(AA204='NR-PI 2.0 Structure'!$G$5,AA204='NR-PI 2.0 Structure'!$G$6,AA204='NR-PI 2.0 Structure'!$G$7),1,VLOOKUP(AA204,'NR-PI 2.0 Structure'!$G$8:$H$9,2,FALSE))),\"-\")","v":"-"},{"$f":"IF(ISBLANK('P Index Inputs'!S206),\"-\",'P Index Inputs'!S206)","v":"-"},{"$f":"IFERROR(VLOOKUP(AC204,'NR-PI 2.0 Structure'!$G$14:$H$19,2,FALSE),\"-\")","v":"-"},"-","-","N/A","N/A",0,0,0,0,0,0,0,0,0]
[{"$f":"'P Index Inputs'!A207","v":0},{"$f":"'P Index Inputs'!B207","v":0},{"$f":"'P Index Inputs'!C207","v":0},{"$f":"'P Index Inputs'!D207","v":0},{"$f":"'P Index Inputs'!E207","v":0},{"$f":"'P Index Inputs'!F207","v":0},{"$f":"'P Index Inputs'!H207","v":0},{"$f":"'P Index Inputs'!I207","v":0},{"$f":"'P Index Inputs'!J207","v":0},{"$f":"IF(ISBLANK('P Index Inputs'!L207),'P Index Inputs'!K207,'P Index Inputs'!L207)","v":"-"},{"$f":"'P Index Inputs'!M207","v":0},{"$f":"'P Index Inputs'!O207","v":0},{"$f":"'P Index Inputs'!P207","v":0},{"$f":"'P Index Inputs'!Q207","v":0},{"$f":"IFERROR(VLOOKUP(I205,'NR-PI 2.0 Structure'!$C$5:$D$8,2,FALSE),\"-\")","v":"-"},{"$f":"IFERROR(VLOOKUP(J205,'NR-PI 2.0 Structure'!$B$12:$C$16,2,FALSE),\"-\")","v":"-"},{"$f":"IFERROR(VLOOKUP(K205,'NR-PI 2.0 Structure'!$B$20:$D$21,3,FALSE),\"-\")","v":"-"},{"$f":"IFERROR(VLOOKUP(L205,'NR-PI 2.0 Structure'!$B$25:$C$28,2,FALSE),\"-\")","v":"-"},{"$f":"IFERROR(VLOOKUP(L205,'NR-PI 2.0 Structure'!$B$25:$D$28,3,FALSE),\"-\")","v":"-"},{"$f":"IFERROR(\n  IF(M205 = \"≤ 1\", 'NR-PI 2.0 Structure'!$D$32,\n  IF(M205 = \">1 - 3\", 'NR-PI 2.0 Structure'!$D$33,\n  IF(M205 = \">3 - 5\", 'NR-PI 2.0 Structure'!$D$34,\n  IF(M205 = \"> 5\", 'NR-PI 2.0 Structure'!$D$35, )))),\n\"-\")","v":0},{"$f":"IFERROR(IF(ISBLANK(I205),\"N/A\",IF(I205<>'NR-PI 2.0 Structure'!$C$5,(VLOOKUP(N205,'NR-PI 2.0 Structure'!$C$39:$D$40,2,FALSE)),0)),\" - \")","v":" - "},{"$f":"IFERROR(IF(ISBLANK(I205),\"N/A\",IF(I205<>'NR-PI 2.0 Structure'!$C$5,(VLOOKUP(N205,'NR-PI 2.0 Structure'!$C$39:$E$40,3,FALSE)),0)),\" - \")","v":" - "},"-","-","-","N/A",{"$f":"IF(ISBLANK('P Index Inputs'!R207),\"-\",'P Index Inputs'!R207)","v":"-"},{"$f":"IFERROR(IF(I205<>'NR-PI 2.0 Structure'!$C$5,VLOOKUP(AA205,'NR-PI 2.0 Structure'!$G$5:$H$9,2,FALSE),IF(OR(AA205='NR-PI 2.0 Structure'!$G$5,AA205='NR-PI 2.0 Structure'!$G$6,AA205='NR-PI 2.0 Structure'!$G$7),1,VLOOKUP(AA205,'NR-PI 2.0 Structure'!$G$8:$H$9,2,FALSE))),\"-\")","v":"-"},{"$f":"IF(ISBLANK('P Index Inputs'!S207),\"-\",'P Index Inputs'!S207)","v":"-"},{"$f":"IFERROR(VLOOKUP(AC205,'NR-PI 2.0 Structure'!$G$14:$H$19,2,FALSE),\"-\")","v":"-"},"-","-","N/A","N/A",0,0,0,0,0,0,0,0,0]
[{"$f":"'P Index Inputs'!A208","v":0},{"$f":"'P Index Inputs'!B208","v":0},{"$f":"'P Index Inputs'!C208","v":0},{"$f":"'P Index Inputs'!D208","v":0},{"$f":"'P Index Inputs'!E208","v":0},{"$f":"'P Index Inputs'!F208","v":0},{"$f":"'P Index Inputs'!H208","v":0},{"$f":"'P Index Inputs'!I208","v":0},{"$f":"'P Index Inputs'!J208","v":0},{"$f":"IF(ISBLANK('P Index Inputs'!L208),'P Index Inputs'!K208,'P Index Inputs'!L208)","v":"-"},{"$f":"'P Index Inputs'!M208","v":0},{"$f":"'P Index Inputs'!O208","v":0},{"$f":"'P Index Inputs'!P208","v":0},{"$f":"'P Index Inputs'!Q208","v":0},{"$f":"IFERROR(VLOOKUP(I206,'NR-PI 2.0 Structure'!$C$5:$D$8,2,FALSE),\"-\")","v":"-"},{"$f":"IFERROR(VLOOKUP(J206,'NR-PI 2.0 Structure'!$B$12:$C$16,2,FALSE),\"-\")","v":"-"},{"$f":"IFERROR(VLOOKUP(K206,'NR-PI 2.0 Structure'!$B$20:$D$21,3,FALSE),\"-\")","v":"-"},{"$f":"IFERROR(VLOOKUP(L206,'NR-PI 2.0 Structure'!$B$25:$C$28,2,FALSE),\"-\")","v":"-"},{"$f":"IFERROR(VLOOKUP(L206,'NR-PI 2.0 Structure'!$B$25:$D$28,3,FALSE),\"-\")","v":"-"},{"$f":"IFERROR(\n  IF(M206 = \"≤ 1\", 'NR-PI 2.0 Structure'!$D$32,\n  IF(M206 = \">1 - 3\", 'NR-PI 2.0 Structure'!$D$33,\n  IF(M206 = \">3 - 5\", 'NR-PI 2.0 Structure'!$D$34,\n  IF(M206 = \"> 5\", 'NR-PI 2.0 Structure'!$D$35, )))),\n\"-\")","v":0},{"$f":"IFERROR(IF(ISBLANK(I206),\"N/A\",IF(I206<>'NR-PI 2.0 Structure'!$C$5,(VLOOKUP(N206,'NR-PI 2.0 Structure'!$C$39:$D$40,2,FALSE)),0)),\" - \")","v":" - "},{"$f":"IFERROR(IF(ISBLANK(I206),\"N/A\",IF(I206<>'NR-PI 2.0 Structure'!$C$5,(VLOOKUP(N206,'NR-PI 2.0 Structure'!$C$39:$E$40,3,FALSE)),0)),\" - \")","v":" - "},"-","-","-","N/A",{"$f":"IF(ISBLANK('P Index Inputs'!R208),\"-\",'P Index Inputs'!R208)","v":"-"},{"$f":"IFERROR(IF(I206<>'NR-PI 2.0 Structure'!$C$5,VLOOKUP(AA206,'NR-PI 2.0 Structure'!$G$5:$H$9,2,FALSE),IF(OR(AA206='NR-PI 2.0 Structure'!$G$5,AA206='NR-PI 2.0 Structure'!$G$6,AA206='NR-PI 2.0 Structure'!$G$7),1,VLOOKUP(AA206,'NR-PI 2.0 Structure'!$G$8:$H$9,2,FALSE))),\"-\")","v":"-"},{"$f":"IF(ISBLANK('P Index Inputs'!S208),\"-\",'P Index Inputs'!S208)","v":"-"},{"$f":"IFERROR(VLOOKUP(AC206,'NR-PI 2.0 Structure'!$G$14:$H$19,2,FALSE),\"-\")","v":"-"},"-","-","N/A","N/A",0,0,0,0,0,0,0,0,0]
[{"$f":"'P Index Inputs'!A209","v":0},{"$f":"'P Index Inputs'!B209","v":0},{"$f":"'P Index Inputs'!C209","v":0},{"$f":"'P Index Inputs'!D209","v":0},{"$f":"'P Index Inputs'!E209","v":0},{"$f":"'P Index Inputs'!F209","v":0},{"$f":"'P Index Inputs'!H209","v":0},{"$f":"'P Index Inputs'!I209","v":0},{"$f":"'P Index Inputs'!J209","v":0},{"$f":"IF(ISBLANK('P Index Inputs'!L209),'P Index Inputs'!K209,'P Index Inputs'!L209)","v":"-"},{"$f":"'P Index Inputs'!M209","v":0},{"$f":"'P Index Inputs'!O209","v":0},{"$f":"'P Index Inputs'!P209","v":0},{"$f":"'P Index Inputs'!Q209","v":0},{"$f":"IFERROR(VLOOKUP(I207,'NR-PI 2.0 Structure'!$C$5:$D$8,2,FALSE),\"-\")","v":"-"},{"$f":"IFERROR(VLOOKUP(J207,'NR-PI 2.0 Structure'!$B$12:$C$16,2,FALSE),\"-\")","v":"-"},{"$f":"IFERROR(VLOOKUP(K207,'NR-PI 2.0 Structure'!$B$20:$D$21,3,FALSE),\"-\")","v":"-"},{"$f":"IFERROR(VLOOKUP(L207,'NR-PI 2.0 Structure'!$B$25:$C$28,2,FALSE),\"-\")","v":"-"},{"$f":"IFERROR(VLOOKUP(L207,'NR-PI 2.0 Structure'!$B$25:$D$28,3,FALSE),\"-\")","v":"-"},{"$f":"IFERROR(\n  IF(M207 = \"≤ 1\", 'NR-PI 2.0 Structure'!$D$32,\n  IF(M207 = \">1 - 3\", 'NR-PI 2.0 Structure'!$D$33,\n  IF(M207 = \">3 - 5\", 'NR-PI 2.0 Structure'!$D$34,\n  IF(M207 = \"> 5\", 'NR-PI 2.0 Structure'!$D$35, )))),\n\"-\")","v":0},{"$f":"IFERROR(IF(ISBLANK(I207),\"N/A\",IF(I207<>'NR-PI 2.0 Structure'!$C$5,(VLOOKUP(N207,'NR-PI 2.0 Structure'!$C$39:$D$40,2,FALSE)),0)),\" - \")","v":" - "},{"$f":"IFERROR(IF(ISBLANK(I207),\"N/A\",IF(I207<>'NR-PI 2.0 Structure'!$C$5,(VLOOKUP(N207,'NR-PI 2.0 Structure'!$C$39:$E$40,3,FALSE)),0)),\" - \")","v":" - "},"-","-","-","N/A",{"$f":"IF(ISBLANK('P Index Inputs'!R209),\"-\",'P Index Inputs'!R209)","v":"-"},{"$f":"IFERROR(IF(I207<>'NR-PI 2.0 Structure'!$C$5,VLOOKUP(AA207,'NR-PI 2.0 Structure'!$G$5:$H$9,2,FALSE),IF(OR(AA207='NR-PI 2.0 Structure'!$G$5,AA207='NR-PI 2.0 Structure'!$G$6,AA207='NR-PI 2.0 Structure'!$G$7),1,VLOOKUP(AA207,'NR-PI 2.0 Structure'!$G$8:$H$9,2,FALSE))),\"-\")","v":"-"},{"$f":"IF(ISBLANK('P Index Inputs'!S209),\"-\",'P Index Inputs'!S209)","v":"-"},{"$f":"IFERROR(VLOOKUP(AC207,'NR-PI 2.0 Structure'!$G$14:$H$19,2,FALSE),\"-\")","v":"-"},"-","-","N/A","N/A",0,0,0,0,0,0,0,0,0]
[{"$f":"'P Index Inputs'!A210","v":0},{"$f":"'P Index Inputs'!B210","v":0},{"$f":"'P Index Inputs'!C210","v":0},{"$f":"'P Index Inputs'!D210","v":0},{"$f":"'P Index Inputs'!E210","v":0},{"$f":"'P Index Inputs'!F210","v":0},{"$f":"'P Index Inputs'!H210","v":0},{"$f":"'P Index Inputs'!I210","v":0},{"$f":"'P Index Inputs'!J210","v":0},{"$f":"IF(ISBLANK('P Index Inputs'!L210),'P Index Inputs'!K210,'P Index Inputs'!L210)","v":"-"},{"$f":"'P Index Inputs'!M210","v":0},{"$f":"'P Index Inputs'!O210","v":0},{"$f":"'P Index Inputs'!P210","v":0},{"$f":"'P Index Inputs'!Q210","v":0},{"$f":"IFERROR(VLOOKUP(I208,'NR-PI 2.0 Structure'!$C$5:$D$8,2,FALSE),\"-\")","v":"-"},{"$f":"IFERROR(VLOOKUP(J208,'NR-PI 2.0 Structure'!$B$12:$C$16,2,FALSE),\"-\")","v":"-"},{"$f":"IFERROR(VLOOKUP(K208,'NR-PI 2.0 Structure'!$B$20:$D$21,3,FALSE),\"-\")","v":"-"},{"$f":"IFERROR(VLOOKUP(L208,'NR-PI 2.0 Structure'!$B$25:$C$28,2,FALSE),\"-\")","v":"-"},{"$f":"IFERROR(VLOOKUP(L208,'NR-PI 2.0 Structure'!$B$25:$D$28,3,FALSE),\"-\")","v":"-"},{"$f":"IFERROR(\n  IF(M208 = \"≤ 1\", 'NR-PI 2.0 Structure'!$D$32,\n  IF(M208 = \">1 - 3\", 'NR-PI 2.0 Structure'!$D$33,\n  IF(M208 = \">3 - 5\", 'NR-PI 2.0 Structure'!$D$34,\n  IF(M208 = \"> 5\", 'NR-PI 2.0 Structure'!$D$35, )))),\n\"-\")","v":0},{"$f":"IFERROR(IF(ISBLANK(I208),\"N/A\",IF(I208<>'NR-PI 2.0 Structure'!$C$5,(VLOOKUP(N208,'NR-PI 2.0 Structure'!$C$39:$D$40,2,FALSE)),0)),\" - \")","v":" - "},{"$f":"IFERROR(IF(ISBLANK(I208),\"N/A\",IF(I208<>'NR-PI 2.0 Structure'!$C$5,(VLOOKUP(N208,'NR-PI 2.0 Structure'!$C$39:$E$40,3,FALSE)),0)),\" - \")","v":" - "},"-","-","-","N/A",{"$f":"IF(ISBLANK('P Index Inputs'!R210),\"-\",'P Index Inputs'!R210)","v":"-"},{"$f":"IFERROR(IF(I208<>'NR-PI 2.0 Structure'!$C$5,VLOOKUP(AA208,'NR-PI 2.0 Structure'!$G$5:$H$9,2,FALSE),IF(OR(AA208='NR-PI 2.0 Structure'!$G$5,AA208='NR-PI 2.0 Structure'!$G$6,AA208='NR-PI 2.0 Structure'!$G$7),1,VLOOKUP(AA208,'NR-PI 2.0 Structure'!$G$8:$H$9,2,FALSE))),\"-\")","v":"-"},{"$f":"IF(ISBLANK('P Index Inputs'!S210),\"-\",'P Index Inputs'!S210)","v":"-"},{"$f":"IFERROR(VLOOKUP(AC208,'NR-PI 2.0 Structure'!$G$14:$H$19,2,FALSE),\"-\")","v":"-"},"-","-","N/A","N/A",0,0,0,0,0,0,0,0,0]
[{"$f":"'P Index Inputs'!A211","v":0},{"$f":"'P Index Inputs'!B211","v":0},{"$f":"'P Index Inputs'!C211","v":0},{"$f":"'P Index Inputs'!D211","v":0},{"$f":"'P Index Inputs'!E211","v":0},{"$f":"'P Index Inputs'!F211","v":0},{"$f":"'P Index Inputs'!H211","v":0},{"$f":"'P Index Inputs'!I211","v":0},{"$f":"'P Index Inputs'!J211","v":0},{"$f":"IF(ISBLANK('P Index Inputs'!L211),'P Index Inputs'!K211,'P Index Inputs'!L211)","v":"-"},{"$f":"'P Index Inputs'!M211","v":0},{"$f":"'P Index Inputs'!O211","v":0},{"$f":"'P Index Inputs'!P211","v":0},{"$f":"'P Index Inputs'!Q211","v":0},{"$f":"IFERROR(VLOOKUP(I209,'NR-PI 2.0 Structure'!$C$5:$D$8,2,FALSE),\"-\")","v":"-"},{"$f":"IFERROR(VLOOKUP(J209,'NR-PI 2.0 Structure'!$B$12:$C$16,2,FALSE),\"-\")","v":"-"},{"$f":"IFERROR(VLOOKUP(K209,'NR-PI 2.0 Structure'!$B$20:$D$21,3,FALSE),\"-\")","v":"-"},{"$f":"IFERROR(VLOOKUP(L209,'NR-PI 2.0 Structure'!$B$25:$C$28,2,FALSE),\"-\")","v":"-"},{"$f":"IFERROR(VLOOKUP(L209,'NR-PI 2.0 Structure'!$B$25:$D$28,3,FALSE),\"-\")","v":"-"},{"$f":"IFERROR(\n  IF(M209 = \"≤ 1\", 'NR-PI 2.0 Structure'!$D$32,\n  IF(M209 = \">1 - 3\", 'NR-PI 2.0 Structure'!$D$33,\n  IF(M209 = \">3 - 5\", 'NR-PI 2.0 Structure'!$D$34,\n  IF(M209 = \"> 5\", 'NR-PI 2.0 Structure'!$D$35, )))),\n\"-\")","v":0},{"$f":"IFERROR(IF(ISBLANK(I209),\"N/A\",IF(I209<>'NR-PI 2.0 Structure'!$C$5,(VLOOKUP(N209,'NR-PI 2.0 Structure'!$C$39:$D$40,2,FALSE)),0)),\" - \")","v":" - "},{"$f":"IFERROR(IF(ISBLANK(I209),\"N/A\",IF(I209<>'NR-PI 2.0 Structure'!$C$5,(VLOOKUP(N209,'NR-PI 2.0 Structure'!$C$39:$E$40,3,FALSE)),0)),\" - \")","v":" - "},"-","-","-","N/A",{"$f":"IF(ISBLANK('P Index Inputs'!R211),\"-\",'P Index Inputs'!R211)","v":"-"},{"$f":"IFERROR(IF(I209<>'NR-PI 2.0 Structure'!$C$5,VLOOKUP(AA209,'NR-PI 2.0 Structure'!$G$5:$H$9,2,FALSE),IF(OR(AA209='NR-PI 2.0 Structure'!$G$5,AA209='NR-PI 2.0 Structure'!$G$6,AA209='NR-PI 2.0 Structure'!$G$7),1,VLOOKUP(AA209,'NR-PI 2.0 Structure'!$G$8:$H$9,2,FALSE))),\"-\")","v":"-"},{"$f":"IF(ISBLANK('P Index Inputs'!S211),\"-\",'P Index Inputs'!S211)","v":"-"},{"$f":"IFERROR(VLOOKUP(AC209,'NR-PI 2.0 Structure'!$G$14:$H$19,2,FALSE),\"-\")","v":"-"},"-","-","N/A","N/A",0,0,0,0,0,0,0,0,0]
[{"$f":"'P Index Inputs'!A212","v":0},{"$f":"'P Index Inputs'!B212","v":0},{"$f":"'P Index Inputs'!C212","v":0},{"$f":"'P Index Inputs'!D212","v":0},{"$f":"'P Index Inputs'!E212","v":0},{"$f":"'P Index Inputs'!F212","v":0},{"$f":"'P Index Inputs'!H212","v":0},{"$f":"'P Index Inputs'!I212","v":0},{"$f":"'P Index Inputs'!J212","v":0},{"$f":"IF(ISBLANK('P Index Inputs'!L212),'P Index Inputs'!K212,'P Index Inputs'!L212)","v":"-"},{"$f":"'P Index Inputs'!M212","v":0},{"$f":"'P Index Inputs'!O212","v":0},{"$f":"'P Index Inputs'!P212","v":0},{"$f":"'P Index Inputs'!Q212","v":0},{"$f":"IFERROR(VLOOKUP(I210,'NR-PI 2.0 Structure'!$C$5:$D$8,2,FALSE),\"-\")","v":"-"},{"$f":"IFERROR(VLOOKUP(J210,'NR-PI 2.0 Structure'!$B$12:$C$16,2,FALSE),\"-\")","v":"-"},{"$f":"IFERROR(VLOOKUP(K210,'NR-PI 2.0 Structure'!$B$20:$D$21,3,FALSE),\"-\")","v":"-"},{"$f":"IFERROR(VLOOKUP(L210,'NR-PI 2.0 Structure'!$B$25:$C$28,2,FALSE),\"-\")","v":"-"},{"$f":"IFERROR(VLOOKUP(L210,'NR-PI 2.0 Structure'!$B$25:$D$28,3,FALSE),\"-\")","v":"-"},{"$f":"IFERROR(\n  IF(M210 = \"≤ 1\", 'NR-PI 2.0 Structure'!$D$32,\n  IF(M210 = \">1 - 3\", 'NR-PI 2.0 Structure'!$D$33,\n  IF(M210 = \">3 - 5\", 'NR-PI 2.0 Structure'!$D$34,\n  IF(M210 = \"> 5\", 'NR-PI 2.0 Structure'!$D$35, )))),\n\"-\")","v":0},{"$f":"IFERROR(IF(ISBLANK(I210),\"N/A\",IF(I210<>'NR-PI 2.0 Structure'!$C$5,(VLOOKUP(N210,'NR-PI 2.0 Structure'!$C$39:$D$40,2,FALSE)),0)),\" - \")","v":" - "},{"$f":"IFERROR(IF(ISBLANK(I210),\"N/A\",IF(I210<>'NR-PI 2.0 Structure'!$C$5,(VLOOKUP(N210,'NR-PI 2.0 Structure'!$C$39:$E$40,3,FALSE)),0)),\" - \")","v":" - "},"-","-","-","N/A",{"$f":"IF(ISBLANK('P Index Inputs'!R212),\"-\",'P Index Inputs'!R212)","v":"-"},{"$f":"IFERROR(IF(I210<>'NR-PI 2.0 Structure'!$C$5,VLOOKUP(AA210,'NR-PI 2.0 Structure'!$G$5:$H$9,2,FALSE),IF(OR(AA210='NR-PI 2.0 Structure'!$G$5,AA210='NR-PI 2.0 Structure'!$G$6,AA210='NR-PI 2.0 Structure'!$G$7),1,VLOOKUP(AA210,'NR-PI 2.0 Structure'!$G$8:$H$9,2,FALSE))),\"-\")","v":"-"},{"$f":"IF(ISBLANK('P Index Inputs'!S212),\"-\",'P Index Inputs'!S212)","v":"-"},{"$f":"IFERROR(VLOOKUP(AC210,'NR-PI 2.0 Structure'!$G$14:$H$19,2,FALSE),\"-\")","v":"-"},"-","-","N/A","N/A",0,0,0,0,0,0,0,0,0]
[{"$f":"'P Index Inputs'!A213","v":0},{"$f":"'P Index Inputs'!B213","v":0},{"$f":"'P Index Inputs'!C213","v":0},{"$f":"'P Index Inputs'!D213","v":0},{"$f":"'P Index Inputs'!E213","v":0},{"$f":"'P Index Inputs'!F213","v":0},{"$f":"'P Index Inputs'!H213","v":0},{"$f":"'P Index Inputs'!I213","v":0},{"$f":"'P Index Inputs'!J213","v":0},{"$f":"IF(ISBLANK('P Index Inputs'!L213),'P Index Inputs'!K213,'P Index Inputs'!L213)","v":"-"},{"$f":"'P Index Inputs'!M213","v":0},{"$f":"'P Index Inputs'!O213","v":0},{"$f":"'P Index Inputs'!P213","v":0},{"$f":"'P Index Inputs'!Q213","v":0},{"$f":"IFERROR(VLOOKUP(I211,'NR-PI 2.0 Structure'!$C$5:$D$8,2,FALSE),\"-\")","v":"-"},{"$f":"IFERROR(VLOOKUP(J211,'NR-PI 2.0 Structure'!$B$12:$C$16,2,FALSE),\"-\")","v":"-"},{"$f":"IFERROR(VLOOKUP(K211,'NR-PI 2.0 Structure'!$B$20:$D$21,3,FALSE),\"-\")","v":"-"},{"$f":"IFERROR(VLOOKUP(L211,'NR-PI 2.0 Structure'!$B$25:$C$28,2,FALSE),\"-\")","v":"-"},{"$f":"IFERROR(VLOOKUP(L211,'NR-PI 2.0 Structure'!$B$25:$D$28,3,FALSE),\"-\")","v":"-"},{"$f":"IFERROR(\n  IF(M211 = \"≤ 1\", 'NR-PI 2.0 Structure'!$D$32,\n  IF(M211 = \">1 - 3\", 'NR-PI 2.0 Structure'!$D$33,\n  IF(M211 = \">3 - 5\", 'NR-PI 2.0 Structure'!$D$34,\n  IF(M211 = \"> 5\", 'NR-PI 2.0 Structure'!$D$35, )))),\n\"-\")","v":0},{"$f":"IFERROR(IF(ISBLANK(I211),\"N/A\",IF(I211<>'NR-PI 2.0 Structure'!$C$5,(VLOOKUP(N211,'NR-PI 2.0 Structure'!$C$39:$D$40,2,FALSE)),0)),\" - \")","v":" - "},{"$f":"IFERROR(IF(ISBLANK(I211),\"N/A\",IF(I211<>'NR-PI 2.0 Structure'!$C$5,(VLOOKUP(N211,'NR-PI 2.0 Structure'!$C$39:$E$40,3,FALSE)),0)),\" - \")","v":" - "},"-","-","-","N/A",{"$f":"IF(ISBLANK('P Index Inputs'!R213),\"-\",'P Index Inputs'!R213)","v":"-"},{"$f":"IFERROR(IF(I211<>'NR-PI 2.0 Structure'!$C$5,VLOOKUP(AA211,'NR-PI 2.0 Structure'!$G$5:$H$9,2,FALSE),IF(OR(AA211='NR-PI 2.0 Structure'!$G$5,AA211='NR-PI 2.0 Structure'!$G$6,AA211='NR-PI 2.0 Structure'!$G$7),1,VLOOKUP(AA211,'NR-PI 2.0 Structure'!$G$8:$H$9,2,FALSE))),\"-\")","v":"-"},{"$f":"IF(ISBLANK('P Index Inputs'!S213),\"-\",'P Index Inputs'!S213)","v":"-"},{"$f":"IFERROR(VLOOKUP(AC211,'NR-PI 2.0 Structure'!$G$14:$H$19,2,FALSE),\"-\")","v":"-"},"-","-","N/A","N/A",0,0,0,0,0,0,0,0,0]
[{"$f":"'P Index Inputs'!A214","v":0},{"$f":"'P Index Inputs'!B214","v":0},{"$f":"'P Index Inputs'!C214","v":0},{"$f":"'P Index Inputs'!D214","v":0},{"$f":"'P Index Inputs'!E214","v":0},{"$f":"'P Index Inputs'!F214","v":0},{"$f":"'P Index Inputs'!H214","v":0},{"$f":"'P Index Inputs'!I214","v":0},{"$f":"'P Index Inputs'!J214","v":0},{"$f":"IF(ISBLANK('P Index Inputs'!L214),'P Index Inputs'!K214,'P Index Inputs'!L214)","v":"-"},{"$f":"'P Index Inputs'!M214","v":0},{"$f":"'P Index Inputs'!O214","v":0},{"$f":"'P Index Inputs'!P214","v":0},{"$f":"'P Index Inputs'!Q214","v":0},{"$f":"IFERROR(VLOOKUP(I212,'NR-PI 2.0 Structure'!$C$5:$D$8,2,FALSE),\"-\")","v":"-"},{"$f":"IFERROR(VLOOKUP(J212,'NR-PI 2.0 Structure'!$B$12:$C$16,2,FALSE),\"-\")","v":"-"},{"$f":"IFERROR(VLOOKUP(K212,'NR-PI 2.0 Structure'!$B$20:$D$21,3,FALSE),\"-\")","v":"-"},{"$f":"IFERROR(VLOOKUP(L212,'NR-PI 2.0 Structure'!$B$25:$C$28,2,FALSE),\"-\")","v":"-"},{"$f":"IFERROR(VLOOKUP(L212,'NR-PI 2.0 Structure'!$B$25:$D$28,3,FALSE),\"-\")","v":"-"},{"$f":"IFERROR(\n  IF(M212 = \"≤ 1\", 'NR-PI 2.0 Structure'!$D$32,\n  IF(M212 = \">1 - 3\", 'NR-PI 2.0 Structure'!$D$33,\n  IF(M212 = \">3 - 5\", 'NR-PI 2.0 Structure'!$D$34,\n  IF(M212 = \"> 5\", 'NR-PI 2.0 Structure'!$D$35, )))),\n\"-\")","v":0},{"$f":"IFERROR(IF(ISBLANK(I212),\"N/A\",IF(I212<>'NR-PI 2.0 Structure'!$C$5,(VLOOKUP(N212,'NR-PI 2.0 Structure'!$C$39:$D$40,2,FALSE)),0)),\" - \")","v":" - "},{"$f":"IFERROR(IF(ISBLANK(I212),\"N/A\",IF(I212<>'NR-PI 2.0 Structure'!$C$5,(VLOOKUP(N212,'NR-PI 2.0 Structure'!$C$39:$E$40,3,FALSE)),0)),\" - \")","v":" - "},"-","-","-","N/A",{"$f":"IF(ISBLANK('P Index Inputs'!R214),\"-\",'P Index Inputs'!R214)","v":"-"},{"$f":"IFERROR(IF(I212<>'NR-PI 2.0 Structure'!$C$5,VLOOKUP(AA212,'NR-PI 2.0 Structure'!$G$5:$H$9,2,FALSE),IF(OR(AA212='NR-PI 2.0 Structure'!$G$5,AA212='NR-PI 2.0 Structure'!$G$6,AA212='NR-PI 2.0 Structure'!$G$7),1,VLOOKUP(AA212,'NR-PI 2.0 Structure'!$G$8:$H$9,2,FALSE))),\"-\")","v":"-"},{"$f":"IF(ISBLANK('P Index Inputs'!S214),\"-\",'P Index Inputs'!S214)","v":"-"},{"$f":"IFERROR(VLOOKUP(AC212,'NR-PI 2.0 Structure'!$G$14:$H$19,2,FALSE),\"-\")","v":"-"},"-","-","N/A","N/A",0,0,0,0,0,0,0,0,0]
[{"$f":"'P Index Inputs'!A215","v":0},{"$f":"'P Index Inputs'!B215","v":0},{"$f":"'P Index Inputs'!C215","v":0},{"$f":"'P Index Inputs'!D215","v":0},{"$f":"'P Index Inputs'!E215","v":0},{"$f":"'P Index Inputs'!F215","v":0},{"$f":"'P Index Inputs'!H215","v":0},{"$f":"'P Index Inputs'!I215","v":0},{"$f":"'P Index Inputs'!J215","v":0},{"$f":"IF(ISBLANK('P Index Inputs'!L215),'P Index Inputs'!K215,'P Index Inputs'!L215)","v":"-"},{"$f":"'P Index Inputs'!M215","v":0},{"$f":"'P Index Inputs'!O215","v":0},{"$f":"'P Index Inputs'!P215","v":0},{"$f":"'P Index Inputs'!Q215","v":0},{"$f":"IFERROR(VLOOKUP(I213,'NR-PI 2.0 Structure'!$C$5:$D$8,2,FALSE),\"-\")","v":"-"},{"$f":"IFERROR(VLOOKUP(J213,'NR-PI 2.0 Structure'!$B$12:$C$16,2,FALSE),\"-\")","v":"-"},{"$f":"IFERROR(VLOOKUP(K213,'NR-PI 2.0 Structure'!$B$20:$D$21,3,FALSE),\"-\")","v":"-"},{"$f":"IFERROR(VLOOKUP(L213,'NR-PI 2.0 Structure'!$B$25:$C$28,2,FALSE),\"-\")","v":"-"},{"$f":"IFERROR(VLOOKUP(L213,'NR-PI 2.0 Structure'!$B$25:$D$28,3,FALSE),\"-\")","v":"-"},{"$f":"IFERROR(\n  IF(M213 = \"≤ 1\", 'NR-PI 2.0 Structure'!$D$32,\n  IF(M213 = \">1 - 3\", 'NR-PI 2.0 Structure'!$D$33,\n  IF(M213 = \">3 - 5\", 'NR-PI 2.0 Structure'!$D$34,\n  IF(M213 = \"> 5\", 'NR-PI 2.0 Structure'!$D$35, )))),\n\"-\")","v":0},{"$f":"IFERROR(IF(ISBLANK(I213),\"N/A\",IF(I213<>'NR-PI 2.0 Structure'!$C$5,(VLOOKUP(N213,'NR-PI 2.0 Structure'!$C$39:$D$40,2,FALSE)),0)),\" - \")","v":" - "},{"$f":"IFERROR(IF(ISBLANK(I213),\"N/A\",IF(I213<>'NR-PI 2.0 Structure'!$C$5,(VLOOKUP(N213,'NR-PI 2.0 Structure'!$C$39:$E$40,3,FALSE)),0)),\" - \")","v":" - "},"-","-","-",{"$f":"IF(Y213=\"-\",\"N/A\",IF(Y213<50, \"Low\", IF(Y213<75, \"Medium\", IF(Y213<100, \"High\", IF(Y213>=100, \"Very High\")))))","v":"N/A"},{"$f":"IF(ISBLANK('P Index Inputs'!R215),\"-\",'P Index Inputs'!R215)","v":"-"},{"$f":"IFERROR(IF(I213<>'NR-PI 2.0 Structure'!$C$5,VLOOKUP(AA213,'NR-PI 2.0 Structure'!$G$5:$H$9,2,FALSE),IF(OR(AA213='NR-PI 2.0 Structure'!$G$5,AA213='NR-PI 2.0 Structure'!$G$6,AA213='NR-PI 2.0 Structure'!$G$7),1,VLOOKUP(AA213,'NR-PI 2.0 Structure'!$G$8:$H$9,2,FALSE))),\"-\")","v":"-"},{"$f":"IF(ISBLANK('P Index Inputs'!S215),\"-\",'P Index Inputs'!S215)","v":"-"},{"$f":"IFERROR(VLOOKUP(AC213,'NR-PI 2.0 Structure'!$G$14:$H$19,2,FALSE),\"-\")","v":"-"},"-","-","N/A","N/A",0,0,0,0,0,0,0,0,0]
[{"$f":"'P Index Inputs'!A216","v":0},{"$f":"'P Index Inputs'!B216","v":0},{"$f":"'P Index Inputs'!C216","v":0},{"$f":"'P Index Inputs'!D216","v":0},{"$f":"'P Index Inputs'!E216","v":0},{"$f":"'P Index Inputs'!F216","v":0},{"$f":"'P Index Inputs'!H216","v":0},{"$f":"'P Index Inputs'!I216","v":0},{"$f":"'P Index Inputs'!J216","v":0},{"$f":"IF(ISBLANK('P Index Inputs'!L216),'P Index Inputs'!K216,'P Index Inputs'!L216)","v":"-"},{"$f":"'P Index Inputs'!M216","v":0},{"$f":"'P Index Inputs'!O216","v":0},{"$f":"'P Index Inputs'!P216","v":0},{"$f":"'P Index Inputs'!Q216","v":0},{"$f":"IFERROR(VLOOKUP(I214,'NR-PI 2.0 Structure'!$C$5:$D$8,2,FALSE),\"-\")","v":"-"},{"$f":"IFERROR(VLOOKUP(J214,'NR-PI 2.0 Structure'!$B$12:$C$16,2,FALSE),\"-\")","v":"-"},{"$f":"IFERROR(VLOOKUP(K214,'NR-PI 2.0 Structure'!$B$20:$D$21,3,FALSE),\"-\")","v":"-"},{"$f":"IFERROR(VLOOKUP(L214,'NR-PI 2.0 Structure'!$B$25:$C$28,2,FALSE),\"-\")","v":"-"},{"$f":"IFERROR(VLOOKUP(L214,'NR-PI 2.0 Structure'!$B$25:$D$28,3,FALSE),\"-\")","v":"-"},{"$f":"IFERROR(\n  IF(M214 = \"≤ 1\", 'NR-PI 2.0 Structure'!$D$32,\n  IF(M214 = \">1 - 3\", 'NR-PI 2.0 Structure'!$D$33,\n  IF(M214 = \">3 - 5\", 'NR-PI 2.0 Structure'!$D$34,\n  IF(M214 = \"> 5\", 'NR-PI 2.0 Structure'!$D$35, )))),\n\"-\")","v":0},{"$f":"IFERROR(IF(ISBLANK(I214),\"N/A\",IF(I214<>'NR-PI 2.0 Structure'!$C$5,(VLOOKUP(N214,'NR-PI 2.0 Structure'!$C$39:$D$40,2,FALSE)),0)),\" - \")","v":" - "},{"$f":"IFERROR(IF(ISBLANK(I214),\"N/A\",IF(I214<>'NR-PI 2.0 Structure'!$C$5,(VLOOKUP(N214,'NR-PI 2.0 Structure'!$C$39:$E$40,3,FALSE)),0)),\" - \")","v":" - "},"-","-","-","N/A",{"$f":"IF(ISBLANK('P Index Inputs'!R216),\"-\",'P Index Inputs'!R216)","v":"-"},{"$f":"IFERROR(IF(I214<>'NR-PI 2.0 Structure'!$C$5,VLOOKUP(AA214,'NR-PI 2.0 Structure'!$G$5:$H$9,2,FALSE),IF(OR(AA214='NR-PI 2.0 Structure'!$G$5,AA214='NR-PI 2.0 Structure'!$G$6,AA214='NR-PI 2.0 Structure'!$G$7),1,VLOOKUP(AA214,'NR-PI 2.0 Structure'!$G$8:$H$9,2,FALSE))),\"-\")","v":"-"},{"$f":"IF(ISBLANK('P Index Inputs'!S216),\"-\",'P Index Inputs'!S216)","v":"-"},{"$f":"IFERROR(VLOOKUP(AC214,'NR-PI 2.0 Structure'!$G$14:$H$19,2,FALSE),\"-\")","v":"-"},"-","-","N/A","N/A",0,0,0,0,0,0,0,0,0]
[{"$f":"'P Index Inputs'!A217","v":0},{"$f":"'P Index Inputs'!B217","v":0},{"$f":"'P Index Inputs'!C217","v":0},{"$f":"'P Index Inputs'!D217","v":0},{"$f":"'P Index Inputs'!E217","v":0},{"$f":"'P Index Inputs'!F217","v":0},{"$f":"'P Index Inputs'!H217","v":0},{"$f":"'P Index Inputs'!I217","v":0},{"$f":"'P Index Inputs'!J217","v":0},{"$f":"IF(ISBLANK('P Index Inputs'!L217),'P Index Inputs'!K217,'P Index Inputs'!L217)","v":"-"},{"$f":"'P Index Inputs'!M217","v":0},{"$f":"'P Index Inputs'!O217","v":0},{"$f":"'P Index Inputs'!P217","v":0},{"$f":"'P Index Inputs'!Q217","v":0},{"$f":"IFERROR(VLOOKUP(I215,'NR-PI 2.0 Structure'!$C$5:$D$8,2,FALSE),\"-\")","v":"-"},{"$f":"IFERROR(VLOOKUP(J215,'NR-PI 2.0 Structure'!$B$12:$C$16,2,FALSE),\"-\")","v":"-"},{"$f":"IFERROR(VLOOKUP(K215,'NR-PI 2.0 Structure'!$B$20:$D$21,3,FALSE),\"-\")","v":"-"},{"$f":"IFERROR(VLOOKUP(L215,'NR-PI 2.0 Structure'!$B$25:$C$28,2,FALSE),\"-\")","v":"-"},{"$f":"IFERROR(VLOOKUP(L215,'NR-PI 2.0 Structure'!$B$25:$D$28,3,FALSE),\"-\")","v":"-"},{"$f":"IFERROR(\n  IF(M215 = \"≤ 1\", 'NR-PI 2.0 Structure'!$D$32,\n  IF(M215 = \">1 - 3\", 'NR-PI 2.0 Structure'!$D$33,\n  IF(M215 = \">3 - 5\", 'NR-PI 2.0 Structure'!$D$34,\n  IF(M215 = \"> 5\", 'NR-PI 2.0 Structure'!$D$35, )))),\n\"-\")","v":0},{"$f":"IFERROR(IF(ISBLANK(I215),\"N/A\",IF(I215<>'NR-PI 2.0 Structure'!$C$5,(VLOOKUP(N215,'NR-PI 2.0 Structure'!$C$39:$D$40,2,FALSE)),0)),\" - \")","v":" - "},{"$f":"IFERROR(IF(ISBLANK(I215),\"N/A\",IF(I215<>'NR-PI 2.0 Structure'!$C$5,(VLOOKUP(N215,'NR-PI 2.0 Structure'!$C$39:$E$40,3,FALSE)),0)),\" - \")","v":" - "},"-","-","-","N/A",{"$f":"IF(ISBLANK('P Index Inputs'!R217),\"-\",'P Index Inputs'!R217)","v":"-"},{"$f":"IFERROR(IF(I215<>'NR-PI 2.0 Structure'!$C$5,VLOOKUP(AA215,'NR-PI 2.0 Structure'!$G$5:$H$9,2,FALSE),IF(OR(AA215='NR-PI 2.0 Structure'!$G$5,AA215='NR-PI 2.0 Structure'!$G$6,AA215='NR-PI 2.0 Structure'!$G$7),1,VLOOKUP(AA215,'NR-PI 2.0 Structure'!$G$8:$H$9,2,FALSE))),\"-\")","v":"-"},{"$f":"IF(ISBLANK('P Index Inputs'!S217),\"-\",'P Index Inputs'!S217)","v":"-"},{"$f":"IFERROR(VLOOKUP(AC215,'NR-PI 2.0 Structure'!$G$14:$H$19,2,FALSE),\"-\")","v":"-"},"-","-","N/A","N/A",0,0,0,0,0,0,0,0,0]
[{"$f":"'P Index Inputs'!A218","v":0},{"$f":"'P Index Inputs'!B218","v":0},{"$f":"'P Index Inputs'!C218","v":0},{"$f":"'P Index Inputs'!D218","v":0},{"$f":"'P Index Inputs'!E218","v":0},{"$f":"'P Index Inputs'!F218","v":0},{"$f":"'P Index Inputs'!H218","v":0},{"$f":"'P Index Inputs'!I218","v":0},{"$f":"'P Index Inputs'!J218","v":0},{"$f":"IF(ISBLANK('P Index Inputs'!L218),'P Index Inputs'!K218,'P Index Inputs'!L218)","v":"-"},{"$f":"'P Index Inputs'!M218","v":0},{"$f":"'P Index Inputs'!O218","v":0},{"$f":"'P Index Inputs'!P218","v":0},{"$f":"'P Index Inputs'!Q218","v":0},{"$f":"IFERROR(VLOOKUP(I216,'NR-PI 2.0 Structure'!$C$5:$D$8,2,FALSE),\"-\")","v":"-"},{"$f":"IFERROR(VLOOKUP(J216,'NR-PI 2.0 Structure'!$B$12:$C$16,2,FALSE),\"-\")","v":"-"},{"$f":"IFERROR(VLOOKUP(K216,'NR-PI 2.0 Structure'!$B$20:$D$21,3,FALSE),\"-\")","v":"-"},{"$f":"IFERROR(VLOOKUP(L216,'NR-PI 2.0 Structure'!$B$25:$C$28,2,FALSE),\"-\")","v":"-"},{"$f":"IFERROR(VLOOKUP(L216,'NR-PI 2.0 Structure'!$B$25:$D$28,3,FALSE),\"-\")","v":"-"},{"$f":"IFERROR(\n  IF(M216 = \"≤ 1\", 'NR-PI 2.0 Structure'!$D$32,\n  IF(M216 = \">1 - 3\", 'NR-PI 2.0 Structure'!$D$33,\n  IF(M216 = \">3 - 5\", 'NR-PI 2.0 Structure'!$D$34,\n  IF(M216 = \"> 5\", 'NR-PI 2.0 Structure'!$D$35, )))),\n\"-\")","v":0},{"$f":"IFERROR(IF(ISBLANK(I216),\"N/A\",IF(I216<>'NR-PI 2.0 Structure'!$C$5,(VLOOKUP(N216,'NR-PI 2.0 Structure'!$C$39:$D$40,2,FALSE)),0)),\" - \")","v":" - "},{"$f":"IFERROR(IF(ISBLANK(I216),\"N/A\",IF(I216<>'NR-PI 2.0 Structure'!$C$5,(VLOOKUP(N216,'NR-PI 2.0 Structure'!$C$39:$E$40,3,FALSE)),0)),\" - \")","v":" - "},"-","-","-","N/A",{"$f":"IF(ISBLANK('P Index Inputs'!R218),\"-\",'P Index Inputs'!R218)","v":"-"},{"$f":"IFERROR(IF(I216<>'NR-PI 2.0 Structure'!$C$5,VLOOKUP(AA216,'NR-PI 2.0 Structure'!$G$5:$H$9,2,FALSE),IF(OR(AA216='NR-PI 2.0 Structure'!$G$5,AA216='NR-PI 2.0 Structure'!$G$6,AA216='NR-PI 2.0 Structure'!$G$7),1,VLOOKUP(AA216,'NR-PI 2.0 Structure'!$G$8:$H$9,2,FALSE))),\"-\")","v":"-"},{"$f":"IF(ISBLANK('P Index Inputs'!S218),\"-\",'P Index Inputs'!S218)","v":"-"},{"$f":"IFERROR(VLOOKUP(AC216,'NR-PI 2.0 Structure'!$G$14:$H$19,2,FALSE),\"-\")","v":"-"},"-","-","N/A","N/A",0,0,0,0,0,0,0,0,0]
[{"$f":"'P Index Inputs'!A219","v":0},{"$f":"'P Index Inputs'!B219","v":0},{"$f":"'P Index Inputs'!C219","v":0},{"$f":"'P Index Inputs'!D219","v":0},{"$f":"'P Index Inputs'!E219","v":0},{"$f":"'P Index Inputs'!F219","v":0},{"$f":"'P Index Inputs'!H219","v":0},{"$f":"'P Index Inputs'!I219","v":0},{"$f":"'P Index Inputs'!J219","v":0},{"$f":"IF(ISBLANK('P Index Inputs'!L219),'P Index Inputs'!K219,'P Index Inputs'!L219)","v":"-"},{"$f":"'P Index Inputs'!M219","v":0},{"$f":"'P Index Inputs'!O219","v":0},{"$f":"'P Index Inputs'!P219","v":0},{"$f":"'P Index Inputs'!Q219","v":0},{"$f":"IFERROR(VLOOKUP(I217,'NR-PI 2.0 Structure'!$C$5:$D$8,2,FALSE),\"-\")","v":"-"},{"$f":"IFERROR(VLOOKUP(J217,'NR-PI 2.0 Structure'!$B$12:$C$16,2,FALSE),\"-\")","v":"-"},{"$f":"IFERROR(VLOOKUP(K217,'NR-PI 2.0 Structure'!$B$20:$D$21,3,FALSE),\"-\")","v":"-"},{"$f":"IFERROR(VLOOKUP(L217,'NR-PI 2.0 Structure'!$B$25:$C$28,2,FALSE),\"-\")","v":"-"},{"$f":"IFERROR(VLOOKUP(L217,'NR-PI 2.0 Structure'!$B$25:$D$28,3,FALSE),\"-\")","v":"-"},{"$f":"IFERROR(\n  IF(M217 = \"≤ 1\", 'NR-PI 2.0 Structure'!$D$32,\n  IF(M217 = \">1 - 3\", 'NR-PI 2.0 Structure'!$D$33,\n  IF(M217 = \">3 - 5\", 'NR-PI 2.0 Structure'!$D$34,\n  IF(M217 = \"> 5\", 'NR-PI 2.0 Structure'!$D$35, )))),\n\"-\")","v":0},{"$f":"IFERROR(IF(ISBLANK(I217),\"N/A\",IF(I217<>'NR-PI 2.0 Structure'!$C$5,(VLOOKUP(N217,'NR-PI 2.0 Structure'!$C$39:$D$40,2,FALSE)),0)),\" - \")","v":" - "},{"$f":"IFERROR(IF(ISBLANK(I217),\"N/A\",IF(I217<>'NR-PI 2.0 Structure'!$C$5,(VLOOKUP(N217,'NR-PI 2.0 Structure'!$C$39:$E$40,3,FALSE)),0)),\" - \")","v":" - "},"-","-","-","N/A",{"$f":"IF(ISBLANK('P Index Inputs'!R219),\"-\",'P Index Inputs'!R219)","v":"-"},{"$f":"IFERROR(IF(I217<>'NR-PI 2.0 Structure'!$C$5,VLOOKUP(AA217,'NR-PI 2.0 Structure'!$G$5:$H$9,2,FALSE),IF(OR(AA217='NR-PI 2.0 Structure'!$G$5,AA217='NR-PI 2.0 Structure'!$G$6,AA217='NR-PI 2.0 Structure'!$G$7),1,VLOOKUP(AA217,'NR-PI 2.0 Structure'!$G$8:$H$9,2,FALSE))),\"-\")","v":"-"},{"$f":"IF(ISBLANK('P Index Inputs'!S219),\"-\",'P Index Inputs'!S219)","v":"-"},{"$f":"IFERROR(VLOOKUP(AC217,'NR-PI 2.0 Structure'!$G$14:$H$19,2,FALSE),\"-\")","v":"-"},"-","-","N/A","N/A",0,0,0,0,0,0,0,0,0]
[{"$f":"'P Index Inputs'!A220","v":0},{"$f":"'P Index Inputs'!B220","v":0},{"$f":"'P Index Inputs'!C220","v":0},{"$f":"'P Index Inputs'!D220","v":0},{"$f":"'P Index Inputs'!E220","v":0},{"$f":"'P Index Inputs'!F220","v":0},{"$f":"'P Index Inputs'!H220","v":0},{"$f":"'P Index Inputs'!I220","v":0},{"$f":"'P Index Inputs'!J220","v":0},{"$f":"IF(ISBLANK('P Index Inputs'!L220),'P Index Inputs'!K220,'P Index Inputs'!L220)","v":"-"},{"$f":"'P Index Inputs'!M220","v":0},{"$f":"'P Index Inputs'!O220","v":0},{"$f":"'P Index Inputs'!P220","v":0},{"$f":"'P Index Inputs'!Q220","v":0},{"$f":"IFERROR(VLOOKUP(I218,'NR-PI 2.0 Structure'!$C$5:$D$8,2,FALSE),\"-\")","v":"-"},{"$f":"IFERROR(VLOOKUP(J218,'NR-PI 2.0 Structure'!$B$12:$C$16,2,FALSE),\"-\")","v":"-"},{"$f":"IFERROR(VLOOKUP(K218,'NR-PI 2.0 Structure'!$B$20:$D$21,3,FALSE),\"-\")","v":"-"},{"$f":"IFERROR(VLOOKUP(L218,'NR-PI 2.0 Structure'!$B$25:$C$28,2,FALSE),\"-\")","v":"-"},{"$f":"IFERROR(VLOOKUP(L218,'NR-PI 2.0 Structure'!$B$25:$D$28,3,FALSE),\"-\")","v":"-"},{"$f":"IFERROR(\n  IF(M218 = \"≤ 1\", 'NR-PI 2.0 Structure'!$D$32,\n  IF(M218 = \">1 - 3\", 'NR-PI 2.0 Structure'!$D$33,\n  IF(M218 = \">3 - 5\", 'NR-PI 2.0 Structure'!$D$34,\n  IF(M218 = \"> 5\", 'NR-PI 2.0 Structure'!$D$35, )))),\n\"-\")","v":0},{"$f":"IFERROR(IF(ISBLANK(I218),\"N/A\",IF(I218<>'NR-PI 2.0 Structure'!$C$5,(VLOOKUP(N218,'NR-PI 2.0 Structure'!$C$39:$D$40,2,FALSE)),0)),\" - \")","v":" - "},{"$f":"IFERROR(IF(ISBLANK(I218),\"N/A\",IF(I218<>'NR-PI 2.0 Structure'!$C$5,(VLOOKUP(N218,'NR-PI 2.0 Structure'!$C$39:$E$40,3,FALSE)),0)),\" - \")","v":" - "},"-","-","-","N/A",{"$f":"IF(ISBLANK('P Index Inputs'!R220),\"-\",'P Index Inputs'!R220)","v":"-"},{"$f":"IFERROR(IF(I218<>'NR-PI 2.0 Structure'!$C$5,VLOOKUP(AA218,'NR-PI 2.0 Structure'!$G$5:$H$9,2,FALSE),IF(OR(AA218='NR-PI 2.0 Structure'!$G$5,AA218='NR-PI 2.0 Structure'!$G$6,AA218='NR-PI 2.0 Structure'!$G$7),1,VLOOKUP(AA218,'NR-PI 2.0 Structure'!$G$8:$H$9,2,FALSE))),\"-\")","v":"-"},{"$f":"IF(ISBLANK('P Index Inputs'!S220),\"-\",'P Index Inputs'!S220)","v":"-"},{"$f":"IFERROR(VLOOKUP(AC218,'NR-PI 2.0 Structure'!$G$14:$H$19,2,FALSE),\"-\")","v":"-"},"-","-","N/A","N/A",0,0,0,0,0,0,0,0,0]
[{"$f":"'P Index Inputs'!A221","v":0},{"$f":"'P Index Inputs'!B221","v":0},{"$f":"'P Index Inputs'!C221","v":0},{"$f":"'P Index Inputs'!D221","v":0},{"$f":"'P Index Inputs'!E221","v":0},{"$f":"'P Index Inputs'!F221","v":0},{"$f":"'P Index Inputs'!H221","v":0},{"$f":"'P Index Inputs'!I221","v":0},{"$f":"'P Index Inputs'!J221","v":0},{"$f":"IF(ISBLANK('P Index Inputs'!L221),'P Index Inputs'!K221,'P Index Inputs'!L221)","v":"-"},{"$f":"'P Index Inputs'!M221","v":0},{"$f":"'P Index Inputs'!O221","v":0},{"$f":"'P Index Inputs'!P221","v":0},{"$f":"'P Index Inputs'!Q221","v":0},{"$f":"IFERROR(VLOOKUP(I219,'NR-PI 2.0 Structure'!$C$5:$D$8,2,FALSE),\"-\")","v":"-"},{"$f":"IFERROR(VLOOKUP(J219,'NR-PI 2.0 Structure'!$B$12:$C$16,2,FALSE),\"-\")","v":"-"},{"$f":"IFERROR(VLOOKUP(K219,'NR-PI 2.0 Structure'!$B$20:$D$21,3,FALSE),\"-\")","v":"-"},{"$f":"IFERROR(VLOOKUP(L219,'NR-PI 2.0 Structure'!$B$25:$C$28,2,FALSE),\"-\")","v":"-"},{"$f":"IFERROR(VLOOKUP(L219,'NR-PI 2.0 Structure'!$B$25:$D$28,3,FALSE),\"-\")","v":"-"},{"$f":"IFERROR(\n  IF(M219 = \"≤ 1\", 'NR-PI 2.0 Structure'!$D$32,\n  IF(M219 = \">1 - 3\", 'NR-PI 2.0 Structure'!$D$33,\n  IF(M219 = \">3 - 5\", 'NR-PI 2.0 Structure'!$D$34,\n  IF(M219 = \"> 5\", 'NR-PI 2.0 Structure'!$D$35, )))),\n\"-\")","v":0},{"$f":"IFERROR(IF(ISBLANK(I219),\"N/A\",IF(I219<>'NR-PI 2.0 Structure'!$C$5,(VLOOKUP(N219,'NR-PI 2.0 Structure'!$C$39:$D$40,2,FALSE)),0)),\" - \")","v":" - "},{"$f":"IFERROR(IF(ISBLANK(I219),\"N/A\",IF(I219<>'NR-PI 2.0 Structure'!$C$5,(VLOOKUP(N219,'NR-PI 2.0 Structure'!$C$39:$E$40,3,FALSE)),0)),\" - \")","v":" - "},"-","-","-","N/A",{"$f":"IF(ISBLANK('P Index Inputs'!R221),\"-\",'P Index Inputs'!R221)","v":"-"},{"$f":"IFERROR(IF(I219<>'NR-PI 2.0 Structure'!$C$5,VLOOKUP(AA219,'NR-PI 2.0 Structure'!$G$5:$H$9,2,FALSE),IF(OR(AA219='NR-PI 2.0 Structure'!$G$5,AA219='NR-PI 2.0 Structure'!$G$6,AA219='NR-PI 2.0 Structure'!$G$7),1,VLOOKUP(AA219,'NR-PI 2.0 Structure'!$G$8:$H$9,2,FALSE))),\"-\")","v":"-"},{"$f":"IF(ISBLANK('P Index Inputs'!S221),\"-\",'P Index Inputs'!S221)","v":"-"},{"$f":"IFERROR(VLOOKUP(AC219,'NR-PI 2.0 Structure'!$G$14:$H$19,2,FALSE),\"-\")","v":"-"},"-","-","N/A","N/A",0,0,0,0,0,0,0,0,0]
[{"$f":"'P Index Inputs'!A222","v":0},{"$f":"'P Index Inputs'!B222","v":0},{"$f":"'P Index Inputs'!C222","v":0},{"$f":"'P Index Inputs'!D222","v":0},{"$f":"'P Index Inputs'!E222","v":0},{"$f":"'P Index Inputs'!F222","v":0},{"$f":"'P Index Inputs'!H222","v":0},{"$f":"'P Index Inputs'!I222","v":0},{"$f":"'P Index Inputs'!J222","v":0},{"$f":"IF(ISBLANK('P Index Inputs'!L222),'P Index Inputs'!K222,'P Index Inputs'!L222)","v":"-"},{"$f":"'P Index Inputs'!M222","v":0},{"$f":"'P Index Inputs'!O222","v":0},{"$f":"'P Index Inputs'!P222","v":0},{"$f":"'P Index Inputs'!Q222","v":0},{"$f":"IFERROR(VLOOKUP(I220,'NR-PI 2.0 Structure'!$C$5:$D$8,2,FALSE),\"-\")","v":"-"},{"$f":"IFERROR(VLOOKUP(J220,'NR-PI 2.0 Structure'!$B$12:$C$16,2,FALSE),\"-\")","v":"-"},{"$f":"IFERROR(VLOOKUP(K220,'NR-PI 2.0 Structure'!$B$20:$D$21,3,FALSE),\"-\")","v":"-"},{"$f":"IFERROR(VLOOKUP(L220,'NR-PI 2.0 Structure'!$B$25:$C$28,2,FALSE),\"-\")","v":"-"},{"$f":"IFERROR(VLOOKUP(L220,'NR-PI 2.0 Structure'!$B$25:$D$28,3,FALSE),\"-\")","v":"-"},{"$f":"IFERROR(\n  IF(M220 = \"≤ 1\", 'NR-PI 2.0 Structure'!$D$32,\n  IF(M220 = \">1 - 3\", 'NR-PI 2.0 Structure'!$D$33,\n  IF(M220 = \">3 - 5\", 'NR-PI 2.0 Structure'!$D$34,\n  IF(M220 = \"> 5\", 'NR-PI 2.0 Structure'!$D$35, )))),\n\"-\")","v":0},{"$f":"IFERROR(IF(ISBLANK(I220),\"N/A\",IF(I220<>'NR-PI 2.0 Structure'!$C$5,(VLOOKUP(N220,'NR-PI 2.0 Structure'!$C$39:$D$40,2,FALSE)),0)),\" - \")","v":" - "},{"$f":"IFERROR(IF(ISBLANK(I220),\"N/A\",IF(I220<>'NR-PI 2.0 Structure'!$C$5,(VLOOKUP(N220,'NR-PI 2.0 Structure'!$C$39:$E$40,3,FALSE)),0)),\" - \")","v":" - "},"-","-","-","N/A",{"$f":"IF(ISBLANK('P Index Inputs'!R222),\"-\",'P Index Inputs'!R222)","v":"-"},{"$f":"IFERROR(IF(I220<>'NR-PI 2.0 Structure'!$C$5,VLOOKUP(AA220,'NR-PI 2.0 Structure'!$G$5:$H$9,2,FALSE),IF(OR(AA220='NR-PI 2.0 Structure'!$G$5,AA220='NR-PI 2.0 Structure'!$G$6,AA220='NR-PI 2.0 Structure'!$G$7),1,VLOOKUP(AA220,'NR-PI 2.0 Structure'!$G$8:$H$9,2,FALSE))),\"-\")","v":"-"},{"$f":"IF(ISBLANK('P Index Inputs'!S222),\"-\",'P Index Inputs'!S222)","v":"-"},{"$f":"IFERROR(VLOOKUP(AC220,'NR-PI 2.0 Structure'!$G$14:$H$19,2,FALSE),\"-\")","v":"-"},"-","-","N/A","N/A",0,0,0,0,0,0,0,0,0]
[{"$f":"'P Index Inputs'!A223","v":0},{"$f":"'P Index Inputs'!B223","v":0},{"$f":"'P Index Inputs'!C223","v":0},{"$f":"'P Index Inputs'!D223","v":0},{"$f":"'P Index Inputs'!E223","v":0},{"$f":"'P Index Inputs'!F223","v":0},{"$f":"'P Index Inputs'!H223","v":0},{"$f":"'P Index Inputs'!I223","v":0},{"$f":"'P Index Inputs'!J223","v":0},{"$f":"IF(ISBLANK('P Index Inputs'!L223),'P Index Inputs'!K223,'P Index Inputs'!L223)","v":"-"},{"$f":"'P Index Inputs'!M223","v":0},{"$f":"'P Index Inputs'!O223","v":0},{"$f":"'P Index Inputs'!P223","v":0},{"$f":"'P Index Inputs'!Q223","v":0},{"$f":"IFERROR(VLOOKUP(I221,'NR-PI 2.0 Structure'!$C$5:$D$8,2,FALSE),\"-\")","v":"-"},{"$f":"IFERROR(VLOOKUP(J221,'NR-PI 2.0 Structure'!$B$12:$C$16,2,FALSE),\"-\")","v":"-"},{"$f":"IFERROR(VLOOKUP(K221,'NR-PI 2.0 Structure'!$B$20:$D$21,3,FALSE),\"-\")","v":"-"},{"$f":"IFERROR(VLOOKUP(L221,'NR-PI 2.0 Structure'!$B$25:$C$28,2,FALSE),\"-\")","v":"-"},{"$f":"IFERROR(VLOOKUP(L221,'NR-PI 2.0 Structure'!$B$25:$D$28,3,FALSE),\"-\")","v":"-"},{"$f":"IFERROR(\n  IF(M221 = \"≤ 1\", 'NR-PI 2.0 Structure'!$D$32,\n  IF(M221 = \">1 - 3\", 'NR-PI 2.0 Structure'!$D$33,\n  IF(M221 = \">3 - 5\", 'NR-PI 2.0 Structure'!$D$34,\n  IF(M221 = \"> 5\", 'NR-PI 2.0 Structure'!$D$35, )))),\n\"-\")","v":0},{"$f":"IFERROR(IF(ISBLANK(I221),\"N/A\",IF(I221<>'NR-PI 2.0 Structure'!$C$5,(VLOOKUP(N221,'NR-PI 2.0 Structure'!$C$39:$D$40,2,FALSE)),0)),\" - \")","v":" - "},{"$f":"IFERROR(IF(ISBLANK(I221),\"N/A\",IF(I221<>'NR-PI 2.0 Structure'!$C$5,(VLOOKUP(N221,'NR-PI 2.0 Structure'!$C$39:$E$40,3,FALSE)),0)),\" - \")","v":" - "},"-","-","-","N/A",{"$f":"IF(ISBLANK('P Index Inputs'!R223),\"-\",'P Index Inputs'!R223)","v":"-"},{"$f":"IFERROR(IF(I221<>'NR-PI 2.0 Structure'!$C$5,VLOOKUP(AA221,'NR-PI 2.0 Structure'!$G$5:$H$9,2,FALSE),IF(OR(AA221='NR-PI 2.0 Structure'!$G$5,AA221='NR-PI 2.0 Structure'!$G$6,AA221='NR-PI 2.0 Structure'!$G$7),1,VLOOKUP(AA221,'NR-PI 2.0 Structure'!$G$8:$H$9,2,FALSE))),\"-\")","v":"-"},{"$f":"IF(ISBLANK('P Index Inputs'!S223),\"-\",'P Index Inputs'!S223)","v":"-"},{"$f":"IFERROR(VLOOKUP(AC221,'NR-PI 2.0 Structure'!$G$14:$H$19,2,FALSE),\"-\")","v":"-"},"-","-","N/A","N/A",0,0,0,0,0,0,0,0,0]
[{"$f":"'P Index Inputs'!A224","v":0},{"$f":"'P Index Inputs'!B224","v":0},{"$f":"'P Index Inputs'!C224","v":0},{"$f":"'P Index Inputs'!D224","v":0},{"$f":"'P Index Inputs'!E224","v":0},{"$f":"'P Index Inputs'!F224","v":0},{"$f":"'P Index Inputs'!H224","v":0},{"$f":"'P Index Inputs'!I224","v":0},{"$f":"'P Index Inputs'!J224","v":0},{"$f":"IF(ISBLANK('P Index Inputs'!L224),'P Index Inputs'!K224,'P Index Inputs'!L224)","v":"-"},{"$f":"'P Index Inputs'!M224","v":0},{"$f":"'P Index Inputs'!O224","v":0},{"$f":"'P Index Inputs'!P224","v":0},{"$f":"'P Index Inputs'!Q224","v":0},{"$f":"IFERROR(VLOOKUP(I222,'NR-PI 2.0 Structure'!$C$5:$D$8,2,FALSE),\"-\")","v":"-"},{"$f":"IFERROR(VLOOKUP(J222,'NR-PI 2.0 Structure'!$B$12:$C$16,2,FALSE),\"-\")","v":"-"},{"$f":"IFERROR(VLOOKUP(K222,'NR-PI 2.0 Structure'!$B$20:$D$21,3,FALSE),\"-\")","v":"-"},{"$f":"IFERROR(VLOOKUP(L222,'NR-PI 2.0 Structure'!$B$25:$C$28,2,FALSE),\"-\")","v":"-"},{"$f":"IFERROR(VLOOKUP(L222,'NR-PI 2.0 Structure'!$B$25:$D$28,3,FALSE),\"-\")","v":"-"},{"$f":"IFERROR(\n  IF(M222 = \"≤ 1\", 'NR-PI 2.0 Structure'!$D$32,\n  IF(M222 = \">1 - 3\", 'NR-PI 2.0 Structure'!$D$33,\n  IF(M222 = \">3 - 5\", 'NR-PI 2.0 Structure'!$D$34,\n  IF(M222 = \"> 5\", 'NR-PI 2.0 Structure'!$D$35, )))),\n\"-\")","v":0},{"$f":"IFERROR(IF(ISBLANK(I222),\"N/A\",IF(I222<>'NR-PI 2.0 Structure'!$C$5,(VLOOKUP(N222,'NR-PI 2.0 Structure'!$C$39:$D$40,2,FALSE)),0)),\" - \")","v":" - "},{"$f":"IFERROR(IF(ISBLANK(I222),\"N/A\",IF(I222<>'NR-PI 2.0 Structure'!$C$5,(VLOOKUP(N222,'NR-PI 2.0 Structure'!$C$39:$E$40,3,FALSE)),0)),\" - \")","v":" - "},"-","-","-","N/A",{"$f":"IF(ISBLANK('P Index Inputs'!R224),\"-\",'P Index Inputs'!R224)","v":"-"},{"$f":"IFERROR(IF(I222<>'NR-PI 2.0 Structure'!$C$5,VLOOKUP(AA222,'NR-PI 2.0 Structure'!$G$5:$H$9,2,FALSE),IF(OR(AA222='NR-PI 2.0 Structure'!$G$5,AA222='NR-PI 2.0 Structure'!$G$6,AA222='NR-PI 2.0 Structure'!$G$7),1,VLOOKUP(AA222,'NR-PI 2.0 Structure'!$G$8:$H$9,2,FALSE))),\"-\")","v":"-"},{"$f":"IF(ISBLANK('P Index Inputs'!S224),\"-\",'P Index Inputs'!S224)","v":"-"},{"$f":"IFERROR(VLOOKUP(AC222,'NR-PI 2.0 Structure'!$G$14:$H$19,2,FALSE),\"-\")","v":"-"},"-","-","N/A","N/A",0,0,0,0,0,0,0,0,0]
[{"$f":"'P Index Inputs'!A225","v":0},{"$f":"'P Index Inputs'!B225","v":0},{"$f":"'P Index Inputs'!C225","v":0},{"$f":"'P Index Inputs'!D225","v":0},{"$f":"'P Index Inputs'!E225","v":0},{"$f":"'P Index Inputs'!F225","v":0},{"$f":"'P Index Inputs'!H225","v":0},{"$f":"'P Index Inputs'!I225","v":0},{"$f":"'P Index Inputs'!J225","v":0},{"$f":"IF(ISBLANK('P Index Inputs'!L225),'P Index Inputs'!K225,'P Index Inputs'!L225)","v":"-"},{"$f":"'P Index Inputs'!M225","v":0},{"$f":"'P Index Inputs'!O225","v":0},{"$f":"'P Index Inputs'!P225","v":0},{"$f":"'P Index Inputs'!Q225","v":0},{"$f":"IFERROR(VLOOKUP(I223,'NR-PI 2.0 Structure'!$C$5:$D$8,2,FALSE),\"-\")","v":"-"},{"$f":"IFERROR(VLOOKUP(J223,'NR-PI 2.0 Structure'!$B$12:$C$16,2,FALSE),\"-\")","v":"-"},{"$f":"IFERROR(VLOOKUP(K223,'NR-PI 2.0 Structure'!$B$20:$D$21,3,FALSE),\"-\")","v":"-"},{"$f":"IFERROR(VLOOKUP(L223,'NR-PI 2.0 Structure'!$B$25:$C$28,2,FALSE),\"-\")","v":"-"},{"$f":"IFERROR(VLOOKUP(L223,'NR-PI 2.0 Structure'!$B$25:$D$28,3,FALSE),\"-\")","v":"-"},{"$f":"IFERROR(\n  IF(M223 = \"≤ 1\", 'NR-PI 2.0 Structure'!$D$32,\n  IF(M223 = \">1 - 3\", 'NR-PI 2.0 Structure'!$D$33,\n  IF(M223 = \">3 - 5\", 'NR-PI 2.0 Structure'!$D$34,\n  IF(M223 = \"> 5\", 'NR-PI 2.0 Structure'!$D$35, )))),\n\"-\")","v":0},{"$f":"IFERROR(IF(ISBLANK(I223),\"N/A\",IF(I223<>'NR-PI 2.0 Structure'!$C$5,(VLOOKUP(N223,'NR-PI 2.0 Structure'!$C$39:$D$40,2,FALSE)),0)),\" - \")","v":" - "},{"$f":"IFERROR(IF(ISBLANK(I223),\"N/A\",IF(I223<>'NR-PI 2.0 Structure'!$C$5,(VLOOKUP(N223,'NR-PI 2.0 Structure'!$C$39:$E$40,3,FALSE)),0)),\" - \")","v":" - "},"-","-","-","N/A",{"$f":"IF(ISBLANK('P Index Inputs'!R225),\"-\",'P Index Inputs'!R225)","v":"-"},{"$f":"IFERROR(IF(I223<>'NR-PI 2.0 Structure'!$C$5,VLOOKUP(AA223,'NR-PI 2.0 Structure'!$G$5:$H$9,2,FALSE),IF(OR(AA223='NR-PI 2.0 Structure'!$G$5,AA223='NR-PI 2.0 Structure'!$G$6,AA223='NR-PI 2.0 Structure'!$G$7),1,VLOOKUP(AA223,'NR-PI 2.0 Structure'!$G$8:$H$9,2,FALSE))),\"-\")","v":"-"},{"$f":"IF(ISBLANK('P Index Inputs'!S225),\"-\",'P Index Inputs'!S225)","v":"-"},{"$f":"IFERROR(VLOOKUP(AC223,'NR-PI 2.0 Structure'!$G$14:$H$19,2,FALSE),\"-\")","v":"-"},"-","-","N/A","N/A",0,0,0,0,0,0,0,0,0]
[{"$f":"'P Index Inputs'!A226","v":0},{"$f":"'P Index Inputs'!B226","v":0},{"$f":"'P Index Inputs'!C226","v":0},{"$f":"'P Index Inputs'!D226","v":0},{"$f":"'P Index Inputs'!E226","v":0},{"$f":"'P Index Inputs'!F226","v":0},{"$f":"'P Index Inputs'!H226","v":0},{"$f":"'P Index Inputs'!I226","v":0},{"$f":"'P Index Inputs'!J226","v":0},{"$f":"IF(ISBLANK('P Index Inputs'!L226),'P Index Inputs'!K226,'P Index Inputs'!L226)","v":"-"},{"$f":"'P Index Inputs'!M226","v":0},{"$f":"'P Index Inputs'!O226","v":0},{"$f":"'P Index Inputs'!P226","v":0},{"$f":"'P Index Inputs'!Q226","v":0},{"$f":"IFERROR(VLOOKUP(I224,'NR-PI 2.0 Structure'!$C$5:$D$8,2,FALSE),\"-\")","v":"-"},{"$f":"IFERROR(VLOOKUP(J224,'NR-PI 2.0 Structure'!$B$12:$C$16,2,FALSE),\"-\")","v":"-"},{"$f":"IFERROR(VLOOKUP(K224,'NR-PI 2.0 Structure'!$B$20:$D$21,3,FALSE),\"-\")","v":"-"},{"$f":"IFERROR(VLOOKUP(L224,'NR-PI 2.0 Structure'!$B$25:$C$28,2,FALSE),\"-\")","v":"-"},{"$f":"IFERROR(VLOOKUP(L224,'NR-PI 2.0 Structure'!$B$25:$D$28,3,FALSE),\"-\")","v":"-"},{"$f":"IFERROR(\n  IF(M224 = \"≤ 1\", 'NR-PI 2.0 Structure'!$D$32,\n  IF(M224 = \">1 - 3\", 'NR-PI 2.0 Structure'!$D$33,\n  IF(M224 = \">3 - 5\", 'NR-PI 2.0 Structure'!$D$34,\n  IF(M224 = \"> 5\", 'NR-PI 2.0 Structure'!$D$35, )))),\n\"-\")","v":0},{"$f":"IFERROR(IF(ISBLANK(I224),\"N/A\",IF(I224<>'NR-PI 2.0 Structure'!$C$5,(VLOOKUP(N224,'NR-PI 2.0 Structure'!$C$39:$D$40,2,FALSE)),0)),\" - \")","v":" - "},{"$f":"IFERROR(IF(ISBLANK(I224),\"N/A\",IF(I224<>'NR-PI 2.0 Structure'!$C$5,(VLOOKUP(N224,'NR-PI 2.0 Structure'!$C$39:$E$40,3,FALSE)),0)),\" - \")","v":" - "},"-","-","-","N/A",{"$f":"IF(ISBLANK('P Index Inputs'!R226),\"-\",'P Index Inputs'!R226)","v":"-"},{"$f":"IFERROR(IF(I224<>'NR-PI 2.0 Structure'!$C$5,VLOOKUP(AA224,'NR-PI 2.0 Structure'!$G$5:$H$9,2,FALSE),IF(OR(AA224='NR-PI 2.0 Structure'!$G$5,AA224='NR-PI 2.0 Structure'!$G$6,AA224='NR-PI 2.0 Structure'!$G$7),1,VLOOKUP(AA224,'NR-PI 2.0 Structure'!$G$8:$H$9,2,FALSE))),\"-\")","v":"-"},{"$f":"IF(ISBLANK('P Index Inputs'!S226),\"-\",'P Index Inputs'!S226)","v":"-"},{"$f":"IFERROR(VLOOKUP(AC224,'NR-PI 2.0 Structure'!$G$14:$H$19,2,FALSE),\"-\")","v":"-"},"-","-","N/A","N/A",0,0,0,0,0,0,0,0,0]
[{"$f":"'P Index Inputs'!A227","v":0},{"$f":"'P Index Inputs'!B227","v":0},{"$f":"'P Index Inputs'!C227","v":0},{"$f":"'P Index Inputs'!D227","v":0},{"$f":"'P Index Inputs'!E227","v":0},{"$f":"'P Index Inputs'!F227","v":0},{"$f":"'P Index Inputs'!H227","v":0},{"$f":"'P Index Inputs'!I227","v":0},{"$f":"'P Index Inputs'!J227","v":0},{"$f":"IF(ISBLANK('P Index Inputs'!L227),'P Index Inputs'!K227,'P Index Inputs'!L227)","v":"-"},{"$f":"'P Index Inputs'!M227","v":0},{"$f":"'P Index Inputs'!O227","v":0},{"$f":"'P Index Inputs'!P227","v":0},{"$f":"'P Index Inputs'!Q227","v":0},{"$f":"IFERROR(VLOOKUP(I225,'NR-PI 2.0 Structure'!$C$5:$D$8,2,FALSE),\"-\")","v":"-"},{"$f":"IFERROR(VLOOKUP(J225,'NR-PI 2.0 Structure'!$B$12:$C$16,2,FALSE),\"-\")","v":"-"},{"$f":"IFERROR(VLOOKUP(K225,'NR-PI 2.0 Structure'!$B$20:$D$21,3,FALSE),\"-\")","v":"-"},{"$f":"IFERROR(VLOOKUP(L225,'NR-PI 2.0 Structure'!$B$25:$C$28,2,FALSE),\"-\")","v":"-"},{"$f":"IFERROR(VLOOKUP(L225,'NR-PI 2.0 Structure'!$B$25:$D$28,3,FALSE),\"-\")","v":"-"},{"$f":"IFERROR(\n  IF(M225 = \"≤ 1\", 'NR-PI 2.0 Structure'!$D$32,\n  IF(M225 = \">1 - 3\", 'NR-PI 2.0 Structure'!$D$33,\n  IF(M225 = \">3 - 5\", 'NR-PI 2.0 Structure'!$D$34,\n  IF(M225 = \"> 5\", 'NR-PI 2.0 Structure'!$D$35, )))),\n\"-\")","v":0},{"$f":"IFERROR(IF(ISBLANK(I225),\"N/A\",IF(I225<>'NR-PI 2.0 Structure'!$C$5,(VLOOKUP(N225,'NR-PI 2.0 Structure'!$C$39:$D$40,2,FALSE)),0)),\" - \")","v":" - "},{"$f":"IFERROR(IF(ISBLANK(I225),\"N/A\",IF(I225<>'NR-PI 2.0 Structure'!$C$5,(VLOOKUP(N225,'NR-PI 2.0 Structure'!$C$39:$E$40,3,FALSE)),0)),\" - \")","v":" - "},"-","-","-","N/A",{"$f":"IF(ISBLANK('P Index Inputs'!R227),\"-\",'P Index Inputs'!R227)","v":"-"},{"$f":"IFERROR(IF(I225<>'NR-PI 2.0 Structure'!$C$5,VLOOKUP(AA225,'NR-PI 2.0 Structure'!$G$5:$H$9,2,FALSE),IF(OR(AA225='NR-PI 2.0 Structure'!$G$5,AA225='NR-PI 2.0 Structure'!$G$6,AA225='NR-PI 2.0 Structure'!$G$7),1,VLOOKUP(AA225,'NR-PI 2.0 Structure'!$G$8:$H$9,2,FALSE))),\"-\")","v":"-"},{"$f":"IF(ISBLANK('P Index Inputs'!S227),\"-\",'P Index Inputs'!S227)","v":"-"},{"$f":"IFERROR(VLOOKUP(AC225,'NR-PI 2.0 Structure'!$G$14:$H$19,2,FALSE),\"-\")","v":"-"},"-","-","N/A","N/A",0,0,0,0,0,0,0,0,0]
[{"$f":"'P Index Inputs'!A228","v":0},{"$f":"'P Index Inputs'!B228","v":0},{"$f":"'P Index Inputs'!C228","v":0},{"$f":"'P Index Inputs'!D228","v":0},{"$f":"'P Index Inputs'!E228","v":0},{"$f":"'P Index Inputs'!F228","v":0},{"$f":"'P Index Inputs'!H228","v":0},{"$f":"'P Index Inputs'!I228","v":0},{"$f":"'P Index Inputs'!J228","v":0},{"$f":"IF(ISBLANK('P Index Inputs'!L228),'P Index Inputs'!K228,'P Index Inputs'!L228)","v":"-"},{"$f":"'P Index Inputs'!M228","v":0},{"$f":"'P Index Inputs'!O228","v":0},{"$f":"'P Index Inputs'!P228","v":0},{"$f":"'P Index Inputs'!Q228","v":0},{"$f":"IFERROR(VLOOKUP(I226,'NR-PI 2.0 Structure'!$C$5:$D$8,2,FALSE),\"-\")","v":"-"},{"$f":"IFERROR(VLOOKUP(J226,'NR-PI 2.0 Structure'!$B$12:$C$16,2,FALSE),\"-\")","v":"-"},{"$f":"IFERROR(VLOOKUP(K226,'NR-PI 2.0 Structure'!$B$20:$D$21,3,FALSE),\"-\")","v":"-"},{"$f":"IFERROR(VLOOKUP(L226,'NR-PI 2.0 Structure'!$B$25:$C$28,2,FALSE),\"-\")","v":"-"},{"$f":"IFERROR(VLOOKUP(L226,'NR-PI 2.0 Structure'!$B$25:$D$28,3,FALSE),\"-\")","v":"-"},{"$f":"IFERROR(\n  IF(M226 = \"≤ 1\", 'NR-PI 2.0 Structure'!$D$32,\n  IF(M226 = \">1 - 3\", 'NR-PI 2.0 Structure'!$D$33,\n  IF(M226 = \">3 - 5\", 'NR-PI 2.0 Structure'!$D$34,\n  IF(M226 = \"> 5\", 'NR-PI 2.0 Structure'!$D$35, )))),\n\"-\")","v":0},{"$f":"IFERROR(IF(ISBLANK(I226),\"N/A\",IF(I226<>'NR-PI 2.0 Structure'!$C$5,(VLOOKUP(N226,'NR-PI 2.0 Structure'!$C$39:$D$40,2,FALSE)),0)),\" - \")","v":" - "},{"$f":"IFERROR(IF(ISBLANK(I226),\"N/A\",IF(I226<>'NR-PI 2.0 Structure'!$C$5,(VLOOKUP(N226,'NR-PI 2.0 Structure'!$C$39:$E$40,3,FALSE)),0)),\" - \")","v":" - "},"-","-","-","N/A",{"$f":"IF(ISBLANK('P Index Inputs'!R228),\"-\",'P Index Inputs'!R228)","v":"-"},{"$f":"IFERROR(IF(I226<>'NR-PI 2.0 Structure'!$C$5,VLOOKUP(AA226,'NR-PI 2.0 Structure'!$G$5:$H$9,2,FALSE),IF(OR(AA226='NR-PI 2.0 Structure'!$G$5,AA226='NR-PI 2.0 Structure'!$G$6,AA226='NR-PI 2.0 Structure'!$G$7),1,VLOOKUP(AA226,'NR-PI 2.0 Structure'!$G$8:$H$9,2,FALSE))),\"-\")","v":"-"},{"$f":"IF(ISBLANK('P Index Inputs'!S228),\"-\",'P Index Inputs'!S228)","v":"-"},{"$f":"IFERROR(VLOOKUP(AC226,'NR-PI 2.0 Structure'!$G$14:$H$19,2,FALSE),\"-\")","v":"-"},"-","-","N/A","N/A",0,0,0,0,0,0,0,0,0]
[{"$f":"'P Index Inputs'!A229","v":0},{"$f":"'P Index Inputs'!B229","v":0},{"$f":"'P Index Inputs'!C229","v":0},{"$f":"'P Index Inputs'!D229","v":0},{"$f":"'P Index Inputs'!E229","v":0},{"$f":"'P Index Inputs'!F229","v":0},{"$f":"'P Index Inputs'!H229","v":0},{"$f":"'P Index Inputs'!I229","v":0},{"$f":"'P Index Inputs'!J229","v":0},{"$f":"IF(ISBLANK('P Index Inputs'!L229),'P Index Inputs'!K229,'P Index Inputs'!L229)","v":"-"},{"$f":"'P Index Inputs'!M229","v":0},{"$f":"'P Index Inputs'!O229","v":0},{"$f":"'P Index Inputs'!P229","v":0},{"$f":"'P Index Inputs'!Q229","v":0},{"$f":"IFERROR(VLOOKUP(I227,'NR-PI 2.0 Structure'!$C$5:$D$8,2,FALSE),\"-\")","v":"-"},{"$f":"IFERROR(VLOOKUP(J227,'NR-PI 2.0 Structure'!$B$12:$C$16,2,FALSE),\"-\")","v":"-"},{"$f":"IFERROR(VLOOKUP(K227,'NR-PI 2.0 Structure'!$B$20:$D$21,3,FALSE),\"-\")","v":"-"},{"$f":"IFERROR(VLOOKUP(L227,'NR-PI 2.0 Structure'!$B$25:$C$28,2,FALSE),\"-\")","v":"-"},{"$f":"IFERROR(VLOOKUP(L227,'NR-PI 2.0 Structure'!$B$25:$D$28,3,FALSE),\"-\")","v":"-"},{"$f":"IFERROR(\n  IF(M227 = \"≤ 1\", 'NR-PI 2.0 Structure'!$D$32,\n  IF(M227 = \">1 - 3\", 'NR-PI 2.0 Structure'!$D$33,\n  IF(M227 = \">3 - 5\", 'NR-PI 2.0 Structure'!$D$34,\n  IF(M227 = \"> 5\", 'NR-PI 2.0 Structure'!$D$35, )))),\n\"-\")","v":0},{"$f":"IFERROR(IF(ISBLANK(I227),\"N/A\",IF(I227<>'NR-PI 2.0 Structure'!$C$5,(VLOOKUP(N227,'NR-PI 2.0 Structure'!$C$39:$D$40,2,FALSE)),0)),\" - \")","v":" - "},{"$f":"IFERROR(IF(ISBLANK(I227),\"N/A\",IF(I227<>'NR-PI 2.0 Structure'!$C$5,(VLOOKUP(N227,'NR-PI 2.0 Structure'!$C$39:$E$40,3,FALSE)),0)),\" - \")","v":" - "},"-","-","-","N/A",{"$f":"IF(ISBLANK('P Index Inputs'!R229),\"-\",'P Index Inputs'!R229)","v":"-"},{"$f":"IFERROR(IF(I227<>'NR-PI 2.0 Structure'!$C$5,VLOOKUP(AA227,'NR-PI 2.0 Structure'!$G$5:$H$9,2,FALSE),IF(OR(AA227='NR-PI 2.0 Structure'!$G$5,AA227='NR-PI 2.0 Structure'!$G$6,AA227='NR-PI 2.0 Structure'!$G$7),1,VLOOKUP(AA227,'NR-PI 2.0 Structure'!$G$8:$H$9,2,FALSE))),\"-\")","v":"-"},{"$f":"IF(ISBLANK('P Index Inputs'!S229),\"-\",'P Index Inputs'!S229)","v":"-"},{"$f":"IFERROR(VLOOKUP(AC227,'NR-PI 2.0 Structure'!$G$14:$H$19,2,FALSE),\"-\")","v":"-"},"-","-","N/A","N/A",0,0,0,0,0,0,0,0,0]
[{"$f":"'P Index Inputs'!A230","v":0},{"$f":"'P Index Inputs'!B230","v":0},{"$f":"'P Index Inputs'!C230","v":0},{"$f":"'P Index Inputs'!D230","v":0},{"$f":"'P Index Inputs'!E230","v":0},{"$f":"'P Index Inputs'!F230","v":0},{"$f":"'P Index Inputs'!H230","v":0},{"$f":"'P Index Inputs'!I230","v":0},{"$f":"'P Index Inputs'!J230","v":0},{"$f":"IF(ISBLANK('P Index Inputs'!L230),'P Index Inputs'!K230,'P Index Inputs'!L230)","v":"-"},{"$f":"'P Index Inputs'!M230","v":0},{"$f":"'P Index Inputs'!O230","v":0},{"$f":"'P Index Inputs'!P230","v":0},{"$f":"'P Index Inputs'!Q230","v":0},{"$f":"IFERROR(VLOOKUP(I228,'NR-PI 2.0 Structure'!$C$5:$D$8,2,FALSE),\"-\")","v":"-"},{"$f":"IFERROR(VLOOKUP(J228,'NR-PI 2.0 Structure'!$B$12:$C$16,2,FALSE),\"-\")","v":"-"},{"$f":"IFERROR(VLOOKUP(K228,'NR-PI 2.0 Structure'!$B$20:$D$21,3,FALSE),\"-\")","v":"-"},{"$f":"IFERROR(VLOOKUP(L228,'NR-PI 2.0 Structure'!$B$25:$C$28,2,FALSE),\"-\")","v":"-"},{"$f":"IFERROR(VLOOKUP(L228,'NR-PI 2.0 Structure'!$B$25:$D$28,3,FALSE),\"-\")","v":"-"},{"$f":"IFERROR(\n  IF(M228 = \"≤ 1\", 'NR-PI 2.0 Structure'!$D$32,\n  IF(M228 = \">1 - 3\", 'NR-PI 2.0 Structure'!$D$33,\n  IF(M228 = \">3 - 5\", 'NR-PI 2.0 Structure'!$D$34,\n  IF(M228 = \"> 5\", 'NR-PI 2.0 Structure'!$D$35, )))),\n\"-\")","v":0},{"$f":"IFERROR(IF(ISBLANK(I228),\"N/A\",IF(I228<>'NR-PI 2.0 Structure'!$C$5,(VLOOKUP(N228,'NR-PI 2.0 Structure'!$C$39:$D$40,2,FALSE)),0)),\" - \")","v":" - "},{"$f":"IFERROR(IF(ISBLANK(I228),\"N/A\",IF(I228<>'NR-PI 2.0 Structure'!$C$5,(VLOOKUP(N228,'NR-PI 2.0 Structure'!$C$39:$E$40,3,FALSE)),0)),\" - \")","v":" - "},"-","-","-","N/A",{"$f":"IF(ISBLANK('P Index Inputs'!R230),\"-\",'P Index Inputs'!R230)","v":"-"},{"$f":"IFERROR(IF(I228<>'NR-PI 2.0 Structure'!$C$5,VLOOKUP(AA228,'NR-PI 2.0 Structure'!$G$5:$H$9,2,FALSE),IF(OR(AA228='NR-PI 2.0 Structure'!$G$5,AA228='NR-PI 2.0 Structure'!$G$6,AA228='NR-PI 2.0 Structure'!$G$7),1,VLOOKUP(AA228,'NR-PI 2.0 Structure'!$G$8:$H$9,2,FALSE))),\"-\")","v":"-"},{"$f":"IF(ISBLANK('P Index Inputs'!S230),\"-\",'P Index Inputs'!S230)","v":"-"},{"$f":"IFERROR(VLOOKUP(AC228,'NR-PI 2.0 Structure'!$G$14:$H$19,2,FALSE),\"-\")","v":"-"},"-","-","N/A","N/A",0,0,0,0,0,0,0,0,0]
[{"$f":"'P Index Inputs'!A231","v":0},{"$f":"'P Index Inputs'!B231","v":0},{"$f":"'P Index Inputs'!C231","v":0},{"$f":"'P Index Inputs'!D231","v":0},{"$f":"'P Index Inputs'!E231","v":0},{"$f":"'P Index Inputs'!F231","v":0},{"$f":"'P Index Inputs'!H231","v":0},{"$f":"'P Index Inputs'!I231","v":0},{"$f":"'P Index Inputs'!J231","v":0},{"$f":"IF(ISBLANK('P Index Inputs'!L231),'P Index Inputs'!K231,'P Index Inputs'!L231)","v":"-"},{"$f":"'P Index Inputs'!M231","v":0},{"$f":"'P Index Inputs'!O231","v":0},{"$f":"'P Index Inputs'!P231","v":0},{"$f":"'P Index Inputs'!Q231","v":0},{"$f":"IFERROR(VLOOKUP(I229,'NR-PI 2.0 Structure'!$C$5:$D$8,2,FALSE),\"-\")","v":"-"},{"$f":"IFERROR(VLOOKUP(J229,'NR-PI 2.0 Structure'!$B$12:$C$16,2,FALSE),\"-\")","v":"-"},{"$f":"IFERROR(VLOOKUP(K229,'NR-PI 2.0 Structure'!$B$20:$D$21,3,FALSE),\"-\")","v":"-"},{"$f":"IFERROR(VLOOKUP(L229,'NR-PI 2.0 Structure'!$B$25:$C$28,2,FALSE),\"-\")","v":"-"},{"$f":"IFERROR(VLOOKUP(L229,'NR-PI 2.0 Structure'!$B$25:$D$28,3,FALSE),\"-\")","v":"-"},{"$f":"IFERROR(\n  IF(M229 = \"≤ 1\", 'NR-PI 2.0 Structure'!$D$32,\n  IF(M229 = \">1 - 3\", 'NR-PI 2.0 Structure'!$D$33,\n  IF(M229 = \">3 - 5\", 'NR-PI 2.0 Structure'!$D$34,\n  IF(M229 = \"> 5\", 'NR-PI 2.0 Structure'!$D$35, )))),\n\"-\")","v":0},{"$f":"IFERROR(IF(ISBLANK(I229),\"N/A\",IF(I229<>'NR-PI 2.0 Structure'!$C$5,(VLOOKUP(N229,'NR-PI 2.0 Structure'!$C$39:$D$40,2,FALSE)),0)),\" - \")","v":" - "},{"$f":"IFERROR(IF(ISBLANK(I229),\"N/A\",IF(I229<>'NR-PI 2.0 Structure'!$C$5,(VLOOKUP(N229,'NR-PI 2.0 Structure'!$C$39:$E$40,3,FALSE)),0)),\" - \")","v":" - "},"-","-","-","N/A",{"$f":"IF(ISBLANK('P Index Inputs'!R231),\"-\",'P Index Inputs'!R231)","v":"-"},{"$f":"IFERROR(IF(I229<>'NR-PI 2.0 Structure'!$C$5,VLOOKUP(AA229,'NR-PI 2.0 Structure'!$G$5:$H$9,2,FALSE),IF(OR(AA229='NR-PI 2.0 Structure'!$G$5,AA229='NR-PI 2.0 Structure'!$G$6,AA229='NR-PI 2.0 Structure'!$G$7),1,VLOOKUP(AA229,'NR-PI 2.0 Structure'!$G$8:$H$9,2,FALSE))),\"-\")","v":"-"},{"$f":"IF(ISBLANK('P Index Inputs'!S231),\"-\",'P Index Inputs'!S231)","v":"-"},{"$f":"IFERROR(VLOOKUP(AC229,'NR-PI 2.0 Structure'!$G$14:$H$19,2,FALSE),\"-\")","v":"-"},"-","-","N/A","N/A",0,0,0,0,0,0,0,0,0]
[{"$f":"'P Index Inputs'!A232","v":0},{"$f":"'P Index Inputs'!B232","v":0},{"$f":"'P Index Inputs'!C232","v":0},{"$f":"'P Index Inputs'!D232","v":0},{"$f":"'P Index Inputs'!E232","v":0},{"$f":"'P Index Inputs'!F232","v":0},{"$f":"'P Index Inputs'!H232","v":0},{"$f":"'P Index Inputs'!I232","v":0},{"$f":"'P Index Inputs'!J232","v":0},{"$f":"IF(ISBLANK('P Index Inputs'!L232),'P Index Inputs'!K232,'P Index Inputs'!L232)","v":"-"},{"$f":"'P Index Inputs'!M232","v":0},{"$f":"'P Index Inputs'!O232","v":0},{"$f":"'P Index Inputs'!P232","v":0},{"$f":"'P Index Inputs'!Q232","v":0},{"$f":"IFERROR(VLOOKUP(I230,'NR-PI 2.0 Structure'!$C$5:$D$8,2,FALSE),\"-\")","v":"-"},{"$f":"IFERROR(VLOOKUP(J230,'NR-PI 2.0 Structure'!$B$12:$C$16,2,FALSE),\"-\")","v":"-"},{"$f":"IFERROR(VLOOKUP(K230,'NR-PI 2.0 Structure'!$B$20:$D$21,3,FALSE),\"-\")","v":"-"},{"$f":"IFERROR(VLOOKUP(L230,'NR-PI 2.0 Structure'!$B$25:$C$28,2,FALSE),\"-\")","v":"-"},{"$f":"IFERROR(VLOOKUP(L230,'NR-PI 2.0 Structure'!$B$25:$D$28,3,FALSE),\"-\")","v":"-"},{"$f":"IFERROR(\n  IF(M230 = \"≤ 1\", 'NR-PI 2.0 Structure'!$D$32,\n  IF(M230 = \">1 - 3\", 'NR-PI 2.0 Structure'!$D$33,\n  IF(M230 = \">3 - 5\", 'NR-PI 2.0 Structure'!$D$34,\n  IF(M230 = \"> 5\", 'NR-PI 2.0 Structure'!$D$35, )))),\n\"-\")","v":0},{"$f":"IFERROR(IF(ISBLANK(I230),\"N/A\",IF(I230<>'NR-PI 2.0 Structure'!$C$5,(VLOOKUP(N230,'NR-PI 2.0 Structure'!$C$39:$D$40,2,FALSE)),0)),\" - \")","v":" - "},{"$f":"IFERROR(IF(ISBLANK(I230),\"N/A\",IF(I230<>'NR-PI 2.0 Structure'!$C$5,(VLOOKUP(N230,'NR-PI 2.0 Structure'!$C$39:$E$40,3,FALSE)),0)),\" - \")","v":" - "},"-","-","-","N/A",{"$f":"IF(ISBLANK('P Index Inputs'!R232),\"-\",'P Index Inputs'!R232)","v":"-"},{"$f":"IFERROR(IF(I230<>'NR-PI 2.0 Structure'!$C$5,VLOOKUP(AA230,'NR-PI 2.0 Structure'!$G$5:$H$9,2,FALSE),IF(OR(AA230='NR-PI 2.0 Structure'!$G$5,AA230='NR-PI 2.0 Structure'!$G$6,AA230='NR-PI 2.0 Structure'!$G$7),1,VLOOKUP(AA230,'NR-PI 2.0 Structure'!$G$8:$H$9,2,FALSE))),\"-\")","v":"-"},{"$f":"IF(ISBLANK('P Index Inputs'!S232),\"-\",'P Index Inputs'!S232)","v":"-"},{"$f":"IFERROR(VLOOKUP(AC230,'NR-PI 2.0 Structure'!$G$14:$H$19,2,FALSE),\"-\")","v":"-"},"-","-","N/A","N/A",0,0,0,0,0,0,0,0,0]
[{"$f":"'P Index Inputs'!A233","v":0},{"$f":"'P Index Inputs'!B233","v":0},{"$f":"'P Index Inputs'!C233","v":0},{"$f":"'P Index Inputs'!D233","v":0},{"$f":"'P Index Inputs'!E233","v":0},{"$f":"'P Index Inputs'!F233","v":0},{"$f":"'P Index Inputs'!H233","v":0},{"$f":"'P Index Inputs'!I233","v":0},{"$f":"'P Index Inputs'!J233","v":0},{"$f":"IF(ISBLANK('P Index Inputs'!L233),'P Index Inputs'!K233,'P Index Inputs'!L233)","v":"-"},{"$f":"'P Index Inputs'!M233","v":0},{"$f":"'P Index Inputs'!O233","v":0},{"$f":"'P Index Inputs'!P233","v":0},{"$f":"'P Index Inputs'!Q233","v":0},{"$f":"IFERROR(VLOOKUP(I231,'NR-PI 2.0 Structure'!$C$5:$D$8,2,FALSE),\"-\")","v":"-"},{"$f":"IFERROR(VLOOKUP(J231,'NR-PI 2.0 Structure'!$B$12:$C$16,2,FALSE),\"-\")","v":"-"},{"$f":"IFERROR(VLOOKUP(K231,'NR-PI 2.0 Structure'!$B$20:$D$21,3,FALSE),\"-\")","v":"-"},{"$f":"IFERROR(VLOOKUP(L231,'NR-PI 2.0 Structure'!$B$25:$C$28,2,FALSE),\"-\")","v":"-"},{"$f":"IFERROR(VLOOKUP(L231,'NR-PI 2.0 Structure'!$B$25:$D$28,3,FALSE),\"-\")","v":"-"},{"$f":"IFERROR(\n  IF(M231 = \"≤ 1\", 'NR-PI 2.0 Structure'!$D$32,\n  IF(M231 = \">1 - 3\", 'NR-PI 2.0 Structure'!$D$33,\n  IF(M231 = \">3 - 5\", 'NR-PI 2.0 Structure'!$D$34,\n  IF(M231 = \"> 5\", 'NR-PI 2.0 Structure'!$D$35, )))),\n\"-\")","v":0},{"$f":"IFERROR(IF(ISBLANK(I231),\"N/A\",IF(I231<>'NR-PI 2.0 Structure'!$C$5,(VLOOKUP(N231,'NR-PI 2.0 Structure'!$C$39:$D$40,2,FALSE)),0)),\" - \")","v":" - "},{"$f":"IFERROR(IF(ISBLANK(I231),\"N/A\",IF(I231<>'NR-PI 2.0 Structure'!$C$5,(VLOOKUP(N231,'NR-PI 2.0 Structure'!$C$39:$E$40,3,FALSE)),0)),\" - \")","v":" - "},"-","-","-","N/A",{"$f":"IF(ISBLANK('P Index Inputs'!R233),\"-\",'P Index Inputs'!R233)","v":"-"},{"$f":"IFERROR(IF(I231<>'NR-PI 2.0 Structure'!$C$5,VLOOKUP(AA231,'NR-PI 2.0 Structure'!$G$5:$H$9,2,FALSE),IF(OR(AA231='NR-PI 2.0 Structure'!$G$5,AA231='NR-PI 2.0 Structure'!$G$6,AA231='NR-PI 2.0 Structure'!$G$7),1,VLOOKUP(AA231,'NR-PI 2.0 Structure'!$G$8:$H$9,2,FALSE))),\"-\")","v":"-"},{"$f":"IF(ISBLANK('P Index Inputs'!S233),\"-\",'P Index Inputs'!S233)","v":"-"},{"$f":"IFERROR(VLOOKUP(AC231,'NR-PI 2.0 Structure'!$G$14:$H$19,2,FALSE),\"-\")","v":"-"},"-","-","N/A","N/A",0,0,0,0,0,0,0,0,0]
[{"$f":"'P Index Inputs'!A234","v":0},{"$f":"'P Index Inputs'!B234","v":0},{"$f":"'P Index Inputs'!C234","v":0},{"$f":"'P Index Inputs'!D234","v":0},{"$f":"'P Index Inputs'!E234","v":0},{"$f":"'P Index Inputs'!F234","v":0},{"$f":"'P Index Inputs'!H234","v":0},{"$f":"'P Index Inputs'!I234","v":0},{"$f":"'P Index Inputs'!J234","v":0},{"$f":"IF(ISBLANK('P Index Inputs'!L234),'P Index Inputs'!K234,'P Index Inputs'!L234)","v":"-"},{"$f":"'P Index Inputs'!M234","v":0},{"$f":"'P Index Inputs'!O234","v":0},{"$f":"'P Index Inputs'!P234","v":0},{"$f":"'P Index Inputs'!Q234","v":0},{"$f":"IFERROR(VLOOKUP(I232,'NR-PI 2.0 Structure'!$C$5:$D$8,2,FALSE),\"-\")","v":"-"},{"$f":"IFERROR(VLOOKUP(J232,'NR-PI 2.0 Structure'!$B$12:$C$16,2,FALSE),\"-\")","v":"-"},{"$f":"IFERROR(VLOOKUP(K232,'NR-PI 2.0 Structure'!$B$20:$D$21,3,FALSE),\"-\")","v":"-"},{"$f":"IFERROR(VLOOKUP(L232,'NR-PI 2.0 Structure'!$B$25:$C$28,2,FALSE),\"-\")","v":"-"},{"$f":"IFERROR(VLOOKUP(L232,'NR-PI 2.0 Structure'!$B$25:$D$28,3,FALSE),\"-\")","v":"-"},{"$f":"IFERROR(\n  IF(M232 = \"≤ 1\", 'NR-PI 2.0 Structure'!$D$32,\n  IF(M232 = \">1 - 3\", 'NR-PI 2.0 Structure'!$D$33,\n  IF(M232 = \">3 - 5\", 'NR-PI 2.0 Structure'!$D$34,\n  IF(M232 = \"> 5\", 'NR-PI 2.0 Structure'!$D$35, )))),\n\"-\")","v":0},{"$f":"IFERROR(IF(ISBLANK(I232),\"N/A\",IF(I232<>'NR-PI 2.0 Structure'!$C$5,(VLOOKUP(N232,'NR-PI 2.0 Structure'!$C$39:$D$40,2,FALSE)),0)),\" - \")","v":" - "},{"$f":"IFERROR(IF(ISBLANK(I232),\"N/A\",IF(I232<>'NR-PI 2.0 Structure'!$C$5,(VLOOKUP(N232,'NR-PI 2.0 Structure'!$C$39:$E$40,3,FALSE)),0)),\" - \")","v":" - "},"-","-","-","N/A",{"$f":"IF(ISBLANK('P Index Inputs'!R234),\"-\",'P Index Inputs'!R234)","v":"-"},{"$f":"IFERROR(IF(I232<>'NR-PI 2.0 Structure'!$C$5,VLOOKUP(AA232,'NR-PI 2.0 Structure'!$G$5:$H$9,2,FALSE),IF(OR(AA232='NR-PI 2.0 Structure'!$G$5,AA232='NR-PI 2.0 Structure'!$G$6,AA232='NR-PI 2.0 Structure'!$G$7),1,VLOOKUP(AA232,'NR-PI 2.0 Structure'!$G$8:$H$9,2,FALSE))),\"-\")","v":"-"},{"$f":"IF(ISBLANK('P Index Inputs'!S234),\"-\",'P Index Inputs'!S234)","v":"-"},{"$f":"IFERROR(VLOOKUP(AC232,'NR-PI 2.0 Structure'!$G$14:$H$19,2,FALSE),\"-\")","v":"-"},"-","-","N/A","N/A",0,0,0,0,0,0,0,0,0]
[{"$f":"'P Index Inputs'!A235","v":0},{"$f":"'P Index Inputs'!B235","v":0},{"$f":"'P Index Inputs'!C235","v":0},{"$f":"'P Index Inputs'!D235","v":0},{"$f":"'P Index Inputs'!E235","v":0},{"$f":"'P Index Inputs'!F235","v":0},{"$f":"'P Index Inputs'!H235","v":0},{"$f":"'P Index Inputs'!I235","v":0},{"$f":"'P Index Inputs'!J235","v":0},{"$f":"IF(ISBLANK('P Index Inputs'!L235),'P Index Inputs'!K235,'P Index Inputs'!L235)","v":"-"},{"$f":"'P Index Inputs'!M235","v":0},{"$f":"'P Index Inputs'!O235","v":0},{"$f":"'P Index Inputs'!P235","v":0},{"$f":"'P Index Inputs'!Q235","v":0},{"$f":"IFERROR(VLOOKUP(I233,'NR-PI 2.0 Structure'!$C$5:$D$8,2,FALSE),\"-\")","v":"-"},{"$f":"IFERROR(VLOOKUP(J233,'NR-PI 2.0 Structure'!$B$12:$C$16,2,FALSE),\"-\")","v":"-"},{"$f":"IFERROR(VLOOKUP(K233,'NR-PI 2.0 Structure'!$B$20:$D$21,3,FALSE),\"-\")","v":"-"},{"$f":"IFERROR(VLOOKUP(L233,'NR-PI 2.0 Structure'!$B$25:$C$28,2,FALSE),\"-\")","v":"-"},{"$f":"IFERROR(VLOOKUP(L233,'NR-PI 2.0 Structure'!$B$25:$D$28,3,FALSE),\"-\")","v":"-"},{"$f":"IFERROR(\n  IF(M233 = \"≤ 1\", 'NR-PI 2.0 Structure'!$D$32,\n  IF(M233 = \">1 - 3\", 'NR-PI 2.0 Structure'!$D$33,\n  IF(M233 = \">3 - 5\", 'NR-PI 2.0 Structure'!$D$34,\n  IF(M233 = \"> 5\", 'NR-PI 2.0 Structure'!$D$35, )))),\n\"-\")","v":0},{"$f":"IFERROR(IF(ISBLANK(I233),\"N/A\",IF(I233<>'NR-PI 2.0 Structure'!$C$5,(VLOOKUP(N233,'NR-PI 2.0 Structure'!$C$39:$D$40,2,FALSE)),0)),\" - \")","v":" - "},{"$f":"IFERROR(IF(ISBLANK(I233),\"N/A\",IF(I233<>'NR-PI 2.0 Structure'!$C$5,(VLOOKUP(N233,'NR-PI 2.0 Structure'!$C$39:$E$40,3,FALSE)),0)),\" - \")","v":" - "},"-","-","-","N/A",{"$f":"IF(ISBLANK('P Index Inputs'!R235),\"-\",'P Index Inputs'!R235)","v":"-"},{"$f":"IFERROR(IF(I233<>'NR-PI 2.0 Structure'!$C$5,VLOOKUP(AA233,'NR-PI 2.0 Structure'!$G$5:$H$9,2,FALSE),IF(OR(AA233='NR-PI 2.0 Structure'!$G$5,AA233='NR-PI 2.0 Structure'!$G$6,AA233='NR-PI 2.0 Structure'!$G$7),1,VLOOKUP(AA233,'NR-PI 2.0 Structure'!$G$8:$H$9,2,FALSE))),\"-\")","v":"-"},{"$f":"IF(ISBLANK('P Index Inputs'!S235),\"-\",'P Index Inputs'!S235)","v":"-"},{"$f":"IFERROR(VLOOKUP(AC233,'NR-PI 2.0 Structure'!$G$14:$H$19,2,FALSE),\"-\")","v":"-"},"-","-","N/A","N/A",0,0,0,0,0,0,0,0,0]
[{"$f":"'P Index Inputs'!A236","v":0},{"$f":"'P Index Inputs'!B236","v":0},{"$f":"'P Index Inputs'!C236","v":0},{"$f":"'P Index Inputs'!D236","v":0},{"$f":"'P Index Inputs'!E236","v":0},{"$f":"'P Index Inputs'!F236","v":0},{"$f":"'P Index Inputs'!H236","v":0},{"$f":"'P Index Inputs'!I236","v":0},{"$f":"'P Index Inputs'!J236","v":0},{"$f":"IF(ISBLANK('P Index Inputs'!L236),'P Index Inputs'!K236,'P Index Inputs'!L236)","v":"-"},{"$f":"'P Index Inputs'!M236","v":0},{"$f":"'P Index Inputs'!O236","v":0},{"$f":"'P Index Inputs'!P236","v":0},{"$f":"'P Index Inputs'!Q236","v":0},{"$f":"IFERROR(VLOOKUP(I234,'NR-PI 2.0 Structure'!$C$5:$D$8,2,FALSE),\"-\")","v":"-"},{"$f":"IFERROR(VLOOKUP(J234,'NR-PI 2.0 Structure'!$B$12:$C$16,2,FALSE),\"-\")","v":"-"},{"$f":"IFERROR(VLOOKUP(K234,'NR-PI 2.0 Structure'!$B$20:$D$21,3,FALSE),\"-\")","v":"-"},{"$f":"IFERROR(VLOOKUP(L234,'NR-PI 2.0 Structure'!$B$25:$C$28,2,FALSE),\"-\")","v":"-"},{"$f":"IFERROR(VLOOKUP(L234,'NR-PI 2.0 Structure'!$B$25:$D$28,3,FALSE),\"-\")","v":"-"},{"$f":"IFERROR(\n  IF(M234 = \"≤ 1\", 'NR-PI 2.0 Structure'!$D$32,\n  IF(M234 = \">1 - 3\", 'NR-PI 2.0 Structure'!$D$33,\n  IF(M234 = \">3 - 5\", 'NR-PI 2.0 Structure'!$D$34,\n  IF(M234 = \"> 5\", 'NR-PI 2.0 Structure'!$D$35, )))),\n\"-\")","v":0},{"$f":"IFERROR(IF(ISBLANK(I234),\"N/A\",IF(I234<>'NR-PI 2.0 Structure'!$C$5,(VLOOKUP(N234,'NR-PI 2.0 Structure'!$C$39:$D$40,2,FALSE)),0)),\" - \")","v":" - "},{"$f":"IFERROR(IF(ISBLANK(I234),\"N/A\",IF(I234<>'NR-PI 2.0 Structure'!$C$5,(VLOOKUP(N234,'NR-PI 2.0 Structure'!$C$39:$E$40,3,FALSE)),0)),\" - \")","v":" - "},"-","-","-","N/A",{"$f":"IF(ISBLANK('P Index Inputs'!R236),\"-\",'P Index Inputs'!R236)","v":"-"},{"$f":"IFERROR(IF(I234<>'NR-PI 2.0 Structure'!$C$5,VLOOKUP(AA234,'NR-PI 2.0 Structure'!$G$5:$H$9,2,FALSE),IF(OR(AA234='NR-PI 2.0 Structure'!$G$5,AA234='NR-PI 2.0 Structure'!$G$6,AA234='NR-PI 2.0 Structure'!$G$7),1,VLOOKUP(AA234,'NR-PI 2.0 Structure'!$G$8:$H$9,2,FALSE))),\"-\")","v":"-"},{"$f":"IF(ISBLANK('P Index Inputs'!S236),\"-\",'P Index Inputs'!S236)","v":"-"},{"$f":"IFERROR(VLOOKUP(AC234,'NR-PI 2.0 Structure'!$G$14:$H$19,2,FALSE),\"-\")","v":"-"},"-","-","N/A","N/A",0,0,0,0,0,0,0,0,0]
[{"$f":"'P Index Inputs'!A237","v":0},{"$f":"'P Index Inputs'!B237","v":0},{"$f":"'P Index Inputs'!C237","v":0},{"$f":"'P Index Inputs'!D237","v":0},{"$f":"'P Index Inputs'!E237","v":0},{"$f":"'P Index Inputs'!F237","v":0},{"$f":"'P Index Inputs'!H237","v":0},{"$f":"'P Index Inputs'!I237","v":0},{"$f":"'P Index Inputs'!J237","v":0},{"$f":"IF(ISBLANK('P Index Inputs'!L237),'P Index Inputs'!K237,'P Index Inputs'!L237)","v":"-"},{"$f":"'P Index Inputs'!M237","v":0},{"$f":"'P Index Inputs'!O237","v":0},{"$f":"'P Index Inputs'!P237","v":0},{"$f":"'P Index Inputs'!Q237","v":0},{"$f":"IFERROR(VLOOKUP(I235,'NR-PI 2.0 Structure'!$C$5:$D$8,2,FALSE),\"-\")","v":"-"},{"$f":"IFERROR(VLOOKUP(J235,'NR-PI 2.0 Structure'!$B$12:$C$16,2,FALSE),\"-\")","v":"-"},{"$f":"IFERROR(VLOOKUP(K235,'NR-PI 2.0 Structure'!$B$20:$D$21,3,FALSE),\"-\")","v":"-"},{"$f":"IFERROR(VLOOKUP(L235,'NR-PI 2.0 Structure'!$B$25:$C$28,2,FALSE),\"-\")","v":"-"},{"$f":"IFERROR(VLOOKUP(L235,'NR-PI 2.0 Structure'!$B$25:$D$28,3,FALSE),\"-\")","v":"-"},{"$f":"IFERROR(\n  IF(M235 = \"≤ 1\", 'NR-PI 2.0 Structure'!$D$32,\n  IF(M235 = \">1 - 3\", 'NR-PI 2.0 Structure'!$D$33,\n  IF(M235 = \">3 - 5\", 'NR-PI 2.0 Structure'!$D$34,\n  IF(M235 = \"> 5\", 'NR-PI 2.0 Structure'!$D$35, )))),\n\"-\")","v":0},{"$f":"IFERROR(IF(ISBLANK(I235),\"N/A\",IF(I235<>'NR-PI 2.0 Structure'!$C$5,(VLOOKUP(N235,'NR-PI 2.0 Structure'!$C$39:$D$40,2,FALSE)),0)),\" - \")","v":" - "},{"$f":"IFERROR(IF(ISBLANK(I235),\"N/A\",IF(I235<>'NR-PI 2.0 Structure'!$C$5,(VLOOKUP(N235,'NR-PI 2.0 Structure'!$C$39:$E$40,3,FALSE)),0)),\" - \")","v":" - "},"-","-","-","N/A",{"$f":"IF(ISBLANK('P Index Inputs'!R237),\"-\",'P Index Inputs'!R237)","v":"-"},{"$f":"IFERROR(IF(I235<>'NR-PI 2.0 Structure'!$C$5,VLOOKUP(AA235,'NR-PI 2.0 Structure'!$G$5:$H$9,2,FALSE),IF(OR(AA235='NR-PI 2.0 Structure'!$G$5,AA235='NR-PI 2.0 Structure'!$G$6,AA235='NR-PI 2.0 Structure'!$G$7),1,VLOOKUP(AA235,'NR-PI 2.0 Structure'!$G$8:$H$9,2,FALSE))),\"-\")","v":"-"},{"$f":"IF(ISBLANK('P Index Inputs'!S237),\"-\",'P Index Inputs'!S237)","v":"-"},{"$f":"IFERROR(VLOOKUP(AC235,'NR-PI 2.0 Structure'!$G$14:$H$19,2,FALSE),\"-\")","v":"-"},"-","-","N/A","N/A",0,0,0,0,0,0,0,0,0]
[{"$f":"'P Index Inputs'!A238","v":0},{"$f":"'P Index Inputs'!B238","v":0},{"$f":"'P Index Inputs'!C238","v":0},{"$f":"'P Index Inputs'!D238","v":0},{"$f":"'P Index Inputs'!E238","v":0},{"$f":"'P Index Inputs'!F238","v":0},{"$f":"'P Index Inputs'!H238","v":0},{"$f":"'P Index Inputs'!I238","v":0},{"$f":"'P Index Inputs'!J238","v":0},{"$f":"IF(ISBLANK('P Index Inputs'!L238),'P Index Inputs'!K238,'P Index Inputs'!L238)","v":"-"},{"$f":"'P Index Inputs'!M238","v":0},{"$f":"'P Index Inputs'!O238","v":0},{"$f":"'P Index Inputs'!P238","v":0},{"$f":"'P Index Inputs'!Q238","v":0},{"$f":"IFERROR(VLOOKUP(I236,'NR-PI 2.0 Structure'!$C$5:$D$8,2,FALSE),\"-\")","v":"-"},{"$f":"IFERROR(VLOOKUP(J236,'NR-PI 2.0 Structure'!$B$12:$C$16,2,FALSE),\"-\")","v":"-"},{"$f":"IFERROR(VLOOKUP(K236,'NR-PI 2.0 Structure'!$B$20:$D$21,3,FALSE),\"-\")","v":"-"},{"$f":"IFERROR(VLOOKUP(L236,'NR-PI 2.0 Structure'!$B$25:$C$28,2,FALSE),\"-\")","v":"-"},{"$f":"IFERROR(VLOOKUP(L236,'NR-PI 2.0 Structure'!$B$25:$D$28,3,FALSE),\"-\")","v":"-"},{"$f":"IFERROR(\n  IF(M236 = \"≤ 1\", 'NR-PI 2.0 Structure'!$D$32,\n  IF(M236 = \">1 - 3\", 'NR-PI 2.0 Structure'!$D$33,\n  IF(M236 = \">3 - 5\", 'NR-PI 2.0 Structure'!$D$34,\n  IF(M236 = \"> 5\", 'NR-PI 2.0 Structure'!$D$35, )))),\n\"-\")","v":0},{"$f":"IFERROR(IF(ISBLANK(I236),\"N/A\",IF(I236<>'NR-PI 2.0 Structure'!$C$5,(VLOOKUP(N236,'NR-PI 2.0 Structure'!$C$39:$D$40,2,FALSE)),0)),\" - \")","v":" - "},{"$f":"IFERROR(IF(ISBLANK(I236),\"N/A\",IF(I236<>'NR-PI 2.0 Structure'!$C$5,(VLOOKUP(N236,'NR-PI 2.0 Structure'!$C$39:$E$40,3,FALSE)),0)),\" - \")","v":" - "},"-","-","-","N/A",{"$f":"IF(ISBLANK('P Index Inputs'!R238),\"-\",'P Index Inputs'!R238)","v":"-"},{"$f":"IFERROR(IF(I236<>'NR-PI 2.0 Structure'!$C$5,VLOOKUP(AA236,'NR-PI 2.0 Structure'!$G$5:$H$9,2,FALSE),IF(OR(AA236='NR-PI 2.0 Structure'!$G$5,AA236='NR-PI 2.0 Structure'!$G$6,AA236='NR-PI 2.0 Structure'!$G$7),1,VLOOKUP(AA236,'NR-PI 2.0 Structure'!$G$8:$H$9,2,FALSE))),\"-\")","v":"-"},{"$f":"IF(ISBLANK('P Index Inputs'!S238),\"-\",'P Index Inputs'!S238)","v":"-"},{"$f":"IFERROR(VLOOKUP(AC236,'NR-PI 2.0 Structure'!$G$14:$H$19,2,FALSE),\"-\")","v":"-"},"-","-","N/A","N/A",0,0,0,0,0,0,0,0,0]
[{"$f":"'P Index Inputs'!A239","v":0},{"$f":"'P Index Inputs'!B239","v":0},{"$f":"'P Index Inputs'!C239","v":0},{"$f":"'P Index Inputs'!D239","v":0},{"$f":"'P Index Inputs'!E239","v":0},{"$f":"'P Index Inputs'!F239","v":0},{"$f":"'P Index Inputs'!H239","v":0},{"$f":"'P Index Inputs'!I239","v":0},{"$f":"'P Index Inputs'!J239","v":0},{"$f":"IF(ISBLANK('P Index Inputs'!L239),'P Index Inputs'!K239,'P Index Inputs'!L239)","v":"-"},{"$f":"'P Index Inputs'!M239","v":0},{"$f":"'P Index Inputs'!O239","v":0},{"$f":"'P Index Inputs'!P239","v":0},{"$f":"'P Index Inputs'!Q239","v":0},{"$f":"IFERROR(VLOOKUP(I237,'NR-PI 2.0 Structure'!$C$5:$D$8,2,FALSE),\"-\")","v":"-"},{"$f":"IFERROR(VLOOKUP(J237,'NR-PI 2.0 Structure'!$B$12:$C$16,2,FALSE),\"-\")","v":"-"},{"$f":"IFERROR(VLOOKUP(K237,'NR-PI 2.0 Structure'!$B$20:$D$21,3,FALSE),\"-\")","v":"-"},{"$f":"IFERROR(VLOOKUP(L237,'NR-PI 2.0 Structure'!$B$25:$C$28,2,FALSE),\"-\")","v":"-"},{"$f":"IFERROR(VLOOKUP(L237,'NR-PI 2.0 Structure'!$B$25:$D$28,3,FALSE),\"-\")","v":"-"},{"$f":"IFERROR(\n  IF(M237 = \"≤ 1\", 'NR-PI 2.0 Structure'!$D$32,\n  IF(M237 = \">1 - 3\", 'NR-PI 2.0 Structure'!$D$33,\n  IF(M237 = \">3 - 5\", 'NR-PI 2.0 Structure'!$D$34,\n  IF(M237 = \"> 5\", 'NR-PI 2.0 Structure'!$D$35, )))),\n\"-\")","v":0},{"$f":"IFERROR(IF(ISBLANK(I237),\"N/A\",IF(I237<>'NR-PI 2.0 Structure'!$C$5,(VLOOKUP(N237,'NR-PI 2.0 Structure'!$C$39:$D$40,2,FALSE)),0)),\" - \")","v":" - "},{"$f":"IFERROR(IF(ISBLANK(I237),\"N/A\",IF(I237<>'NR-PI 2.0 Structure'!$C$5,(VLOOKUP(N237,'NR-PI 2.0 Structure'!$C$39:$E$40,3,FALSE)),0)),\" - \")","v":" - "},"-","-","-","N/A",{"$f":"IF(ISBLANK('P Index Inputs'!R239),\"-\",'P Index Inputs'!R239)","v":"-"},{"$f":"IFERROR(IF(I237<>'NR-PI 2.0 Structure'!$C$5,VLOOKUP(AA237,'NR-PI 2.0 Structure'!$G$5:$H$9,2,FALSE),IF(OR(AA237='NR-PI 2.0 Structure'!$G$5,AA237='NR-PI 2.0 Structure'!$G$6,AA237='NR-PI 2.0 Structure'!$G$7),1,VLOOKUP(AA237,'NR-PI 2.0 Structure'!$G$8:$H$9,2,FALSE))),\"-\")","v":"-"},{"$f":"IF(ISBLANK('P Index Inputs'!S239),\"-\",'P Index Inputs'!S239)","v":"-"},{"$f":"IFERROR(VLOOKUP(AC237,'NR-PI 2.0 Structure'!$G$14:$H$19,2,FALSE),\"-\")","v":"-"},"-","-","N/A","N/A",0,0,0,0,0,0,0,0,0]
[{"$f":"'P Index Inputs'!A240","v":0},{"$f":"'P Index Inputs'!B240","v":0},{"$f":"'P Index Inputs'!C240","v":0},{"$f":"'P Index Inputs'!D240","v":0},{"$f":"'P Index Inputs'!E240","v":0},{"$f":"'P Index Inputs'!F240","v":0},{"$f":"'P Index Inputs'!H240","v":0},{"$f":"'P Index Inputs'!I240","v":0},{"$f":"'P Index Inputs'!J240","v":0},{"$f":"IF(ISBLANK('P Index Inputs'!L240),'P Index Inputs'!K240,'P Index Inputs'!L240)","v":"-"},{"$f":"'P Index Inputs'!M240","v":0},{"$f":"'P Index Inputs'!O240","v":0},{"$f":"'P Index Inputs'!P240","v":0},{"$f":"'P Index Inputs'!Q240","v":0},{"$f":"IFERROR(VLOOKUP(I238,'NR-PI 2.0 Structure'!$C$5:$D$8,2,FALSE),\"-\")","v":"-"},{"$f":"IFERROR(VLOOKUP(J238,'NR-PI 2.0 Structure'!$B$12:$C$16,2,FALSE),\"-\")","v":"-"},{"$f":"IFERROR(VLOOKUP(K238,'NR-PI 2.0 Structure'!$B$20:$D$21,3,FALSE),\"-\")","v":"-"},{"$f":"IFERROR(VLOOKUP(L238,'NR-PI 2.0 Structure'!$B$25:$C$28,2,FALSE),\"-\")","v":"-"},{"$f":"IFERROR(VLOOKUP(L238,'NR-PI 2.0 Structure'!$B$25:$D$28,3,FALSE),\"-\")","v":"-"},{"$f":"IFERROR(\n  IF(M238 = \"≤ 1\", 'NR-PI 2.0 Structure'!$D$32,\n  IF(M238 = \">1 - 3\", 'NR-PI 2.0 Structure'!$D$33,\n  IF(M238 = \">3 - 5\", 'NR-PI 2.0 Structure'!$D$34,\n  IF(M238 = \"> 5\", 'NR-PI 2.0 Structure'!$D$35, )))),\n\"-\")","v":0},{"$f":"IFERROR(IF(ISBLANK(I238),\"N/A\",IF(I238<>'NR-PI 2.0 Structure'!$C$5,(VLOOKUP(N238,'NR-PI 2.0 Structure'!$C$39:$D$40,2,FALSE)),0)),\" - \")","v":" - "},{"$f":"IFERROR(IF(ISBLANK(I238),\"N/A\",IF(I238<>'NR-PI 2.0 Structure'!$C$5,(VLOOKUP(N238,'NR-PI 2.0 Structure'!$C$39:$E$40,3,FALSE)),0)),\" - \")","v":" - "},"-","-","-","N/A",{"$f":"IF(ISBLANK('P Index Inputs'!R240),\"-\",'P Index Inputs'!R240)","v":"-"},{"$f":"IFERROR(IF(I238<>'NR-PI 2.0 Structure'!$C$5,VLOOKUP(AA238,'NR-PI 2.0 Structure'!$G$5:$H$9,2,FALSE),IF(OR(AA238='NR-PI 2.0 Structure'!$G$5,AA238='NR-PI 2.0 Structure'!$G$6,AA238='NR-PI 2.0 Structure'!$G$7),1,VLOOKUP(AA238,'NR-PI 2.0 Structure'!$G$8:$H$9,2,FALSE))),\"-\")","v":"-"},{"$f":"IF(ISBLANK('P Index Inputs'!S240),\"-\",'P Index Inputs'!S240)","v":"-"},{"$f":"IFERROR(VLOOKUP(AC238,'NR-PI 2.0 Structure'!$G$14:$H$19,2,FALSE),\"-\")","v":"-"},"-","-","N/A","N/A",0,0,0,0,0,0,0,0,0]
[{"$f":"'P Index Inputs'!A241","v":0},{"$f":"'P Index Inputs'!B241","v":0},{"$f":"'P Index Inputs'!C241","v":0},{"$f":"'P Index Inputs'!D241","v":0},{"$f":"'P Index Inputs'!E241","v":0},{"$f":"'P Index Inputs'!F241","v":0},{"$f":"'P Index Inputs'!H241","v":0},{"$f":"'P Index Inputs'!I241","v":0},{"$f":"'P Index Inputs'!J241","v":0},{"$f":"IF(ISBLANK('P Index Inputs'!L241),'P Index Inputs'!K241,'P Index Inputs'!L241)","v":"-"},{"$f":"'P Index Inputs'!M241","v":0},{"$f":"'P Index Inputs'!O241","v":0},{"$f":"'P Index Inputs'!P241","v":0},{"$f":"'P Index Inputs'!Q241","v":0},{"$f":"IFERROR(VLOOKUP(I239,'NR-PI 2.0 Structure'!$C$5:$D$8,2,FALSE),\"-\")","v":"-"},{"$f":"IFERROR(VLOOKUP(J239,'NR-PI 2.0 Structure'!$B$12:$C$16,2,FALSE),\"-\")","v":"-"},{"$f":"IFERROR(VLOOKUP(K239,'NR-PI 2.0 Structure'!$B$20:$D$21,3,FALSE),\"-\")","v":"-"},{"$f":"IFERROR(VLOOKUP(L239,'NR-PI 2.0 Structure'!$B$25:$C$28,2,FALSE),\"-\")","v":"-"},{"$f":"IFERROR(VLOOKUP(L239,'NR-PI 2.0 Structure'!$B$25:$D$28,3,FALSE),\"-\")","v":"-"},{"$f":"IFERROR(\n  IF(M239 = \"≤ 1\", 'NR-PI 2.0 Structure'!$D$32,\n  IF(M239 = \">1 - 3\", 'NR-PI 2.0 Structure'!$D$33,\n  IF(M239 = \">3 - 5\", 'NR-PI 2.0 Structure'!$D$34,\n  IF(M239 = \"> 5\", 'NR-PI 2.0 Structure'!$D$35, )))),\n\"-\")","v":0},{"$f":"IFERROR(IF(ISBLANK(I239),\"N/A\",IF(I239<>'NR-PI 2.0 Structure'!$C$5,(VLOOKUP(N239,'NR-PI 2.0 Structure'!$C$39:$D$40,2,FALSE)),0)),\" - \")","v":" - "},{"$f":"IFERROR(IF(ISBLANK(I239),\"N/A\",IF(I239<>'NR-PI 2.0 Structure'!$C$5,(VLOOKUP(N239,'NR-PI 2.0 Structure'!$C$39:$E$40,3,FALSE)),0)),\" - \")","v":" - "},"-","-","-","N/A",{"$f":"IF(ISBLANK('P Index Inputs'!R241),\"-\",'P Index Inputs'!R241)","v":"-"},{"$f":"IFERROR(IF(I239<>'NR-PI 2.0 Structure'!$C$5,VLOOKUP(AA239,'NR-PI 2.0 Structure'!$G$5:$H$9,2,FALSE),IF(OR(AA239='NR-PI 2.0 Structure'!$G$5,AA239='NR-PI 2.0 Structure'!$G$6,AA239='NR-PI 2.0 Structure'!$G$7),1,VLOOKUP(AA239,'NR-PI 2.0 Structure'!$G$8:$H$9,2,FALSE))),\"-\")","v":"-"},{"$f":"IF(ISBLANK('P Index Inputs'!S241),\"-\",'P Index Inputs'!S241)","v":"-"},{"$f":"IFERROR(VLOOKUP(AC239,'NR-PI 2.0 Structure'!$G$14:$H$19,2,FALSE),\"-\")","v":"-"},"-","-","N/A","N/A",0,0,0,0,0,0,0,0,0]
[{"$f":"'P Index Inputs'!A242","v":0},{"$f":"'P Index Inputs'!B242","v":0},{"$f":"'P Index Inputs'!C242","v":0},{"$f":"'P Index Inputs'!D242","v":0},{"$f":"'P Index Inputs'!E242","v":0},{"$f":"'P Index Inputs'!F242","v":0},{"$f":"'P Index Inputs'!H242","v":0},{"$f":"'P Index Inputs'!I242","v":0},{"$f":"'P Index Inputs'!J242","v":0},{"$f":"IF(ISBLANK('P Index Inputs'!L242),'P Index Inputs'!K242,'P Index Inputs'!L242)","v":"-"},{"$f":"'P Index Inputs'!M242","v":0},{"$f":"'P Index Inputs'!O242","v":0},{"$f":"'P Index Inputs'!P242","v":0},{"$f":"'P Index Inputs'!Q242","v":0},{"$f":"IFERROR(VLOOKUP(I240,'NR-PI 2.0 Structure'!$C$5:$D$8,2,FALSE),\"-\")","v":"-"},{"$f":"IFERROR(VLOOKUP(J240,'NR-PI 2.0 Structure'!$B$12:$C$16,2,FALSE),\"-\")","v":"-"},{"$f":"IFERROR(VLOOKUP(K240,'NR-PI 2.0 Structure'!$B$20:$D$21,3,FALSE),\"-\")","v":"-"},{"$f":"IFERROR(VLOOKUP(L240,'NR-PI 2.0 Structure'!$B$25:$C$28,2,FALSE),\"-\")","v":"-"},{"$f":"IFERROR(VLOOKUP(L240,'NR-PI 2.0 Structure'!$B$25:$D$28,3,FALSE),\"-\")","v":"-"},{"$f":"IFERROR(\n  IF(M240 = \"≤ 1\", 'NR-PI 2.0 Structure'!$D$32,\n  IF(M240 = \">1 - 3\", 'NR-PI 2.0 Structure'!$D$33,\n  IF(M240 = \">3 - 5\", 'NR-PI 2.0 Structure'!$D$34,\n  IF(M240 = \"> 5\", 'NR-PI 2.0 Structure'!$D$35, )))),\n\"-\")","v":0},{"$f":"IFERROR(IF(ISBLANK(I240),\"N/A\",IF(I240<>'NR-PI 2.0 Structure'!$C$5,(VLOOKUP(N240,'NR-PI 2.0 Structure'!$C$39:$D$40,2,FALSE)),0)),\" - \")","v":" - "},{"$f":"IFERROR(IF(ISBLANK(I240),\"N/A\",IF(I240<>'NR-PI 2.0 Structure'!$C$5,(VLOOKUP(N240,'NR-PI 2.0 Structure'!$C$39:$E$40,3,FALSE)),0)),\" - \")","v":" - "},"-","-","-","N/A",{"$f":"IF(ISBLANK('P Index Inputs'!R242),\"-\",'P Index Inputs'!R242)","v":"-"},{"$f":"IFERROR(IF(I240<>'NR-PI 2.0 Structure'!$C$5,VLOOKUP(AA240,'NR-PI 2.0 Structure'!$G$5:$H$9,2,FALSE),IF(OR(AA240='NR-PI 2.0 Structure'!$G$5,AA240='NR-PI 2.0 Structure'!$G$6,AA240='NR-PI 2.0 Structure'!$G$7),1,VLOOKUP(AA240,'NR-PI 2.0 Structure'!$G$8:$H$9,2,FALSE))),\"-\")","v":"-"},{"$f":"IF(ISBLANK('P Index Inputs'!S242),\"-\",'P Index Inputs'!S242)","v":"-"},{"$f":"IFERROR(VLOOKUP(AC240,'NR-PI 2.0 Structure'!$G$14:$H$19,2,FALSE),\"-\")","v":"-"},"-","-","N/A","N/A",0,0,0,0,0,0,0,0,0]
[{"$f":"'P Index Inputs'!A243","v":0},{"$f":"'P Index Inputs'!B243","v":0},{"$f":"'P Index Inputs'!C243","v":0},{"$f":"'P Index Inputs'!D243","v":0},{"$f":"'P Index Inputs'!E243","v":0},{"$f":"'P Index Inputs'!F243","v":0},{"$f":"'P Index Inputs'!H243","v":0},{"$f":"'P Index Inputs'!I243","v":0},{"$f":"'P Index Inputs'!J243","v":0},{"$f":"IF(ISBLANK('P Index Inputs'!L243),'P Index Inputs'!K243,'P Index Inputs'!L243)","v":"-"},{"$f":"'P Index Inputs'!M243","v":0},{"$f":"'P Index Inputs'!O243","v":0},{"$f":"'P Index Inputs'!P243","v":0},{"$f":"'P Index Inputs'!Q243","v":0},{"$f":"IFERROR(VLOOKUP(I241,'NR-PI 2.0 Structure'!$C$5:$D$8,2,FALSE),\"-\")","v":"-"},{"$f":"IFERROR(VLOOKUP(J241,'NR-PI 2.0 Structure'!$B$12:$C$16,2,FALSE),\"-\")","v":"-"},{"$f":"IFERROR(VLOOKUP(K241,'NR-PI 2.0 Structure'!$B$20:$D$21,3,FALSE),\"-\")","v":"-"},{"$f":"IFERROR(VLOOKUP(L241,'NR-PI 2.0 Structure'!$B$25:$C$28,2,FALSE),\"-\")","v":"-"},{"$f":"IFERROR(VLOOKUP(L241,'NR-PI 2.0 Structure'!$B$25:$D$28,3,FALSE),\"-\")","v":"-"},{"$f":"IFERROR(\n  IF(M241 = \"≤ 1\", 'NR-PI 2.0 Structure'!$D$32,\n  IF(M241 = \">1 - 3\", 'NR-PI 2.0 Structure'!$D$33,\n  IF(M241 = \">3 - 5\", 'NR-PI 2.0 Structure'!$D$34,\n  IF(M241 = \"> 5\", 'NR-PI 2.0 Structure'!$D$35, )))),\n\"-\")","v":0},{"$f":"IFERROR(IF(ISBLANK(I241),\"N/A\",IF(I241<>'NR-PI 2.0 Structure'!$C$5,(VLOOKUP(N241,'NR-PI 2.0 Structure'!$C$39:$D$40,2,FALSE)),0)),\" - \")","v":" - "},{"$f":"IFERROR(IF(ISBLANK(I241),\"N/A\",IF(I241<>'NR-PI 2.0 Structure'!$C$5,(VLOOKUP(N241,'NR-PI 2.0 Structure'!$C$39:$E$40,3,FALSE)),0)),\" - \")","v":" - "},"-","-","-","N/A",{"$f":"IF(ISBLANK('P Index Inputs'!R243),\"-\",'P Index Inputs'!R243)","v":"-"},{"$f":"IFERROR(IF(I241<>'NR-PI 2.0 Structure'!$C$5,VLOOKUP(AA241,'NR-PI 2.0 Structure'!$G$5:$H$9,2,FALSE),IF(OR(AA241='NR-PI 2.0 Structure'!$G$5,AA241='NR-PI 2.0 Structure'!$G$6,AA241='NR-PI 2.0 Structure'!$G$7),1,VLOOKUP(AA241,'NR-PI 2.0 Structure'!$G$8:$H$9,2,FALSE))),\"-\")","v":"-"},{"$f":"IF(ISBLANK('P Index Inputs'!S243),\"-\",'P Index Inputs'!S243)","v":"-"},{"$f":"IFERROR(VLOOKUP(AC241,'NR-PI 2.0 Structure'!$G$14:$H$19,2,FALSE),\"-\")","v":"-"},"-","-","N/A","N/A",0,0,0,0,0,0,0,0,0]
[{"$f":"'P Index Inputs'!A244","v":0},{"$f":"'P Index Inputs'!B244","v":0},{"$f":"'P Index Inputs'!C244","v":0},{"$f":"'P Index Inputs'!D244","v":0},{"$f":"'P Index Inputs'!E244","v":0},{"$f":"'P Index Inputs'!F244","v":0},{"$f":"'P Index Inputs'!H244","v":0},{"$f":"'P Index Inputs'!I244","v":0},{"$f":"'P Index Inputs'!J244","v":0},{"$f":"IF(ISBLANK('P Index Inputs'!L244),'P Index Inputs'!K244,'P Index Inputs'!L244)","v":"-"},{"$f":"'P Index Inputs'!M244","v":0},{"$f":"'P Index Inputs'!O244","v":0},{"$f":"'P Index Inputs'!P244","v":0},{"$f":"'P Index Inputs'!Q244","v":0},{"$f":"IFERROR(VLOOKUP(I242,'NR-PI 2.0 Structure'!$C$5:$D$8,2,FALSE),\"-\")","v":"-"},{"$f":"IFERROR(VLOOKUP(J242,'NR-PI 2.0 Structure'!$B$12:$C$16,2,FALSE),\"-\")","v":"-"},{"$f":"IFERROR(VLOOKUP(K242,'NR-PI 2.0 Structure'!$B$20:$D$21,3,FALSE),\"-\")","v":"-"},{"$f":"IFERROR(VLOOKUP(L242,'NR-PI 2.0 Structure'!$B$25:$C$28,2,FALSE),\"-\")","v":"-"},{"$f":"IFERROR(VLOOKUP(L242,'NR-PI 2.0 Structure'!$B$25:$D$28,3,FALSE),\"-\")","v":"-"},{"$f":"IFERROR(\n  IF(M242 = \"≤ 1\", 'NR-PI 2.0 Structure'!$D$32,\n  IF(M242 = \">1 - 3\", 'NR-PI 2.0 Structure'!$D$33,\n  IF(M242 = \">3 - 5\", 'NR-PI 2.0 Structure'!$D$34,\n  IF(M242 = \"> 5\", 'NR-PI 2.0 Structure'!$D$35, )))),\n\"-\")","v":0},{"$f":"IFERROR(IF(ISBLANK(I242),\"N/A\",IF(I242<>'NR-PI 2.0 Structure'!$C$5,(VLOOKUP(N242,'NR-PI 2.0 Structure'!$C$39:$D$40,2,FALSE)),0)),\" - \")","v":" - "},{"$f":"IFERROR(IF(ISBLANK(I242),\"N/A\",IF(I242<>'NR-PI 2.0 Structure'!$C$5,(VLOOKUP(N242,'NR-PI 2.0 Structure'!$C$39:$E$40,3,FALSE)),0)),\" - \")","v":" - "},"-","-","-","N/A",{"$f":"IF(ISBLANK('P Index Inputs'!R244),\"-\",'P Index Inputs'!R244)","v":"-"},{"$f":"IFERROR(IF(I242<>'NR-PI 2.0 Structure'!$C$5,VLOOKUP(AA242,'NR-PI 2.0 Structure'!$G$5:$H$9,2,FALSE),IF(OR(AA242='NR-PI 2.0 Structure'!$G$5,AA242='NR-PI 2.0 Structure'!$G$6,AA242='NR-PI 2.0 Structure'!$G$7),1,VLOOKUP(AA242,'NR-PI 2.0 Structure'!$G$8:$H$9,2,FALSE))),\"-\")","v":"-"},{"$f":"IF(ISBLANK('P Index Inputs'!S244),\"-\",'P Index Inputs'!S244)","v":"-"},{"$f":"IFERROR(VLOOKUP(AC242,'NR-PI 2.0 Structure'!$G$14:$H$19,2,FALSE),\"-\")","v":"-"},"-","-","N/A","N/A",0,0,0,0,0,0,0,0,0]
[{"$f":"'P Index Inputs'!A245","v":0},{"$f":"'P Index Inputs'!B245","v":0},{"$f":"'P Index Inputs'!C245","v":0},{"$f":"'P Index Inputs'!D245","v":0},{"$f":"'P Index Inputs'!E245","v":0},{"$f":"'P Index Inputs'!F245","v":0},{"$f":"'P Index Inputs'!H245","v":0},{"$f":"'P Index Inputs'!I245","v":0},{"$f":"'P Index Inputs'!J245","v":0},{"$f":"IF(ISBLANK('P Index Inputs'!L245),'P Index Inputs'!K245,'P Index Inputs'!L245)","v":"-"},{"$f":"'P Index Inputs'!M245","v":0},{"$f":"'P Index Inputs'!O245","v":0},{"$f":"'P Index Inputs'!P245","v":0},{"$f":"'P Index Inputs'!Q245","v":0},{"$f":"IFERROR(VLOOKUP(I243,'NR-PI 2.0 Structure'!$C$5:$D$8,2,FALSE),\"-\")","v":"-"},{"$f":"IFERROR(VLOOKUP(J243,'NR-PI 2.0 Structure'!$B$12:$C$16,2,FALSE),\"-\")","v":"-"},{"$f":"IFERROR(VLOOKUP(K243,'NR-PI 2.0 Structure'!$B$20:$D$21,3,FALSE),\"-\")","v":"-"},{"$f":"IFERROR(VLOOKUP(L243,'NR-PI 2.0 Structure'!$B$25:$C$28,2,FALSE),\"-\")","v":"-"},{"$f":"IFERROR(VLOOKUP(L243,'NR-PI 2.0 Structure'!$B$25:$D$28,3,FALSE),\"-\")","v":"-"},{"$f":"IFERROR(\n  IF(M243 = \"≤ 1\", 'NR-PI 2.0 Structure'!$D$32,\n  IF(M243 = \">1 - 3\", 'NR-PI 2.0 Structure'!$D$33,\n  IF(M243 = \">3 - 5\", 'NR-PI 2.0 Structure'!$D$34,\n  IF(M243 = \"> 5\", 'NR-PI 2.0 Structure'!$D$35, )))),\n\"-\")","v":0},{"$f":"IFERROR(IF(ISBLANK(I243),\"N/A\",IF(I243<>'NR-PI 2.0 Structure'!$C$5,(VLOOKUP(N243,'NR-PI 2.0 Structure'!$C$39:$D$40,2,FALSE)),0)),\" - \")","v":" - "},{"$f":"IFERROR(IF(ISBLANK(I243),\"N/A\",IF(I243<>'NR-PI 2.0 Structure'!$C$5,(VLOOKUP(N243,'NR-PI 2.0 Structure'!$C$39:$E$40,3,FALSE)),0)),\" - \")","v":" - "},"-","-","-","N/A",{"$f":"IF(ISBLANK('P Index Inputs'!R245),\"-\",'P Index Inputs'!R245)","v":"-"},{"$f":"IFERROR(IF(I243<>'NR-PI 2.0 Structure'!$C$5,VLOOKUP(AA243,'NR-PI 2.0 Structure'!$G$5:$H$9,2,FALSE),IF(OR(AA243='NR-PI 2.0 Structure'!$G$5,AA243='NR-PI 2.0 Structure'!$G$6,AA243='NR-PI 2.0 Structure'!$G$7),1,VLOOKUP(AA243,'NR-PI 2.0 Structure'!$G$8:$H$9,2,FALSE))),\"-\")","v":"-"},{"$f":"IF(ISBLANK('P Index Inputs'!S245),\"-\",'P Index Inputs'!S245)","v":"-"},{"$f":"IFERROR(VLOOKUP(AC243,'NR-PI 2.0 Structure'!$G$14:$H$19,2,FALSE),\"-\")","v":"-"},"-","-","N/A","N/A",0,0,0,0,0,0,0,0,0]
[{"$f":"'P Index Inputs'!A246","v":0},{"$f":"'P Index Inputs'!B246","v":0},{"$f":"'P Index Inputs'!C246","v":0},{"$f":"'P Index Inputs'!D246","v":0},{"$f":"'P Index Inputs'!E246","v":0},{"$f":"'P Index Inputs'!F246","v":0},{"$f":"'P Index Inputs'!H246","v":0},{"$f":"'P Index Inputs'!I246","v":0},{"$f":"'P Index Inputs'!J246","v":0},{"$f":"IF(ISBLANK('P Index Inputs'!L246),'P Index Inputs'!K246,'P Index Inputs'!L246)","v":"-"},{"$f":"'P Index Inputs'!M246","v":0},{"$f":"'P Index Inputs'!O246","v":0},{"$f":"'P Index Inputs'!P246","v":0},{"$f":"'P Index Inputs'!Q246","v":0},{"$f":"IFERROR(VLOOKUP(I244,'NR-PI 2.0 Structure'!$C$5:$D$8,2,FALSE),\"-\")","v":"-"},{"$f":"IFERROR(VLOOKUP(J244,'NR-PI 2.0 Structure'!$B$12:$C$16,2,FALSE),\"-\")","v":"-"},{"$f":"IFERROR(VLOOKUP(K244,'NR-PI 2.0 Structure'!$B$20:$D$21,3,FALSE),\"-\")","v":"-"},{"$f":"IFERROR(VLOOKUP(L244,'NR-PI 2.0 Structure'!$B$25:$C$28,2,FALSE),\"-\")","v":"-"},{"$f":"IFERROR(VLOOKUP(L244,'NR-PI 2.0 Structure'!$B$25:$D$28,3,FALSE),\"-\")","v":"-"},{"$f":"IFERROR(\n  IF(M244 = \"≤ 1\", 'NR-PI 2.0 Structure'!$D$32,\n  IF(M244 = \">1 - 3\", 'NR-PI 2.0 Structure'!$D$33,\n  IF(M244 = \">3 - 5\", 'NR-PI 2.0 Structure'!$D$34,\n  IF(M244 = \"> 5\", 'NR-PI 2.0 Structure'!$D$35, )))),\n\"-\")","v":0},{"$f":"IFERROR(IF(ISBLANK(I244),\"N/A\",IF(I244<>'NR-PI 2.0 Structure'!$C$5,(VLOOKUP(N244,'NR-PI 2.0 Structure'!$C$39:$D$40,2,FALSE)),0)),\" - \")","v":" - "},{"$f":"IFERROR(IF(ISBLANK(I244),\"N/A\",IF(I244<>'NR-PI 2.0 Structure'!$C$5,(VLOOKUP(N244,'NR-PI 2.0 Structure'!$C$39:$E$40,3,FALSE)),0)),\" - \")","v":" - "},"-","-","-","N/A",{"$f":"IF(ISBLANK('P Index Inputs'!R246),\"-\",'P Index Inputs'!R246)","v":"-"},{"$f":"IFERROR(IF(I244<>'NR-PI 2.0 Structure'!$C$5,VLOOKUP(AA244,'NR-PI 2.0 Structure'!$G$5:$H$9,2,FALSE),IF(OR(AA244='NR-PI 2.0 Structure'!$G$5,AA244='NR-PI 2.0 Structure'!$G$6,AA244='NR-PI 2.0 Structure'!$G$7),1,VLOOKUP(AA244,'NR-PI 2.0 Structure'!$G$8:$H$9,2,FALSE))),\"-\")","v":"-"},{"$f":"IF(ISBLANK('P Index Inputs'!S246),\"-\",'P Index Inputs'!S246)","v":"-"},{"$f":"IFERROR(VLOOKUP(AC244,'NR-PI 2.0 Structure'!$G$14:$H$19,2,FALSE),\"-\")","v":"-"},"-","-","N/A","N/A",0,0,0,0,0,0,0,0,0]
[{"$f":"'P Index Inputs'!A247","v":0},{"$f":"'P Index Inputs'!B247","v":0},{"$f":"'P Index Inputs'!C247","v":0},{"$f":"'P Index Inputs'!D247","v":0},{"$f":"'P Index Inputs'!E247","v":0},{"$f":"'P Index Inputs'!F247","v":0},{"$f":"'P Index Inputs'!H247","v":0},{"$f":"'P Index Inputs'!I247","v":0},{"$f":"'P Index Inputs'!J247","v":0},{"$f":"IF(ISBLANK('P Index Inputs'!L247),'P Index Inputs'!K247,'P Index Inputs'!L247)","v":"-"},{"$f":"'P Index Inputs'!M247","v":0},{"$f":"'P Index Inputs'!O247","v":0},{"$f":"'P Index Inputs'!P247","v":0},{"$f":"'P Index Inputs'!Q247","v":0},{"$f":"IFERROR(VLOOKUP(I245,'NR-PI 2.0 Structure'!$C$5:$D$8,2,FALSE),\"-\")","v":"-"},{"$f":"IFERROR(VLOOKUP(J245,'NR-PI 2.0 Structure'!$B$12:$C$16,2,FALSE),\"-\")","v":"-"},{"$f":"IFERROR(VLOOKUP(K245,'NR-PI 2.0 Structure'!$B$20:$D$21,3,FALSE),\"-\")","v":"-"},{"$f":"IFERROR(VLOOKUP(L245,'NR-PI 2.0 Structure'!$B$25:$C$28,2,FALSE),\"-\")","v":"-"},{"$f":"IFERROR(VLOOKUP(L245,'NR-PI 2.0 Structure'!$B$25:$D$28,3,FALSE),\"-\")","v":"-"},{"$f":"IFERROR(\n  IF(M245 = \"≤ 1\", 'NR-PI 2.0 Structure'!$D$32,\n  IF(M245 = \">1 - 3\", 'NR-PI 2.0 Structure'!$D$33,\n  IF(M245 = \">3 - 5\", 'NR-PI 2.0 Structure'!$D$34,\n  IF(M245 = \"> 5\", 'NR-PI 2.0 Structure'!$D$35, )))),\n\"-\")","v":0},{"$f":"IFERROR(IF(ISBLANK(I245),\"N/A\",IF(I245<>'NR-PI 2.0 Structure'!$C$5,(VLOOKUP(N245,'NR-PI 2.0 Structure'!$C$39:$D$40,2,FALSE)),0)),\" - \")","v":" - "},{"$f":"IFERROR(IF(ISBLANK(I245),\"N/A\",IF(I245<>'NR-PI 2.0 Structure'!$C$5,(VLOOKUP(N245,'NR-PI 2.0 Structure'!$C$39:$E$40,3,FALSE)),0)),\" - \")","v":" - "},"-","-","-","N/A",{"$f":"IF(ISBLANK('P Index Inputs'!R247),\"-\",'P Index Inputs'!R247)","v":"-"},{"$f":"IFERROR(IF(I245<>'NR-PI 2.0 Structure'!$C$5,VLOOKUP(AA245,'NR-PI 2.0 Structure'!$G$5:$H$9,2,FALSE),IF(OR(AA245='NR-PI 2.0 Structure'!$G$5,AA245='NR-PI 2.0 Structure'!$G$6,AA245='NR-PI 2.0 Structure'!$G$7),1,VLOOKUP(AA245,'NR-PI 2.0 Structure'!$G$8:$H$9,2,FALSE))),\"-\")","v":"-"},{"$f":"IF(ISBLANK('P Index Inputs'!S247),\"-\",'P Index Inputs'!S247)","v":"-"},{"$f":"IFERROR(VLOOKUP(AC245,'NR-PI 2.0 Structure'!$G$14:$H$19,2,FALSE),\"-\")","v":"-"},"-","-","N/A","N/A",0,0,0,0,0,0,0,0,0]
[{"$f":"'P Index Inputs'!A248","v":0},{"$f":"'P Index Inputs'!B248","v":0},{"$f":"'P Index Inputs'!C248","v":0},{"$f":"'P Index Inputs'!D248","v":0},{"$f":"'P Index Inputs'!E248","v":0},{"$f":"'P Index Inputs'!F248","v":0},{"$f":"'P Index Inputs'!H248","v":0},{"$f":"'P Index Inputs'!I248","v":0},{"$f":"'P Index Inputs'!J248","v":0},{"$f":"IF(ISBLANK('P Index Inputs'!L248),'P Index Inputs'!K248,'P Index Inputs'!L248)","v":"-"},{"$f":"'P Index Inputs'!M248","v":0},{"$f":"'P Index Inputs'!O248","v":0},{"$f":"'P Index Inputs'!P248","v":0},{"$f":"'P Index Inputs'!Q248","v":0},{"$f":"IFERROR(VLOOKUP(I246,'NR-PI 2.0 Structure'!$C$5:$D$8,2,FALSE),\"-\")","v":"-"},{"$f":"IFERROR(VLOOKUP(J246,'NR-PI 2.0 Structure'!$B$12:$C$16,2,FALSE),\"-\")","v":"-"},{"$f":"IFERROR(VLOOKUP(K246,'NR-PI 2.0 Structure'!$B$20:$D$21,3,FALSE),\"-\")","v":"-"},{"$f":"IFERROR(VLOOKUP(L246,'NR-PI 2.0 Structure'!$B$25:$C$28,2,FALSE),\"-\")","v":"-"},{"$f":"IFERROR(VLOOKUP(L246,'NR-PI 2.0 Structure'!$B$25:$D$28,3,FALSE),\"-\")","v":"-"},{"$f":"IFERROR(\n  IF(M246 = \"≤ 1\", 'NR-PI 2.0 Structure'!$D$32,\n  IF(M246 = \">1 - 3\", 'NR-PI 2.0 Structure'!$D$33,\n  IF(M246 = \">3 - 5\", 'NR-PI 2.0 Structure'!$D$34,\n  IF(M246 = \"> 5\", 'NR-PI 2.0 Structure'!$D$35, )))),\n\"-\")","v":0},{"$f":"IFERROR(IF(ISBLANK(I246),\"N/A\",IF(I246<>'NR-PI 2.0 Structure'!$C$5,(VLOOKUP(N246,'NR-PI 2.0 Structure'!$C$39:$D$40,2,FALSE)),0)),\" - \")","v":" - "},{"$f":"IFERROR(IF(ISBLANK(I246),\"N/A\",IF(I246<>'NR-PI 2.0 Structure'!$C$5,(VLOOKUP(N246,'NR-PI 2.0 Structure'!$C$39:$E$40,3,FALSE)),0)),\" - \")","v":" - "},"-","-","-","N/A",{"$f":"IF(ISBLANK('P Index Inputs'!R248),\"-\",'P Index Inputs'!R248)","v":"-"},{"$f":"IFERROR(IF(I246<>'NR-PI 2.0 Structure'!$C$5,VLOOKUP(AA246,'NR-PI 2.0 Structure'!$G$5:$H$9,2,FALSE),IF(OR(AA246='NR-PI 2.0 Structure'!$G$5,AA246='NR-PI 2.0 Structure'!$G$6,AA246='NR-PI 2.0 Structure'!$G$7),1,VLOOKUP(AA246,'NR-PI 2.0 Structure'!$G$8:$H$9,2,FALSE))),\"-\")","v":"-"},{"$f":"IF(ISBLANK('P Index Inputs'!S248),\"-\",'P Index Inputs'!S248)","v":"-"},{"$f":"IFERROR(VLOOKUP(AC246,'NR-PI 2.0 Structure'!$G$14:$H$19,2,FALSE),\"-\")","v":"-"},"-","-","N/A","N/A",0,0,0,0,0,0,0,0,0]
[{"$f":"'P Index Inputs'!A249","v":0},{"$f":"'P Index Inputs'!B249","v":0},{"$f":"'P Index Inputs'!C249","v":0},{"$f":"'P Index Inputs'!D249","v":0},{"$f":"'P Index Inputs'!E249","v":0},{"$f":"'P Index Inputs'!F249","v":0},{"$f":"'P Index Inputs'!H249","v":0},{"$f":"'P Index Inputs'!I249","v":0},{"$f":"'P Index Inputs'!J249","v":0},{"$f":"IF(ISBLANK('P Index Inputs'!L249),'P Index Inputs'!K249,'P Index Inputs'!L249)","v":"-"},{"$f":"'P Index Inputs'!M249","v":0},{"$f":"'P Index Inputs'!O249","v":0},{"$f":"'P Index Inputs'!P249","v":0},{"$f":"'P Index Inputs'!Q249","v":0},{"$f":"IFERROR(VLOOKUP(I247,'NR-PI 2.0 Structure'!$C$5:$D$8,2,FALSE),\"-\")","v":"-"},{"$f":"IFERROR(VLOOKUP(J247,'NR-PI 2.0 Structure'!$B$12:$C$16,2,FALSE),\"-\")","v":"-"},{"$f":"IFERROR(VLOOKUP(K247,'NR-PI 2.0 Structure'!$B$20:$D$21,3,FALSE),\"-\")","v":"-"},{"$f":"IFERROR(VLOOKUP(L247,'NR-PI 2.0 Structure'!$B$25:$C$28,2,FALSE),\"-\")","v":"-"},{"$f":"IFERROR(VLOOKUP(L247,'NR-PI 2.0 Structure'!$B$25:$D$28,3,FALSE),\"-\")","v":"-"},{"$f":"IFERROR(\n  IF(M247 = \"≤ 1\", 'NR-PI 2.0 Structure'!$D$32,\n  IF(M247 = \">1 - 3\", 'NR-PI 2.0 Structure'!$D$33,\n  IF(M247 = \">3 - 5\", 'NR-PI 2.0 Structure'!$D$34,\n  IF(M247 = \"> 5\", 'NR-PI 2.0 Structure'!$D$35, )))),\n\"-\")","v":0},{"$f":"IFERROR(IF(ISBLANK(I247),\"N/A\",IF(I247<>'NR-PI 2.0 Structure'!$C$5,(VLOOKUP(N247,'NR-PI 2.0 Structure'!$C$39:$D$40,2,FALSE)),0)),\" - \")","v":" - "},{"$f":"IFERROR(IF(ISBLANK(I247),\"N/A\",IF(I247<>'NR-PI 2.0 Structure'!$C$5,(VLOOKUP(N247,'NR-PI 2.0 Structure'!$C$39:$E$40,3,FALSE)),0)),\" - \")","v":" - "},"-","-",{"$f":"IF(W247>X247,W247,X247)","v":"-"},"N/A",{"$f":"IF(ISBLANK('P Index Inputs'!R249),\"-\",'P Index Inputs'!R249)","v":"-"},{"$f":"IFERROR(IF(I247<>'NR-PI 2.0 Structure'!$C$5,VLOOKUP(AA247,'NR-PI 2.0 Structure'!$G$5:$H$9,2,FALSE),IF(OR(AA247='NR-PI 2.0 Structure'!$G$5,AA247='NR-PI 2.0 Structure'!$G$6,AA247='NR-PI 2.0 Structure'!$G$7),1,VLOOKUP(AA247,'NR-PI 2.0 Structure'!$G$8:$H$9,2,FALSE))),\"-\")","v":"-"},{"$f":"IF(ISBLANK('P Index Inputs'!S249),\"-\",'P Index Inputs'!S249)","v":"-"},{"$f":"IFERROR(VLOOKUP(AC247,'NR-PI 2.0 Structure'!$G$14:$H$19,2,FALSE),\"-\")","v":"-"},"-","-","N/A","N/A",0,0,0,0,0,0,0,0,0]
[{"$f":"'P Index Inputs'!A250","v":0},{"$f":"'P Index Inputs'!B250","v":0},{"$f":"'P Index Inputs'!C250","v":0},{"$f":"'P Index Inputs'!D250","v":0},{"$f":"'P Index Inputs'!E250","v":0},{"$f":"'P Index Inputs'!F250","v":0},{"$f":"'P Index Inputs'!H250","v":0},{"$f":"'P Index Inputs'!I250","v":0},{"$f":"'P Index Inputs'!J250","v":0},{"$f":"IF(ISBLANK('P Index Inputs'!L250),'P Index Inputs'!K250,'P Index Inputs'!L250)","v":"-"},{"$f":"'P Index Inputs'!M250","v":0},{"$f":"'P Index Inputs'!O250","v":0},{"$f":"'P Index Inputs'!P250","v":0},{"$f":"'P Index Inputs'!Q250","v":0},{"$f":"IFERROR(VLOOKUP(I248,'NR-PI 2.0 Structure'!$C$5:$D$8,2,FALSE),\"-\")","v":"-"},{"$f":"IFERROR(VLOOKUP(J248,'NR-PI 2.0 Structure'!$B$12:$C$16,2,FALSE),\"-\")","v":"-"},{"$f":"IFERROR(VLOOKUP(K248,'NR-PI 2.0 Structure'!$B$20:$D$21,3,FALSE),\"-\")","v":"-"},{"$f":"IFERROR(VLOOKUP(L248,'NR-PI 2.0 Structure'!$B$25:$C$28,2,FALSE),\"-\")","v":"-"},{"$f":"IFERROR(VLOOKUP(L248,'NR-PI 2.0 Structure'!$B$25:$D$28,3,FALSE),\"-\")","v":"-"},{"$f":"IFERROR(\n  IF(M248 = \"≤ 1\", 'NR-PI 2.0 Structure'!$D$32,\n  IF(M248 = \">1 - 3\", 'NR-PI 2.0 Structure'!$D$33,\n  IF(M248 = \">3 - 5\", 'NR-PI 2.0 Structure'!$D$34,\n  IF(M248 = \"> 5\", 'NR-PI 2.0 Structure'!$D$35, )))),\n\"-\")","v":0},{"$f":"IFERROR(IF(ISBLANK(I248),\"N/A\",IF(I248<>'NR-PI 2.0 Structure'!$C$5,(VLOOKUP(N248,'NR-PI 2.0 Structure'!$C$39:$D$40,2,FALSE)),0)),\" - \")","v":" - "},{"$f":"IFERROR(IF(ISBLANK(I248),\"N/A\",IF(I248<>'NR-PI 2.0 Structure'!$C$5,(VLOOKUP(N248,'NR-PI 2.0 Structure'!$C$39:$E$40,3,FALSE)),0)),\" - \")","v":" - "},"-","-","-","N/A",{"$f":"IF(ISBLANK('P Index Inputs'!R250),\"-\",'P Index Inputs'!R250)","v":"-"},{"$f":"IFERROR(IF(I248<>'NR-PI 2.0 Structure'!$C$5,VLOOKUP(AA248,'NR-PI 2.0 Structure'!$G$5:$H$9,2,FALSE),IF(OR(AA248='NR-PI 2.0 Structure'!$G$5,AA248='NR-PI 2.0 Structure'!$G$6,AA248='NR-PI 2.0 Structure'!$G$7),1,VLOOKUP(AA248,'NR-PI 2.0 Structure'!$G$8:$H$9,2,FALSE))),\"-\")","v":"-"},{"$f":"IF(ISBLANK('P Index Inputs'!S250),\"-\",'P Index Inputs'!S250)","v":"-"},{"$f":"IFERROR(VLOOKUP(AC248,'NR-PI 2.0 Structure'!$G$14:$H$19,2,FALSE),\"-\")","v":"-"},"-","-","N/A","N/A",0,0,0,0,0,0,0,0,0]
[{"$f":"'P Index Inputs'!A251","v":0},{"$f":"'P Index Inputs'!B251","v":0},{"$f":"'P Index Inputs'!C251","v":0},{"$f":"'P Index Inputs'!D251","v":0},{"$f":"'P Index Inputs'!E251","v":0},{"$f":"'P Index Inputs'!F251","v":0},{"$f":"'P Index Inputs'!H251","v":0},{"$f":"'P Index Inputs'!I251","v":0},{"$f":"'P Index Inputs'!J251","v":0},{"$f":"IF(ISBLANK('P Index Inputs'!L251),'P Index Inputs'!K251,'P Index Inputs'!L251)","v":"-"},{"$f":"'P Index Inputs'!M251","v":0},{"$f":"'P Index Inputs'!O251","v":0},{"$f":"'P Index Inputs'!P251","v":0},{"$f":"'P Index Inputs'!Q251","v":0},{"$f":"IFERROR(VLOOKUP(I249,'NR-PI 2.0 Structure'!$C$5:$D$8,2,FALSE),\"-\")","v":"-"},{"$f":"IFERROR(VLOOKUP(J249,'NR-PI 2.0 Structure'!$B$12:$C$16,2,FALSE),\"-\")","v":"-"},{"$f":"IFERROR(VLOOKUP(K249,'NR-PI 2.0 Structure'!$B$20:$D$21,3,FALSE),\"-\")","v":"-"},{"$f":"IFERROR(VLOOKUP(L249,'NR-PI 2.0 Structure'!$B$25:$C$28,2,FALSE),\"-\")","v":"-"},{"$f":"IFERROR(VLOOKUP(L249,'NR-PI 2.0 Structure'!$B$25:$D$28,3,FALSE),\"-\")","v":"-"},{"$f":"IFERROR(\n  IF(M249 = \"≤ 1\", 'NR-PI 2.0 Structure'!$D$32,\n  IF(M249 = \">1 - 3\", 'NR-PI 2.0 Structure'!$D$33,\n  IF(M249 = \">3 - 5\", 'NR-PI 2.0 Structure'!$D$34,\n  IF(M249 = \"> 5\", 'NR-PI 2.0 Structure'!$D$35, )))),\n\"-\")","v":0},{"$f":"IFERROR(IF(ISBLANK(I249),\"N/A\",IF(I249<>'NR-PI 2.0 Structure'!$C$5,(VLOOKUP(N249,'NR-PI 2.0 Structure'!$C$39:$D$40,2,FALSE)),0)),\" - \")","v":" - "},{"$f":"IFERROR(IF(ISBLANK(I249),\"N/A\",IF(I249<>'NR-PI 2.0 Structure'!$C$5,(VLOOKUP(N249,'NR-PI 2.0 Structure'!$C$39:$E$40,3,FALSE)),0)),\" - \")","v":" - "},"-","-","-","N/A",{"$f":"IF(ISBLANK('P Index Inputs'!R251),\"-\",'P Index Inputs'!R251)","v":"-"},{"$f":"IFERROR(IF(I249<>'NR-PI 2.0 Structure'!$C$5,VLOOKUP(AA249,'NR-PI 2.0 Structure'!$G$5:$H$9,2,FALSE),IF(OR(AA249='NR-PI 2.0 Structure'!$G$5,AA249='NR-PI 2.0 Structure'!$G$6,AA249='NR-PI 2.0 Structure'!$G$7),1,VLOOKUP(AA249,'NR-PI 2.0 Structure'!$G$8:$H$9,2,FALSE))),\"-\")","v":"-"},{"$f":"IF(ISBLANK('P Index Inputs'!S251),\"-\",'P Index Inputs'!S251)","v":"-"},{"$f":"IFERROR(VLOOKUP(AC249,'NR-PI 2.0 Structure'!$G$14:$H$19,2,FALSE),\"-\")","v":"-"},"-","-","N/A","N/A",0,0,0,0,0,0,0,0,0]
[{"$f":"'P Index Inputs'!A252","v":0},{"$f":"'P Index Inputs'!B252","v":0},{"$f":"'P Index Inputs'!C252","v":0},{"$f":"'P Index Inputs'!D252","v":0},{"$f":"'P Index Inputs'!E252","v":0},{"$f":"'P Index Inputs'!F252","v":0},{"$f":"'P Index Inputs'!H252","v":0},{"$f":"'P Index Inputs'!I252","v":0},{"$f":"'P Index Inputs'!J252","v":0},{"$f":"IF(ISBLANK('P Index Inputs'!L252),'P Index Inputs'!K252,'P Index Inputs'!L252)","v":"-"},{"$f":"'P Index Inputs'!M252","v":0},{"$f":"'P Index Inputs'!O252","v":0},{"$f":"'P Index Inputs'!P252","v":0},{"$f":"'P Index Inputs'!Q252","v":0},{"$f":"IFERROR(VLOOKUP(I250,'NR-PI 2.0 Structure'!$C$5:$D$8,2,FALSE),\"-\")","v":"-"},{"$f":"IFERROR(VLOOKUP(J250,'NR-PI 2.0 Structure'!$B$12:$C$16,2,FALSE),\"-\")","v":"-"},{"$f":"IFERROR(VLOOKUP(K250,'NR-PI 2.0 Structure'!$B$20:$D$21,3,FALSE),\"-\")","v":"-"},{"$f":"IFERROR(VLOOKUP(L250,'NR-PI 2.0 Structure'!$B$25:$C$28,2,FALSE),\"-\")","v":"-"},{"$f":"IFERROR(VLOOKUP(L250,'NR-PI 2.0 Structure'!$B$25:$D$28,3,FALSE),\"-\")","v":"-"},{"$f":"IFERROR(\n  IF(M250 = \"≤ 1\", 'NR-PI 2.0 Structure'!$D$32,\n  IF(M250 = \">1 - 3\", 'NR-PI 2.0 Structure'!$D$33,\n  IF(M250 = \">3 - 5\", 'NR-PI 2.0 Structure'!$D$34,\n  IF(M250 = \"> 5\", 'NR-PI 2.0 Structure'!$D$35, )))),\n\"-\")","v":0},{"$f":"IFERROR(IF(ISBLANK(I250),\"N/A\",IF(I250<>'NR-PI 2.0 Structure'!$C$5,(VLOOKUP(N250,'NR-PI 2.0 Structure'!$C$39:$D$40,2,FALSE)),0)),\" - \")","v":" - "},{"$f":"IFERROR(IF(ISBLANK(I250),\"N/A\",IF(I250<>'NR-PI 2.0 Structure'!$C$5,(VLOOKUP(N250,'NR-PI 2.0 Structure'!$C$39:$E$40,3,FALSE)),0)),\" - \")","v":" - "},"-","-","-","N/A",{"$f":"IF(ISBLANK('P Index Inputs'!R252),\"-\",'P Index Inputs'!R252)","v":"-"},{"$f":"IFERROR(IF(I250<>'NR-PI 2.0 Structure'!$C$5,VLOOKUP(AA250,'NR-PI 2.0 Structure'!$G$5:$H$9,2,FALSE),IF(OR(AA250='NR-PI 2.0 Structure'!$G$5,AA250='NR-PI 2.0 Structure'!$G$6,AA250='NR-PI 2.0 Structure'!$G$7),1,VLOOKUP(AA250,'NR-PI 2.0 Structure'!$G$8:$H$9,2,FALSE))),\"-\")","v":"-"},{"$f":"IF(ISBLANK('P Index Inputs'!S252),\"-\",'P Index Inputs'!S252)","v":"-"},{"$f":"IFERROR(VLOOKUP(AC250,'NR-PI 2.0 Structure'!$G$14:$H$19,2,FALSE),\"-\")","v":"-"},"-","-","N/A","N/A",0,0,0,0,0,0,0,0,0]
[{"$f":"'P Index Inputs'!A253","v":0},{"$f":"'P Index Inputs'!B253","v":0},{"$f":"'P Index Inputs'!C253","v":0},{"$f":"'P Index Inputs'!D253","v":0},{"$f":"'P Index Inputs'!E253","v":0},{"$f":"'P Index Inputs'!F253","v":0},{"$f":"'P Index Inputs'!H253","v":0},{"$f":"'P Index Inputs'!I253","v":0},{"$f":"'P Index Inputs'!J253","v":0},{"$f":"IF(ISBLANK('P Index Inputs'!L253),'P Index Inputs'!K253,'P Index Inputs'!L253)","v":"-"},{"$f":"'P Index Inputs'!M253","v":0},{"$f":"'P Index Inputs'!O253","v":0},{"$f":"'P Index Inputs'!P253","v":0},{"$f":"'P Index Inputs'!Q253","v":0},{"$f":"IFERROR(VLOOKUP(I251,'NR-PI 2.0 Structure'!$C$5:$D$8,2,FALSE),\"-\")","v":"-"},{"$f":"IFERROR(VLOOKUP(J251,'NR-PI 2.0 Structure'!$B$12:$C$16,2,FALSE),\"-\")","v":"-"},{"$f":"IFERROR(VLOOKUP(K251,'NR-PI 2.0 Structure'!$B$20:$D$21,3,FALSE),\"-\")","v":"-"},{"$f":"IFERROR(VLOOKUP(L251,'NR-PI 2.0 Structure'!$B$25:$C$28,2,FALSE),\"-\")","v":"-"},{"$f":"IFERROR(VLOOKUP(L251,'NR-PI 2.0 Structure'!$B$25:$D$28,3,FALSE),\"-\")","v":"-"},{"$f":"IFERROR(\n  IF(M251 = \"≤ 1\", 'NR-PI 2.0 Structure'!$D$32,\n  IF(M251 = \">1 - 3\", 'NR-PI 2.0 Structure'!$D$33,\n  IF(M251 = \">3 - 5\", 'NR-PI 2.0 Structure'!$D$34,\n  IF(M251 = \"> 5\", 'NR-PI 2.0 Structure'!$D$35, )))),\n\"-\")","v":0},{"$f":"IFERROR(IF(ISBLANK(I251),\"N/A\",IF(I251<>'NR-PI 2.0 Structure'!$C$5,(VLOOKUP(N251,'NR-PI 2.0 Structure'!$C$39:$D$40,2,FALSE)),0)),\" - \")","v":" - "},{"$f":"IFERROR(IF(ISBLANK(I251),\"N/A\",IF(I251<>'NR-PI 2.0 Structure'!$C$5,(VLOOKUP(N251,'NR-PI 2.0 Structure'!$C$39:$E$40,3,FALSE)),0)),\" - \")","v":" - "},"-","-","-","N/A",{"$f":"IF(ISBLANK('P Index Inputs'!R253),\"-\",'P Index Inputs'!R253)","v":"-"},{"$f":"IFERROR(IF(I251<>'NR-PI 2.0 Structure'!$C$5,VLOOKUP(AA251,'NR-PI 2.0 Structure'!$G$5:$H$9,2,FALSE),IF(OR(AA251='NR-PI 2.0 Structure'!$G$5,AA251='NR-PI 2.0 Structure'!$G$6,AA251='NR-PI 2.0 Structure'!$G$7),1,VLOOKUP(AA251,'NR-PI 2.0 Structure'!$G$8:$H$9,2,FALSE))),\"-\")","v":"-"},{"$f":"IF(ISBLANK('P Index Inputs'!S253),\"-\",'P Index Inputs'!S253)","v":"-"},{"$f":"IFERROR(VLOOKUP(AC251,'NR-PI 2.0 Structure'!$G$14:$H$19,2,FALSE),\"-\")","v":"-"},"-","-","N/A","N/A",0,0,0,0,0,0,0,0,0]
[{"$f":"'P Index Inputs'!A254","v":0},{"$f":"'P Index Inputs'!B254","v":0},{"$f":"'P Index Inputs'!C254","v":0},{"$f":"'P Index Inputs'!D254","v":0},{"$f":"'P Index Inputs'!E254","v":0},{"$f":"'P Index Inputs'!F254","v":0},{"$f":"'P Index Inputs'!H254","v":0},{"$f":"'P Index Inputs'!I254","v":0},{"$f":"'P Index Inputs'!J254","v":0},{"$f":"IF(ISBLANK('P Index Inputs'!L254),'P Index Inputs'!K254,'P Index Inputs'!L254)","v":"-"},{"$f":"'P Index Inputs'!M254","v":0},{"$f":"'P Index Inputs'!O254","v":0},{"$f":"'P Index Inputs'!P254","v":0},{"$f":"'P Index Inputs'!Q254","v":0},{"$f":"IFERROR(VLOOKUP(I252,'NR-PI 2.0 Structure'!$C$5:$D$8,2,FALSE),\"-\")","v":"-"},{"$f":"IFERROR(VLOOKUP(J252,'NR-PI 2.0 Structure'!$B$12:$C$16,2,FALSE),\"-\")","v":"-"},{"$f":"IFERROR(VLOOKUP(K252,'NR-PI 2.0 Structure'!$B$20:$D$21,3,FALSE),\"-\")","v":"-"},{"$f":"IFERROR(VLOOKUP(L252,'NR-PI 2.0 Structure'!$B$25:$C$28,2,FALSE),\"-\")","v":"-"},{"$f":"IFERROR(VLOOKUP(L252,'NR-PI 2.0 Structure'!$B$25:$D$28,3,FALSE),\"-\")","v":"-"},{"$f":"IFERROR(\n  IF(M252 = \"≤ 1\", 'NR-PI 2.0 Structure'!$D$32,\n  IF(M252 = \">1 - 3\", 'NR-PI 2.0 Structure'!$D$33,\n  IF(M252 = \">3 - 5\", 'NR-PI 2.0 Structure'!$D$34,\n  IF(M252 = \"> 5\", 'NR-PI 2.0 Structure'!$D$35, )))),\n\"-\")","v":0},{"$f":"IFERROR(IF(ISBLANK(I252),\"N/A\",IF(I252<>'NR-PI 2.0 Structure'!$C$5,(VLOOKUP(N252,'NR-PI 2.0 Structure'!$C$39:$D$40,2,FALSE)),0)),\" - \")","v":" - "},{"$f":"IFERROR(IF(ISBLANK(I252),\"N/A\",IF(I252<>'NR-PI 2.0 Structure'!$C$5,(VLOOKUP(N252,'NR-PI 2.0 Structure'!$C$39:$E$40,3,FALSE)),0)),\" - \")","v":" - "},"-","-","-","N/A",{"$f":"IF(ISBLANK('P Index Inputs'!R254),\"-\",'P Index Inputs'!R254)","v":"-"},{"$f":"IFERROR(IF(I252<>'NR-PI 2.0 Structure'!$C$5,VLOOKUP(AA252,'NR-PI 2.0 Structure'!$G$5:$H$9,2,FALSE),IF(OR(AA252='NR-PI 2.0 Structure'!$G$5,AA252='NR-PI 2.0 Structure'!$G$6,AA252='NR-PI 2.0 Structure'!$G$7),1,VLOOKUP(AA252,'NR-PI 2.0 Structure'!$G$8:$H$9,2,FALSE))),\"-\")","v":"-"},{"$f":"IF(ISBLANK('P Index Inputs'!S254),\"-\",'P Index Inputs'!S254)","v":"-"},{"$f":"IFERROR(VLOOKUP(AC252,'NR-PI 2.0 Structure'!$G$14:$H$19,2,FALSE),\"-\")","v":"-"},"-","-","N/A","N/A",0,0,0,0,0,0,0,0,0]
[{"$f":"'P Index Inputs'!A255","v":0},{"$f":"'P Index Inputs'!B255","v":0},{"$f":"'P Index Inputs'!C255","v":0},{"$f":"'P Index Inputs'!D255","v":0},{"$f":"'P Index Inputs'!E255","v":0},{"$f":"'P Index Inputs'!F255","v":0},{"$f":"'P Index Inputs'!H255","v":0},{"$f":"'P Index Inputs'!I255","v":0},{"$f":"'P Index Inputs'!J255","v":0},{"$f":"IF(ISBLANK('P Index Inputs'!L255),'P Index Inputs'!K255,'P Index Inputs'!L255)","v":"-"},{"$f":"'P Index Inputs'!M255","v":0},{"$f":"'P Index Inputs'!O255","v":0},{"$f":"'P Index Inputs'!P255","v":0},{"$f":"'P Index Inputs'!Q255","v":0},{"$f":"IFERROR(VLOOKUP(I253,'NR-PI 2.0 Structure'!$C$5:$D$8,2,FALSE),\"-\")","v":"-"},{"$f":"IFERROR(VLOOKUP(J253,'NR-PI 2.0 Structure'!$B$12:$C$16,2,FALSE),\"-\")","v":"-"},{"$f":"IFERROR(VLOOKUP(K253,'NR-PI 2.0 Structure'!$B$20:$D$21,3,FALSE),\"-\")","v":"-"},{"$f":"IFERROR(VLOOKUP(L253,'NR-PI 2.0 Structure'!$B$25:$C$28,2,FALSE),\"-\")","v":"-"},{"$f":"IFERROR(VLOOKUP(L253,'NR-PI 2.0 Structure'!$B$25:$D$28,3,FALSE),\"-\")","v":"-"},{"$f":"IFERROR(\n  IF(M253 = \"≤ 1\", 'NR-PI 2.0 Structure'!$D$32,\n  IF(M253 = \">1 - 3\", 'NR-PI 2.0 Structure'!$D$33,\n  IF(M253 = \">3 - 5\", 'NR-PI 2.0 Structure'!$D$34,\n  IF(M253 = \"> 5\", 'NR-PI 2.0 Structure'!$D$35, )))),\n\"-\")","v":0},{"$f":"IFERROR(IF(ISBLANK(I253),\"N/A\",IF(I253<>'NR-PI 2.0 Structure'!$C$5,(VLOOKUP(N253,'NR-PI 2.0 Structure'!$C$39:$D$40,2,FALSE)),0)),\" - \")","v":" - "},{"$f":"IFERROR(IF(ISBLANK(I253),\"N/A\",IF(I253<>'NR-PI 2.0 Structure'!$C$5,(VLOOKUP(N253,'NR-PI 2.0 Structure'!$C$39:$E$40,3,FALSE)),0)),\" - \")","v":" - "},"-","-","-","N/A",{"$f":"IF(ISBLANK('P Index Inputs'!R255),\"-\",'P Index Inputs'!R255)","v":"-"},{"$f":"IFERROR(IF(I253<>'NR-PI 2.0 Structure'!$C$5,VLOOKUP(AA253,'NR-PI 2.0 Structure'!$G$5:$H$9,2,FALSE),IF(OR(AA253='NR-PI 2.0 Structure'!$G$5,AA253='NR-PI 2.0 Structure'!$G$6,AA253='NR-PI 2.0 Structure'!$G$7),1,VLOOKUP(AA253,'NR-PI 2.0 Structure'!$G$8:$H$9,2,FALSE))),\"-\")","v":"-"},{"$f":"IF(ISBLANK('P Index Inputs'!S255),\"-\",'P Index Inputs'!S255)","v":"-"},{"$f":"IFERROR(VLOOKUP(AC253,'NR-PI 2.0 Structure'!$G$14:$H$19,2,FALSE),\"-\")","v":"-"},"-","-","N/A","N/A",0,0,0,0,0,0,0,0,0]
[{"$f":"'P Index Inputs'!A256","v":0},{"$f":"'P Index Inputs'!B256","v":0},{"$f":"'P Index Inputs'!C256","v":0},{"$f":"'P Index Inputs'!D256","v":0},{"$f":"'P Index Inputs'!E256","v":0},{"$f":"'P Index Inputs'!F256","v":0},{"$f":"'P Index Inputs'!H256","v":0},{"$f":"'P Index Inputs'!I256","v":0},{"$f":"'P Index Inputs'!J256","v":0},{"$f":"IF(ISBLANK('P Index Inputs'!L256),'P Index Inputs'!K256,'P Index Inputs'!L256)","v":"-"},{"$f":"'P Index Inputs'!M256","v":0},{"$f":"'P Index Inputs'!O256","v":0},{"$f":"'P Index Inputs'!P256","v":0},{"$f":"'P Index Inputs'!Q256","v":0},{"$f":"IFERROR(VLOOKUP(I254,'NR-PI 2.0 Structure'!$C$5:$D$8,2,FALSE),\"-\")","v":"-"},{"$f":"IFERROR(VLOOKUP(J254,'NR-PI 2.0 Structure'!$B$12:$C$16,2,FALSE),\"-\")","v":"-"},{"$f":"IFERROR(VLOOKUP(K254,'NR-PI 2.0 Structure'!$B$20:$D$21,3,FALSE),\"-\")","v":"-"},{"$f":"IFERROR(VLOOKUP(L254,'NR-PI 2.0 Structure'!$B$25:$C$28,2,FALSE),\"-\")","v":"-"},{"$f":"IFERROR(VLOOKUP(L254,'NR-PI 2.0 Structure'!$B$25:$D$28,3,FALSE),\"-\")","v":"-"},{"$f":"IFERROR(\n  IF(M254 = \"≤ 1\", 'NR-PI 2.0 Structure'!$D$32,\n  IF(M254 = \">1 - 3\", 'NR-PI 2.0 Structure'!$D$33,\n  IF(M254 = \">3 - 5\", 'NR-PI 2.0 Structure'!$D$34,\n  IF(M254 = \"> 5\", 'NR-PI 2.0 Structure'!$D$35, )))),\n\"-\")","v":0},{"$f":"IFERROR(IF(ISBLANK(I254),\"N/A\",IF(I254<>'NR-PI 2.0 Structure'!$C$5,(VLOOKUP(N254,'NR-PI 2.0 Structure'!$C$39:$D$40,2,FALSE)),0)),\" - \")","v":" - "},{"$f":"IFERROR(IF(ISBLANK(I254),\"N/A\",IF(I254<>'NR-PI 2.0 Structure'!$C$5,(VLOOKUP(N254,'NR-PI 2.0 Structure'!$C$39:$E$40,3,FALSE)),0)),\" - \")","v":" - "},"-","-","-","N/A",{"$f":"IF(ISBLANK('P Index Inputs'!R256),\"-\",'P Index Inputs'!R256)","v":"-"},{"$f":"IFERROR(IF(I254<>'NR-PI 2.0 Structure'!$C$5,VLOOKUP(AA254,'NR-PI 2.0 Structure'!$G$5:$H$9,2,FALSE),IF(OR(AA254='NR-PI 2.0 Structure'!$G$5,AA254='NR-PI 2.0 Structure'!$G$6,AA254='NR-PI 2.0 Structure'!$G$7),1,VLOOKUP(AA254,'NR-PI 2.0 Structure'!$G$8:$H$9,2,FALSE))),\"-\")","v":"-"},{"$f":"IF(ISBLANK('P Index Inputs'!S256),\"-\",'P Index Inputs'!S256)","v":"-"},{"$f":"IFERROR(VLOOKUP(AC254,'NR-PI 2.0 Structure'!$G$14:$H$19,2,FALSE),\"-\")","v":"-"},"-","-","N/A","N/A",0,0,0,0,0,0,0,0,0]
[{"$f":"'P Index Inputs'!A257","v":0},{"$f":"'P Index Inputs'!B257","v":0},{"$f":"'P Index Inputs'!C257","v":0},{"$f":"'P Index Inputs'!D257","v":0},{"$f":"'P Index Inputs'!E257","v":0},{"$f":"'P Index Inputs'!F257","v":0},{"$f":"'P Index Inputs'!H257","v":0},{"$f":"'P Index Inputs'!I257","v":0},{"$f":"'P Index Inputs'!J257","v":0},{"$f":"IF(ISBLANK('P Index Inputs'!L257),'P Index Inputs'!K257,'P Index Inputs'!L257)","v":"-"},{"$f":"'P Index Inputs'!M257","v":0},{"$f":"'P Index Inputs'!O257","v":0},{"$f":"'P Index Inputs'!P257","v":0},{"$f":"'P Index Inputs'!Q257","v":0},{"$f":"IFERROR(VLOOKUP(I255,'NR-PI 2.0 Structure'!$C$5:$D$8,2,FALSE),\"-\")","v":"-"},{"$f":"IFERROR(VLOOKUP(J255,'NR-PI 2.0 Structure'!$B$12:$C$16,2,FALSE),\"-\")","v":"-"},{"$f":"IFERROR(VLOOKUP(K255,'NR-PI 2.0 Structure'!$B$20:$D$21,3,FALSE),\"-\")","v":"-"},{"$f":"IFERROR(VLOOKUP(L255,'NR-PI 2.0 Structure'!$B$25:$C$28,2,FALSE),\"-\")","v":"-"},{"$f":"IFERROR(VLOOKUP(L255,'NR-PI 2.0 Structure'!$B$25:$D$28,3,FALSE),\"-\")","v":"-"},{"$f":"IFERROR(\n  IF(M255 = \"≤ 1\", 'NR-PI 2.0 Structure'!$D$32,\n  IF(M255 = \">1 - 3\", 'NR-PI 2.0 Structure'!$D$33,\n  IF(M255 = \">3 - 5\", 'NR-PI 2.0 Structure'!$D$34,\n  IF(M255 = \"> 5\", 'NR-PI 2.0 Structure'!$D$35, )))),\n\"-\")","v":0},{"$f":"IFERROR(IF(ISBLANK(I255),\"N/A\",IF(I255<>'NR-PI 2.0 Structure'!$C$5,(VLOOKUP(N255,'NR-PI 2.0 Structure'!$C$39:$D$40,2,FALSE)),0)),\" - \")","v":" - "},{"$f":"IFERROR(IF(ISBLANK(I255),\"N/A\",IF(I255<>'NR-PI 2.0 Structure'!$C$5,(VLOOKUP(N255,'NR-PI 2.0 Structure'!$C$39:$E$40,3,FALSE)),0)),\" - \")","v":" - "},"-","-","-","N/A",{"$f":"IF(ISBLANK('P Index Inputs'!R257),\"-\",'P Index Inputs'!R257)","v":"-"},{"$f":"IFERROR(IF(I255<>'NR-PI 2.0 Structure'!$C$5,VLOOKUP(AA255,'NR-PI 2.0 Structure'!$G$5:$H$9,2,FALSE),IF(OR(AA255='NR-PI 2.0 Structure'!$G$5,AA255='NR-PI 2.0 Structure'!$G$6,AA255='NR-PI 2.0 Structure'!$G$7),1,VLOOKUP(AA255,'NR-PI 2.0 Structure'!$G$8:$H$9,2,FALSE))),\"-\")","v":"-"},{"$f":"IF(ISBLANK('P Index Inputs'!S257),\"-\",'P Index Inputs'!S257)","v":"-"},{"$f":"IFERROR(VLOOKUP(AC255,'NR-PI 2.0 Structure'!$G$14:$H$19,2,FALSE),\"-\")","v":"-"},"-","-","N/A","N/A",0,0,0,0,0,0,0,0,0]
[{"$f":"'P Index Inputs'!A258","v":0},{"$f":"'P Index Inputs'!B258","v":0},{"$f":"'P Index Inputs'!C258","v":0},{"$f":"'P Index Inputs'!D258","v":0},{"$f":"'P Index Inputs'!E258","v":0},{"$f":"'P Index Inputs'!F258","v":0},{"$f":"'P Index Inputs'!H258","v":0},{"$f":"'P Index Inputs'!I258","v":0},{"$f":"'P Index Inputs'!J258","v":0},{"$f":"IF(ISBLANK('P Index Inputs'!L258),'P Index Inputs'!K258,'P Index Inputs'!L258)","v":"-"},{"$f":"'P Index Inputs'!M258","v":0},{"$f":"'P Index Inputs'!O258","v":0},{"$f":"'P Index Inputs'!P258","v":0},{"$f":"'P Index Inputs'!Q258","v":0},{"$f":"IFERROR(VLOOKUP(I256,'NR-PI 2.0 Structure'!$C$5:$D$8,2,FALSE),\"-\")","v":"-"},{"$f":"IFERROR(VLOOKUP(J256,'NR-PI 2.0 Structure'!$B$12:$C$16,2,FALSE),\"-\")","v":"-"},{"$f":"IFERROR(VLOOKUP(K256,'NR-PI 2.0 Structure'!$B$20:$D$21,3,FALSE),\"-\")","v":"-"},{"$f":"IFERROR(VLOOKUP(L256,'NR-PI 2.0 Structure'!$B$25:$C$28,2,FALSE),\"-\")","v":"-"},{"$f":"IFERROR(VLOOKUP(L256,'NR-PI 2.0 Structure'!$B$25:$D$28,3,FALSE),\"-\")","v":"-"},{"$f":"IFERROR(\n  IF(M256 = \"≤ 1\", 'NR-PI 2.0 Structure'!$D$32,\n  IF(M256 = \">1 - 3\", 'NR-PI 2.0 Structure'!$D$33,\n  IF(M256 = \">3 - 5\", 'NR-PI 2.0 Structure'!$D$34,\n  IF(M256 = \"> 5\", 'NR-PI 2.0 Structure'!$D$35, )))),\n\"-\")","v":0},{"$f":"IFERROR(IF(ISBLANK(I256),\"N/A\",IF(I256<>'NR-PI 2.0 Structure'!$C$5,(VLOOKUP(N256,'NR-PI 2.0 Structure'!$C$39:$D$40,2,FALSE)),0)),\" - \")","v":" - "},{"$f":"IFERROR(IF(ISBLANK(I256),\"N/A\",IF(I256<>'NR-PI 2.0 Structure'!$C$5,(VLOOKUP(N256,'NR-PI 2.0 Structure'!$C$39:$E$40,3,FALSE)),0)),\" - \")","v":" - "},"-","-","-","N/A",{"$f":"IF(ISBLANK('P Index Inputs'!R258),\"-\",'P Index Inputs'!R258)","v":"-"},{"$f":"IFERROR(IF(I256<>'NR-PI 2.0 Structure'!$C$5,VLOOKUP(AA256,'NR-PI 2.0 Structure'!$G$5:$H$9,2,FALSE),IF(OR(AA256='NR-PI 2.0 Structure'!$G$5,AA256='NR-PI 2.0 Structure'!$G$6,AA256='NR-PI 2.0 Structure'!$G$7),1,VLOOKUP(AA256,'NR-PI 2.0 Structure'!$G$8:$H$9,2,FALSE))),\"-\")","v":"-"},{"$f":"IF(ISBLANK('P Index Inputs'!S258),\"-\",'P Index Inputs'!S258)","v":"-"},{"$f":"IFERROR(VLOOKUP(AC256,'NR-PI 2.0 Structure'!$G$14:$H$19,2,FALSE),\"-\")","v":"-"},"-","-","N/A","N/A",0,0,0,0,0,0,0,0,0]
[{"$f":"'P Index Inputs'!A259","v":0},{"$f":"'P Index Inputs'!B259","v":0},{"$f":"'P Index Inputs'!C259","v":0},{"$f":"'P Index Inputs'!D259","v":0},{"$f":"'P Index Inputs'!E259","v":0},{"$f":"'P Index Inputs'!F259","v":0},{"$f":"'P Index Inputs'!H259","v":0},{"$f":"'P Index Inputs'!I259","v":0},{"$f":"'P Index Inputs'!J259","v":0},{"$f":"IF(ISBLANK('P Index Inputs'!L259),'P Index Inputs'!K259,'P Index Inputs'!L259)","v":"-"},{"$f":"'P Index Inputs'!M259","v":0},{"$f":"'P Index Inputs'!O259","v":0},{"$f":"'P Index Inputs'!P259","v":0},{"$f":"'P Index Inputs'!Q259","v":0},{"$f":"IFERROR(VLOOKUP(I257,'NR-PI 2.0 Structure'!$C$5:$D$8,2,FALSE),\"-\")","v":"-"},{"$f":"IFERROR(VLOOKUP(J257,'NR-PI 2.0 Structure'!$B$12:$C$16,2,FALSE),\"-\")","v":"-"},{"$f":"IFERROR(VLOOKUP(K257,'NR-PI 2.0 Structure'!$B$20:$D$21,3,FALSE),\"-\")","v":"-"},{"$f":"IFERROR(VLOOKUP(L257,'NR-PI 2.0 Structure'!$B$25:$C$28,2,FALSE),\"-\")","v":"-"},{"$f":"IFERROR(VLOOKUP(L257,'NR-PI 2.0 Structure'!$B$25:$D$28,3,FALSE),\"-\")","v":"-"},{"$f":"IFERROR(\n  IF(M257 = \"≤ 1\", 'NR-PI 2.0 Structure'!$D$32,\n  IF(M257 = \">1 - 3\", 'NR-PI 2.0 Structure'!$D$33,\n  IF(M257 = \">3 - 5\", 'NR-PI 2.0 Structure'!$D$34,\n  IF(M257 = \"> 5\", 'NR-PI 2.0 Structure'!$D$35, )))),\n\"-\")","v":0},{"$f":"IFERROR(IF(ISBLANK(I257),\"N/A\",IF(I257<>'NR-PI 2.0 Structure'!$C$5,(VLOOKUP(N257,'NR-PI 2.0 Structure'!$C$39:$D$40,2,FALSE)),0)),\" - \")","v":" - "},{"$f":"IFERROR(IF(ISBLANK(I257),\"N/A\",IF(I257<>'NR-PI 2.0 Structure'!$C$5,(VLOOKUP(N257,'NR-PI 2.0 Structure'!$C$39:$E$40,3,FALSE)),0)),\" - \")","v":" - "},"-","-","-","N/A",{"$f":"IF(ISBLANK('P Index Inputs'!R259),\"-\",'P Index Inputs'!R259)","v":"-"},{"$f":"IFERROR(IF(I257<>'NR-PI 2.0 Structure'!$C$5,VLOOKUP(AA257,'NR-PI 2.0 Structure'!$G$5:$H$9,2,FALSE),IF(OR(AA257='NR-PI 2.0 Structure'!$G$5,AA257='NR-PI 2.0 Structure'!$G$6,AA257='NR-PI 2.0 Structure'!$G$7),1,VLOOKUP(AA257,'NR-PI 2.0 Structure'!$G$8:$H$9,2,FALSE))),\"-\")","v":"-"},{"$f":"IF(ISBLANK('P Index Inputs'!S259),\"-\",'P Index Inputs'!S259)","v":"-"},{"$f":"IFERROR(VLOOKUP(AC257,'NR-PI 2.0 Structure'!$G$14:$H$19,2,FALSE),\"-\")","v":"-"},"-","-","N/A","N/A",0,0,0,0,0,0,0,0,0]
[{"$f":"'P Index Inputs'!A260","v":0},{"$f":"'P Index Inputs'!B260","v":0},{"$f":"'P Index Inputs'!C260","v":0},{"$f":"'P Index Inputs'!D260","v":0},{"$f":"'P Index Inputs'!E260","v":0},{"$f":"'P Index Inputs'!F260","v":0},{"$f":"'P Index Inputs'!H260","v":0},{"$f":"'P Index Inputs'!I260","v":0},{"$f":"'P Index Inputs'!J260","v":0},{"$f":"IF(ISBLANK('P Index Inputs'!L260),'P Index Inputs'!K260,'P Index Inputs'!L260)","v":"-"},{"$f":"'P Index Inputs'!M260","v":0},{"$f":"'P Index Inputs'!O260","v":0},{"$f":"'P Index Inputs'!P260","v":0},{"$f":"'P Index Inputs'!Q260","v":0},{"$f":"IFERROR(VLOOKUP(I258,'NR-PI 2.0 Structure'!$C$5:$D$8,2,FALSE),\"-\")","v":"-"},{"$f":"IFERROR(VLOOKUP(J258,'NR-PI 2.0 Structure'!$B$12:$C$16,2,FALSE),\"-\")","v":"-"},{"$f":"IFERROR(VLOOKUP(K258,'NR-PI 2.0 Structure'!$B$20:$D$21,3,FALSE),\"-\")","v":"-"},{"$f":"IFERROR(VLOOKUP(L258,'NR-PI 2.0 Structure'!$B$25:$C$28,2,FALSE),\"-\")","v":"-"},{"$f":"IFERROR(VLOOKUP(L258,'NR-PI 2.0 Structure'!$B$25:$D$28,3,FALSE),\"-\")","v":"-"},{"$f":"IFERROR(\n  IF(M258 = \"≤ 1\", 'NR-PI 2.0 Structure'!$D$32,\n  IF(M258 = \">1 - 3\", 'NR-PI 2.0 Structure'!$D$33,\n  IF(M258 = \">3 - 5\", 'NR-PI 2.0 Structure'!$D$34,\n  IF(M258 = \"> 5\", 'NR-PI 2.0 Structure'!$D$35, )))),\n\"-\")","v":0},{"$f":"IFERROR(IF(ISBLANK(I258),\"N/A\",IF(I258<>'NR-PI 2.0 Structure'!$C$5,(VLOOKUP(N258,'NR-PI 2.0 Structure'!$C$39:$D$40,2,FALSE)),0)),\" - \")","v":" - "},{"$f":"IFERROR(IF(ISBLANK(I258),\"N/A\",IF(I258<>'NR-PI 2.0 Structure'!$C$5,(VLOOKUP(N258,'NR-PI 2.0 Structure'!$C$39:$E$40,3,FALSE)),0)),\" - \")","v":" - "},"-","-","-","N/A",{"$f":"IF(ISBLANK('P Index Inputs'!R260),\"-\",'P Index Inputs'!R260)","v":"-"},{"$f":"IFERROR(IF(I258<>'NR-PI 2.0 Structure'!$C$5,VLOOKUP(AA258,'NR-PI 2.0 Structure'!$G$5:$H$9,2,FALSE),IF(OR(AA258='NR-PI 2.0 Structure'!$G$5,AA258='NR-PI 2.0 Structure'!$G$6,AA258='NR-PI 2.0 Structure'!$G$7),1,VLOOKUP(AA258,'NR-PI 2.0 Structure'!$G$8:$H$9,2,FALSE))),\"-\")","v":"-"},{"$f":"IF(ISBLANK('P Index Inputs'!S260),\"-\",'P Index Inputs'!S260)","v":"-"},{"$f":"IFERROR(VLOOKUP(AC258,'NR-PI 2.0 Structure'!$G$14:$H$19,2,FALSE),\"-\")","v":"-"},"-","-","N/A","N/A",0,0,0,0,0,0,0,0,0]
[{"$f":"'P Index Inputs'!A261","v":0},{"$f":"'P Index Inputs'!B261","v":0},{"$f":"'P Index Inputs'!C261","v":0},{"$f":"'P Index Inputs'!D261","v":0},{"$f":"'P Index Inputs'!E261","v":0},{"$f":"'P Index Inputs'!F261","v":0},{"$f":"'P Index Inputs'!H261","v":0},{"$f":"'P Index Inputs'!I261","v":0},{"$f":"'P Index Inputs'!J261","v":0},{"$f":"IF(ISBLANK('P Index Inputs'!L261),'P Index Inputs'!K261,'P Index Inputs'!L261)","v":"-"},{"$f":"'P Index Inputs'!M261","v":0},{"$f":"'P Index Inputs'!O261","v":0},{"$f":"'P Index Inputs'!P261","v":0},{"$f":"'P Index Inputs'!Q261","v":0},{"$f":"IFERROR(VLOOKUP(I259,'NR-PI 2.0 Structure'!$C$5:$D$8,2,FALSE),\"-\")","v":"-"},{"$f":"IFERROR(VLOOKUP(J259,'NR-PI 2.0 Structure'!$B$12:$C$16,2,FALSE),\"-\")","v":"-"},{"$f":"IFERROR(VLOOKUP(K259,'NR-PI 2.0 Structure'!$B$20:$D$21,3,FALSE),\"-\")","v":"-"},{"$f":"IFERROR(VLOOKUP(L259,'NR-PI 2.0 Structure'!$B$25:$C$28,2,FALSE),\"-\")","v":"-"},{"$f":"IFERROR(VLOOKUP(L259,'NR-PI 2.0 Structure'!$B$25:$D$28,3,FALSE),\"-\")","v":"-"},{"$f":"IFERROR(\n  IF(M259 = \"≤ 1\", 'NR-PI 2.0 Structure'!$D$32,\n  IF(M259 = \">1 - 3\", 'NR-PI 2.0 Structure'!$D$33,\n  IF(M259 = \">3 - 5\", 'NR-PI 2.0 Structure'!$D$34,\n  IF(M259 = \"> 5\", 'NR-PI 2.0 Structure'!$D$35, )))),\n\"-\")","v":0},{"$f":"IFERROR(IF(ISBLANK(I259),\"N/A\",IF(I259<>'NR-PI 2.0 Structure'!$C$5,(VLOOKUP(N259,'NR-PI 2.0 Structure'!$C$39:$D$40,2,FALSE)),0)),\" - \")","v":" - "},{"$f":"IFERROR(IF(ISBLANK(I259),\"N/A\",IF(I259<>'NR-PI 2.0 Structure'!$C$5,(VLOOKUP(N259,'NR-PI 2.0 Structure'!$C$39:$E$40,3,FALSE)),0)),\" - \")","v":" - "},"-","-","-","N/A",{"$f":"IF(ISBLANK('P Index Inputs'!R261),\"-\",'P Index Inputs'!R261)","v":"-"},{"$f":"IFERROR(IF(I259<>'NR-PI 2.0 Structure'!$C$5,VLOOKUP(AA259,'NR-PI 2.0 Structure'!$G$5:$H$9,2,FALSE),IF(OR(AA259='NR-PI 2.0 Structure'!$G$5,AA259='NR-PI 2.0 Structure'!$G$6,AA259='NR-PI 2.0 Structure'!$G$7),1,VLOOKUP(AA259,'NR-PI 2.0 Structure'!$G$8:$H$9,2,FALSE))),\"-\")","v":"-"},{"$f":"IF(ISBLANK('P Index Inputs'!S261),\"-\",'P Index Inputs'!S261)","v":"-"},{"$f":"IFERROR(VLOOKUP(AC259,'NR-PI 2.0 Structure'!$G$14:$H$19,2,FALSE),\"-\")","v":"-"},"-","-","N/A","N/A",0,0,0,0,0,0,0,0,0]
[{"$f":"'P Index Inputs'!A262","v":0},{"$f":"'P Index Inputs'!B262","v":0},{"$f":"'P Index Inputs'!C262","v":0},{"$f":"'P Index Inputs'!D262","v":0},{"$f":"'P Index Inputs'!E262","v":0},{"$f":"'P Index Inputs'!F262","v":0},{"$f":"'P Index Inputs'!H262","v":0},{"$f":"'P Index Inputs'!I262","v":0},{"$f":"'P Index Inputs'!J262","v":0},{"$f":"IF(ISBLANK('P Index Inputs'!L262),'P Index Inputs'!K262,'P Index Inputs'!L262)","v":"-"},{"$f":"'P Index Inputs'!M262","v":0},{"$f":"'P Index Inputs'!O262","v":0},{"$f":"'P Index Inputs'!P262","v":0},{"$f":"'P Index Inputs'!Q262","v":0},{"$f":"IFERROR(VLOOKUP(I260,'NR-PI 2.0 Structure'!$C$5:$D$8,2,FALSE),\"-\")","v":"-"},{"$f":"IFERROR(VLOOKUP(J260,'NR-PI 2.0 Structure'!$B$12:$C$16,2,FALSE),\"-\")","v":"-"},{"$f":"IFERROR(VLOOKUP(K260,'NR-PI 2.0 Structure'!$B$20:$D$21,3,FALSE),\"-\")","v":"-"},{"$f":"IFERROR(VLOOKUP(L260,'NR-PI 2.0 Structure'!$B$25:$C$28,2,FALSE),\"-\")","v":"-"},{"$f":"IFERROR(VLOOKUP(L260,'NR-PI 2.0 Structure'!$B$25:$D$28,3,FALSE),\"-\")","v":"-"},{"$f":"IFERROR(\n  IF(M260 = \"≤ 1\", 'NR-PI 2.0 Structure'!$D$32,\n  IF(M260 = \">1 - 3\", 'NR-PI 2.0 Structure'!$D$33,\n  IF(M260 = \">3 - 5\", 'NR-PI 2.0 Structure'!$D$34,\n  IF(M260 = \"> 5\", 'NR-PI 2.0 Structure'!$D$35, )))),\n\"-\")","v":0},{"$f":"IFERROR(IF(ISBLANK(I260),\"N/A\",IF(I260<>'NR-PI 2.0 Structure'!$C$5,(VLOOKUP(N260,'NR-PI 2.0 Structure'!$C$39:$D$40,2,FALSE)),0)),\" - \")","v":" - "},{"$f":"IFERROR(IF(ISBLANK(I260),\"N/A\",IF(I260<>'NR-PI 2.0 Structure'!$C$5,(VLOOKUP(N260,'NR-PI 2.0 Structure'!$C$39:$E$40,3,FALSE)),0)),\" - \")","v":" - "},"-","-","-","N/A",{"$f":"IF(ISBLANK('P Index Inputs'!R262),\"-\",'P Index Inputs'!R262)","v":"-"},{"$f":"IFERROR(IF(I260<>'NR-PI 2.0 Structure'!$C$5,VLOOKUP(AA260,'NR-PI 2.0 Structure'!$G$5:$H$9,2,FALSE),IF(OR(AA260='NR-PI 2.0 Structure'!$G$5,AA260='NR-PI 2.0 Structure'!$G$6,AA260='NR-PI 2.0 Structure'!$G$7),1,VLOOKUP(AA260,'NR-PI 2.0 Structure'!$G$8:$H$9,2,FALSE))),\"-\")","v":"-"},{"$f":"IF(ISBLANK('P Index Inputs'!S262),\"-\",'P Index Inputs'!S262)","v":"-"},{"$f":"IFERROR(VLOOKUP(AC260,'NR-PI 2.0 Structure'!$G$14:$H$19,2,FALSE),\"-\")","v":"-"},"-","-","N/A","N/A",{"$f":"IFERROR(IF(AH260=\"N-based\",F260,0),\"-\")","v":0},{"$f":"IFERROR(IF(AH260 = \"P-based\", F260, 0),\"-\")","v":0},0,{"$f":"IFERROR(IF(AND(E260=\"sod\",AH260=\"N-based\"),F260,0),\"-\")","v":0},{"$f":"IFERROR(IF(AND(E260=\"sod\",AH260=\"P-based\"),F260,0),\"-\")","v":0},0,{"$f":"IFERROR(IF(AND(E260=\"row\",AH260=\"N-based\"),F260,0),\"-\")","v":0},{"$f":"IFERROR(IF(AND(E260=\"row\",AH260=\"P-based\"),F260,0),\"-\")","v":0},0]
[{"$f":"'P Index Inputs'!A263","v":0},{"$f":"'P Index Inputs'!B263","v":0},{"$f":"'P Index Inputs'!C263","v":0},{"$f":"'P Index Inputs'!D263","v":0},{"$f":"'P Index Inputs'!E263","v":0},{"$f":"'P Index Inputs'!F263","v":0},{"$f":"'P Index Inputs'!H263","v":0},{"$f":"'P Index Inputs'!I263","v":0},{"$f":"'P Index Inputs'!J263","v":0},{"$f":"IF(ISBLANK('P Index Inputs'!L263),'P Index Inputs'!K263,'P Index Inputs'!L263)","v":"-"},{"$f":"'P Index Inputs'!M263","v":0},{"$f":"'P Index Inputs'!O263","v":0},{"$f":"'P Index Inputs'!P263","v":0},{"$f":"'P Index Inputs'!Q263","v":0},{"$f":"IFERROR(VLOOKUP(I261,'NR-PI 2.0 Structure'!$C$5:$D$8,2,FALSE),\"-\")","v":"-"},{"$f":"IFERROR(VLOOKUP(J261,'NR-PI 2.0 Structure'!$B$12:$C$16,2,FALSE),\"-\")","v":"-"},{"$f":"IFERROR(VLOOKUP(K261,'NR-PI 2.0 Structure'!$B$20:$D$21,3,FALSE),\"-\")","v":"-"},{"$f":"IFERROR(VLOOKUP(L261,'NR-PI 2.0 Structure'!$B$25:$C$28,2,FALSE),\"-\")","v":"-"},{"$f":"IFERROR(VLOOKUP(L261,'NR-PI 2.0 Structure'!$B$25:$D$28,3,FALSE),\"-\")","v":"-"},{"$f":"IFERROR(\n  IF(M261 = \"≤ 1\", 'NR-PI 2.0 Structure'!$D$32,\n  IF(M261 = \">1 - 3\", 'NR-PI 2.0 Structure'!$D$33,\n  IF(M261 = \">3 - 5\", 'NR-PI 2.0 Structure'!$D$34,\n  IF(M261 = \"> 5\", 'NR-PI 2.0 Structure'!$D$35, )))),\n\"-\")","v":0},{"$f":"IFERROR(IF(ISBLANK(I261),\"N/A\",IF(I261<>'NR-PI 2.0 Structure'!$C$5,(VLOOKUP(N261,'NR-PI 2.0 Structure'!$C$39:$D$40,2,FALSE)),0)),\" - \")","v":" - "},{"$f":"IFERROR(IF(ISBLANK(I261),\"N/A\",IF(I261<>'NR-PI 2.0 Structure'!$C$5,(VLOOKUP(N261,'NR-PI 2.0 Structure'!$C$39:$E$40,3,FALSE)),0)),\" - \")","v":" - "},{"$f":"IFERROR(SUM(O261+P261+Q261+R261+U261)*10,\"-\")","v":"-"},{"$f":"IFERROR(SUM(O261+P261+Q261+S261+T261+V261)*10,\"-\")","v":"-"},"-","N/A",{"$f":"IF(ISBLANK('P Index Inputs'!R263),\"-\",'P Index Inputs'!R263)","v":"-"},{"$f":"IFERROR(IF(I261<>'NR-PI 2.0 Structure'!$C$5,VLOOKUP(AA261,'NR-PI 2.0 Structure'!$G$5:$H$9,2,FALSE),IF(OR(AA261='NR-PI 2.0 Structure'!$G$5,AA261='NR-PI 2.0 Structure'!$G$6,AA261='NR-PI 2.0 Structure'!$G$7),1,VLOOKUP(AA261,'NR-PI 2.0 Structure'!$G$8:$H$9,2,FALSE))),\"-\")","v":"-"},{"$f":"IF(ISBLANK('P Index Inputs'!S263),\"-\",'P Index Inputs'!S263)","v":"-"},{"$f":"IFERROR(VLOOKUP(AC261,'NR-PI 2.0 Structure'!$G$14:$H$19,2,FALSE),\"-\")","v":"-"},{"$f":"IFERROR(AB261*AD261,\"-\")","v":"-"},{"$f":"IFERROR(Y261*AE261,\"-\")","v":"-"},{"$f":"IFERROR(IF(AF261<50, \"Low\", IF(AF261<75, \"Medium\", IF(AF261<100, \"High\", IF(AND(AF261>=100,AF261<>\"-\"),\"Very High\",\"N/A\")))),\"N/A\")","v":"N/A"},{"$f":"IF(ISNUMBER(AF261),IF(H261>=160,\"Zero P\",IF(H261>100,IF(AF261<50,\"P-based\",\"Zero P\"),IF(H261>=40,IF(AF261<50,\"N-based\",IF(AF261<100,\"P-based\",\"Zero P\")),IF(H261<40,IF(AF261<75,\"N-based\",IF(AF261<100,\"P-based\",\"Zero P\")))))),\"N/A\")","v":"N/A"},0,0,{"$f":"IFERROR(IF(AH261 = \"Zero P\", F261, 0),\"-\")","v":0},0,0,{"$f":"IFERROR(IF(AND(E261=\"sod\",AH261=\"Zero P\"),F261,0),\"-\")","v":0},0,0,{"$f":"IFERROR(IF(AND(E261=\"row\",AH261=\"Zero P\"),F261,0),\"-\")","v":0}]
[{"$f":"'P Index Inputs'!A264","v":0},{"$f":"'P Index Inputs'!B264","v":0},{"$f":"'P Index Inputs'!C264","v":0},{"$f":"'P Index Inputs'!D264","v":0},{"$f":"'P Index Inputs'!E264","v":0},{"$f":"'P Index Inputs'!F264","v":0},{"$f":"'P Index Inputs'!H264","v":0},{"$f":"'P Index Inputs'!I264","v":0},{"$f":"'P Index Inputs'!J264","v":0},{"$f":"IF(ISBLANK('P Index Inputs'!L264),'P Index Inputs'!K264,'P Index Inputs'!L264)","v":"-"},{"$f":"'P Index Inputs'!M264","v":0},{"$f":"'P Index Inputs'!O264","v":0},{"$f":"'P Index Inputs'!P264","v":0},{"$f":"'P Index Inputs'!Q264","v":0},{"$f":"IFERROR(VLOOKUP(I262,'NR-PI 2.0 Structure'!$C$5:$D$8,2,FALSE),\"-\")","v":"-"},{"$f":"IFERROR(VLOOKUP(J262,'NR-PI 2.0 Structure'!$B$12:$C$16,2,FALSE),\"-\")","v":"-"},{"$f":"IFERROR(VLOOKUP(K262,'NR-PI 2.0 Structure'!$B$20:$D$21,3,FALSE),\"-\")","v":"-"},{"$f":"IFERROR(VLOOKUP(L262,'NR-PI 2.0 Structure'!$B$25:$C$28,2,FALSE),\"-\")","v":"-"},{"$f":"IFERROR(VLOOKUP(L262,'NR-PI 2.0 Structure'!$B$25:$D$28,3,FALSE),\"-\")","v":"-"},{"$f":"IFERROR(\n  IF(M262 = \"≤ 1\", 'NR-PI 2.0 Structure'!$D$32,\n  IF(M262 = \">1 - 3\", 'NR-PI 2.0 Structure'!$D$33,\n  IF(M262 = \">3 - 5\", 'NR-PI 2.0 Structure'!$D$34,\n  IF(M262 = \"> 5\", 'NR-PI 2.0 Structure'!$D$35, )))),\n\"-\")","v":0},{"$f":"IFERROR(IF(ISBLANK(I262),\"N/A\",IF(I262<>'NR-PI 2.0 Structure'!$C$5,(VLOOKUP(N262,'NR-PI 2.0 Structure'!$C$39:$D$40,2,FALSE)),0)),\" - \")","v":" - "},{"$f":"IFERROR(IF(ISBLANK(I262),\"N/A\",IF(I262<>'NR-PI 2.0 Structure'!$C$5,(VLOOKUP(N262,'NR-PI 2.0 Structure'!$C$39:$E$40,3,FALSE)),0)),\" - \")","v":" - "},"-","-","-","N/A",{"$f":"IF(ISBLANK('P Index Inputs'!R264),\"-\",'P Index Inputs'!R264)","v":"-"},{"$f":"IFERROR(IF(I262<>'NR-PI 2.0 Structure'!$C$5,VLOOKUP(AA262,'NR-PI 2.0 Structure'!$G$5:$H$9,2,FALSE),IF(OR(AA262='NR-PI 2.0 Structure'!$G$5,AA262='NR-PI 2.0 Structure'!$G$6,AA262='NR-PI 2.0 Structure'!$G$7),1,VLOOKUP(AA262,'NR-PI 2.0 Structure'!$G$8:$H$9,2,FALSE))),\"-\")","v":"-"},{"$f":"IF(ISBLANK('P Index Inputs'!S264),\"-\",'P Index Inputs'!S264)","v":"-"},{"$f":"IFERROR(VLOOKUP(AC262,'NR-PI 2.0 Structure'!$G$14:$H$19,2,FALSE),\"-\")","v":"-"},"-","-","N/A","N/A",0,0,0,0,0,0,0,0,0]
[{"$f":"'P Index Inputs'!A265","v":0},{"$f":"'P Index Inputs'!B265","v":0},{"$f":"'P Index Inputs'!C265","v":0},{"$f":"'P Index Inputs'!D265","v":0},{"$f":"'P Index Inputs'!E265","v":0},{"$f":"'P Index Inputs'!F265","v":0},{"$f":"'P Index Inputs'!H265","v":0},{"$f":"'P Index Inputs'!I265","v":0},{"$f":"'P Index Inputs'!J265","v":0},{"$f":"IF(ISBLANK('P Index Inputs'!L265),'P Index Inputs'!K265,'P Index Inputs'!L265)","v":"-"},{"$f":"'P Index Inputs'!M265","v":0},{"$f":"'P Index Inputs'!O265","v":0},{"$f":"'P Index Inputs'!P265","v":0},{"$f":"'P Index Inputs'!Q265","v":0},{"$f":"IFERROR(VLOOKUP(I263,'NR-PI 2.0 Structure'!$C$5:$D$8,2,FALSE),\"-\")","v":"-"},{"$f":"IFERROR(VLOOKUP(J263,'NR-PI 2.0 Structure'!$B$12:$C$16,2,FALSE),\"-\")","v":"-"},{"$f":"IFERROR(VLOOKUP(K263,'NR-PI 2.0 Structure'!$B$20:$D$21,3,FALSE),\"-\")","v":"-"},{"$f":"IFERROR(VLOOKUP(L263,'NR-PI 2.0 Structure'!$B$25:$C$28,2,FALSE),\"-\")","v":"-"},{"$f":"IFERROR(VLOOKUP(L263,'NR-PI 2.0 Structure'!$B$25:$D$28,3,FALSE),\"-\")","v":"-"},{"$f":"IFERROR(\n  IF(M263 = \"≤ 1\", 'NR-PI 2.0 Structure'!$D$32,\n  IF(M263 = \">1 - 3\", 'NR-PI 2.0 Structure'!$D$33,\n  IF(M263 = \">3 - 5\", 'NR-PI 2.0 Structure'!$D$34,\n  IF(M263 = \"> 5\", 'NR-PI 2.0 Structure'!$D$35, )))),\n\"-\")","v":0},{"$f":"IFERROR(IF(ISBLANK(I263),\"N/A\",IF(I263<>'NR-PI 2.0 Structure'!$C$5,(VLOOKUP(N263,'NR-PI 2.0 Structure'!$C$39:$D$40,2,FALSE)),0)),\" - \")","v":" - "},{"$f":"IFERROR(IF(ISBLANK(I263),\"N/A\",IF(I263<>'NR-PI 2.0 Structure'!$C$5,(VLOOKUP(N263,'NR-PI 2.0 Structure'!$C$39:$E$40,3,FALSE)),0)),\" - \")","v":" - "},"-","-","-","N/A",{"$f":"IF(ISBLANK('P Index Inputs'!R265),\"-\",'P Index Inputs'!R265)","v":"-"},{"$f":"IFERROR(IF(I263<>'NR-PI 2.0 Structure'!$C$5,VLOOKUP(AA263,'NR-PI 2.0 Structure'!$G$5:$H$9,2,FALSE),IF(OR(AA263='NR-PI 2.0 Structure'!$G$5,AA263='NR-PI 2.0 Structure'!$G$6,AA263='NR-PI 2.0 Structure'!$G$7),1,VLOOKUP(AA263,'NR-PI 2.0 Structure'!$G$8:$H$9,2,FALSE))),\"-\")","v":"-"},{"$f":"IF(ISBLANK('P Index Inputs'!S265),\"-\",'P Index Inputs'!S265)","v":"-"},{"$f":"IFERROR(VLOOKUP(AC263,'NR-PI 2.0 Structure'!$G$14:$H$19,2,FALSE),\"-\")","v":"-"},"-","-","N/A","N/A",0,0,0,0,0,0,0,0,0]
[{"$f":"'P Index Inputs'!A266","v":0},{"$f":"'P Index Inputs'!B266","v":0},{"$f":"'P Index Inputs'!C266","v":0},{"$f":"'P Index Inputs'!D266","v":0},{"$f":"'P Index Inputs'!E266","v":0},{"$f":"'P Index Inputs'!F266","v":0},{"$f":"'P Index Inputs'!H266","v":0},{"$f":"'P Index Inputs'!I266","v":0},{"$f":"'P Index Inputs'!J266","v":0},{"$f":"IF(ISBLANK('P Index Inputs'!L266),'P Index Inputs'!K266,'P Index Inputs'!L266)","v":"-"},{"$f":"'P Index Inputs'!M266","v":0},{"$f":"'P Index Inputs'!O266","v":0},{"$f":"'P Index Inputs'!P266","v":0},{"$f":"'P Index Inputs'!Q266","v":0},{"$f":"IFERROR(VLOOKUP(I264,'NR-PI 2.0 Structure'!$C$5:$D$8,2,FALSE),\"-\")","v":"-"},{"$f":"IFERROR(VLOOKUP(J264,'NR-PI 2.0 Structure'!$B$12:$C$16,2,FALSE),\"-\")","v":"-"},{"$f":"IFERROR(VLOOKUP(K264,'NR-PI 2.0 Structure'!$B$20:$D$21,3,FALSE),\"-\")","v":"-"},{"$f":"IFERROR(VLOOKUP(L264,'NR-PI 2.0 Structure'!$B$25:$C$28,2,FALSE),\"-\")","v":"-"},{"$f":"IFERROR(VLOOKUP(L264,'NR-PI 2.0 Structure'!$B$25:$D$28,3,FALSE),\"-\")","v":"-"},{"$f":"IFERROR(\n  IF(M264 = \"≤ 1\", 'NR-PI 2.0 Structure'!$D$32,\n  IF(M264 = \">1 - 3\", 'NR-PI 2.0 Structure'!$D$33,\n  IF(M264 = \">3 - 5\", 'NR-PI 2.0 Structure'!$D$34,\n  IF(M264 = \"> 5\", 'NR-PI 2.0 Structure'!$D$35, )))),\n\"-\")","v":0},{"$f":"IFERROR(IF(ISBLANK(I264),\"N/A\",IF(I264<>'NR-PI 2.0 Structure'!$C$5,(VLOOKUP(N264,'NR-PI 2.0 Structure'!$C$39:$D$40,2,FALSE)),0)),\" - \")","v":" - "},{"$f":"IFERROR(IF(ISBLANK(I264),\"N/A\",IF(I264<>'NR-PI 2.0 Structure'!$C$5,(VLOOKUP(N264,'NR-PI 2.0 Structure'!$C$39:$E$40,3,FALSE)),0)),\" - \")","v":" - "},"-","-","-","N/A",{"$f":"IF(ISBLANK('P Index Inputs'!R266),\"-\",'P Index Inputs'!R266)","v":"-"},{"$f":"IFERROR(IF(I264<>'NR-PI 2.0 Structure'!$C$5,VLOOKUP(AA264,'NR-PI 2.0 Structure'!$G$5:$H$9,2,FALSE),IF(OR(AA264='NR-PI 2.0 Structure'!$G$5,AA264='NR-PI 2.0 Structure'!$G$6,AA264='NR-PI 2.0 Structure'!$G$7),1,VLOOKUP(AA264,'NR-PI 2.0 Structure'!$G$8:$H$9,2,FALSE))),\"-\")","v":"-"},{"$f":"IF(ISBLANK('P Index Inputs'!S266),\"-\",'P Index Inputs'!S266)","v":"-"},{"$f":"IFERROR(VLOOKUP(AC264,'NR-PI 2.0 Structure'!$G$14:$H$19,2,FALSE),\"-\")","v":"-"},"-","-","N/A","N/A",0,0,0,0,0,0,0,0,0]
[{"$f":"'P Index Inputs'!A267","v":0},{"$f":"'P Index Inputs'!B267","v":0},{"$f":"'P Index Inputs'!C267","v":0},{"$f":"'P Index Inputs'!D267","v":0},{"$f":"'P Index Inputs'!E267","v":0},{"$f":"'P Index Inputs'!F267","v":0},{"$f":"'P Index Inputs'!H267","v":0},{"$f":"'P Index Inputs'!I267","v":0},{"$f":"'P Index Inputs'!J267","v":0},{"$f":"IF(ISBLANK('P Index Inputs'!L267),'P Index Inputs'!K267,'P Index Inputs'!L267)","v":"-"},{"$f":"'P Index Inputs'!M267","v":0},{"$f":"'P Index Inputs'!O267","v":0},{"$f":"'P Index Inputs'!P267","v":0},{"$f":"'P Index Inputs'!Q267","v":0},{"$f":"IFERROR(VLOOKUP(I265,'NR-PI 2.0 Structure'!$C$5:$D$8,2,FALSE),\"-\")","v":"-"},{"$f":"IFERROR(VLOOKUP(J265,'NR-PI 2.0 Structure'!$B$12:$C$16,2,FALSE),\"-\")","v":"-"},{"$f":"IFERROR(VLOOKUP(K265,'NR-PI 2.0 Structure'!$B$20:$D$21,3,FALSE),\"-\")","v":"-"},{"$f":"IFERROR(VLOOKUP(L265,'NR-PI 2.0 Structure'!$B$25:$C$28,2,FALSE),\"-\")","v":"-"},{"$f":"IFERROR(VLOOKUP(L265,'NR-PI 2.0 Structure'!$B$25:$D$28,3,FALSE),\"-\")","v":"-"},{"$f":"IFERROR(\n  IF(M265 = \"≤ 1\", 'NR-PI 2.0 Structure'!$D$32,\n  IF(M265 = \">1 - 3\", 'NR-PI 2.0 Structure'!$D$33,\n  IF(M265 = \">3 - 5\", 'NR-PI 2.0 Structure'!$D$34,\n  IF(M265 = \"> 5\", 'NR-PI 2.0 Structure'!$D$35, )))),\n\"-\")","v":0},{"$f":"IFERROR(IF(ISBLANK(I265),\"N/A\",IF(I265<>'NR-PI 2.0 Structure'!$C$5,(VLOOKUP(N265,'NR-PI 2.0 Structure'!$C$39:$D$40,2,FALSE)),0)),\" - \")","v":" - "},{"$f":"IFERROR(IF(ISBLANK(I265),\"N/A\",IF(I265<>'NR-PI 2.0 Structure'!$C$5,(VLOOKUP(N265,'NR-PI 2.0 Structure'!$C$39:$E$40,3,FALSE)),0)),\" - \")","v":" - "},"-","-","-","N/A",{"$f":"IF(ISBLANK('P Index Inputs'!R267),\"-\",'P Index Inputs'!R267)","v":"-"},{"$f":"IFERROR(IF(I265<>'NR-PI 2.0 Structure'!$C$5,VLOOKUP(AA265,'NR-PI 2.0 Structure'!$G$5:$H$9,2,FALSE),IF(OR(AA265='NR-PI 2.0 Structure'!$G$5,AA265='NR-PI 2.0 Structure'!$G$6,AA265='NR-PI 2.0 Structure'!$G$7),1,VLOOKUP(AA265,'NR-PI 2.0 Structure'!$G$8:$H$9,2,FALSE))),\"-\")","v":"-"},{"$f":"IF(ISBLANK('P Index Inputs'!S267),\"-\",'P Index Inputs'!S267)","v":"-"},{"$f":"IFERROR(VLOOKUP(AC265,'NR-PI 2.0 Structure'!$G$14:$H$19,2,FALSE),\"-\")","v":"-"},"-","-","N/A","N/A",0,0,0,0,0,0,0,0,0]
[{"$f":"'P Index Inputs'!A268","v":0},{"$f":"'P Index Inputs'!B268","v":0},{"$f":"'P Index Inputs'!C268","v":0},{"$f":"'P Index Inputs'!D268","v":0},{"$f":"'P Index Inputs'!E268","v":0},{"$f":"'P Index Inputs'!F268","v":0},{"$f":"'P Index Inputs'!H268","v":0},{"$f":"'P Index Inputs'!I268","v":0},{"$f":"'P Index Inputs'!J268","v":0},{"$f":"IF(ISBLANK('P Index Inputs'!L268),'P Index Inputs'!K268,'P Index Inputs'!L268)","v":"-"},{"$f":"'P Index Inputs'!M268","v":0},{"$f":"'P Index Inputs'!O268","v":0},{"$f":"'P Index Inputs'!P268","v":0},{"$f":"'P Index Inputs'!Q268","v":0},{"$f":"IFERROR(VLOOKUP(I266,'NR-PI 2.0 Structure'!$C$5:$D$8,2,FALSE),\"-\")","v":"-"},{"$f":"IFERROR(VLOOKUP(J266,'NR-PI 2.0 Structure'!$B$12:$C$16,2,FALSE),\"-\")","v":"-"},{"$f":"IFERROR(VLOOKUP(K266,'NR-PI 2.0 Structure'!$B$20:$D$21,3,FALSE),\"-\")","v":"-"},{"$f":"IFERROR(VLOOKUP(L266,'NR-PI 2.0 Structure'!$B$25:$C$28,2,FALSE),\"-\")","v":"-"},{"$f":"IFERROR(VLOOKUP(L266,'NR-PI 2.0 Structure'!$B$25:$D$28,3,FALSE),\"-\")","v":"-"},{"$f":"IFERROR(\n  IF(M266 = \"≤ 1\", 'NR-PI 2.0 Structure'!$D$32,\n  IF(M266 = \">1 - 3\", 'NR-PI 2.0 Structure'!$D$33,\n  IF(M266 = \">3 - 5\", 'NR-PI 2.0 Structure'!$D$34,\n  IF(M266 = \"> 5\", 'NR-PI 2.0 Structure'!$D$35, )))),\n\"-\")","v":0},{"$f":"IFERROR(IF(ISBLANK(I266),\"N/A\",IF(I266<>'NR-PI 2.0 Structure'!$C$5,(VLOOKUP(N266,'NR-PI 2.0 Structure'!$C$39:$D$40,2,FALSE)),0)),\" - \")","v":" - "},{"$f":"IFERROR(IF(ISBLANK(I266),\"N/A\",IF(I266<>'NR-PI 2.0 Structure'!$C$5,(VLOOKUP(N266,'NR-PI 2.0 Structure'!$C$39:$E$40,3,FALSE)),0)),\" - \")","v":" - "},"-","-","-","N/A",{"$f":"IF(ISBLANK('P Index Inputs'!R268),\"-\",'P Index Inputs'!R268)","v":"-"},{"$f":"IFERROR(IF(I266<>'NR-PI 2.0 Structure'!$C$5,VLOOKUP(AA266,'NR-PI 2.0 Structure'!$G$5:$H$9,2,FALSE),IF(OR(AA266='NR-PI 2.0 Structure'!$G$5,AA266='NR-PI 2.0 Structure'!$G$6,AA266='NR-PI 2.0 Structure'!$G$7),1,VLOOKUP(AA266,'NR-PI 2.0 Structure'!$G$8:$H$9,2,FALSE))),\"-\")","v":"-"},{"$f":"IF(ISBLANK('P Index Inputs'!S268),\"-\",'P Index Inputs'!S268)","v":"-"},{"$f":"IFERROR(VLOOKUP(AC266,'NR-PI 2.0 Structure'!$G$14:$H$19,2,FALSE),\"-\")","v":"-"},"-","-","N/A","N/A",0,0,0,0,0,0,0,0,0]
[{"$f":"'P Index Inputs'!A269","v":0},{"$f":"'P Index Inputs'!B269","v":0},{"$f":"'P Index Inputs'!C269","v":0},{"$f":"'P Index Inputs'!D269","v":0},{"$f":"'P Index Inputs'!E269","v":0},{"$f":"'P Index Inputs'!F269","v":0},{"$f":"'P Index Inputs'!H269","v":0},{"$f":"'P Index Inputs'!I269","v":0},{"$f":"'P Index Inputs'!J269","v":0},{"$f":"IF(ISBLANK('P Index Inputs'!L269),'P Index Inputs'!K269,'P Index Inputs'!L269)","v":"-"},{"$f":"'P Index Inputs'!M269","v":0},{"$f":"'P Index Inputs'!O269","v":0},{"$f":"'P Index Inputs'!P269","v":0},{"$f":"'P Index Inputs'!Q269","v":0},{"$f":"IFERROR(VLOOKUP(I267,'NR-PI 2.0 Structure'!$C$5:$D$8,2,FALSE),\"-\")","v":"-"},{"$f":"IFERROR(VLOOKUP(J267,'NR-PI 2.0 Structure'!$B$12:$C$16,2,FALSE),\"-\")","v":"-"},{"$f":"IFERROR(VLOOKUP(K267,'NR-PI 2.0 Structure'!$B$20:$D$21,3,FALSE),\"-\")","v":"-"},{"$f":"IFERROR(VLOOKUP(L267,'NR-PI 2.0 Structure'!$B$25:$C$28,2,FALSE),\"-\")","v":"-"},{"$f":"IFERROR(VLOOKUP(L267,'NR-PI 2.0 Structure'!$B$25:$D$28,3,FALSE),\"-\")","v":"-"},{"$f":"IFERROR(\n  IF(M267 = \"≤ 1\", 'NR-PI 2.0 Structure'!$D$32,\n  IF(M267 = \">1 - 3\", 'NR-PI 2.0 Structure'!$D$33,\n  IF(M267 = \">3 - 5\", 'NR-PI 2.0 Structure'!$D$34,\n  IF(M267 = \"> 5\", 'NR-PI 2.0 Structure'!$D$35, )))),\n\"-\")","v":0},{"$f":"IFERROR(IF(ISBLANK(I267),\"N/A\",IF(I267<>'NR-PI 2.0 Structure'!$C$5,(VLOOKUP(N267,'NR-PI 2.0 Structure'!$C$39:$D$40,2,FALSE)),0)),\" - \")","v":" - "},{"$f":"IFERROR(IF(ISBLANK(I267),\"N/A\",IF(I267<>'NR-PI 2.0 Structure'!$C$5,(VLOOKUP(N267,'NR-PI 2.0 Structure'!$C$39:$E$40,3,FALSE)),0)),\" - \")","v":" - "},"-","-","-","N/A",{"$f":"IF(ISBLANK('P Index Inputs'!R269),\"-\",'P Index Inputs'!R269)","v":"-"},{"$f":"IFERROR(IF(I267<>'NR-PI 2.0 Structure'!$C$5,VLOOKUP(AA267,'NR-PI 2.0 Structure'!$G$5:$H$9,2,FALSE),IF(OR(AA267='NR-PI 2.0 Structure'!$G$5,AA267='NR-PI 2.0 Structure'!$G$6,AA267='NR-PI 2.0 Structure'!$G$7),1,VLOOKUP(AA267,'NR-PI 2.0 Structure'!$G$8:$H$9,2,FALSE))),\"-\")","v":"-"},{"$f":"IF(ISBLANK('P Index Inputs'!S269),\"-\",'P Index Inputs'!S269)","v":"-"},{"$f":"IFERROR(VLOOKUP(AC267,'NR-PI 2.0 Structure'!$G$14:$H$19,2,FALSE),\"-\")","v":"-"},"-","-","N/A","N/A",0,0,0,0,0,0,0,0,0]
[{"$f":"'P Index Inputs'!A270","v":0},{"$f":"'P Index Inputs'!B270","v":0},{"$f":"'P Index Inputs'!C270","v":0},{"$f":"'P Index Inputs'!D270","v":0},{"$f":"'P Index Inputs'!E270","v":0},{"$f":"'P Index Inputs'!F270","v":0},{"$f":"'P Index Inputs'!H270","v":0},{"$f":"'P Index Inputs'!I270","v":0},{"$f":"'P Index Inputs'!J270","v":0},{"$f":"IF(ISBLANK('P Index Inputs'!L270),'P Index Inputs'!K270,'P Index Inputs'!L270)","v":"-"},{"$f":"'P Index Inputs'!M270","v":0},{"$f":"'P Index Inputs'!O270","v":0},{"$f":"'P Index Inputs'!P270","v":0},{"$f":"'P Index Inputs'!Q270","v":0},{"$f":"IFERROR(VLOOKUP(I268,'NR-PI 2.0 Structure'!$C$5:$D$8,2,FALSE),\"-\")","v":"-"},{"$f":"IFERROR(VLOOKUP(J268,'NR-PI 2.0 Structure'!$B$12:$C$16,2,FALSE),\"-\")","v":"-"},{"$f":"IFERROR(VLOOKUP(K268,'NR-PI 2.0 Structure'!$B$20:$D$21,3,FALSE),\"-\")","v":"-"},{"$f":"IFERROR(VLOOKUP(L268,'NR-PI 2.0 Structure'!$B$25:$C$28,2,FALSE),\"-\")","v":"-"},{"$f":"IFERROR(VLOOKUP(L268,'NR-PI 2.0 Structure'!$B$25:$D$28,3,FALSE),\"-\")","v":"-"},{"$f":"IFERROR(\n  IF(M268 = \"≤ 1\", 'NR-PI 2.0 Structure'!$D$32,\n  IF(M268 = \">1 - 3\", 'NR-PI 2.0 Structure'!$D$33,\n  IF(M268 = \">3 - 5\", 'NR-PI 2.0 Structure'!$D$34,\n  IF(M268 = \"> 5\", 'NR-PI 2.0 Structure'!$D$35, )))),\n\"-\")","v":0},{"$f":"IFERROR(IF(ISBLANK(I268),\"N/A\",IF(I268<>'NR-PI 2.0 Structure'!$C$5,(VLOOKUP(N268,'NR-PI 2.0 Structure'!$C$39:$D$40,2,FALSE)),0)),\" - \")","v":" - "},{"$f":"IFERROR(IF(ISBLANK(I268),\"N/A\",IF(I268<>'NR-PI 2.0 Structure'!$C$5,(VLOOKUP(N268,'NR-PI 2.0 Structure'!$C$39:$E$40,3,FALSE)),0)),\" - \")","v":" - "},"-","-","-","N/A",{"$f":"IF(ISBLANK('P Index Inputs'!R270),\"-\",'P Index Inputs'!R270)","v":"-"},{"$f":"IFERROR(IF(I268<>'NR-PI 2.0 Structure'!$C$5,VLOOKUP(AA268,'NR-PI 2.0 Structure'!$G$5:$H$9,2,FALSE),IF(OR(AA268='NR-PI 2.0 Structure'!$G$5,AA268='NR-PI 2.0 Structure'!$G$6,AA268='NR-PI 2.0 Structure'!$G$7),1,VLOOKUP(AA268,'NR-PI 2.0 Structure'!$G$8:$H$9,2,FALSE))),\"-\")","v":"-"},{"$f":"IF(ISBLANK('P Index Inputs'!S270),\"-\",'P Index Inputs'!S270)","v":"-"},{"$f":"IFERROR(VLOOKUP(AC268,'NR-PI 2.0 Structure'!$G$14:$H$19,2,FALSE),\"-\")","v":"-"},"-","-","N/A","N/A",0,0,0,0,0,0,0,0,0]
[{"$f":"'P Index Inputs'!A271","v":0},{"$f":"'P Index Inputs'!B271","v":0},{"$f":"'P Index Inputs'!C271","v":0},{"$f":"'P Index Inputs'!D271","v":0},{"$f":"'P Index Inputs'!E271","v":0},{"$f":"'P Index Inputs'!F271","v":0},{"$f":"'P Index Inputs'!H271","v":0},{"$f":"'P Index Inputs'!I271","v":0},{"$f":"'P Index Inputs'!J271","v":0},{"$f":"IF(ISBLANK('P Index Inputs'!L271),'P Index Inputs'!K271,'P Index Inputs'!L271)","v":"-"},{"$f":"'P Index Inputs'!M271","v":0},{"$f":"'P Index Inputs'!O271","v":0},{"$f":"'P Index Inputs'!P271","v":0},{"$f":"'P Index Inputs'!Q271","v":0},{"$f":"IFERROR(VLOOKUP(I269,'NR-PI 2.0 Structure'!$C$5:$D$8,2,FALSE),\"-\")","v":"-"},{"$f":"IFERROR(VLOOKUP(J269,'NR-PI 2.0 Structure'!$B$12:$C$16,2,FALSE),\"-\")","v":"-"},{"$f":"IFERROR(VLOOKUP(K269,'NR-PI 2.0 Structure'!$B$20:$D$21,3,FALSE),\"-\")","v":"-"},{"$f":"IFERROR(VLOOKUP(L269,'NR-PI 2.0 Structure'!$B$25:$C$28,2,FALSE),\"-\")","v":"-"},{"$f":"IFERROR(VLOOKUP(L269,'NR-PI 2.0 Structure'!$B$25:$D$28,3,FALSE),\"-\")","v":"-"},{"$f":"IFERROR(\n  IF(M269 = \"≤ 1\", 'NR-PI 2.0 Structure'!$D$32,\n  IF(M269 = \">1 - 3\", 'NR-PI 2.0 Structure'!$D$33,\n  IF(M269 = \">3 - 5\", 'NR-PI 2.0 Structure'!$D$34,\n  IF(M269 = \"> 5\", 'NR-PI 2.0 Structure'!$D$35, )))),\n\"-\")","v":0},{"$f":"IFERROR(IF(ISBLANK(I269),\"N/A\",IF(I269<>'NR-PI 2.0 Structure'!$C$5,(VLOOKUP(N269,'NR-PI 2.0 Structure'!$C$39:$D$40,2,FALSE)),0)),\" - \")","v":" - "},{"$f":"IFERROR(IF(ISBLANK(I269),\"N/A\",IF(I269<>'NR-PI 2.0 Structure'!$C$5,(VLOOKUP(N269,'NR-PI 2.0 Structure'!$C$39:$E$40,3,FALSE)),0)),\" - \")","v":" - "},"-","-","-","N/A",{"$f":"IF(ISBLANK('P Index Inputs'!R271),\"-\",'P Index Inputs'!R271)","v":"-"},{"$f":"IFERROR(IF(I269<>'NR-PI 2.0 Structure'!$C$5,VLOOKUP(AA269,'NR-PI 2.0 Structure'!$G$5:$H$9,2,FALSE),IF(OR(AA269='NR-PI 2.0 Structure'!$G$5,AA269='NR-PI 2.0 Structure'!$G$6,AA269='NR-PI 2.0 Structure'!$G$7),1,VLOOKUP(AA269,'NR-PI 2.0 Structure'!$G$8:$H$9,2,FALSE))),\"-\")","v":"-"},{"$f":"IF(ISBLANK('P Index Inputs'!S271),\"-\",'P Index Inputs'!S271)","v":"-"},{"$f":"IFERROR(VLOOKUP(AC269,'NR-PI 2.0 Structure'!$G$14:$H$19,2,FALSE),\"-\")","v":"-"},"-","-","N/A","N/A",0,0,0,0,0,0,0,0,0]
[{"$f":"'P Index Inputs'!A272","v":0},{"$f":"'P Index Inputs'!B272","v":0},{"$f":"'P Index Inputs'!C272","v":0},{"$f":"'P Index Inputs'!D272","v":0},{"$f":"'P Index Inputs'!E272","v":0},{"$f":"'P Index Inputs'!F272","v":0},{"$f":"'P Index Inputs'!H272","v":0},{"$f":"'P Index Inputs'!I272","v":0},{"$f":"'P Index Inputs'!J272","v":0},{"$f":"IF(ISBLANK('P Index Inputs'!L272),'P Index Inputs'!K272,'P Index Inputs'!L272)","v":"-"},{"$f":"'P Index Inputs'!M272","v":0},{"$f":"'P Index Inputs'!O272","v":0},{"$f":"'P Index Inputs'!P272","v":0},{"$f":"'P Index Inputs'!Q272","v":0},{"$f":"IFERROR(VLOOKUP(I270,'NR-PI 2.0 Structure'!$C$5:$D$8,2,FALSE),\"-\")","v":"-"},{"$f":"IFERROR(VLOOKUP(J270,'NR-PI 2.0 Structure'!$B$12:$C$16,2,FALSE),\"-\")","v":"-"},{"$f":"IFERROR(VLOOKUP(K270,'NR-PI 2.0 Structure'!$B$20:$D$21,3,FALSE),\"-\")","v":"-"},{"$f":"IFERROR(VLOOKUP(L270,'NR-PI 2.0 Structure'!$B$25:$C$28,2,FALSE),\"-\")","v":"-"},{"$f":"IFERROR(VLOOKUP(L270,'NR-PI 2.0 Structure'!$B$25:$D$28,3,FALSE),\"-\")","v":"-"},{"$f":"IFERROR(\n  IF(M270 = \"≤ 1\", 'NR-PI 2.0 Structure'!$D$32,\n  IF(M270 = \">1 - 3\", 'NR-PI 2.0 Structure'!$D$33,\n  IF(M270 = \">3 - 5\", 'NR-PI 2.0 Structure'!$D$34,\n  IF(M270 = \"> 5\", 'NR-PI 2.0 Structure'!$D$35, )))),\n\"-\")","v":0},{"$f":"IFERROR(IF(ISBLANK(I270),\"N/A\",IF(I270<>'NR-PI 2.0 Structure'!$C$5,(VLOOKUP(N270,'NR-PI 2.0 Structure'!$C$39:$D$40,2,FALSE)),0)),\" - \")","v":" - "},{"$f":"IFERROR(IF(ISBLANK(I270),\"N/A\",IF(I270<>'NR-PI 2.0 Structure'!$C$5,(VLOOKUP(N270,'NR-PI 2.0 Structure'!$C$39:$E$40,3,FALSE)),0)),\" - \")","v":" - "},"-","-","-","N/A",{"$f":"IF(ISBLANK('P Index Inputs'!R272),\"-\",'P Index Inputs'!R272)","v":"-"},{"$f":"IFERROR(IF(I270<>'NR-PI 2.0 Structure'!$C$5,VLOOKUP(AA270,'NR-PI 2.0 Structure'!$G$5:$H$9,2,FALSE),IF(OR(AA270='NR-PI 2.0 Structure'!$G$5,AA270='NR-PI 2.0 Structure'!$G$6,AA270='NR-PI 2.0 Structure'!$G$7),1,VLOOKUP(AA270,'NR-PI 2.0 Structure'!$G$8:$H$9,2,FALSE))),\"-\")","v":"-"},{"$f":"IF(ISBLANK('P Index Inputs'!S272),\"-\",'P Index Inputs'!S272)","v":"-"},{"$f":"IFERROR(VLOOKUP(AC270,'NR-PI 2.0 Structure'!$G$14:$H$19,2,FALSE),\"-\")","v":"-"},"-","-","N/A","N/A",0,0,0,0,0,0,0,0,0]
[{"$f":"'P Index Inputs'!A273","v":0},{"$f":"'P Index Inputs'!B273","v":0},{"$f":"'P Index Inputs'!C273","v":0},{"$f":"'P Index Inputs'!D273","v":0},{"$f":"'P Index Inputs'!E273","v":0},{"$f":"'P Index Inputs'!F273","v":0},{"$f":"'P Index Inputs'!H273","v":0},{"$f":"'P Index Inputs'!I273","v":0},{"$f":"'P Index Inputs'!J273","v":0},{"$f":"IF(ISBLANK('P Index Inputs'!L273),'P Index Inputs'!K273,'P Index Inputs'!L273)","v":"-"},{"$f":"'P Index Inputs'!M273","v":0},{"$f":"'P Index Inputs'!O273","v":0},{"$f":"'P Index Inputs'!P273","v":0},{"$f":"'P Index Inputs'!Q273","v":0},{"$f":"IFERROR(VLOOKUP(I271,'NR-PI 2.0 Structure'!$C$5:$D$8,2,FALSE),\"-\")","v":"-"},{"$f":"IFERROR(VLOOKUP(J271,'NR-PI 2.0 Structure'!$B$12:$C$16,2,FALSE),\"-\")","v":"-"},{"$f":"IFERROR(VLOOKUP(K271,'NR-PI 2.0 Structure'!$B$20:$D$21,3,FALSE),\"-\")","v":"-"},{"$f":"IFERROR(VLOOKUP(L271,'NR-PI 2.0 Structure'!$B$25:$C$28,2,FALSE),\"-\")","v":"-"},{"$f":"IFERROR(VLOOKUP(L271,'NR-PI 2.0 Structure'!$B$25:$D$28,3,FALSE),\"-\")","v":"-"},{"$f":"IFERROR(\n  IF(M271 = \"≤ 1\", 'NR-PI 2.0 Structure'!$D$32,\n  IF(M271 = \">1 - 3\", 'NR-PI 2.0 Structure'!$D$33,\n  IF(M271 = \">3 - 5\", 'NR-PI 2.0 Structure'!$D$34,\n  IF(M271 = \"> 5\", 'NR-PI 2.0 Structure'!$D$35, )))),\n\"-\")","v":0},{"$f":"IFERROR(IF(ISBLANK(I271),\"N/A\",IF(I271<>'NR-PI 2.0 Structure'!$C$5,(VLOOKUP(N271,'NR-PI 2.0 Structure'!$C$39:$D$40,2,FALSE)),0)),\" - \")","v":" - "},{"$f":"IFERROR(IF(ISBLANK(I271),\"N/A\",IF(I271<>'NR-PI 2.0 Structure'!$C$5,(VLOOKUP(N271,'NR-PI 2.0 Structure'!$C$39:$E$40,3,FALSE)),0)),\" - \")","v":" - "},"-","-","-","N/A",{"$f":"IF(ISBLANK('P Index Inputs'!R273),\"-\",'P Index Inputs'!R273)","v":"-"},{"$f":"IFERROR(IF(I271<>'NR-PI 2.0 Structure'!$C$5,VLOOKUP(AA271,'NR-PI 2.0 Structure'!$G$5:$H$9,2,FALSE),IF(OR(AA271='NR-PI 2.0 Structure'!$G$5,AA271='NR-PI 2.0 Structure'!$G$6,AA271='NR-PI 2.0 Structure'!$G$7),1,VLOOKUP(AA271,'NR-PI 2.0 Structure'!$G$8:$H$9,2,FALSE))),\"-\")","v":"-"},{"$f":"IF(ISBLANK('P Index Inputs'!S273),\"-\",'P Index Inputs'!S273)","v":"-"},{"$f":"IFERROR(VLOOKUP(AC271,'NR-PI 2.0 Structure'!$G$14:$H$19,2,FALSE),\"-\")","v":"-"},"-","-","N/A","N/A",0,0,0,0,0,0,0,0,0]
[{"$f":"'P Index Inputs'!A274","v":0},{"$f":"'P Index Inputs'!B274","v":0},{"$f":"'P Index Inputs'!C274","v":0},{"$f":"'P Index Inputs'!D274","v":0},{"$f":"'P Index Inputs'!E274","v":0},{"$f":"'P Index Inputs'!F274","v":0},{"$f":"'P Index Inputs'!H274","v":0},{"$f":"'P Index Inputs'!I274","v":0},{"$f":"'P Index Inputs'!J274","v":0},{"$f":"IF(ISBLANK('P Index Inputs'!L274),'P Index Inputs'!K274,'P Index Inputs'!L274)","v":"-"},{"$f":"'P Index Inputs'!M274","v":0},{"$f":"'P Index Inputs'!O274","v":0},{"$f":"'P Index Inputs'!P274","v":0},{"$f":"'P Index Inputs'!Q274","v":0},{"$f":"IFERROR(VLOOKUP(I272,'NR-PI 2.0 Structure'!$C$5:$D$8,2,FALSE),\"-\")","v":"-"},{"$f":"IFERROR(VLOOKUP(J272,'NR-PI 2.0 Structure'!$B$12:$C$16,2,FALSE),\"-\")","v":"-"},{"$f":"IFERROR(VLOOKUP(K272,'NR-PI 2.0 Structure'!$B$20:$D$21,3,FALSE),\"-\")","v":"-"},{"$f":"IFERROR(VLOOKUP(L272,'NR-PI 2.0 Structure'!$B$25:$C$28,2,FALSE),\"-\")","v":"-"},{"$f":"IFERROR(VLOOKUP(L272,'NR-PI 2.0 Structure'!$B$25:$D$28,3,FALSE),\"-\")","v":"-"},{"$f":"IFERROR(\n  IF(M272 = \"≤ 1\", 'NR-PI 2.0 Structure'!$D$32,\n  IF(M272 = \">1 - 3\", 'NR-PI 2.0 Structure'!$D$33,\n  IF(M272 = \">3 - 5\", 'NR-PI 2.0 Structure'!$D$34,\n  IF(M272 = \"> 5\", 'NR-PI 2.0 Structure'!$D$35, )))),\n\"-\")","v":0},{"$f":"IFERROR(IF(ISBLANK(I272),\"N/A\",IF(I272<>'NR-PI 2.0 Structure'!$C$5,(VLOOKUP(N272,'NR-PI 2.0 Structure'!$C$39:$D$40,2,FALSE)),0)),\" - \")","v":" - "},{"$f":"IFERROR(IF(ISBLANK(I272),\"N/A\",IF(I272<>'NR-PI 2.0 Structure'!$C$5,(VLOOKUP(N272,'NR-PI 2.0 Structure'!$C$39:$E$40,3,FALSE)),0)),\" - \")","v":" - "},"-","-","-","N/A",{"$f":"IF(ISBLANK('P Index Inputs'!R274),\"-\",'P Index Inputs'!R274)","v":"-"},{"$f":"IFERROR(IF(I272<>'NR-PI 2.0 Structure'!$C$5,VLOOKUP(AA272,'NR-PI 2.0 Structure'!$G$5:$H$9,2,FALSE),IF(OR(AA272='NR-PI 2.0 Structure'!$G$5,AA272='NR-PI 2.0 Structure'!$G$6,AA272='NR-PI 2.0 Structure'!$G$7),1,VLOOKUP(AA272,'NR-PI 2.0 Structure'!$G$8:$H$9,2,FALSE))),\"-\")","v":"-"},{"$f":"IF(ISBLANK('P Index Inputs'!S274),\"-\",'P Index Inputs'!S274)","v":"-"},{"$f":"IFERROR(VLOOKUP(AC272,'NR-PI 2.0 Structure'!$G$14:$H$19,2,FALSE),\"-\")","v":"-"},"-","-","N/A","N/A",0,0,0,0,0,0,0,0,0]
[{"$f":"'P Index Inputs'!A275","v":0},{"$f":"'P Index Inputs'!B275","v":0},{"$f":"'P Index Inputs'!C275","v":0},{"$f":"'P Index Inputs'!D275","v":0},{"$f":"'P Index Inputs'!E275","v":0},{"$f":"'P Index Inputs'!F275","v":0},{"$f":"'P Index Inputs'!H275","v":0},{"$f":"'P Index Inputs'!I275","v":0},{"$f":"'P Index Inputs'!J275","v":0},{"$f":"IF(ISBLANK('P Index Inputs'!L275),'P Index Inputs'!K275,'P Index Inputs'!L275)","v":"-"},{"$f":"'P Index Inputs'!M275","v":0},{"$f":"'P Index Inputs'!O275","v":0},{"$f":"'P Index Inputs'!P275","v":0},{"$f":"'P Index Inputs'!Q275","v":0},{"$f":"IFERROR(VLOOKUP(I273,'NR-PI 2.0 Structure'!$C$5:$D$8,2,FALSE),\"-\")","v":"-"},{"$f":"IFERROR(VLOOKUP(J273,'NR-PI 2.0 Structure'!$B$12:$C$16,2,FALSE),\"-\")","v":"-"},{"$f":"IFERROR(VLOOKUP(K273,'NR-PI 2.0 Structure'!$B$20:$D$21,3,FALSE),\"-\")","v":"-"},{"$f":"IFERROR(VLOOKUP(L273,'NR-PI 2.0 Structure'!$B$25:$C$28,2,FALSE),\"-\")","v":"-"},{"$f":"IFERROR(VLOOKUP(L273,'NR-PI 2.0 Structure'!$B$25:$D$28,3,FALSE),\"-\")","v":"-"},{"$f":"IFERROR(\n  IF(M273 = \"≤ 1\", 'NR-PI 2.0 Structure'!$D$32,\n  IF(M273 = \">1 - 3\", 'NR-PI 2.0 Structure'!$D$33,\n  IF(M273 = \">3 - 5\", 'NR-PI 2.0 Structure'!$D$34,\n  IF(M273 = \"> 5\", 'NR-PI 2.0 Structure'!$D$35, )))),\n\"-\")","v":0},{"$f":"IFERROR(IF(ISBLANK(I273),\"N/A\",IF(I273<>'NR-PI 2.0 Structure'!$C$5,(VLOOKUP(N273,'NR-PI 2.0 Structure'!$C$39:$D$40,2,FALSE)),0)),\" - \")","v":" - "},{"$f":"IFERROR(IF(ISBLANK(I273),\"N/A\",IF(I273<>'NR-PI 2.0 Structure'!$C$5,(VLOOKUP(N273,'NR-PI 2.0 Structure'!$C$39:$E$40,3,FALSE)),0)),\" - \")","v":" - "},"-","-","-","N/A",{"$f":"IF(ISBLANK('P Index Inputs'!R275),\"-\",'P Index Inputs'!R275)","v":"-"},{"$f":"IFERROR(IF(I273<>'NR-PI 2.0 Structure'!$C$5,VLOOKUP(AA273,'NR-PI 2.0 Structure'!$G$5:$H$9,2,FALSE),IF(OR(AA273='NR-PI 2.0 Structure'!$G$5,AA273='NR-PI 2.0 Structure'!$G$6,AA273='NR-PI 2.0 Structure'!$G$7),1,VLOOKUP(AA273,'NR-PI 2.0 Structure'!$G$8:$H$9,2,FALSE))),\"-\")","v":"-"},{"$f":"IF(ISBLANK('P Index Inputs'!S275),\"-\",'P Index Inputs'!S275)","v":"-"},{"$f":"IFERROR(VLOOKUP(AC273,'NR-PI 2.0 Structure'!$G$14:$H$19,2,FALSE),\"-\")","v":"-"},"-","-","N/A","N/A",0,0,0,0,0,0,0,0,0]
[{"$f":"'P Index Inputs'!A276","v":0},{"$f":"'P Index Inputs'!B276","v":0},{"$f":"'P Index Inputs'!C276","v":0},{"$f":"'P Index Inputs'!D276","v":0},{"$f":"'P Index Inputs'!E276","v":0},{"$f":"'P Index Inputs'!F276","v":0},{"$f":"'P Index Inputs'!H276","v":0},{"$f":"'P Index Inputs'!I276","v":0},{"$f":"'P Index Inputs'!J276","v":0},{"$f":"IF(ISBLANK('P Index Inputs'!L276),'P Index Inputs'!K276,'P Index Inputs'!L276)","v":"-"},{"$f":"'P Index Inputs'!M276","v":0},{"$f":"'P Index Inputs'!O276","v":0},{"$f":"'P Index Inputs'!P276","v":0},{"$f":"'P Index Inputs'!Q276","v":0},{"$f":"IFERROR(VLOOKUP(I274,'NR-PI 2.0 Structure'!$C$5:$D$8,2,FALSE),\"-\")","v":"-"},{"$f":"IFERROR(VLOOKUP(J274,'NR-PI 2.0 Structure'!$B$12:$C$16,2,FALSE),\"-\")","v":"-"},{"$f":"IFERROR(VLOOKUP(K274,'NR-PI 2.0 Structure'!$B$20:$D$21,3,FALSE),\"-\")","v":"-"},{"$f":"IFERROR(VLOOKUP(L274,'NR-PI 2.0 Structure'!$B$25:$C$28,2,FALSE),\"-\")","v":"-"},{"$f":"IFERROR(VLOOKUP(L274,'NR-PI 2.0 Structure'!$B$25:$D$28,3,FALSE),\"-\")","v":"-"},{"$f":"IFERROR(\n  IF(M274 = \"≤ 1\", 'NR-PI 2.0 Structure'!$D$32,\n  IF(M274 = \">1 - 3\", 'NR-PI 2.0 Structure'!$D$33,\n  IF(M274 = \">3 - 5\", 'NR-PI 2.0 Structure'!$D$34,\n  IF(M274 = \"> 5\", 'NR-PI 2.0 Structure'!$D$35, )))),\n\"-\")","v":0},{"$f":"IFERROR(IF(ISBLANK(I274),\"N/A\",IF(I274<>'NR-PI 2.0 Structure'!$C$5,(VLOOKUP(N274,'NR-PI 2.0 Structure'!$C$39:$D$40,2,FALSE)),0)),\" - \")","v":" - "},{"$f":"IFERROR(IF(ISBLANK(I274),\"N/A\",IF(I274<>'NR-PI 2.0 Structure'!$C$5,(VLOOKUP(N274,'NR-PI 2.0 Structure'!$C$39:$E$40,3,FALSE)),0)),\" - \")","v":" - "},"-","-","-","N/A",{"$f":"IF(ISBLANK('P Index Inputs'!R276),\"-\",'P Index Inputs'!R276)","v":"-"},{"$f":"IFERROR(IF(I274<>'NR-PI 2.0 Structure'!$C$5,VLOOKUP(AA274,'NR-PI 2.0 Structure'!$G$5:$H$9,2,FALSE),IF(OR(AA274='NR-PI 2.0 Structure'!$G$5,AA274='NR-PI 2.0 Structure'!$G$6,AA274='NR-PI 2.0 Structure'!$G$7),1,VLOOKUP(AA274,'NR-PI 2.0 Structure'!$G$8:$H$9,2,FALSE))),\"-\")","v":"-"},{"$f":"IF(ISBLANK('P Index Inputs'!S276),\"-\",'P Index Inputs'!S276)","v":"-"},{"$f":"IFERROR(VLOOKUP(AC274,'NR-PI 2.0 Structure'!$G$14:$H$19,2,FALSE),\"-\")","v":"-"},"-","-","N/A","N/A",0,0,0,0,0,0,0,0,0]
[{"$f":"'P Index Inputs'!A277","v":0},{"$f":"'P Index Inputs'!B277","v":0},{"$f":"'P Index Inputs'!C277","v":0},{"$f":"'P Index Inputs'!D277","v":0},{"$f":"'P Index Inputs'!E277","v":0},{"$f":"'P Index Inputs'!F277","v":0},{"$f":"'P Index Inputs'!H277","v":0},{"$f":"'P Index Inputs'!I277","v":0},{"$f":"'P Index Inputs'!J277","v":0},{"$f":"IF(ISBLANK('P Index Inputs'!L277),'P Index Inputs'!K277,'P Index Inputs'!L277)","v":"-"},{"$f":"'P Index Inputs'!M277","v":0},{"$f":"'P Index Inputs'!O277","v":0},{"$f":"'P Index Inputs'!P277","v":0},{"$f":"'P Index Inputs'!Q277","v":0},{"$f":"IFERROR(VLOOKUP(I275,'NR-PI 2.0 Structure'!$C$5:$D$8,2,FALSE),\"-\")","v":"-"},{"$f":"IFERROR(VLOOKUP(J275,'NR-PI 2.0 Structure'!$B$12:$C$16,2,FALSE),\"-\")","v":"-"},{"$f":"IFERROR(VLOOKUP(K275,'NR-PI 2.0 Structure'!$B$20:$D$21,3,FALSE),\"-\")","v":"-"},{"$f":"IFERROR(VLOOKUP(L275,'NR-PI 2.0 Structure'!$B$25:$C$28,2,FALSE),\"-\")","v":"-"},{"$f":"IFERROR(VLOOKUP(L275,'NR-PI 2.0 Structure'!$B$25:$D$28,3,FALSE),\"-\")","v":"-"},{"$f":"IFERROR(\n  IF(M275 = \"≤ 1\", 'NR-PI 2.0 Structure'!$D$32,\n  IF(M275 = \">1 - 3\", 'NR-PI 2.0 Structure'!$D$33,\n  IF(M275 = \">3 - 5\", 'NR-PI 2.0 Structure'!$D$34,\n  IF(M275 = \"> 5\", 'NR-PI 2.0 Structure'!$D$35, )))),\n\"-\")","v":0},{"$f":"IFERROR(IF(ISBLANK(I275),\"N/A\",IF(I275<>'NR-PI 2.0 Structure'!$C$5,(VLOOKUP(N275,'NR-PI 2.0 Structure'!$C$39:$D$40,2,FALSE)),0)),\" - \")","v":" - "},{"$f":"IFERROR(IF(ISBLANK(I275),\"N/A\",IF(I275<>'NR-PI 2.0 Structure'!$C$5,(VLOOKUP(N275,'NR-PI 2.0 Structure'!$C$39:$E$40,3,FALSE)),0)),\" - \")","v":" - "},"-","-","-","N/A",{"$f":"IF(ISBLANK('P Index Inputs'!R277),\"-\",'P Index Inputs'!R277)","v":"-"},{"$f":"IFERROR(IF(I275<>'NR-PI 2.0 Structure'!$C$5,VLOOKUP(AA275,'NR-PI 2.0 Structure'!$G$5:$H$9,2,FALSE),IF(OR(AA275='NR-PI 2.0 Structure'!$G$5,AA275='NR-PI 2.0 Structure'!$G$6,AA275='NR-PI 2.0 Structure'!$G$7),1,VLOOKUP(AA275,'NR-PI 2.0 Structure'!$G$8:$H$9,2,FALSE))),\"-\")","v":"-"},{"$f":"IF(ISBLANK('P Index Inputs'!S277),\"-\",'P Index Inputs'!S277)","v":"-"},{"$f":"IFERROR(VLOOKUP(AC275,'NR-PI 2.0 Structure'!$G$14:$H$19,2,FALSE),\"-\")","v":"-"},"-","-","N/A","N/A",0,0,0,0,0,0,0,0,0]
[{"$f":"'P Index Inputs'!A278","v":0},{"$f":"'P Index Inputs'!B278","v":0},{"$f":"'P Index Inputs'!C278","v":0},{"$f":"'P Index Inputs'!D278","v":0},{"$f":"'P Index Inputs'!E278","v":0},{"$f":"'P Index Inputs'!F278","v":0},{"$f":"'P Index Inputs'!H278","v":0},{"$f":"'P Index Inputs'!I278","v":0},{"$f":"'P Index Inputs'!J278","v":0},{"$f":"IF(ISBLANK('P Index Inputs'!L278),'P Index Inputs'!K278,'P Index Inputs'!L278)","v":"-"},{"$f":"'P Index Inputs'!M278","v":0},{"$f":"'P Index Inputs'!O278","v":0},{"$f":"'P Index Inputs'!P278","v":0},{"$f":"'P Index Inputs'!Q278","v":0},{"$f":"IFERROR(VLOOKUP(I276,'NR-PI 2.0 Structure'!$C$5:$D$8,2,FALSE),\"-\")","v":"-"},{"$f":"IFERROR(VLOOKUP(J276,'NR-PI 2.0 Structure'!$B$12:$C$16,2,FALSE),\"-\")","v":"-"},{"$f":"IFERROR(VLOOKUP(K276,'NR-PI 2.0 Structure'!$B$20:$D$21,3,FALSE),\"-\")","v":"-"},{"$f":"IFERROR(VLOOKUP(L276,'NR-PI 2.0 Structure'!$B$25:$C$28,2,FALSE),\"-\")","v":"-"},{"$f":"IFERROR(VLOOKUP(L276,'NR-PI 2.0 Structure'!$B$25:$D$28,3,FALSE),\"-\")","v":"-"},{"$f":"IFERROR(\n  IF(M276 = \"≤ 1\", 'NR-PI 2.0 Structure'!$D$32,\n  IF(M276 = \">1 - 3\", 'NR-PI 2.0 Structure'!$D$33,\n  IF(M276 = \">3 - 5\", 'NR-PI 2.0 Structure'!$D$34,\n  IF(M276 = \"> 5\", 'NR-PI 2.0 Structure'!$D$35, )))),\n\"-\")","v":0},{"$f":"IFERROR(IF(ISBLANK(I276),\"N/A\",IF(I276<>'NR-PI 2.0 Structure'!$C$5,(VLOOKUP(N276,'NR-PI 2.0 Structure'!$C$39:$D$40,2,FALSE)),0)),\" - \")","v":" - "},{"$f":"IFERROR(IF(ISBLANK(I276),\"N/A\",IF(I276<>'NR-PI 2.0 Structure'!$C$5,(VLOOKUP(N276,'NR-PI 2.0 Structure'!$C$39:$E$40,3,FALSE)),0)),\" - \")","v":" - "},"-","-","-","N/A",{"$f":"IF(ISBLANK('P Index Inputs'!R278),\"-\",'P Index Inputs'!R278)","v":"-"},{"$f":"IFERROR(IF(I276<>'NR-PI 2.0 Structure'!$C$5,VLOOKUP(AA276,'NR-PI 2.0 Structure'!$G$5:$H$9,2,FALSE),IF(OR(AA276='NR-PI 2.0 Structure'!$G$5,AA276='NR-PI 2.0 Structure'!$G$6,AA276='NR-PI 2.0 Structure'!$G$7),1,VLOOKUP(AA276,'NR-PI 2.0 Structure'!$G$8:$H$9,2,FALSE))),\"-\")","v":"-"},{"$f":"IF(ISBLANK('P Index Inputs'!S278),\"-\",'P Index Inputs'!S278)","v":"-"},{"$f":"IFERROR(VLOOKUP(AC276,'NR-PI 2.0 Structure'!$G$14:$H$19,2,FALSE),\"-\")","v":"-"},"-","-","N/A","N/A",0,0,0,0,0,0,0,0,0]
[{"$f":"'P Index Inputs'!A279","v":0},{"$f":"'P Index Inputs'!B279","v":0},{"$f":"'P Index Inputs'!C279","v":0},{"$f":"'P Index Inputs'!D279","v":0},{"$f":"'P Index Inputs'!E279","v":0},{"$f":"'P Index Inputs'!F279","v":0},{"$f":"'P Index Inputs'!H279","v":0},{"$f":"'P Index Inputs'!I279","v":0},{"$f":"'P Index Inputs'!J279","v":0},{"$f":"IF(ISBLANK('P Index Inputs'!L279),'P Index Inputs'!K279,'P Index Inputs'!L279)","v":"-"},{"$f":"'P Index Inputs'!M279","v":0},{"$f":"'P Index Inputs'!O279","v":0},{"$f":"'P Index Inputs'!P279","v":0},{"$f":"'P Index Inputs'!Q279","v":0},{"$f":"IFERROR(VLOOKUP(I277,'NR-PI 2.0 Structure'!$C$5:$D$8,2,FALSE),\"-\")","v":"-"},{"$f":"IFERROR(VLOOKUP(J277,'NR-PI 2.0 Structure'!$B$12:$C$16,2,FALSE),\"-\")","v":"-"},{"$f":"IFERROR(VLOOKUP(K277,'NR-PI 2.0 Structure'!$B$20:$D$21,3,FALSE),\"-\")","v":"-"},{"$f":"IFERROR(VLOOKUP(L277,'NR-PI 2.0 Structure'!$B$25:$C$28,2,FALSE),\"-\")","v":"-"},{"$f":"IFERROR(VLOOKUP(L277,'NR-PI 2.0 Structure'!$B$25:$D$28,3,FALSE),\"-\")","v":"-"},{"$f":"IFERROR(\n  IF(M277 = \"≤ 1\", 'NR-PI 2.0 Structure'!$D$32,\n  IF(M277 = \">1 - 3\", 'NR-PI 2.0 Structure'!$D$33,\n  IF(M277 = \">3 - 5\", 'NR-PI 2.0 Structure'!$D$34,\n  IF(M277 = \"> 5\", 'NR-PI 2.0 Structure'!$D$35, )))),\n\"-\")","v":0},{"$f":"IFERROR(IF(ISBLANK(I277),\"N/A\",IF(I277<>'NR-PI 2.0 Structure'!$C$5,(VLOOKUP(N277,'NR-PI 2.0 Structure'!$C$39:$D$40,2,FALSE)),0)),\" - \")","v":" - "},{"$f":"IFERROR(IF(ISBLANK(I277),\"N/A\",IF(I277<>'NR-PI 2.0 Structure'!$C$5,(VLOOKUP(N277,'NR-PI 2.0 Structure'!$C$39:$E$40,3,FALSE)),0)),\" - \")","v":" - "},"-","-","-",{"$f":"IF(Y277=\"-\",\"N/A\",IF(Y277<50, \"Low\", IF(Y277<75, \"Medium\", IF(Y277<100, \"High\", IF(Y277>=100, \"Very High\")))))","v":"N/A"},{"$f":"IF(ISBLANK('P Index Inputs'!R279),\"-\",'P Index Inputs'!R279)","v":"-"},{"$f":"IFERROR(IF(I277<>'NR-PI 2.0 Structure'!$C$5,VLOOKUP(AA277,'NR-PI 2.0 Structure'!$G$5:$H$9,2,FALSE),IF(OR(AA277='NR-PI 2.0 Structure'!$G$5,AA277='NR-PI 2.0 Structure'!$G$6,AA277='NR-PI 2.0 Structure'!$G$7),1,VLOOKUP(AA277,'NR-PI 2.0 Structure'!$G$8:$H$9,2,FALSE))),\"-\")","v":"-"},{"$f":"IF(ISBLANK('P Index Inputs'!S279),\"-\",'P Index Inputs'!S279)","v":"-"},{"$f":"IFERROR(VLOOKUP(AC277,'NR-PI 2.0 Structure'!$G$14:$H$19,2,FALSE),\"-\")","v":"-"},"-","-","N/A","N/A",0,0,0,0,0,0,0,0,0]
[{"$f":"'P Index Inputs'!A280","v":0},{"$f":"'P Index Inputs'!B280","v":0},{"$f":"'P Index Inputs'!C280","v":0},{"$f":"'P Index Inputs'!D280","v":0},{"$f":"'P Index Inputs'!E280","v":0},{"$f":"'P Index Inputs'!F280","v":0},{"$f":"'P Index Inputs'!H280","v":0},{"$f":"'P Index Inputs'!I280","v":0},{"$f":"'P Index Inputs'!J280","v":0},{"$f":"IF(ISBLANK('P Index Inputs'!L280),'P Index Inputs'!K280,'P Index Inputs'!L280)","v":"-"},{"$f":"'P Index Inputs'!M280","v":0},{"$f":"'P Index Inputs'!O280","v":0},{"$f":"'P Index Inputs'!P280","v":0},{"$f":"'P Index Inputs'!Q280","v":0},{"$f":"IFERROR(VLOOKUP(I278,'NR-PI 2.0 Structure'!$C$5:$D$8,2,FALSE),\"-\")","v":"-"},{"$f":"IFERROR(VLOOKUP(J278,'NR-PI 2.0 Structure'!$B$12:$C$16,2,FALSE),\"-\")","v":"-"},{"$f":"IFERROR(VLOOKUP(K278,'NR-PI 2.0 Structure'!$B$20:$D$21,3,FALSE),\"-\")","v":"-"},{"$f":"IFERROR(VLOOKUP(L278,'NR-PI 2.0 Structure'!$B$25:$C$28,2,FALSE),\"-\")","v":"-"},{"$f":"IFERROR(VLOOKUP(L278,'NR-PI 2.0 Structure'!$B$25:$D$28,3,FALSE),\"-\")","v":"-"},{"$f":"IFERROR(\n  IF(M278 = \"≤ 1\", 'NR-PI 2.0 Structure'!$D$32,\n  IF(M278 = \">1 - 3\", 'NR-PI 2.0 Structure'!$D$33,\n  IF(M278 = \">3 - 5\", 'NR-PI 2.0 Structure'!$D$34,\n  IF(M278 = \"> 5\", 'NR-PI 2.0 Structure'!$D$35, )))),\n\"-\")","v":0},{"$f":"IFERROR(IF(ISBLANK(I278),\"N/A\",IF(I278<>'NR-PI 2.0 Structure'!$C$5,(VLOOKUP(N278,'NR-PI 2.0 Structure'!$C$39:$D$40,2,FALSE)),0)),\" - \")","v":" - "},{"$f":"IFERROR(IF(ISBLANK(I278),\"N/A\",IF(I278<>'NR-PI 2.0 Structure'!$C$5,(VLOOKUP(N278,'NR-PI 2.0 Structure'!$C$39:$E$40,3,FALSE)),0)),\" - \")","v":" - "},"-","-","-","N/A",{"$f":"IF(ISBLANK('P Index Inputs'!R280),\"-\",'P Index Inputs'!R280)","v":"-"},{"$f":"IFERROR(IF(I278<>'NR-PI 2.0 Structure'!$C$5,VLOOKUP(AA278,'NR-PI 2.0 Structure'!$G$5:$H$9,2,FALSE),IF(OR(AA278='NR-PI 2.0 Structure'!$G$5,AA278='NR-PI 2.0 Structure'!$G$6,AA278='NR-PI 2.0 Structure'!$G$7),1,VLOOKUP(AA278,'NR-PI 2.0 Structure'!$G$8:$H$9,2,FALSE))),\"-\")","v":"-"},{"$f":"IF(ISBLANK('P Index Inputs'!S280),\"-\",'P Index Inputs'!S280)","v":"-"},{"$f":"IFERROR(VLOOKUP(AC278,'NR-PI 2.0 Structure'!$G$14:$H$19,2,FALSE),\"-\")","v":"-"},"-","-","N/A","N/A",0,0,0,0,0,0,0,0,0]
[{"$f":"'P Index Inputs'!A281","v":0},{"$f":"'P Index Inputs'!B281","v":0},{"$f":"'P Index Inputs'!C281","v":0},{"$f":"'P Index Inputs'!D281","v":0},{"$f":"'P Index Inputs'!E281","v":0},{"$f":"'P Index Inputs'!F281","v":0},{"$f":"'P Index Inputs'!H281","v":0},{"$f":"'P Index Inputs'!I281","v":0},{"$f":"'P Index Inputs'!J281","v":0},{"$f":"IF(ISBLANK('P Index Inputs'!L281),'P Index Inputs'!K281,'P Index Inputs'!L281)","v":"-"},{"$f":"'P Index Inputs'!M281","v":0},{"$f":"'P Index Inputs'!O281","v":0},{"$f":"'P Index Inputs'!P281","v":0},{"$f":"'P Index Inputs'!Q281","v":0},{"$f":"IFERROR(VLOOKUP(I279,'NR-PI 2.0 Structure'!$C$5:$D$8,2,FALSE),\"-\")","v":"-"},{"$f":"IFERROR(VLOOKUP(J279,'NR-PI 2.0 Structure'!$B$12:$C$16,2,FALSE),\"-\")","v":"-"},{"$f":"IFERROR(VLOOKUP(K279,'NR-PI 2.0 Structure'!$B$20:$D$21,3,FALSE),\"-\")","v":"-"},{"$f":"IFERROR(VLOOKUP(L279,'NR-PI 2.0 Structure'!$B$25:$C$28,2,FALSE),\"-\")","v":"-"},{"$f":"IFERROR(VLOOKUP(L279,'NR-PI 2.0 Structure'!$B$25:$D$28,3,FALSE),\"-\")","v":"-"},{"$f":"IFERROR(\n  IF(M279 = \"≤ 1\", 'NR-PI 2.0 Structure'!$D$32,\n  IF(M279 = \">1 - 3\", 'NR-PI 2.0 Structure'!$D$33,\n  IF(M279 = \">3 - 5\", 'NR-PI 2.0 Structure'!$D$34,\n  IF(M279 = \"> 5\", 'NR-PI 2.0 Structure'!$D$35, )))),\n\"-\")","v":0},{"$f":"IFERROR(IF(ISBLANK(I279),\"N/A\",IF(I279<>'NR-PI 2.0 Structure'!$C$5,(VLOOKUP(N279,'NR-PI 2.0 Structure'!$C$39:$D$40,2,FALSE)),0)),\" - \")","v":" - "},{"$f":"IFERROR(IF(ISBLANK(I279),\"N/A\",IF(I279<>'NR-PI 2.0 Structure'!$C$5,(VLOOKUP(N279,'NR-PI 2.0 Structure'!$C$39:$E$40,3,FALSE)),0)),\" - \")","v":" - "},"-","-","-","N/A",{"$f":"IF(ISBLANK('P Index Inputs'!R281),\"-\",'P Index Inputs'!R281)","v":"-"},{"$f":"IFERROR(IF(I279<>'NR-PI 2.0 Structure'!$C$5,VLOOKUP(AA279,'NR-PI 2.0 Structure'!$G$5:$H$9,2,FALSE),IF(OR(AA279='NR-PI 2.0 Structure'!$G$5,AA279='NR-PI 2.0 Structure'!$G$6,AA279='NR-PI 2.0 Structure'!$G$7),1,VLOOKUP(AA279,'NR-PI 2.0 Structure'!$G$8:$H$9,2,FALSE))),\"-\")","v":"-"},{"$f":"IF(ISBLANK('P Index Inputs'!S281),\"-\",'P Index Inputs'!S281)","v":"-"},{"$f":"IFERROR(VLOOKUP(AC279,'NR-PI 2.0 Structure'!$G$14:$H$19,2,FALSE),\"-\")","v":"-"},"-","-","N/A","N/A",0,0,0,0,0,0,0,0,0]
[{"$f":"'P Index Inputs'!A282","v":0},{"$f":"'P Index Inputs'!B282","v":0},{"$f":"'P Index Inputs'!C282","v":0},{"$f":"'P Index Inputs'!D282","v":0},{"$f":"'P Index Inputs'!E282","v":0},{"$f":"'P Index Inputs'!F282","v":0},{"$f":"'P Index Inputs'!H282","v":0},{"$f":"'P Index Inputs'!I282","v":0},{"$f":"'P Index Inputs'!J282","v":0},{"$f":"IF(ISBLANK('P Index Inputs'!L282),'P Index Inputs'!K282,'P Index Inputs'!L282)","v":"-"},{"$f":"'P Index Inputs'!M282","v":0},{"$f":"'P Index Inputs'!O282","v":0},{"$f":"'P Index Inputs'!P282","v":0},{"$f":"'P Index Inputs'!Q282","v":0},{"$f":"IFERROR(VLOOKUP(I280,'NR-PI 2.0 Structure'!$C$5:$D$8,2,FALSE),\"-\")","v":"-"},{"$f":"IFERROR(VLOOKUP(J280,'NR-PI 2.0 Structure'!$B$12:$C$16,2,FALSE),\"-\")","v":"-"},{"$f":"IFERROR(VLOOKUP(K280,'NR-PI 2.0 Structure'!$B$20:$D$21,3,FALSE),\"-\")","v":"-"},{"$f":"IFERROR(VLOOKUP(L280,'NR-PI 2.0 Structure'!$B$25:$C$28,2,FALSE),\"-\")","v":"-"},{"$f":"IFERROR(VLOOKUP(L280,'NR-PI 2.0 Structure'!$B$25:$D$28,3,FALSE),\"-\")","v":"-"},{"$f":"IFERROR(\n  IF(M280 = \"≤ 1\", 'NR-PI 2.0 Structure'!$D$32,\n  IF(M280 = \">1 - 3\", 'NR-PI 2.0 Structure'!$D$33,\n  IF(M280 = \">3 - 5\", 'NR-PI 2.0 Structure'!$D$34,\n  IF(M280 = \"> 5\", 'NR-PI 2.0 Structure'!$D$35, )))),\n\"-\")","v":0},{"$f":"IFERROR(IF(ISBLANK(I280),\"N/A\",IF(I280<>'NR-PI 2.0 Structure'!$C$5,(VLOOKUP(N280,'NR-PI 2.0 Structure'!$C$39:$D$40,2,FALSE)),0)),\" - \")","v":" - "},{"$f":"IFERROR(IF(ISBLANK(I280),\"N/A\",IF(I280<>'NR-PI 2.0 Structure'!$C$5,(VLOOKUP(N280,'NR-PI 2.0 Structure'!$C$39:$E$40,3,FALSE)),0)),\" - \")","v":" - "},"-","-","-","N/A",{"$f":"IF(ISBLANK('P Index Inputs'!R282),\"-\",'P Index Inputs'!R282)","v":"-"},{"$f":"IFERROR(IF(I280<>'NR-PI 2.0 Structure'!$C$5,VLOOKUP(AA280,'NR-PI 2.0 Structure'!$G$5:$H$9,2,FALSE),IF(OR(AA280='NR-PI 2.0 Structure'!$G$5,AA280='NR-PI 2.0 Structure'!$G$6,AA280='NR-PI 2.0 Structure'!$G$7),1,VLOOKUP(AA280,'NR-PI 2.0 Structure'!$G$8:$H$9,2,FALSE))),\"-\")","v":"-"},{"$f":"IF(ISBLANK('P Index Inputs'!S282),\"-\",'P Index Inputs'!S282)","v":"-"},{"$f":"IFERROR(VLOOKUP(AC280,'NR-PI 2.0 Structure'!$G$14:$H$19,2,FALSE),\"-\")","v":"-"},"-","-","N/A","N/A",0,0,0,0,0,0,0,0,0]
[{"$f":"'P Index Inputs'!A283","v":0},{"$f":"'P Index Inputs'!B283","v":0},{"$f":"'P Index Inputs'!C283","v":0},{"$f":"'P Index Inputs'!D283","v":0},{"$f":"'P Index Inputs'!E283","v":0},{"$f":"'P Index Inputs'!F283","v":0},{"$f":"'P Index Inputs'!H283","v":0},{"$f":"'P Index Inputs'!I283","v":0},{"$f":"'P Index Inputs'!J283","v":0},{"$f":"IF(ISBLANK('P Index Inputs'!L283),'P Index Inputs'!K283,'P Index Inputs'!L283)","v":"-"},{"$f":"'P Index Inputs'!M283","v":0},{"$f":"'P Index Inputs'!O283","v":0},{"$f":"'P Index Inputs'!P283","v":0},{"$f":"'P Index Inputs'!Q283","v":0},{"$f":"IFERROR(VLOOKUP(I281,'NR-PI 2.0 Structure'!$C$5:$D$8,2,FALSE),\"-\")","v":"-"},{"$f":"IFERROR(VLOOKUP(J281,'NR-PI 2.0 Structure'!$B$12:$C$16,2,FALSE),\"-\")","v":"-"},{"$f":"IFERROR(VLOOKUP(K281,'NR-PI 2.0 Structure'!$B$20:$D$21,3,FALSE),\"-\")","v":"-"},{"$f":"IFERROR(VLOOKUP(L281,'NR-PI 2.0 Structure'!$B$25:$C$28,2,FALSE),\"-\")","v":"-"},{"$f":"IFERROR(VLOOKUP(L281,'NR-PI 2.0 Structure'!$B$25:$D$28,3,FALSE),\"-\")","v":"-"},{"$f":"IFERROR(\n  IF(M281 = \"≤ 1\", 'NR-PI 2.0 Structure'!$D$32,\n  IF(M281 = \">1 - 3\", 'NR-PI 2.0 Structure'!$D$33,\n  IF(M281 = \">3 - 5\", 'NR-PI 2.0 Structure'!$D$34,\n  IF(M281 = \"> 5\", 'NR-PI 2.0 Structure'!$D$35, )))),\n\"-\")","v":0},{"$f":"IFERROR(IF(ISBLANK(I281),\"N/A\",IF(I281<>'NR-PI 2.0 Structure'!$C$5,(VLOOKUP(N281,'NR-PI 2.0 Structure'!$C$39:$D$40,2,FALSE)),0)),\" - \")","v":" - "},{"$f":"IFERROR(IF(ISBLANK(I281),\"N/A\",IF(I281<>'NR-PI 2.0 Structure'!$C$5,(VLOOKUP(N281,'NR-PI 2.0 Structure'!$C$39:$E$40,3,FALSE)),0)),\" - \")","v":" - "},"-","-","-","N/A",{"$f":"IF(ISBLANK('P Index Inputs'!R283),\"-\",'P Index Inputs'!R283)","v":"-"},{"$f":"IFERROR(IF(I281<>'NR-PI 2.0 Structure'!$C$5,VLOOKUP(AA281,'NR-PI 2.0 Structure'!$G$5:$H$9,2,FALSE),IF(OR(AA281='NR-PI 2.0 Structure'!$G$5,AA281='NR-PI 2.0 Structure'!$G$6,AA281='NR-PI 2.0 Structure'!$G$7),1,VLOOKUP(AA281,'NR-PI 2.0 Structure'!$G$8:$H$9,2,FALSE))),\"-\")","v":"-"},{"$f":"IF(ISBLANK('P Index Inputs'!S283),\"-\",'P Index Inputs'!S283)","v":"-"},{"$f":"IFERROR(VLOOKUP(AC281,'NR-PI 2.0 Structure'!$G$14:$H$19,2,FALSE),\"-\")","v":"-"},"-","-","N/A","N/A",0,0,0,0,0,0,0,0,0]
[{"$f":"'P Index Inputs'!A284","v":0},{"$f":"'P Index Inputs'!B284","v":0},{"$f":"'P Index Inputs'!C284","v":0},{"$f":"'P Index Inputs'!D284","v":0},{"$f":"'P Index Inputs'!E284","v":0},{"$f":"'P Index Inputs'!F284","v":0},{"$f":"'P Index Inputs'!H284","v":0},{"$f":"'P Index Inputs'!I284","v":0},{"$f":"'P Index Inputs'!J284","v":0},{"$f":"IF(ISBLANK('P Index Inputs'!L284),'P Index Inputs'!K284,'P Index Inputs'!L284)","v":"-"},{"$f":"'P Index Inputs'!M284","v":0},{"$f":"'P Index Inputs'!O284","v":0},{"$f":"'P Index Inputs'!P284","v":0},{"$f":"'P Index Inputs'!Q284","v":0},{"$f":"IFERROR(VLOOKUP(I282,'NR-PI 2.0 Structure'!$C$5:$D$8,2,FALSE),\"-\")","v":"-"},{"$f":"IFERROR(VLOOKUP(J282,'NR-PI 2.0 Structure'!$B$12:$C$16,2,FALSE),\"-\")","v":"-"},{"$f":"IFERROR(VLOOKUP(K282,'NR-PI 2.0 Structure'!$B$20:$D$21,3,FALSE),\"-\")","v":"-"},{"$f":"IFERROR(VLOOKUP(L282,'NR-PI 2.0 Structure'!$B$25:$C$28,2,FALSE),\"-\")","v":"-"},{"$f":"IFERROR(VLOOKUP(L282,'NR-PI 2.0 Structure'!$B$25:$D$28,3,FALSE),\"-\")","v":"-"},{"$f":"IFERROR(\n  IF(M282 = \"≤ 1\", 'NR-PI 2.0 Structure'!$D$32,\n  IF(M282 = \">1 - 3\", 'NR-PI 2.0 Structure'!$D$33,\n  IF(M282 = \">3 - 5\", 'NR-PI 2.0 Structure'!$D$34,\n  IF(M282 = \"> 5\", 'NR-PI 2.0 Structure'!$D$35, )))),\n\"-\")","v":0},{"$f":"IFERROR(IF(ISBLANK(I282),\"N/A\",IF(I282<>'NR-PI 2.0 Structure'!$C$5,(VLOOKUP(N282,'NR-PI 2.0 Structure'!$C$39:$D$40,2,FALSE)),0)),\" - \")","v":" - "},{"$f":"IFERROR(IF(ISBLANK(I282),\"N/A\",IF(I282<>'NR-PI 2.0 Structure'!$C$5,(VLOOKUP(N282,'NR-PI 2.0 Structure'!$C$39:$E$40,3,FALSE)),0)),\" - \")","v":" - "},"-","-","-","N/A",{"$f":"IF(ISBLANK('P Index Inputs'!R284),\"-\",'P Index Inputs'!R284)","v":"-"},{"$f":"IFERROR(IF(I282<>'NR-PI 2.0 Structure'!$C$5,VLOOKUP(AA282,'NR-PI 2.0 Structure'!$G$5:$H$9,2,FALSE),IF(OR(AA282='NR-PI 2.0 Structure'!$G$5,AA282='NR-PI 2.0 Structure'!$G$6,AA282='NR-PI 2.0 Structure'!$G$7),1,VLOOKUP(AA282,'NR-PI 2.0 Structure'!$G$8:$H$9,2,FALSE))),\"-\")","v":"-"},{"$f":"IF(ISBLANK('P Index Inputs'!S284),\"-\",'P Index Inputs'!S284)","v":"-"},{"$f":"IFERROR(VLOOKUP(AC282,'NR-PI 2.0 Structure'!$G$14:$H$19,2,FALSE),\"-\")","v":"-"},"-","-","N/A","N/A",0,0,0,0,0,0,0,0,0]
[{"$f":"'P Index Inputs'!A285","v":0},{"$f":"'P Index Inputs'!B285","v":0},{"$f":"'P Index Inputs'!C285","v":0},{"$f":"'P Index Inputs'!D285","v":0},{"$f":"'P Index Inputs'!E285","v":0},{"$f":"'P Index Inputs'!F285","v":0},{"$f":"'P Index Inputs'!H285","v":0},{"$f":"'P Index Inputs'!I285","v":0},{"$f":"'P Index Inputs'!J285","v":0},{"$f":"IF(ISBLANK('P Index Inputs'!L285),'P Index Inputs'!K285,'P Index Inputs'!L285)","v":"-"},{"$f":"'P Index Inputs'!M285","v":0},{"$f":"'P Index Inputs'!O285","v":0},{"$f":"'P Index Inputs'!P285","v":0},{"$f":"'P Index Inputs'!Q285","v":0},{"$f":"IFERROR(VLOOKUP(I283,'NR-PI 2.0 Structure'!$C$5:$D$8,2,FALSE),\"-\")","v":"-"},{"$f":"IFERROR(VLOOKUP(J283,'NR-PI 2.0 Structure'!$B$12:$C$16,2,FALSE),\"-\")","v":"-"},{"$f":"IFERROR(VLOOKUP(K283,'NR-PI 2.0 Structure'!$B$20:$D$21,3,FALSE),\"-\")","v":"-"},{"$f":"IFERROR(VLOOKUP(L283,'NR-PI 2.0 Structure'!$B$25:$C$28,2,FALSE),\"-\")","v":"-"},{"$f":"IFERROR(VLOOKUP(L283,'NR-PI 2.0 Structure'!$B$25:$D$28,3,FALSE),\"-\")","v":"-"},{"$f":"IFERROR(\n  IF(M283 = \"≤ 1\", 'NR-PI 2.0 Structure'!$D$32,\n  IF(M283 = \">1 - 3\", 'NR-PI 2.0 Structure'!$D$33,\n  IF(M283 = \">3 - 5\", 'NR-PI 2.0 Structure'!$D$34,\n  IF(M283 = \"> 5\", 'NR-PI 2.0 Structure'!$D$35, )))),\n\"-\")","v":0},{"$f":"IFERROR(IF(ISBLANK(I283),\"N/A\",IF(I283<>'NR-PI 2.0 Structure'!$C$5,(VLOOKUP(N283,'NR-PI 2.0 Structure'!$C$39:$D$40,2,FALSE)),0)),\" - \")","v":" - "},{"$f":"IFERROR(IF(ISBLANK(I283),\"N/A\",IF(I283<>'NR-PI 2.0 Structure'!$C$5,(VLOOKUP(N283,'NR-PI 2.0 Structure'!$C$39:$E$40,3,FALSE)),0)),\" - \")","v":" - "},"-","-","-","N/A",{"$f":"IF(ISBLANK('P Index Inputs'!R285),\"-\",'P Index Inputs'!R285)","v":"-"},{"$f":"IFERROR(IF(I283<>'NR-PI 2.0 Structure'!$C$5,VLOOKUP(AA283,'NR-PI 2.0 Structure'!$G$5:$H$9,2,FALSE),IF(OR(AA283='NR-PI 2.0 Structure'!$G$5,AA283='NR-PI 2.0 Structure'!$G$6,AA283='NR-PI 2.0 Structure'!$G$7),1,VLOOKUP(AA283,'NR-PI 2.0 Structure'!$G$8:$H$9,2,FALSE))),\"-\")","v":"-"},{"$f":"IF(ISBLANK('P Index Inputs'!S285),\"-\",'P Index Inputs'!S285)","v":"-"},{"$f":"IFERROR(VLOOKUP(AC283,'NR-PI 2.0 Structure'!$G$14:$H$19,2,FALSE),\"-\")","v":"-"},"-","-","N/A","N/A",0,0,0,0,0,0,0,0,0]
[{"$f":"'P Index Inputs'!A286","v":0},{"$f":"'P Index Inputs'!B286","v":0},{"$f":"'P Index Inputs'!C286","v":0},{"$f":"'P Index Inputs'!D286","v":0},{"$f":"'P Index Inputs'!E286","v":0},{"$f":"'P Index Inputs'!F286","v":0},{"$f":"'P Index Inputs'!H286","v":0},{"$f":"'P Index Inputs'!I286","v":0},{"$f":"'P Index Inputs'!J286","v":0},{"$f":"IF(ISBLANK('P Index Inputs'!L286),'P Index Inputs'!K286,'P Index Inputs'!L286)","v":"-"},{"$f":"'P Index Inputs'!M286","v":0},{"$f":"'P Index Inputs'!O286","v":0},{"$f":"'P Index Inputs'!P286","v":0},{"$f":"'P Index Inputs'!Q286","v":0},{"$f":"IFERROR(VLOOKUP(I284,'NR-PI 2.0 Structure'!$C$5:$D$8,2,FALSE),\"-\")","v":"-"},{"$f":"IFERROR(VLOOKUP(J284,'NR-PI 2.0 Structure'!$B$12:$C$16,2,FALSE),\"-\")","v":"-"},{"$f":"IFERROR(VLOOKUP(K284,'NR-PI 2.0 Structure'!$B$20:$D$21,3,FALSE),\"-\")","v":"-"},{"$f":"IFERROR(VLOOKUP(L284,'NR-PI 2.0 Structure'!$B$25:$C$28,2,FALSE),\"-\")","v":"-"},{"$f":"IFERROR(VLOOKUP(L284,'NR-PI 2.0 Structure'!$B$25:$D$28,3,FALSE),\"-\")","v":"-"},{"$f":"IFERROR(\n  IF(M284 = \"≤ 1\", 'NR-PI 2.0 Structure'!$D$32,\n  IF(M284 = \">1 - 3\", 'NR-PI 2.0 Structure'!$D$33,\n  IF(M284 = \">3 - 5\", 'NR-PI 2.0 Structure'!$D$34,\n  IF(M284 = \"> 5\", 'NR-PI 2.0 Structure'!$D$35, )))),\n\"-\")","v":0},{"$f":"IFERROR(IF(ISBLANK(I284),\"N/A\",IF(I284<>'NR-PI 2.0 Structure'!$C$5,(VLOOKUP(N284,'NR-PI 2.0 Structure'!$C$39:$D$40,2,FALSE)),0)),\" - \")","v":" - "},{"$f":"IFERROR(IF(ISBLANK(I284),\"N/A\",IF(I284<>'NR-PI 2.0 Structure'!$C$5,(VLOOKUP(N284,'NR-PI 2.0 Structure'!$C$39:$E$40,3,FALSE)),0)),\" - \")","v":" - "},"-","-","-","N/A",{"$f":"IF(ISBLANK('P Index Inputs'!R286),\"-\",'P Index Inputs'!R286)","v":"-"},{"$f":"IFERROR(IF(I284<>'NR-PI 2.0 Structure'!$C$5,VLOOKUP(AA284,'NR-PI 2.0 Structure'!$G$5:$H$9,2,FALSE),IF(OR(AA284='NR-PI 2.0 Structure'!$G$5,AA284='NR-PI 2.0 Structure'!$G$6,AA284='NR-PI 2.0 Structure'!$G$7),1,VLOOKUP(AA284,'NR-PI 2.0 Structure'!$G$8:$H$9,2,FALSE))),\"-\")","v":"-"},{"$f":"IF(ISBLANK('P Index Inputs'!S286),\"-\",'P Index Inputs'!S286)","v":"-"},{"$f":"IFERROR(VLOOKUP(AC284,'NR-PI 2.0 Structure'!$G$14:$H$19,2,FALSE),\"-\")","v":"-"},"-","-","N/A","N/A",0,0,0,0,0,0,0,0,0]
[{"$f":"'P Index Inputs'!A287","v":0},{"$f":"'P Index Inputs'!B287","v":0},{"$f":"'P Index Inputs'!C287","v":0},{"$f":"'P Index Inputs'!D287","v":0},{"$f":"'P Index Inputs'!E287","v":0},{"$f":"'P Index Inputs'!F287","v":0},{"$f":"'P Index Inputs'!H287","v":0},{"$f":"'P Index Inputs'!I287","v":0},{"$f":"'P Index Inputs'!J287","v":0},{"$f":"IF(ISBLANK('P Index Inputs'!L287),'P Index Inputs'!K287,'P Index Inputs'!L287)","v":"-"},{"$f":"'P Index Inputs'!M287","v":0},{"$f":"'P Index Inputs'!O287","v":0},{"$f":"'P Index Inputs'!P287","v":0},{"$f":"'P Index Inputs'!Q287","v":0},{"$f":"IFERROR(VLOOKUP(I285,'NR-PI 2.0 Structure'!$C$5:$D$8,2,FALSE),\"-\")","v":"-"},{"$f":"IFERROR(VLOOKUP(J285,'NR-PI 2.0 Structure'!$B$12:$C$16,2,FALSE),\"-\")","v":"-"},{"$f":"IFERROR(VLOOKUP(K285,'NR-PI 2.0 Structure'!$B$20:$D$21,3,FALSE),\"-\")","v":"-"},{"$f":"IFERROR(VLOOKUP(L285,'NR-PI 2.0 Structure'!$B$25:$C$28,2,FALSE),\"-\")","v":"-"},{"$f":"IFERROR(VLOOKUP(L285,'NR-PI 2.0 Structure'!$B$25:$D$28,3,FALSE),\"-\")","v":"-"},{"$f":"IFERROR(\n  IF(M285 = \"≤ 1\", 'NR-PI 2.0 Structure'!$D$32,\n  IF(M285 = \">1 - 3\", 'NR-PI 2.0 Structure'!$D$33,\n  IF(M285 = \">3 - 5\", 'NR-PI 2.0 Structure'!$D$34,\n  IF(M285 = \"> 5\", 'NR-PI 2.0 Structure'!$D$35, )))),\n\"-\")","v":0},{"$f":"IFERROR(IF(ISBLANK(I285),\"N/A\",IF(I285<>'NR-PI 2.0 Structure'!$C$5,(VLOOKUP(N285,'NR-PI 2.0 Structure'!$C$39:$D$40,2,FALSE)),0)),\" - \")","v":" - "},{"$f":"IFERROR(IF(ISBLANK(I285),\"N/A\",IF(I285<>'NR-PI 2.0 Structure'!$C$5,(VLOOKUP(N285,'NR-PI 2.0 Structure'!$C$39:$E$40,3,FALSE)),0)),\" - \")","v":" - "},"-","-","-","N/A",{"$f":"IF(ISBLANK('P Index Inputs'!R287),\"-\",'P Index Inputs'!R287)","v":"-"},{"$f":"IFERROR(IF(I285<>'NR-PI 2.0 Structure'!$C$5,VLOOKUP(AA285,'NR-PI 2.0 Structure'!$G$5:$H$9,2,FALSE),IF(OR(AA285='NR-PI 2.0 Structure'!$G$5,AA285='NR-PI 2.0 Structure'!$G$6,AA285='NR-PI 2.0 Structure'!$G$7),1,VLOOKUP(AA285,'NR-PI 2.0 Structure'!$G$8:$H$9,2,FALSE))),\"-\")","v":"-"},{"$f":"IF(ISBLANK('P Index Inputs'!S287),\"-\",'P Index Inputs'!S287)","v":"-"},{"$f":"IFERROR(VLOOKUP(AC285,'NR-PI 2.0 Structure'!$G$14:$H$19,2,FALSE),\"-\")","v":"-"},"-","-","N/A","N/A",0,0,0,0,0,0,0,0,0]
[{"$f":"'P Index Inputs'!A288","v":0},{"$f":"'P Index Inputs'!B288","v":0},{"$f":"'P Index Inputs'!C288","v":0},{"$f":"'P Index Inputs'!D288","v":0},{"$f":"'P Index Inputs'!E288","v":0},{"$f":"'P Index Inputs'!F288","v":0},{"$f":"'P Index Inputs'!H288","v":0},{"$f":"'P Index Inputs'!I288","v":0},{"$f":"'P Index Inputs'!J288","v":0},{"$f":"IF(ISBLANK('P Index Inputs'!L288),'P Index Inputs'!K288,'P Index Inputs'!L288)","v":"-"},{"$f":"'P Index Inputs'!M288","v":0},{"$f":"'P Index Inputs'!O288","v":0},{"$f":"'P Index Inputs'!P288","v":0},{"$f":"'P Index Inputs'!Q288","v":0},{"$f":"IFERROR(VLOOKUP(I286,'NR-PI 2.0 Structure'!$C$5:$D$8,2,FALSE),\"-\")","v":"-"},{"$f":"IFERROR(VLOOKUP(J286,'NR-PI 2.0 Structure'!$B$12:$C$16,2,FALSE),\"-\")","v":"-"},{"$f":"IFERROR(VLOOKUP(K286,'NR-PI 2.0 Structure'!$B$20:$D$21,3,FALSE),\"-\")","v":"-"},{"$f":"IFERROR(VLOOKUP(L286,'NR-PI 2.0 Structure'!$B$25:$C$28,2,FALSE),\"-\")","v":"-"},{"$f":"IFERROR(VLOOKUP(L286,'NR-PI 2.0 Structure'!$B$25:$D$28,3,FALSE),\"-\")","v":"-"},{"$f":"IFERROR(\n  IF(M286 = \"≤ 1\", 'NR-PI 2.0 Structure'!$D$32,\n  IF(M286 = \">1 - 3\", 'NR-PI 2.0 Structure'!$D$33,\n  IF(M286 = \">3 - 5\", 'NR-PI 2.0 Structure'!$D$34,\n  IF(M286 = \"> 5\", 'NR-PI 2.0 Structure'!$D$35, )))),\n\"-\")","v":0},{"$f":"IFERROR(IF(ISBLANK(I286),\"N/A\",IF(I286<>'NR-PI 2.0 Structure'!$C$5,(VLOOKUP(N286,'NR-PI 2.0 Structure'!$C$39:$D$40,2,FALSE)),0)),\" - \")","v":" - "},{"$f":"IFERROR(IF(ISBLANK(I286),\"N/A\",IF(I286<>'NR-PI 2.0 Structure'!$C$5,(VLOOKUP(N286,'NR-PI 2.0 Structure'!$C$39:$E$40,3,FALSE)),0)),\" - \")","v":" - "},"-","-","-","N/A",{"$f":"IF(ISBLANK('P Index Inputs'!R288),\"-\",'P Index Inputs'!R288)","v":"-"},{"$f":"IFERROR(IF(I286<>'NR-PI 2.0 Structure'!$C$5,VLOOKUP(AA286,'NR-PI 2.0 Structure'!$G$5:$H$9,2,FALSE),IF(OR(AA286='NR-PI 2.0 Structure'!$G$5,AA286='NR-PI 2.0 Structure'!$G$6,AA286='NR-PI 2.0 Structure'!$G$7),1,VLOOKUP(AA286,'NR-PI 2.0 Structure'!$G$8:$H$9,2,FALSE))),\"-\")","v":"-"},{"$f":"IF(ISBLANK('P Index Inputs'!S288),\"-\",'P Index Inputs'!S288)","v":"-"},{"$f":"IFERROR(VLOOKUP(AC286,'NR-PI 2.0 Structure'!$G$14:$H$19,2,FALSE),\"-\")","v":"-"},"-","-","N/A","N/A",0,0,0,0,0,0,0,0,0]
[{"$f":"'P Index Inputs'!A289","v":0},{"$f":"'P Index Inputs'!B289","v":0},{"$f":"'P Index Inputs'!C289","v":0},{"$f":"'P Index Inputs'!D289","v":0},{"$f":"'P Index Inputs'!E289","v":0},{"$f":"'P Index Inputs'!F289","v":0},{"$f":"'P Index Inputs'!H289","v":0},{"$f":"'P Index Inputs'!I289","v":0},{"$f":"'P Index Inputs'!J289","v":0},{"$f":"IF(ISBLANK('P Index Inputs'!L289),'P Index Inputs'!K289,'P Index Inputs'!L289)","v":"-"},{"$f":"'P Index Inputs'!M289","v":0},{"$f":"'P Index Inputs'!O289","v":0},{"$f":"'P Index Inputs'!P289","v":0},{"$f":"'P Index Inputs'!Q289","v":0},{"$f":"IFERROR(VLOOKUP(I287,'NR-PI 2.0 Structure'!$C$5:$D$8,2,FALSE),\"-\")","v":"-"},{"$f":"IFERROR(VLOOKUP(J287,'NR-PI 2.0 Structure'!$B$12:$C$16,2,FALSE),\"-\")","v":"-"},{"$f":"IFERROR(VLOOKUP(K287,'NR-PI 2.0 Structure'!$B$20:$D$21,3,FALSE),\"-\")","v":"-"},{"$f":"IFERROR(VLOOKUP(L287,'NR-PI 2.0 Structure'!$B$25:$C$28,2,FALSE),\"-\")","v":"-"},{"$f":"IFERROR(VLOOKUP(L287,'NR-PI 2.0 Structure'!$B$25:$D$28,3,FALSE),\"-\")","v":"-"},{"$f":"IFERROR(\n  IF(M287 = \"≤ 1\", 'NR-PI 2.0 Structure'!$D$32,\n  IF(M287 = \">1 - 3\", 'NR-PI 2.0 Structure'!$D$33,\n  IF(M287 = \">3 - 5\", 'NR-PI 2.0 Structure'!$D$34,\n  IF(M287 = \"> 5\", 'NR-PI 2.0 Structure'!$D$35, )))),\n\"-\")","v":0},{"$f":"IFERROR(IF(ISBLANK(I287),\"N/A\",IF(I287<>'NR-PI 2.0 Structure'!$C$5,(VLOOKUP(N287,'NR-PI 2.0 Structure'!$C$39:$D$40,2,FALSE)),0)),\" - \")","v":" - "},{"$f":"IFERROR(IF(ISBLANK(I287),\"N/A\",IF(I287<>'NR-PI 2.0 Structure'!$C$5,(VLOOKUP(N287,'NR-PI 2.0 Structure'!$C$39:$E$40,3,FALSE)),0)),\" - \")","v":" - "},"-","-","-","N/A",{"$f":"IF(ISBLANK('P Index Inputs'!R289),\"-\",'P Index Inputs'!R289)","v":"-"},{"$f":"IFERROR(IF(I287<>'NR-PI 2.0 Structure'!$C$5,VLOOKUP(AA287,'NR-PI 2.0 Structure'!$G$5:$H$9,2,FALSE),IF(OR(AA287='NR-PI 2.0 Structure'!$G$5,AA287='NR-PI 2.0 Structure'!$G$6,AA287='NR-PI 2.0 Structure'!$G$7),1,VLOOKUP(AA287,'NR-PI 2.0 Structure'!$G$8:$H$9,2,FALSE))),\"-\")","v":"-"},{"$f":"IF(ISBLANK('P Index Inputs'!S289),\"-\",'P Index Inputs'!S289)","v":"-"},{"$f":"IFERROR(VLOOKUP(AC287,'NR-PI 2.0 Structure'!$G$14:$H$19,2,FALSE),\"-\")","v":"-"},"-","-","N/A","N/A",0,0,0,0,0,0,0,0,0]
[{"$f":"'P Index Inputs'!A290","v":0},{"$f":"'P Index Inputs'!B290","v":0},{"$f":"'P Index Inputs'!C290","v":0},{"$f":"'P Index Inputs'!D290","v":0},{"$f":"'P Index Inputs'!E290","v":0},{"$f":"'P Index Inputs'!F290","v":0},{"$f":"'P Index Inputs'!H290","v":0},{"$f":"'P Index Inputs'!I290","v":0},{"$f":"'P Index Inputs'!J290","v":0},{"$f":"IF(ISBLANK('P Index Inputs'!L290),'P Index Inputs'!K290,'P Index Inputs'!L290)","v":"-"},{"$f":"'P Index Inputs'!M290","v":0},{"$f":"'P Index Inputs'!O290","v":0},{"$f":"'P Index Inputs'!P290","v":0},{"$f":"'P Index Inputs'!Q290","v":0},{"$f":"IFERROR(VLOOKUP(I288,'NR-PI 2.0 Structure'!$C$5:$D$8,2,FALSE),\"-\")","v":"-"},{"$f":"IFERROR(VLOOKUP(J288,'NR-PI 2.0 Structure'!$B$12:$C$16,2,FALSE),\"-\")","v":"-"},{"$f":"IFERROR(VLOOKUP(K288,'NR-PI 2.0 Structure'!$B$20:$D$21,3,FALSE),\"-\")","v":"-"},{"$f":"IFERROR(VLOOKUP(L288,'NR-PI 2.0 Structure'!$B$25:$C$28,2,FALSE),\"-\")","v":"-"},{"$f":"IFERROR(VLOOKUP(L288,'NR-PI 2.0 Structure'!$B$25:$D$28,3,FALSE),\"-\")","v":"-"},{"$f":"IFERROR(\n  IF(M288 = \"≤ 1\", 'NR-PI 2.0 Structure'!$D$32,\n  IF(M288 = \">1 - 3\", 'NR-PI 2.0 Structure'!$D$33,\n  IF(M288 = \">3 - 5\", 'NR-PI 2.0 Structure'!$D$34,\n  IF(M288 = \"> 5\", 'NR-PI 2.0 Structure'!$D$35, )))),\n\"-\")","v":0},{"$f":"IFERROR(IF(ISBLANK(I288),\"N/A\",IF(I288<>'NR-PI 2.0 Structure'!$C$5,(VLOOKUP(N288,'NR-PI 2.0 Structure'!$C$39:$D$40,2,FALSE)),0)),\" - \")","v":" - "},{"$f":"IFERROR(IF(ISBLANK(I288),\"N/A\",IF(I288<>'NR-PI 2.0 Structure'!$C$5,(VLOOKUP(N288,'NR-PI 2.0 Structure'!$C$39:$E$40,3,FALSE)),0)),\" - \")","v":" - "},"-","-","-","N/A",{"$f":"IF(ISBLANK('P Index Inputs'!R290),\"-\",'P Index Inputs'!R290)","v":"-"},{"$f":"IFERROR(IF(I288<>'NR-PI 2.0 Structure'!$C$5,VLOOKUP(AA288,'NR-PI 2.0 Structure'!$G$5:$H$9,2,FALSE),IF(OR(AA288='NR-PI 2.0 Structure'!$G$5,AA288='NR-PI 2.0 Structure'!$G$6,AA288='NR-PI 2.0 Structure'!$G$7),1,VLOOKUP(AA288,'NR-PI 2.0 Structure'!$G$8:$H$9,2,FALSE))),\"-\")","v":"-"},{"$f":"IF(ISBLANK('P Index Inputs'!S290),\"-\",'P Index Inputs'!S290)","v":"-"},{"$f":"IFERROR(VLOOKUP(AC288,'NR-PI 2.0 Structure'!$G$14:$H$19,2,FALSE),\"-\")","v":"-"},"-","-","N/A","N/A",0,0,0,0,0,0,0,0,0]
[{"$f":"'P Index Inputs'!A291","v":0},{"$f":"'P Index Inputs'!B291","v":0},{"$f":"'P Index Inputs'!C291","v":0},{"$f":"'P Index Inputs'!D291","v":0},{"$f":"'P Index Inputs'!E291","v":0},{"$f":"'P Index Inputs'!F291","v":0},{"$f":"'P Index Inputs'!H291","v":0},{"$f":"'P Index Inputs'!I291","v":0},{"$f":"'P Index Inputs'!J291","v":0},{"$f":"IF(ISBLANK('P Index Inputs'!L291),'P Index Inputs'!K291,'P Index Inputs'!L291)","v":"-"},{"$f":"'P Index Inputs'!M291","v":0},{"$f":"'P Index Inputs'!O291","v":0},{"$f":"'P Index Inputs'!P291","v":0},{"$f":"'P Index Inputs'!Q291","v":0},{"$f":"IFERROR(VLOOKUP(I289,'NR-PI 2.0 Structure'!$C$5:$D$8,2,FALSE),\"-\")","v":"-"},{"$f":"IFERROR(VLOOKUP(J289,'NR-PI 2.0 Structure'!$B$12:$C$16,2,FALSE),\"-\")","v":"-"},{"$f":"IFERROR(VLOOKUP(K289,'NR-PI 2.0 Structure'!$B$20:$D$21,3,FALSE),\"-\")","v":"-"},{"$f":"IFERROR(VLOOKUP(L289,'NR-PI 2.0 Structure'!$B$25:$C$28,2,FALSE),\"-\")","v":"-"},{"$f":"IFERROR(VLOOKUP(L289,'NR-PI 2.0 Structure'!$B$25:$D$28,3,FALSE),\"-\")","v":"-"},{"$f":"IFERROR(\n  IF(M289 = \"≤ 1\", 'NR-PI 2.0 Structure'!$D$32,\n  IF(M289 = \">1 - 3\", 'NR-PI 2.0 Structure'!$D$33,\n  IF(M289 = \">3 - 5\", 'NR-PI 2.0 Structure'!$D$34,\n  IF(M289 = \"> 5\", 'NR-PI 2.0 Structure'!$D$35, )))),\n\"-\")","v":0},{"$f":"IFERROR(IF(ISBLANK(I289),\"N/A\",IF(I289<>'NR-PI 2.0 Structure'!$C$5,(VLOOKUP(N289,'NR-PI 2.0 Structure'!$C$39:$D$40,2,FALSE)),0)),\" - \")","v":" - "},{"$f":"IFERROR(IF(ISBLANK(I289),\"N/A\",IF(I289<>'NR-PI 2.0 Structure'!$C$5,(VLOOKUP(N289,'NR-PI 2.0 Structure'!$C$39:$E$40,3,FALSE)),0)),\" - \")","v":" - "},"-","-","-","N/A",{"$f":"IF(ISBLANK('P Index Inputs'!R291),\"-\",'P Index Inputs'!R291)","v":"-"},{"$f":"IFERROR(IF(I289<>'NR-PI 2.0 Structure'!$C$5,VLOOKUP(AA289,'NR-PI 2.0 Structure'!$G$5:$H$9,2,FALSE),IF(OR(AA289='NR-PI 2.0 Structure'!$G$5,AA289='NR-PI 2.0 Structure'!$G$6,AA289='NR-PI 2.0 Structure'!$G$7),1,VLOOKUP(AA289,'NR-PI 2.0 Structure'!$G$8:$H$9,2,FALSE))),\"-\")","v":"-"},{"$f":"IF(ISBLANK('P Index Inputs'!S291),\"-\",'P Index Inputs'!S291)","v":"-"},{"$f":"IFERROR(VLOOKUP(AC289,'NR-PI 2.0 Structure'!$G$14:$H$19,2,FALSE),\"-\")","v":"-"},"-","-","N/A","N/A",0,0,0,0,0,0,0,0,0]
[{"$f":"'P Index Inputs'!A292","v":0},{"$f":"'P Index Inputs'!B292","v":0},{"$f":"'P Index Inputs'!C292","v":0},{"$f":"'P Index Inputs'!D292","v":0},{"$f":"'P Index Inputs'!E292","v":0},{"$f":"'P Index Inputs'!F292","v":0},{"$f":"'P Index Inputs'!H292","v":0},{"$f":"'P Index Inputs'!I292","v":0},{"$f":"'P Index Inputs'!J292","v":0},{"$f":"IF(ISBLANK('P Index Inputs'!L292),'P Index Inputs'!K292,'P Index Inputs'!L292)","v":"-"},{"$f":"'P Index Inputs'!M292","v":0},{"$f":"'P Index Inputs'!O292","v":0},{"$f":"'P Index Inputs'!P292","v":0},{"$f":"'P Index Inputs'!Q292","v":0},{"$f":"IFERROR(VLOOKUP(I290,'NR-PI 2.0 Structure'!$C$5:$D$8,2,FALSE),\"-\")","v":"-"},{"$f":"IFERROR(VLOOKUP(J290,'NR-PI 2.0 Structure'!$B$12:$C$16,2,FALSE),\"-\")","v":"-"},{"$f":"IFERROR(VLOOKUP(K290,'NR-PI 2.0 Structure'!$B$20:$D$21,3,FALSE),\"-\")","v":"-"},{"$f":"IFERROR(VLOOKUP(L290,'NR-PI 2.0 Structure'!$B$25:$C$28,2,FALSE),\"-\")","v":"-"},{"$f":"IFERROR(VLOOKUP(L290,'NR-PI 2.0 Structure'!$B$25:$D$28,3,FALSE),\"-\")","v":"-"},{"$f":"IFERROR(\n  IF(M290 = \"≤ 1\", 'NR-PI 2.0 Structure'!$D$32,\n  IF(M290 = \">1 - 3\", 'NR-PI 2.0 Structure'!$D$33,\n  IF(M290 = \">3 - 5\", 'NR-PI 2.0 Structure'!$D$34,\n  IF(M290 = \"> 5\", 'NR-PI 2.0 Structure'!$D$35, )))),\n\"-\")","v":0},{"$f":"IFERROR(IF(ISBLANK(I290),\"N/A\",IF(I290<>'NR-PI 2.0 Structure'!$C$5,(VLOOKUP(N290,'NR-PI 2.0 Structure'!$C$39:$D$40,2,FALSE)),0)),\" - \")","v":" - "},{"$f":"IFERROR(IF(ISBLANK(I290),\"N/A\",IF(I290<>'NR-PI 2.0 Structure'!$C$5,(VLOOKUP(N290,'NR-PI 2.0 Structure'!$C$39:$E$40,3,FALSE)),0)),\" - \")","v":" - "},"-","-","-","N/A",{"$f":"IF(ISBLANK('P Index Inputs'!R292),\"-\",'P Index Inputs'!R292)","v":"-"},{"$f":"IFERROR(IF(I290<>'NR-PI 2.0 Structure'!$C$5,VLOOKUP(AA290,'NR-PI 2.0 Structure'!$G$5:$H$9,2,FALSE),IF(OR(AA290='NR-PI 2.0 Structure'!$G$5,AA290='NR-PI 2.0 Structure'!$G$6,AA290='NR-PI 2.0 Structure'!$G$7),1,VLOOKUP(AA290,'NR-PI 2.0 Structure'!$G$8:$H$9,2,FALSE))),\"-\")","v":"-"},{"$f":"IF(ISBLANK('P Index Inputs'!S292),\"-\",'P Index Inputs'!S292)","v":"-"},{"$f":"IFERROR(VLOOKUP(AC290,'NR-PI 2.0 Structure'!$G$14:$H$19,2,FALSE),\"-\")","v":"-"},"-","-","N/A","N/A",0,0,0,0,0,0,0,0,0]
[{"$f":"'P Index Inputs'!A293","v":0},{"$f":"'P Index Inputs'!B293","v":0},{"$f":"'P Index Inputs'!C293","v":0},{"$f":"'P Index Inputs'!D293","v":0},{"$f":"'P Index Inputs'!E293","v":0},{"$f":"'P Index Inputs'!F293","v":0},{"$f":"'P Index Inputs'!H293","v":0},{"$f":"'P Index Inputs'!I293","v":0},{"$f":"'P Index Inputs'!J293","v":0},{"$f":"IF(ISBLANK('P Index Inputs'!L293),'P Index Inputs'!K293,'P Index Inputs'!L293)","v":"-"},{"$f":"'P Index Inputs'!M293","v":0},{"$f":"'P Index Inputs'!O293","v":0},{"$f":"'P Index Inputs'!P293","v":0},{"$f":"'P Index Inputs'!Q293","v":0},{"$f":"IFERROR(VLOOKUP(I291,'NR-PI 2.0 Structure'!$C$5:$D$8,2,FALSE),\"-\")","v":"-"},{"$f":"IFERROR(VLOOKUP(J291,'NR-PI 2.0 Structure'!$B$12:$C$16,2,FALSE),\"-\")","v":"-"},{"$f":"IFERROR(VLOOKUP(K291,'NR-PI 2.0 Structure'!$B$20:$D$21,3,FALSE),\"-\")","v":"-"},{"$f":"IFERROR(VLOOKUP(L291,'NR-PI 2.0 Structure'!$B$25:$C$28,2,FALSE),\"-\")","v":"-"},{"$f":"IFERROR(VLOOKUP(L291,'NR-PI 2.0 Structure'!$B$25:$D$28,3,FALSE),\"-\")","v":"-"},{"$f":"IFERROR(\n  IF(M291 = \"≤ 1\", 'NR-PI 2.0 Structure'!$D$32,\n  IF(M291 = \">1 - 3\", 'NR-PI 2.0 Structure'!$D$33,\n  IF(M291 = \">3 - 5\", 'NR-PI 2.0 Structure'!$D$34,\n  IF(M291 = \"> 5\", 'NR-PI 2.0 Structure'!$D$35, )))),\n\"-\")","v":0},{"$f":"IFERROR(IF(ISBLANK(I291),\"N/A\",IF(I291<>'NR-PI 2.0 Structure'!$C$5,(VLOOKUP(N291,'NR-PI 2.0 Structure'!$C$39:$D$40,2,FALSE)),0)),\" - \")","v":" - "},{"$f":"IFERROR(IF(ISBLANK(I291),\"N/A\",IF(I291<>'NR-PI 2.0 Structure'!$C$5,(VLOOKUP(N291,'NR-PI 2.0 Structure'!$C$39:$E$40,3,FALSE)),0)),\" - \")","v":" - "},"-","-","-","N/A",{"$f":"IF(ISBLANK('P Index Inputs'!R293),\"-\",'P Index Inputs'!R293)","v":"-"},{"$f":"IFERROR(IF(I291<>'NR-PI 2.0 Structure'!$C$5,VLOOKUP(AA291,'NR-PI 2.0 Structure'!$G$5:$H$9,2,FALSE),IF(OR(AA291='NR-PI 2.0 Structure'!$G$5,AA291='NR-PI 2.0 Structure'!$G$6,AA291='NR-PI 2.0 Structure'!$G$7),1,VLOOKUP(AA291,'NR-PI 2.0 Structure'!$G$8:$H$9,2,FALSE))),\"-\")","v":"-"},{"$f":"IF(ISBLANK('P Index Inputs'!S293),\"-\",'P Index Inputs'!S293)","v":"-"},{"$f":"IFERROR(VLOOKUP(AC291,'NR-PI 2.0 Structure'!$G$14:$H$19,2,FALSE),\"-\")","v":"-"},"-","-","N/A","N/A",0,0,0,0,0,0,0,0,0]
[{"$f":"'P Index Inputs'!A294","v":0},{"$f":"'P Index Inputs'!B294","v":0},{"$f":"'P Index Inputs'!C294","v":0},{"$f":"'P Index Inputs'!D294","v":0},{"$f":"'P Index Inputs'!E294","v":0},{"$f":"'P Index Inputs'!F294","v":0},{"$f":"'P Index Inputs'!H294","v":0},{"$f":"'P Index Inputs'!I294","v":0},{"$f":"'P Index Inputs'!J294","v":0},{"$f":"IF(ISBLANK('P Index Inputs'!L294),'P Index Inputs'!K294,'P Index Inputs'!L294)","v":"-"},{"$f":"'P Index Inputs'!M294","v":0},{"$f":"'P Index Inputs'!O294","v":0},{"$f":"'P Index Inputs'!P294","v":0},{"$f":"'P Index Inputs'!Q294","v":0},{"$f":"IFERROR(VLOOKUP(I292,'NR-PI 2.0 Structure'!$C$5:$D$8,2,FALSE),\"-\")","v":"-"},{"$f":"IFERROR(VLOOKUP(J292,'NR-PI 2.0 Structure'!$B$12:$C$16,2,FALSE),\"-\")","v":"-"},{"$f":"IFERROR(VLOOKUP(K292,'NR-PI 2.0 Structure'!$B$20:$D$21,3,FALSE),\"-\")","v":"-"},{"$f":"IFERROR(VLOOKUP(L292,'NR-PI 2.0 Structure'!$B$25:$C$28,2,FALSE),\"-\")","v":"-"},{"$f":"IFERROR(VLOOKUP(L292,'NR-PI 2.0 Structure'!$B$25:$D$28,3,FALSE),\"-\")","v":"-"},{"$f":"IFERROR(\n  IF(M292 = \"≤ 1\", 'NR-PI 2.0 Structure'!$D$32,\n  IF(M292 = \">1 - 3\", 'NR-PI 2.0 Structure'!$D$33,\n  IF(M292 = \">3 - 5\", 'NR-PI 2.0 Structure'!$D$34,\n  IF(M292 = \"> 5\", 'NR-PI 2.0 Structure'!$D$35, )))),\n\"-\")","v":0},{"$f":"IFERROR(IF(ISBLANK(I292),\"N/A\",IF(I292<>'NR-PI 2.0 Structure'!$C$5,(VLOOKUP(N292,'NR-PI 2.0 Structure'!$C$39:$D$40,2,FALSE)),0)),\" - \")","v":" - "},{"$f":"IFERROR(IF(ISBLANK(I292),\"N/A\",IF(I292<>'NR-PI 2.0 Structure'!$C$5,(VLOOKUP(N292,'NR-PI 2.0 Structure'!$C$39:$E$40,3,FALSE)),0)),\" - \")","v":" - "},"-","-","-","N/A",{"$f":"IF(ISBLANK('P Index Inputs'!R294),\"-\",'P Index Inputs'!R294)","v":"-"},{"$f":"IFERROR(IF(I292<>'NR-PI 2.0 Structure'!$C$5,VLOOKUP(AA292,'NR-PI 2.0 Structure'!$G$5:$H$9,2,FALSE),IF(OR(AA292='NR-PI 2.0 Structure'!$G$5,AA292='NR-PI 2.0 Structure'!$G$6,AA292='NR-PI 2.0 Structure'!$G$7),1,VLOOKUP(AA292,'NR-PI 2.0 Structure'!$G$8:$H$9,2,FALSE))),\"-\")","v":"-"},{"$f":"IF(ISBLANK('P Index Inputs'!S294),\"-\",'P Index Inputs'!S294)","v":"-"},{"$f":"IFERROR(VLOOKUP(AC292,'NR-PI 2.0 Structure'!$G$14:$H$19,2,FALSE),\"-\")","v":"-"},"-","-","N/A","N/A",0,0,0,0,0,0,0,0,0]
[{"$f":"'P Index Inputs'!A295","v":0},{"$f":"'P Index Inputs'!B295","v":0},{"$f":"'P Index Inputs'!C295","v":0},{"$f":"'P Index Inputs'!D295","v":0},{"$f":"'P Index Inputs'!E295","v":0},{"$f":"'P Index Inputs'!F295","v":0},{"$f":"'P Index Inputs'!H295","v":0},{"$f":"'P Index Inputs'!I295","v":0},{"$f":"'P Index Inputs'!J295","v":0},{"$f":"IF(ISBLANK('P Index Inputs'!L295),'P Index Inputs'!K295,'P Index Inputs'!L295)","v":"-"},{"$f":"'P Index Inputs'!M295","v":0},{"$f":"'P Index Inputs'!O295","v":0},{"$f":"'P Index Inputs'!P295","v":0},{"$f":"'P Index Inputs'!Q295","v":0},{"$f":"IFERROR(VLOOKUP(I293,'NR-PI 2.0 Structure'!$C$5:$D$8,2,FALSE),\"-\")","v":"-"},{"$f":"IFERROR(VLOOKUP(J293,'NR-PI 2.0 Structure'!$B$12:$C$16,2,FALSE),\"-\")","v":"-"},{"$f":"IFERROR(VLOOKUP(K293,'NR-PI 2.0 Structure'!$B$20:$D$21,3,FALSE),\"-\")","v":"-"},{"$f":"IFERROR(VLOOKUP(L293,'NR-PI 2.0 Structure'!$B$25:$C$28,2,FALSE),\"-\")","v":"-"},{"$f":"IFERROR(VLOOKUP(L293,'NR-PI 2.0 Structure'!$B$25:$D$28,3,FALSE),\"-\")","v":"-"},{"$f":"IFERROR(\n  IF(M293 = \"≤ 1\", 'NR-PI 2.0 Structure'!$D$32,\n  IF(M293 = \">1 - 3\", 'NR-PI 2.0 Structure'!$D$33,\n  IF(M293 = \">3 - 5\", 'NR-PI 2.0 Structure'!$D$34,\n  IF(M293 = \"> 5\", 'NR-PI 2.0 Structure'!$D$35, )))),\n\"-\")","v":0},{"$f":"IFERROR(IF(ISBLANK(I293),\"N/A\",IF(I293<>'NR-PI 2.0 Structure'!$C$5,(VLOOKUP(N293,'NR-PI 2.0 Structure'!$C$39:$D$40,2,FALSE)),0)),\" - \")","v":" - "},{"$f":"IFERROR(IF(ISBLANK(I293),\"N/A\",IF(I293<>'NR-PI 2.0 Structure'!$C$5,(VLOOKUP(N293,'NR-PI 2.0 Structure'!$C$39:$E$40,3,FALSE)),0)),\" - \")","v":" - "},"-","-","-","N/A",{"$f":"IF(ISBLANK('P Index Inputs'!R295),\"-\",'P Index Inputs'!R295)","v":"-"},{"$f":"IFERROR(IF(I293<>'NR-PI 2.0 Structure'!$C$5,VLOOKUP(AA293,'NR-PI 2.0 Structure'!$G$5:$H$9,2,FALSE),IF(OR(AA293='NR-PI 2.0 Structure'!$G$5,AA293='NR-PI 2.0 Structure'!$G$6,AA293='NR-PI 2.0 Structure'!$G$7),1,VLOOKUP(AA293,'NR-PI 2.0 Structure'!$G$8:$H$9,2,FALSE))),\"-\")","v":"-"},{"$f":"IF(ISBLANK('P Index Inputs'!S295),\"-\",'P Index Inputs'!S295)","v":"-"},{"$f":"IFERROR(VLOOKUP(AC293,'NR-PI 2.0 Structure'!$G$14:$H$19,2,FALSE),\"-\")","v":"-"},"-","-","N/A","N/A",0,0,0,0,0,0,0,0,0]
[{"$f":"'P Index Inputs'!A296","v":0},{"$f":"'P Index Inputs'!B296","v":0},{"$f":"'P Index Inputs'!C296","v":0},{"$f":"'P Index Inputs'!D296","v":0},{"$f":"'P Index Inputs'!E296","v":0},{"$f":"'P Index Inputs'!F296","v":0},{"$f":"'P Index Inputs'!H296","v":0},{"$f":"'P Index Inputs'!I296","v":0},{"$f":"'P Index Inputs'!J296","v":0},{"$f":"IF(ISBLANK('P Index Inputs'!L296),'P Index Inputs'!K296,'P Index Inputs'!L296)","v":"-"},{"$f":"'P Index Inputs'!M296","v":0},{"$f":"'P Index Inputs'!O296","v":0},{"$f":"'P Index Inputs'!P296","v":0},{"$f":"'P Index Inputs'!Q296","v":0},{"$f":"IFERROR(VLOOKUP(I294,'NR-PI 2.0 Structure'!$C$5:$D$8,2,FALSE),\"-\")","v":"-"},{"$f":"IFERROR(VLOOKUP(J294,'NR-PI 2.0 Structure'!$B$12:$C$16,2,FALSE),\"-\")","v":"-"},{"$f":"IFERROR(VLOOKUP(K294,'NR-PI 2.0 Structure'!$B$20:$D$21,3,FALSE),\"-\")","v":"-"},{"$f":"IFERROR(VLOOKUP(L294,'NR-PI 2.0 Structure'!$B$25:$C$28,2,FALSE),\"-\")","v":"-"},{"$f":"IFERROR(VLOOKUP(L294,'NR-PI 2.0 Structure'!$B$25:$D$28,3,FALSE),\"-\")","v":"-"},{"$f":"IFERROR(\n  IF(M294 = \"≤ 1\", 'NR-PI 2.0 Structure'!$D$32,\n  IF(M294 = \">1 - 3\", 'NR-PI 2.0 Structure'!$D$33,\n  IF(M294 = \">3 - 5\", 'NR-PI 2.0 Structure'!$D$34,\n  IF(M294 = \"> 5\", 'NR-PI 2.0 Structure'!$D$35, )))),\n\"-\")","v":0},{"$f":"IFERROR(IF(ISBLANK(I294),\"N/A\",IF(I294<>'NR-PI 2.0 Structure'!$C$5,(VLOOKUP(N294,'NR-PI 2.0 Structure'!$C$39:$D$40,2,FALSE)),0)),\" - \")","v":" - "},{"$f":"IFERROR(IF(ISBLANK(I294),\"N/A\",IF(I294<>'NR-PI 2.0 Structure'!$C$5,(VLOOKUP(N294,'NR-PI 2.0 Structure'!$C$39:$E$40,3,FALSE)),0)),\" - \")","v":" - "},"-","-","-","N/A",{"$f":"IF(ISBLANK('P Index Inputs'!R296),\"-\",'P Index Inputs'!R296)","v":"-"},{"$f":"IFERROR(IF(I294<>'NR-PI 2.0 Structure'!$C$5,VLOOKUP(AA294,'NR-PI 2.0 Structure'!$G$5:$H$9,2,FALSE),IF(OR(AA294='NR-PI 2.0 Structure'!$G$5,AA294='NR-PI 2.0 Structure'!$G$6,AA294='NR-PI 2.0 Structure'!$G$7),1,VLOOKUP(AA294,'NR-PI 2.0 Structure'!$G$8:$H$9,2,FALSE))),\"-\")","v":"-"},{"$f":"IF(ISBLANK('P Index Inputs'!S296),\"-\",'P Index Inputs'!S296)","v":"-"},{"$f":"IFERROR(VLOOKUP(AC294,'NR-PI 2.0 Structure'!$G$14:$H$19,2,FALSE),\"-\")","v":"-"},"-","-","N/A","N/A",0,0,0,0,0,0,0,0,0]
[{"$f":"'P Index Inputs'!A297","v":0},{"$f":"'P Index Inputs'!B297","v":0},{"$f":"'P Index Inputs'!C297","v":0},{"$f":"'P Index Inputs'!D297","v":0},{"$f":"'P Index Inputs'!E297","v":0},{"$f":"'P Index Inputs'!F297","v":0},{"$f":"'P Index Inputs'!H297","v":0},{"$f":"'P Index Inputs'!I297","v":0},{"$f":"'P Index Inputs'!J297","v":0},{"$f":"IF(ISBLANK('P Index Inputs'!L297),'P Index Inputs'!K297,'P Index Inputs'!L297)","v":"-"},{"$f":"'P Index Inputs'!M297","v":0},{"$f":"'P Index Inputs'!O297","v":0},{"$f":"'P Index Inputs'!P297","v":0},{"$f":"'P Index Inputs'!Q297","v":0},{"$f":"IFERROR(VLOOKUP(I295,'NR-PI 2.0 Structure'!$C$5:$D$8,2,FALSE),\"-\")","v":"-"},{"$f":"IFERROR(VLOOKUP(J295,'NR-PI 2.0 Structure'!$B$12:$C$16,2,FALSE),\"-\")","v":"-"},{"$f":"IFERROR(VLOOKUP(K295,'NR-PI 2.0 Structure'!$B$20:$D$21,3,FALSE),\"-\")","v":"-"},{"$f":"IFERROR(VLOOKUP(L295,'NR-PI 2.0 Structure'!$B$25:$C$28,2,FALSE),\"-\")","v":"-"},{"$f":"IFERROR(VLOOKUP(L295,'NR-PI 2.0 Structure'!$B$25:$D$28,3,FALSE),\"-\")","v":"-"},{"$f":"IFERROR(\n  IF(M295 = \"≤ 1\", 'NR-PI 2.0 Structure'!$D$32,\n  IF(M295 = \">1 - 3\", 'NR-PI 2.0 Structure'!$D$33,\n  IF(M295 = \">3 - 5\", 'NR-PI 2.0 Structure'!$D$34,\n  IF(M295 = \"> 5\", 'NR-PI 2.0 Structure'!$D$35, )))),\n\"-\")","v":0},{"$f":"IFERROR(IF(ISBLANK(I295),\"N/A\",IF(I295<>'NR-PI 2.0 Structure'!$C$5,(VLOOKUP(N295,'NR-PI 2.0 Structure'!$C$39:$D$40,2,FALSE)),0)),\" - \")","v":" - "},{"$f":"IFERROR(IF(ISBLANK(I295),\"N/A\",IF(I295<>'NR-PI 2.0 Structure'!$C$5,(VLOOKUP(N295,'NR-PI 2.0 Structure'!$C$39:$E$40,3,FALSE)),0)),\" - \")","v":" - "},"-","-","-","N/A",{"$f":"IF(ISBLANK('P Index Inputs'!R297),\"-\",'P Index Inputs'!R297)","v":"-"},{"$f":"IFERROR(IF(I295<>'NR-PI 2.0 Structure'!$C$5,VLOOKUP(AA295,'NR-PI 2.0 Structure'!$G$5:$H$9,2,FALSE),IF(OR(AA295='NR-PI 2.0 Structure'!$G$5,AA295='NR-PI 2.0 Structure'!$G$6,AA295='NR-PI 2.0 Structure'!$G$7),1,VLOOKUP(AA295,'NR-PI 2.0 Structure'!$G$8:$H$9,2,FALSE))),\"-\")","v":"-"},{"$f":"IF(ISBLANK('P Index Inputs'!S297),\"-\",'P Index Inputs'!S297)","v":"-"},{"$f":"IFERROR(VLOOKUP(AC295,'NR-PI 2.0 Structure'!$G$14:$H$19,2,FALSE),\"-\")","v":"-"},"-","-","N/A","N/A",0,0,0,0,0,0,0,0,0]
[{"$f":"'P Index Inputs'!A298","v":0},{"$f":"'P Index Inputs'!B298","v":0},{"$f":"'P Index Inputs'!C298","v":0},{"$f":"'P Index Inputs'!D298","v":0},{"$f":"'P Index Inputs'!E298","v":0},{"$f":"'P Index Inputs'!F298","v":0},{"$f":"'P Index Inputs'!H298","v":0},{"$f":"'P Index Inputs'!I298","v":0},{"$f":"'P Index Inputs'!J298","v":0},{"$f":"IF(ISBLANK('P Index Inputs'!L298),'P Index Inputs'!K298,'P Index Inputs'!L298)","v":"-"},{"$f":"'P Index Inputs'!M298","v":0},{"$f":"'P Index Inputs'!O298","v":0},{"$f":"'P Index Inputs'!P298","v":0},{"$f":"'P Index Inputs'!Q298","v":0},{"$f":"IFERROR(VLOOKUP(I296,'NR-PI 2.0 Structure'!$C$5:$D$8,2,FALSE),\"-\")","v":"-"},{"$f":"IFERROR(VLOOKUP(J296,'NR-PI 2.0 Structure'!$B$12:$C$16,2,FALSE),\"-\")","v":"-"},{"$f":"IFERROR(VLOOKUP(K296,'NR-PI 2.0 Structure'!$B$20:$D$21,3,FALSE),\"-\")","v":"-"},{"$f":"IFERROR(VLOOKUP(L296,'NR-PI 2.0 Structure'!$B$25:$C$28,2,FALSE),\"-\")","v":"-"},{"$f":"IFERROR(VLOOKUP(L296,'NR-PI 2.0 Structure'!$B$25:$D$28,3,FALSE),\"-\")","v":"-"},{"$f":"IFERROR(\n  IF(M296 = \"≤ 1\", 'NR-PI 2.0 Structure'!$D$32,\n  IF(M296 = \">1 - 3\", 'NR-PI 2.0 Structure'!$D$33,\n  IF(M296 = \">3 - 5\", 'NR-PI 2.0 Structure'!$D$34,\n  IF(M296 = \"> 5\", 'NR-PI 2.0 Structure'!$D$35, )))),\n\"-\")","v":0},{"$f":"IFERROR(IF(ISBLANK(I296),\"N/A\",IF(I296<>'NR-PI 2.0 Structure'!$C$5,(VLOOKUP(N296,'NR-PI 2.0 Structure'!$C$39:$D$40,2,FALSE)),0)),\" - \")","v":" - "},{"$f":"IFERROR(IF(ISBLANK(I296),\"N/A\",IF(I296<>'NR-PI 2.0 Structure'!$C$5,(VLOOKUP(N296,'NR-PI 2.0 Structure'!$C$39:$E$40,3,FALSE)),0)),\" - \")","v":" - "},"-","-","-","N/A",{"$f":"IF(ISBLANK('P Index Inputs'!R298),\"-\",'P Index Inputs'!R298)","v":"-"},{"$f":"IFERROR(IF(I296<>'NR-PI 2.0 Structure'!$C$5,VLOOKUP(AA296,'NR-PI 2.0 Structure'!$G$5:$H$9,2,FALSE),IF(OR(AA296='NR-PI 2.0 Structure'!$G$5,AA296='NR-PI 2.0 Structure'!$G$6,AA296='NR-PI 2.0 Structure'!$G$7),1,VLOOKUP(AA296,'NR-PI 2.0 Structure'!$G$8:$H$9,2,FALSE))),\"-\")","v":"-"},{"$f":"IF(ISBLANK('P Index Inputs'!S298),\"-\",'P Index Inputs'!S298)","v":"-"},{"$f":"IFERROR(VLOOKUP(AC296,'NR-PI 2.0 Structure'!$G$14:$H$19,2,FALSE),\"-\")","v":"-"},"-","-","N/A","N/A",0,0,0,0,0,0,0,0,0]
[{"$f":"'P Index Inputs'!A299","v":0},{"$f":"'P Index Inputs'!B299","v":0},{"$f":"'P Index Inputs'!C299","v":0},{"$f":"'P Index Inputs'!D299","v":0},{"$f":"'P Index Inputs'!E299","v":0},{"$f":"'P Index Inputs'!F299","v":0},{"$f":"'P Index Inputs'!H299","v":0},{"$f":"'P Index Inputs'!I299","v":0},{"$f":"'P Index Inputs'!J299","v":0},{"$f":"IF(ISBLANK('P Index Inputs'!L299),'P Index Inputs'!K299,'P Index Inputs'!L299)","v":"-"},{"$f":"'P Index Inputs'!M299","v":0},{"$f":"'P Index Inputs'!O299","v":0},{"$f":"'P Index Inputs'!P299","v":0},{"$f":"'P Index Inputs'!Q299","v":0},{"$f":"IFERROR(VLOOKUP(I297,'NR-PI 2.0 Structure'!$C$5:$D$8,2,FALSE),\"-\")","v":"-"},{"$f":"IFERROR(VLOOKUP(J297,'NR-PI 2.0 Structure'!$B$12:$C$16,2,FALSE),\"-\")","v":"-"},{"$f":"IFERROR(VLOOKUP(K297,'NR-PI 2.0 Structure'!$B$20:$D$21,3,FALSE),\"-\")","v":"-"},{"$f":"IFERROR(VLOOKUP(L297,'NR-PI 2.0 Structure'!$B$25:$C$28,2,FALSE),\"-\")","v":"-"},{"$f":"IFERROR(VLOOKUP(L297,'NR-PI 2.0 Structure'!$B$25:$D$28,3,FALSE),\"-\")","v":"-"},{"$f":"IFERROR(\n  IF(M297 = \"≤ 1\", 'NR-PI 2.0 Structure'!$D$32,\n  IF(M297 = \">1 - 3\", 'NR-PI 2.0 Structure'!$D$33,\n  IF(M297 = \">3 - 5\", 'NR-PI 2.0 Structure'!$D$34,\n  IF(M297 = \"> 5\", 'NR-PI 2.0 Structure'!$D$35, )))),\n\"-\")","v":0},{"$f":"IFERROR(IF(ISBLANK(I297),\"N/A\",IF(I297<>'NR-PI 2.0 Structure'!$C$5,(VLOOKUP(N297,'NR-PI 2.0 Structure'!$C$39:$D$40,2,FALSE)),0)),\" - \")","v":" - "},{"$f":"IFERROR(IF(ISBLANK(I297),\"N/A\",IF(I297<>'NR-PI 2.0 Structure'!$C$5,(VLOOKUP(N297,'NR-PI 2.0 Structure'!$C$39:$E$40,3,FALSE)),0)),\" - \")","v":" - "},"-","-","-","N/A",{"$f":"IF(ISBLANK('P Index Inputs'!R299),\"-\",'P Index Inputs'!R299)","v":"-"},{"$f":"IFERROR(IF(I297<>'NR-PI 2.0 Structure'!$C$5,VLOOKUP(AA297,'NR-PI 2.0 Structure'!$G$5:$H$9,2,FALSE),IF(OR(AA297='NR-PI 2.0 Structure'!$G$5,AA297='NR-PI 2.0 Structure'!$G$6,AA297='NR-PI 2.0 Structure'!$G$7),1,VLOOKUP(AA297,'NR-PI 2.0 Structure'!$G$8:$H$9,2,FALSE))),\"-\")","v":"-"},{"$f":"IF(ISBLANK('P Index Inputs'!S299),\"-\",'P Index Inputs'!S299)","v":"-"},{"$f":"IFERROR(VLOOKUP(AC297,'NR-PI 2.0 Structure'!$G$14:$H$19,2,FALSE),\"-\")","v":"-"},"-","-","N/A","N/A",0,0,0,0,0,0,0,0,0]
[{"$f":"'P Index Inputs'!A300","v":0},{"$f":"'P Index Inputs'!B300","v":0},{"$f":"'P Index Inputs'!C300","v":0},{"$f":"'P Index Inputs'!D300","v":0},{"$f":"'P Index Inputs'!E300","v":0},{"$f":"'P Index Inputs'!F300","v":0},{"$f":"'P Index Inputs'!H300","v":0},{"$f":"'P Index Inputs'!I300","v":0},{"$f":"'P Index Inputs'!J300","v":0},{"$f":"IF(ISBLANK('P Index Inputs'!L300),'P Index Inputs'!K300,'P Index Inputs'!L300)","v":"-"},{"$f":"'P Index Inputs'!M300","v":0},{"$f":"'P Index Inputs'!O300","v":0},{"$f":"'P Index Inputs'!P300","v":0},{"$f":"'P Index Inputs'!Q300","v":0},{"$f":"IFERROR(VLOOKUP(I298,'NR-PI 2.0 Structure'!$C$5:$D$8,2,FALSE),\"-\")","v":"-"},{"$f":"IFERROR(VLOOKUP(J298,'NR-PI 2.0 Structure'!$B$12:$C$16,2,FALSE),\"-\")","v":"-"},{"$f":"IFERROR(VLOOKUP(K298,'NR-PI 2.0 Structure'!$B$20:$D$21,3,FALSE),\"-\")","v":"-"},{"$f":"IFERROR(VLOOKUP(L298,'NR-PI 2.0 Structure'!$B$25:$C$28,2,FALSE),\"-\")","v":"-"},{"$f":"IFERROR(VLOOKUP(L298,'NR-PI 2.0 Structure'!$B$25:$D$28,3,FALSE),\"-\")","v":"-"},{"$f":"IFERROR(\n  IF(M298 = \"≤ 1\", 'NR-PI 2.0 Structure'!$D$32,\n  IF(M298 = \">1 - 3\", 'NR-PI 2.0 Structure'!$D$33,\n  IF(M298 = \">3 - 5\", 'NR-PI 2.0 Structure'!$D$34,\n  IF(M298 = \"> 5\", 'NR-PI 2.0 Structure'!$D$35, )))),\n\"-\")","v":0},{"$f":"IFERROR(IF(ISBLANK(I298),\"N/A\",IF(I298<>'NR-PI 2.0 Structure'!$C$5,(VLOOKUP(N298,'NR-PI 2.0 Structure'!$C$39:$D$40,2,FALSE)),0)),\" - \")","v":" - "},{"$f":"IFERROR(IF(ISBLANK(I298),\"N/A\",IF(I298<>'NR-PI 2.0 Structure'!$C$5,(VLOOKUP(N298,'NR-PI 2.0 Structure'!$C$39:$E$40,3,FALSE)),0)),\" - \")","v":" - "},"-","-","-","N/A",{"$f":"IF(ISBLANK('P Index Inputs'!R300),\"-\",'P Index Inputs'!R300)","v":"-"},{"$f":"IFERROR(IF(I298<>'NR-PI 2.0 Structure'!$C$5,VLOOKUP(AA298,'NR-PI 2.0 Structure'!$G$5:$H$9,2,FALSE),IF(OR(AA298='NR-PI 2.0 Structure'!$G$5,AA298='NR-PI 2.0 Structure'!$G$6,AA298='NR-PI 2.0 Structure'!$G$7),1,VLOOKUP(AA298,'NR-PI 2.0 Structure'!$G$8:$H$9,2,FALSE))),\"-\")","v":"-"},{"$f":"IF(ISBLANK('P Index Inputs'!S300),\"-\",'P Index Inputs'!S300)","v":"-"},{"$f":"IFERROR(VLOOKUP(AC298,'NR-PI 2.0 Structure'!$G$14:$H$19,2,FALSE),\"-\")","v":"-"},"-","-","N/A","N/A",0,0,0,0,0,0,0,0,0]
[{"$f":"'P Index Inputs'!A301","v":0},{"$f":"'P Index Inputs'!B301","v":0},{"$f":"'P Index Inputs'!C301","v":0},{"$f":"'P Index Inputs'!D301","v":0},{"$f":"'P Index Inputs'!E301","v":0},{"$f":"'P Index Inputs'!F301","v":0},{"$f":"'P Index Inputs'!H301","v":0},{"$f":"'P Index Inputs'!I301","v":0},{"$f":"'P Index Inputs'!J301","v":0},{"$f":"IF(ISBLANK('P Index Inputs'!L301),'P Index Inputs'!K301,'P Index Inputs'!L301)","v":"-"},{"$f":"'P Index Inputs'!M301","v":0},{"$f":"'P Index Inputs'!O301","v":0},{"$f":"'P Index Inputs'!P301","v":0},{"$f":"'P Index Inputs'!Q301","v":0},{"$f":"IFERROR(VLOOKUP(I299,'NR-PI 2.0 Structure'!$C$5:$D$8,2,FALSE),\"-\")","v":"-"},{"$f":"IFERROR(VLOOKUP(J299,'NR-PI 2.0 Structure'!$B$12:$C$16,2,FALSE),\"-\")","v":"-"},{"$f":"IFERROR(VLOOKUP(K299,'NR-PI 2.0 Structure'!$B$20:$D$21,3,FALSE),\"-\")","v":"-"},{"$f":"IFERROR(VLOOKUP(L299,'NR-PI 2.0 Structure'!$B$25:$C$28,2,FALSE),\"-\")","v":"-"},{"$f":"IFERROR(VLOOKUP(L299,'NR-PI 2.0 Structure'!$B$25:$D$28,3,FALSE),\"-\")","v":"-"},{"$f":"IFERROR(\n  IF(M299 = \"≤ 1\", 'NR-PI 2.0 Structure'!$D$32,\n  IF(M299 = \">1 - 3\", 'NR-PI 2.0 Structure'!$D$33,\n  IF(M299 = \">3 - 5\", 'NR-PI 2.0 Structure'!$D$34,\n  IF(M299 = \"> 5\", 'NR-PI 2.0 Structure'!$D$35, )))),\n\"-\")","v":0},{"$f":"IFERROR(IF(ISBLANK(I299),\"N/A\",IF(I299<>'NR-PI 2.0 Structure'!$C$5,(VLOOKUP(N299,'NR-PI 2.0 Structure'!$C$39:$D$40,2,FALSE)),0)),\" - \")","v":" - "},{"$f":"IFERROR(IF(ISBLANK(I299),\"N/A\",IF(I299<>'NR-PI 2.0 Structure'!$C$5,(VLOOKUP(N299,'NR-PI 2.0 Structure'!$C$39:$E$40,3,FALSE)),0)),\" - \")","v":" - "},"-","-","-","N/A",{"$f":"IF(ISBLANK('P Index Inputs'!R301),\"-\",'P Index Inputs'!R301)","v":"-"},{"$f":"IFERROR(IF(I299<>'NR-PI 2.0 Structure'!$C$5,VLOOKUP(AA299,'NR-PI 2.0 Structure'!$G$5:$H$9,2,FALSE),IF(OR(AA299='NR-PI 2.0 Structure'!$G$5,AA299='NR-PI 2.0 Structure'!$G$6,AA299='NR-PI 2.0 Structure'!$G$7),1,VLOOKUP(AA299,'NR-PI 2.0 Structure'!$G$8:$H$9,2,FALSE))),\"-\")","v":"-"},{"$f":"IF(ISBLANK('P Index Inputs'!S301),\"-\",'P Index Inputs'!S301)","v":"-"},{"$f":"IFERROR(VLOOKUP(AC299,'NR-PI 2.0 Structure'!$G$14:$H$19,2,FALSE),\"-\")","v":"-"},"-","-","N/A","N/A",0,0,0,0,0,0,0,0,0]
[{"$f":"'P Index Inputs'!A302","v":0},{"$f":"'P Index Inputs'!B302","v":0},{"$f":"'P Index Inputs'!C302","v":0},{"$f":"'P Index Inputs'!D302","v":0},{"$f":"'P Index Inputs'!E302","v":0},{"$f":"'P Index Inputs'!F302","v":0},{"$f":"'P Index Inputs'!H302","v":0},{"$f":"'P Index Inputs'!I302","v":0},{"$f":"'P Index Inputs'!J302","v":0},{"$f":"IF(ISBLANK('P Index Inputs'!L302),'P Index Inputs'!K302,'P Index Inputs'!L302)","v":"-"},{"$f":"'P Index Inputs'!M302","v":0},{"$f":"'P Index Inputs'!O302","v":0},{"$f":"'P Index Inputs'!P302","v":0},{"$f":"'P Index Inputs'!Q302","v":0},{"$f":"IFERROR(VLOOKUP(I300,'NR-PI 2.0 Structure'!$C$5:$D$8,2,FALSE),\"-\")","v":"-"},{"$f":"IFERROR(VLOOKUP(J300,'NR-PI 2.0 Structure'!$B$12:$C$16,2,FALSE),\"-\")","v":"-"},{"$f":"IFERROR(VLOOKUP(K300,'NR-PI 2.0 Structure'!$B$20:$D$21,3,FALSE),\"-\")","v":"-"},{"$f":"IFERROR(VLOOKUP(L300,'NR-PI 2.0 Structure'!$B$25:$C$28,2,FALSE),\"-\")","v":"-"},{"$f":"IFERROR(VLOOKUP(L300,'NR-PI 2.0 Structure'!$B$25:$D$28,3,FALSE),\"-\")","v":"-"},{"$f":"IFERROR(\n  IF(M300 = \"≤ 1\", 'NR-PI 2.0 Structure'!$D$32,\n  IF(M300 = \">1 - 3\", 'NR-PI 2.0 Structure'!$D$33,\n  IF(M300 = \">3 - 5\", 'NR-PI 2.0 Structure'!$D$34,\n  IF(M300 = \"> 5\", 'NR-PI 2.0 Structure'!$D$35, )))),\n\"-\")","v":0},{"$f":"IFERROR(IF(ISBLANK(I300),\"N/A\",IF(I300<>'NR-PI 2.0 Structure'!$C$5,(VLOOKUP(N300,'NR-PI 2.0 Structure'!$C$39:$D$40,2,FALSE)),0)),\" - \")","v":" - "},{"$f":"IFERROR(IF(ISBLANK(I300),\"N/A\",IF(I300<>'NR-PI 2.0 Structure'!$C$5,(VLOOKUP(N300,'NR-PI 2.0 Structure'!$C$39:$E$40,3,FALSE)),0)),\" - \")","v":" - "},"-","-","-","N/A",{"$f":"IF(ISBLANK('P Index Inputs'!R302),\"-\",'P Index Inputs'!R302)","v":"-"},{"$f":"IFERROR(IF(I300<>'NR-PI 2.0 Structure'!$C$5,VLOOKUP(AA300,'NR-PI 2.0 Structure'!$G$5:$H$9,2,FALSE),IF(OR(AA300='NR-PI 2.0 Structure'!$G$5,AA300='NR-PI 2.0 Structure'!$G$6,AA300='NR-PI 2.0 Structure'!$G$7),1,VLOOKUP(AA300,'NR-PI 2.0 Structure'!$G$8:$H$9,2,FALSE))),\"-\")","v":"-"},{"$f":"IF(ISBLANK('P Index Inputs'!S302),\"-\",'P Index Inputs'!S302)","v":"-"},{"$f":"IFERROR(VLOOKUP(AC300,'NR-PI 2.0 Structure'!$G$14:$H$19,2,FALSE),\"-\")","v":"-"},"-","-","N/A","N/A",0,0,0,0,0,0,0,0,0]
[{"$f":"'P Index Inputs'!A303","v":0},{"$f":"'P Index Inputs'!B303","v":0},{"$f":"'P Index Inputs'!C303","v":0},{"$f":"'P Index Inputs'!D303","v":0},{"$f":"'P Index Inputs'!E303","v":0},{"$f":"'P Index Inputs'!F303","v":0},{"$f":"'P Index Inputs'!H303","v":0},{"$f":"'P Index Inputs'!I303","v":0},{"$f":"'P Index Inputs'!J303","v":0},{"$f":"IF(ISBLANK('P Index Inputs'!L303),'P Index Inputs'!K303,'P Index Inputs'!L303)","v":"-"},{"$f":"'P Index Inputs'!M303","v":0},{"$f":"'P Index Inputs'!O303","v":0},{"$f":"'P Index Inputs'!P303","v":0},{"$f":"'P Index Inputs'!Q303","v":0},{"$f":"IFERROR(VLOOKUP(I301,'NR-PI 2.0 Structure'!$C$5:$D$8,2,FALSE),\"-\")","v":"-"},{"$f":"IFERROR(VLOOKUP(J301,'NR-PI 2.0 Structure'!$B$12:$C$16,2,FALSE),\"-\")","v":"-"},{"$f":"IFERROR(VLOOKUP(K301,'NR-PI 2.0 Structure'!$B$20:$D$21,3,FALSE),\"-\")","v":"-"},{"$f":"IFERROR(VLOOKUP(L301,'NR-PI 2.0 Structure'!$B$25:$C$28,2,FALSE),\"-\")","v":"-"},{"$f":"IFERROR(VLOOKUP(L301,'NR-PI 2.0 Structure'!$B$25:$D$28,3,FALSE),\"-\")","v":"-"},{"$f":"IFERROR(\n  IF(M301 = \"≤ 1\", 'NR-PI 2.0 Structure'!$D$32,\n  IF(M301 = \">1 - 3\", 'NR-PI 2.0 Structure'!$D$33,\n  IF(M301 = \">3 - 5\", 'NR-PI 2.0 Structure'!$D$34,\n  IF(M301 = \"> 5\", 'NR-PI 2.0 Structure'!$D$35, )))),\n\"-\")","v":0},{"$f":"IFERROR(IF(ISBLANK(I301),\"N/A\",IF(I301<>'NR-PI 2.0 Structure'!$C$5,(VLOOKUP(N301,'NR-PI 2.0 Structure'!$C$39:$D$40,2,FALSE)),0)),\" - \")","v":" - "},{"$f":"IFERROR(IF(ISBLANK(I301),\"N/A\",IF(I301<>'NR-PI 2.0 Structure'!$C$5,(VLOOKUP(N301,'NR-PI 2.0 Structure'!$C$39:$E$40,3,FALSE)),0)),\" - \")","v":" - "},"-","-","-","N/A",{"$f":"IF(ISBLANK('P Index Inputs'!R303),\"-\",'P Index Inputs'!R303)","v":"-"},{"$f":"IFERROR(IF(I301<>'NR-PI 2.0 Structure'!$C$5,VLOOKUP(AA301,'NR-PI 2.0 Structure'!$G$5:$H$9,2,FALSE),IF(OR(AA301='NR-PI 2.0 Structure'!$G$5,AA301='NR-PI 2.0 Structure'!$G$6,AA301='NR-PI 2.0 Structure'!$G$7),1,VLOOKUP(AA301,'NR-PI 2.0 Structure'!$G$8:$H$9,2,FALSE))),\"-\")","v":"-"},{"$f":"IF(ISBLANK('P Index Inputs'!S303),\"-\",'P Index Inputs'!S303)","v":"-"},{"$f":"IFERROR(VLOOKUP(AC301,'NR-PI 2.0 Structure'!$G$14:$H$19,2,FALSE),\"-\")","v":"-"},"-","-","N/A","N/A",0,0,0,0,0,0,0,0,0]
[{"$f":"'P Index Inputs'!A304","v":0},{"$f":"'P Index Inputs'!B304","v":0},{"$f":"'P Index Inputs'!C304","v":0},{"$f":"'P Index Inputs'!D304","v":0},{"$f":"'P Index Inputs'!E304","v":0},{"$f":"'P Index Inputs'!F304","v":0},{"$f":"'P Index Inputs'!H304","v":0},{"$f":"'P Index Inputs'!I304","v":0},{"$f":"'P Index Inputs'!J304","v":0},{"$f":"IF(ISBLANK('P Index Inputs'!L304),'P Index Inputs'!K304,'P Index Inputs'!L304)","v":"-"},{"$f":"'P Index Inputs'!M304","v":0},{"$f":"'P Index Inputs'!O304","v":0},{"$f":"'P Index Inputs'!P304","v":0},{"$f":"'P Index Inputs'!Q304","v":0},{"$f":"IFERROR(VLOOKUP(I302,'NR-PI 2.0 Structure'!$C$5:$D$8,2,FALSE),\"-\")","v":"-"},{"$f":"IFERROR(VLOOKUP(J302,'NR-PI 2.0 Structure'!$B$12:$C$16,2,FALSE),\"-\")","v":"-"},{"$f":"IFERROR(VLOOKUP(K302,'NR-PI 2.0 Structure'!$B$20:$D$21,3,FALSE),\"-\")","v":"-"},{"$f":"IFERROR(VLOOKUP(L302,'NR-PI 2.0 Structure'!$B$25:$C$28,2,FALSE),\"-\")","v":"-"},{"$f":"IFERROR(VLOOKUP(L302,'NR-PI 2.0 Structure'!$B$25:$D$28,3,FALSE),\"-\")","v":"-"},{"$f":"IFERROR(\n  IF(M302 = \"≤ 1\", 'NR-PI 2.0 Structure'!$D$32,\n  IF(M302 = \">1 - 3\", 'NR-PI 2.0 Structure'!$D$33,\n  IF(M302 = \">3 - 5\", 'NR-PI 2.0 Structure'!$D$34,\n  IF(M302 = \"> 5\", 'NR-PI 2.0 Structure'!$D$35, )))),\n\"-\")","v":0},{"$f":"IFERROR(IF(ISBLANK(I302),\"N/A\",IF(I302<>'NR-PI 2.0 Structure'!$C$5,(VLOOKUP(N302,'NR-PI 2.0 Structure'!$C$39:$D$40,2,FALSE)),0)),\" - \")","v":" - "},{"$f":"IFERROR(IF(ISBLANK(I302),\"N/A\",IF(I302<>'NR-PI 2.0 Structure'!$C$5,(VLOOKUP(N302,'NR-PI 2.0 Structure'!$C$39:$E$40,3,FALSE)),0)),\" - \")","v":" - "},"-","-","-","N/A",{"$f":"IF(ISBLANK('P Index Inputs'!R304),\"-\",'P Index Inputs'!R304)","v":"-"},{"$f":"IFERROR(IF(I302<>'NR-PI 2.0 Structure'!$C$5,VLOOKUP(AA302,'NR-PI 2.0 Structure'!$G$5:$H$9,2,FALSE),IF(OR(AA302='NR-PI 2.0 Structure'!$G$5,AA302='NR-PI 2.0 Structure'!$G$6,AA302='NR-PI 2.0 Structure'!$G$7),1,VLOOKUP(AA302,'NR-PI 2.0 Structure'!$G$8:$H$9,2,FALSE))),\"-\")","v":"-"},{"$f":"IF(ISBLANK('P Index Inputs'!S304),\"-\",'P Index Inputs'!S304)","v":"-"},{"$f":"IFERROR(VLOOKUP(AC302,'NR-PI 2.0 Structure'!$G$14:$H$19,2,FALSE),\"-\")","v":"-"},"-","-","N/A","N/A",0,0,0,0,0,0,0,0,0]
[{"$f":"'P Index Inputs'!A305","v":0},{"$f":"'P Index Inputs'!B305","v":0},{"$f":"'P Index Inputs'!C305","v":0},{"$f":"'P Index Inputs'!D305","v":0},{"$f":"'P Index Inputs'!E305","v":0},{"$f":"'P Index Inputs'!F305","v":0},{"$f":"'P Index Inputs'!H305","v":0},{"$f":"'P Index Inputs'!I305","v":0},{"$f":"'P Index Inputs'!J305","v":0},{"$f":"IF(ISBLANK('P Index Inputs'!L305),'P Index Inputs'!K305,'P Index Inputs'!L305)","v":"-"},{"$f":"'P Index Inputs'!M305","v":0},{"$f":"'P Index Inputs'!O305","v":0},{"$f":"'P Index Inputs'!P305","v":0},{"$f":"'P Index Inputs'!Q305","v":0},{"$f":"IFERROR(VLOOKUP(I303,'NR-PI 2.0 Structure'!$C$5:$D$8,2,FALSE),\"-\")","v":"-"},{"$f":"IFERROR(VLOOKUP(J303,'NR-PI 2.0 Structure'!$B$12:$C$16,2,FALSE),\"-\")","v":"-"},{"$f":"IFERROR(VLOOKUP(K303,'NR-PI 2.0 Structure'!$B$20:$D$21,3,FALSE),\"-\")","v":"-"},{"$f":"IFERROR(VLOOKUP(L303,'NR-PI 2.0 Structure'!$B$25:$C$28,2,FALSE),\"-\")","v":"-"},{"$f":"IFERROR(VLOOKUP(L303,'NR-PI 2.0 Structure'!$B$25:$D$28,3,FALSE),\"-\")","v":"-"},{"$f":"IFERROR(\n  IF(M303 = \"≤ 1\", 'NR-PI 2.0 Structure'!$D$32,\n  IF(M303 = \">1 - 3\", 'NR-PI 2.0 Structure'!$D$33,\n  IF(M303 = \">3 - 5\", 'NR-PI 2.0 Structure'!$D$34,\n  IF(M303 = \"> 5\", 'NR-PI 2.0 Structure'!$D$35, )))),\n\"-\")","v":0},{"$f":"IFERROR(IF(ISBLANK(I303),\"N/A\",IF(I303<>'NR-PI 2.0 Structure'!$C$5,(VLOOKUP(N303,'NR-PI 2.0 Structure'!$C$39:$D$40,2,FALSE)),0)),\" - \")","v":" - "},{"$f":"IFERROR(IF(ISBLANK(I303),\"N/A\",IF(I303<>'NR-PI 2.0 Structure'!$C$5,(VLOOKUP(N303,'NR-PI 2.0 Structure'!$C$39:$E$40,3,FALSE)),0)),\" - \")","v":" - "},"-","-","-","N/A",{"$f":"IF(ISBLANK('P Index Inputs'!R305),\"-\",'P Index Inputs'!R305)","v":"-"},{"$f":"IFERROR(IF(I303<>'NR-PI 2.0 Structure'!$C$5,VLOOKUP(AA303,'NR-PI 2.0 Structure'!$G$5:$H$9,2,FALSE),IF(OR(AA303='NR-PI 2.0 Structure'!$G$5,AA303='NR-PI 2.0 Structure'!$G$6,AA303='NR-PI 2.0 Structure'!$G$7),1,VLOOKUP(AA303,'NR-PI 2.0 Structure'!$G$8:$H$9,2,FALSE))),\"-\")","v":"-"},{"$f":"IF(ISBLANK('P Index Inputs'!S305),\"-\",'P Index Inputs'!S305)","v":"-"},{"$f":"IFERROR(VLOOKUP(AC303,'NR-PI 2.0 Structure'!$G$14:$H$19,2,FALSE),\"-\")","v":"-"},"-","-","N/A","N/A",0,0,0,0,0,0,0,0,0]

{"sheet":"Results","index":4,"n_rows":303,"n_cols":11,"rows_kept":303,"cut":false,"hidden":false,"merged":[[1,3,1,5],[1,6,1,7],[1,8,1,10],[1,0,1,2]]}
[]
["Field Info",null,null,"Best/Beneficial Management Practices",null,null,"Raw P Index",null,"Overall P Index"]
["Field ID","Crop","Soil test P lbs/acre (Cornell Morgan Eqs)","BMP: Method of Applications","BMP: Ground Cover/Timing","Final BMP score","Final Raw PI Score","Raw P Loss Risk","Overall PI Score","P loss risk","Management Implication"]
[{"$f":"'P Index Inputs'!C6","v":0},{"$f":"'P Index Inputs'!D6","v":0},{"$f":"'P Index Inputs'!I6","v":0},{"$f":"IF(ISBLANK('P Index Inputs'!R6),\"-\",'P Index Inputs'!R6)","v":"-"},{"$f":"IF(ISBLANK('P Index Inputs'!S6),\"-\",'P Index Inputs'!S6)","v":"-"},{"$f":"Calculations!AE4","v":"-"},{"$f":"Calculations!AF4","v":"-"},{"$f":"Calculations!Z4","v":"N/A"},{"$f":"Calculations!AF4","v":"-"},{"$f":"Calculations!AG4","v":"N/A"},{"$f":"Calculations!AH4","v":"N/A"}]
[{"$f":"'P Index Inputs'!C7","v":0},{"$f":"'P Index Inputs'!D7","v":0},{"$f":"'P Index Inputs'!I7","v":0},{"$f":"IF(ISBLANK('P Index Inputs'!R7),\"-\",'P Index Inputs'!R7)","v":"-"},{"$f":"IF(ISBLANK('P Index Inputs'!S7),\"-\",'P Index Inputs'!S7)","v":"-"},{"$f":"Calculations!AE5","v":"-"},{"$f":"Calculations!AF5","v":"-"},{"$f":"Calculations!Z5","v":"N/A"},{"$f":"Calculations!AF5","v":"-"},{"$f":"Calculations!AG5","v":"N/A"},{"$f":"Calculations!AH5","v":"N/A"}]
[{"$f":"'P Index Inputs'!C8","v":0},{"$f":"'P Index Inputs'!D8","v":0},{"$f":"'P Index Inputs'!I8","v":0},{"$f":"IF(ISBLANK('P Index Inputs'!R8),\"-\",'P Index Inputs'!R8)","v":"-"},{"$f":"IF(ISBLANK('P Index Inputs'!S8),\"-\",'P Index Inputs'!S8)","v":"-"},{"$f":"Calculations!AE6","v":"-"},{"$f":"Calculations!AF6","v":"-"},{"$f":"Calculations!Z6","v":"N/A"},{"$f":"Calculations!AF6","v":"-"},{"$f":"Calculations!AG6","v":"N/A"},{"$f":"Calculations!AH6","v":"N/A"}]
[{"$f":"'P Index Inputs'!C9","v":0},{"$f":"'P Index Inputs'!D9","v":0},{"$f":"'P Index Inputs'!I9","v":0},{"$f":"IF(ISBLANK('P Index Inputs'!R9),\"-\",'P Index Inputs'!R9)","v":"-"},{"$f":"IF(ISBLANK('P Index Inputs'!S9),\"-\",'P Index Inputs'!S9)","v":"-"},{"$f":"Calculations!AE7","v":"-"},{"$f":"Calculations!AF7","v":"-"},{"$f":"Calculations!Z7","v":"N/A"},{"$f":"Calculations!AF7","v":"-"},{"$f":"Calculations!AG7","v":"N/A"},{"$f":"Calculations!AH7","v":"N/A"}]
[{"$f":"'P Index Inputs'!C10","v":0},{"$f":"'P Index Inputs'!D10","v":0},{"$f":"'P Index Inputs'!I10","v":0},{"$f":"IF(ISBLANK('P Index Inputs'!R10),\"-\",'P Index Inputs'!R10)","v":"-"},{"$f":"IF(ISBLANK('P Index Inputs'!S10),\"-\",'P Index Inputs'!S10)","v":"-"},{"$f":"Calculations!AE8","v":"-"},{"$f":"Calculations!AF8","v":"-"},{"$f":"Calculations!Z8","v":"N/A"},{"$f":"Calculations!AF8","v":"-"},{"$f":"Calculations!AG8","v":"N/A"},{"$f":"Calculations!AH8","v":"N/A"}]
[{"$f":"'P Index Inputs'!C11","v":0},{"$f":"'P Index Inputs'!D11","v":0},{"$f":"'P Index Inputs'!I11","v":0},{"$f":"IF(ISBLANK('P Index Inputs'!R11),\"-\",'P Index Inputs'!R11)","v":"-"},{"$f":"IF(ISBLANK('P Index Inputs'!S11),\"-\",'P Index Inputs'!S11)","v":"-"},{"$f":"Calculations!AE9","v":"-"},{"$f":"Calculations!AF9","v":"-"},{"$f":"Calculations!Z9","v":"N/A"},{"$f":"Calculations!AF9","v":"-"},{"$f":"Calculations!AG9","v":"N/A"},{"$f":"Calculations!AH9","v":"N/A"}]
[{"$f":"'P Index Inputs'!C12","v":0},{"$f":"'P Index Inputs'!D12","v":0},{"$f":"'P Index Inputs'!I12","v":0},{"$f":"IF(ISBLANK('P Index Inputs'!R12),\"-\",'P Index Inputs'!R12)","v":"-"},{"$f":"IF(ISBLANK('P Index Inputs'!S12),\"-\",'P Index Inputs'!S12)","v":"-"},{"$f":"Calculations!AE10","v":"-"},{"$f":"Calculations!AF10","v":"-"},{"$f":"Calculations!Z10","v":"N/A"},{"$f":"Calculations!AF10","v":"-"},{"$f":"Calculations!AG10","v":"N/A"},{"$f":"Calculations!AH10","v":"N/A"}]
[{"$f":"'P Index Inputs'!C13","v":0},{"$f":"'P Index Inputs'!D13","v":0},{"$f":"'P Index Inputs'!I13","v":0},{"$f":"IF(ISBLANK('P Index Inputs'!R13),\"-\",'P Index Inputs'!R13)","v":"-"},{"$f":"IF(ISBLANK('P Index Inputs'!S13),\"-\",'P Index Inputs'!S13)","v":"-"},{"$f":"Calculations!AE11","v":"-"},{"$f":"Calculations!AF11","v":"-"},{"$f":"Calculations!Z11","v":"N/A"},{"$f":"Calculations!AF11","v":"-"},{"$f":"Calculations!AG11","v":"N/A"},{"$f":"Calculations!AH11","v":"N/A"}]
[{"$f":"'P Index Inputs'!C14","v":0},{"$f":"'P Index Inputs'!D14","v":0},{"$f":"'P Index Inputs'!I14","v":0},{"$f":"IF(ISBLANK('P Index Inputs'!R14),\"-\",'P Index Inputs'!R14)","v":"-"},{"$f":"IF(ISBLANK('P Index Inputs'!S14),\"-\",'P Index Inputs'!S14)","v":"-"},{"$f":"Calculations!AE12","v":"-"},{"$f":"Calculations!AF12","v":"-"},{"$f":"Calculations!Z12","v":"N/A"},{"$f":"Calculations!AF12","v":"-"},{"$f":"Calculations!AG12","v":"N/A"},{"$f":"Calculations!AH12","v":"N/A"}]
[{"$f":"'P Index Inputs'!C15","v":0},{"$f":"'P Index Inputs'!D15","v":0},{"$f":"'P Index Inputs'!I15","v":0},{"$f":"IF(ISBLANK('P Index Inputs'!R15),\"-\",'P Index Inputs'!R15)","v":"-"},{"$f":"IF(ISBLANK('P Index Inputs'!S15),\"-\",'P Index Inputs'!S15)","v":"-"},{"$f":"Calculations!AE13","v":"-"},{"$f":"Calculations!AF13","v":"-"},{"$f":"Calculations!Z13","v":"N/A"},{"$f":"Calculations!AF13","v":"-"},{"$f":"Calculations!AG13","v":"N/A"},{"$f":"Calculations!AH13","v":"N/A"}]
[{"$f":"'P Index Inputs'!C16","v":0},{"$f":"'P Index Inputs'!D16","v":0},{"$f":"'P Index Inputs'!I16","v":0},{"$f":"IF(ISBLANK('P Index Inputs'!R16),\"-\",'P Index Inputs'!R16)","v":"-"},{"$f":"IF(ISBLANK('P Index Inputs'!S16),\"-\",'P Index Inputs'!S16)","v":"-"},{"$f":"Calculations!AE14","v":"-"},{"$f":"Calculations!AF14","v":"-"},{"$f":"Calculations!Z14","v":"N/A"},{"$f":"Calculations!AF14","v":"-"},{"$f":"Calculations!AG14","v":"N/A"},{"$f":"Calculations!AH14","v":"N/A"}]
[{"$f":"'P Index Inputs'!C17","v":0},{"$f":"'P Index Inputs'!D17","v":0},{"$f":"'P Index Inputs'!I17","v":0},{"$f":"IF(ISBLANK('P Index Inputs'!R17),\"-\",'P Index Inputs'!R17)","v":"-"},{"$f":"IF(ISBLANK('P Index Inputs'!S17),\"-\",'P Index Inputs'!S17)","v":"-"},{"$f":"Calculations!AE15","v":"-"},{"$f":"Calculations!AF15","v":"-"},{"$f":"Calculations!Z15","v":"N/A"},{"$f":"Calculations!AF15","v":"-"},{"$f":"Calculations!AG15","v":"N/A"},{"$f":"Calculations!AH15","v":"N/A"}]
[{"$f":"'P Index Inputs'!C18","v":0},{"$f":"'P Index Inputs'!D18","v":0},{"$f":"'P Index Inputs'!I18","v":0},{"$f":"IF(ISBLANK('P Index Inputs'!R18),\"-\",'P Index Inputs'!R18)","v":"-"},{"$f":"IF(ISBLANK('P Index Inputs'!S18),\"-\",'P Index Inputs'!S18)","v":"-"},{"$f":"Calculations!AE16","v":"-"},{"$f":"Calculations!AF16","v":"-"},{"$f":"Calculations!Z16","v":"N/A"},{"$f":"Calculations!AF16","v":"-"},{"$f":"Calculations!AG16","v":"N/A"},{"$f":"Calculations!AH16","v":"N/A"}]
[{"$f":"'P Index Inputs'!C19","v":0},{"$f":"'P Index Inputs'!D19","v":0},{"$f":"'P Index Inputs'!I19","v":0},{"$f":"IF(ISBLANK('P Index Inputs'!R19),\"-\",'P Index Inputs'!R19)","v":"-"},{"$f":"IF(ISBLANK('P Index Inputs'!S19),\"-\",'P Index Inputs'!S19)","v":"-"},{"$f":"Calculations!AE17","v":"-"},{"$f":"Calculations!AF17","v":"-"},{"$f":"Calculations!Z17","v":"N/A"},{"$f":"Calculations!AF17","v":"-"},{"$f":"Calculations!AG17","v":"N/A"},{"$f":"Calculations!AH17","v":"N/A"}]
[{"$f":"'P Index Inputs'!C20","v":0},{"$f":"'P Index Inputs'!D20","v":0},{"$f":"'P Index Inputs'!I20","v":0},{"$f":"IF(ISBLANK('P Index Inputs'!R20),\"-\",'P Index Inputs'!R20)","v":"-"},{"$f":"IF(ISBLANK('P Index Inputs'!S20),\"-\",'P Index Inputs'!S20)","v":"-"},{"$f":"Calculations!AE18","v":"-"},{"$f":"Calculations!AF18","v":"-"},{"$f":"Calculations!Z18","v":"N/A"},{"$f":"Calculations!AF18","v":"-"},{"$f":"Calculations!AG18","v":"N/A"},{"$f":"Calculations!AH18","v":"N/A"}]
[{"$f":"'P Index Inputs'!C21","v":0},{"$f":"'P Index Inputs'!D21","v":0},{"$f":"'P Index Inputs'!I21","v":0},{"$f":"IF(ISBLANK('P Index Inputs'!R21),\"-\",'P Index Inputs'!R21)","v":"-"},{"$f":"IF(ISBLANK('P Index Inputs'!S21),\"-\",'P Index Inputs'!S21)","v":"-"},{"$f":"Calculations!AE19","v":"-"},{"$f":"Calculations!AF19","v":"-"},{"$f":"Calculations!Z19","v":"N/A"},{"$f":"Calculations!AF19","v":"-"},{"$f":"Calculations!AG19","v":"N/A"},{"$f":"Calculations!AH19","v":"N/A"}]
[{"$f":"'P Index Inputs'!C22","v":0},{"$f":"'P Index Inputs'!D22","v":0},{"$f":"'P Index Inputs'!I22","v":0},{"$f":"IF(ISBLANK('P Index Inputs'!R22),\"-\",'P Index Inputs'!R22)","v":"-"},{"$f":"IF(ISBLANK('P Index Inputs'!S22),\"-\",'P Index Inputs'!S22)","v":"-"},{"$f":"Calculations!AE20","v":"-"},{"$f":"Calculations!AF20","v":"-"},{"$f":"Calculations!Z20","v":"N/A"},{"$f":"Calculations!AF20","v":"-"},{"$f":"Calculations!AG20","v":"N/A"},{"$f":"Calculations!AH20","v":"N/A"}]
[{"$f":"'P Index Inputs'!C23","v":0},{"$f":"'P Index Inputs'!D23","v":0},{"$f":"'P Index Inputs'!I23","v":0},{"$f":"IF(ISBLANK('P Index Inputs'!R23),\"-\",'P Index Inputs'!R23)","v":"-"},{"$f":"IF(ISBLANK('P Index Inputs'!S23),\"-\",'P Index Inputs'!S23)","v":"-"},{"$f":"Calculations!AE21","v":"-"},{"$f":"Calculations!AF21","v":"-"},{"$f":"Calculations!Z21","v":"N/A"},{"$f":"Calculations!AF21","v":"-"},{"$f":"Calculations!AG21","v":"N/A"},{"$f":"Calculations!AH21","v":"N/A"}]
[{"$f":"'P Index Inputs'!C24","v":0},{"$f":"'P Index Inputs'!D24","v":0},{"$f":"'P Index Inputs'!I24","v":0},{"$f":"IF(ISBLANK('P Index Inputs'!R24),\"-\",'P Index Inputs'!R24)","v":"-"},{"$f":"IF(ISBLANK('P Index Inputs'!S24),\"-\",'P Index Inputs'!S24)","v":"-"},{"$f":"Calculations!AE22","v":"-"},{"$f":"Calculations!AF22","v":"-"},{"$f":"Calculations!Z22","v":"N/A"},{"$f":"Calculations!AF22","v":"-"},{"$f":"Calculations!AG22","v":"N/A"},{"$f":"Calculations!AH22","v":"N/A"}]
[{"$f":"'P Index Inputs'!C25","v":0},{"$f":"'P Index Inputs'!D25","v":0},{"$f":"'P Index Inputs'!I25","v":0},{"$f":"IF(ISBLANK('P Index Inputs'!R25),\"-\",'P Index Inputs'!R25)","v":"-"},{"$f":"IF(ISBLANK('P Index Inputs'!S25),\"-\",'P Index Inputs'!S25)","v":"-"},{"$f":"Calculations!AE23","v":"-"},{"$f":"Calculations!AF23","v":"-"},{"$f":"Calculations!Z23","v":"N/A"},{"$f":"Calculations!AF23","v":"-"},{"$f":"Calculations!AG23","v":"N/A"},{"$f":"Calculations!AH23","v":"N/A"}]
[{"$f":"'P Index Inputs'!C26","v":0},{"$f":"'P Index Inputs'!D26","v":0},{"$f":"'P Index Inputs'!I26","v":0},{"$f":"IF(ISBLANK('P Index Inputs'!R26),\"-\",'P Index Inputs'!R26)","v":"-"},{"$f":"IF(ISBLANK('P Index Inputs'!S26),\"-\",'P Index Inputs'!S26)","v":"-"},{"$f":"Calculations!AE24","v":"-"},{"$f":"Calculations!AF24","v":"-"},{"$f":"Calculations!Z24","v":"N/A"},{"$f":"Calculations!AF24","v":"-"},{"$f":"Calculations!AG24","v":"N/A"},{"$f":"Calculations!AH24","v":"N/A"}]
[{"$f":"'P Index Inputs'!C27","v":0},{"$f":"'P Index Inputs'!D27","v":0},{"$f":"'P Index Inputs'!I27","v":0},{"$f":"IF(ISBLANK('P Index Inputs'!R27),\"-\",'P Index Inputs'!R27)","v":"-"},{"$f":"IF(ISBLANK('P Index Inputs'!S27),\"-\",'P Index Inputs'!S27)","v":"-"},{"$f":"Calculations!AE25","v":"-"},{"$f":"Calculations!AF25","v":"-"},{"$f":"Calculations!Z25","v":"N/A"},{"$f":"Calculations!AF25","v":"-"},{"$f":"Calculations!AG25","v":"N/A"},{"$f":"Calculations!AH25","v":"N/A"}]
[{"$f":"'P Index Inputs'!C28","v":0},{"$f":"'P Index Inputs'!D28","v":0},{"$f":"'P Index Inputs'!I28","v":0},{"$f":"IF(ISBLANK('P Index Inputs'!R28),\"-\",'P Index Inputs'!R28)","v":"-"},{"$f":"IF(ISBLANK('P Index Inputs'!S28),\"-\",'P Index Inputs'!S28)","v":"-"},{"$f":"Calculations!AE26","v":"-"},{"$f":"Calculations!AF26","v":"-"},{"$f":"Calculations!Z26","v":"N/A"},{"$f":"Calculations!AF26","v":"-"},{"$f":"Calculations!AG26","v":"N/A"},{"$f":"Calculations!AH26","v":"N/A"}]
[{"$f":"'P Index Inputs'!C29","v":0},{"$f":"'P Index Inputs'!D29","v":0},{"$f":"'P Index Inputs'!I29","v":0},{"$f":"IF(ISBLANK('P Index Inputs'!R29),\"-\",'P Index Inputs'!R29)","v":"-"},{"$f":"IF(ISBLANK('P Index Inputs'!S29),\"-\",'P Index Inputs'!S29)","v":"-"},{"$f":"Calculations!AE27","v":"-"},{"$f":"Calculations!AF27","v":"-"},{"$f":"Calculations!Z27","v":"N/A"},{"$f":"Calculations!AF27","v":"-"},{"$f":"Calculations!AG27","v":"N/A"},{"$f":"Calculations!AH27","v":"N/A"}]
[{"$f":"'P Index Inputs'!C30","v":0},{"$f":"'P Index Inputs'!D30","v":0},{"$f":"'P Index Inputs'!I30","v":0},{"$f":"IF(ISBLANK('P Index Inputs'!R30),\"-\",'P Index Inputs'!R30)","v":"-"},{"$f":"IF(ISBLANK('P Index Inputs'!S30),\"-\",'P Index Inputs'!S30)","v":"-"},{"$f":"Calculations!AE28","v":"-"},{"$f":"Calculations!AF28","v":"-"},{"$f":"Calculations!Z28","v":"N/A"},{"$f":"Calculations!AF28","v":"-"},{"$f":"Calculations!AG28","v":"N/A"},{"$f":"Calculations!AH28","v":"N/A"}]
[{"$f":"'P Index Inputs'!C31","v":0},{"$f":"'P Index Inputs'!D31","v":0},{"$f":"'P Index Inputs'!I31","v":0},{"$f":"IF(ISBLANK('P Index Inputs'!R31),\"-\",'P Index Inputs'!R31)","v":"-"},{"$f":"IF(ISBLANK('P Index Inputs'!S31),\"-\",'P Index Inputs'!S31)","v":"-"},{"$f":"Calculations!AE29","v":"-"},{"$f":"Calculations!AF29","v":"-"},{"$f":"Calculations!Z29","v":"N/A"},{"$f":"Calculations!AF29","v":"-"},{"$f":"Calculations!AG29","v":"N/A"},{"$f":"Calculations!AH29","v":"N/A"}]
[{"$f":"'P Index Inputs'!C32","v":0},{"$f":"'P Index Inputs'!D32","v":0},{"$f":"'P Index Inputs'!I32","v":0},{"$f":"IF(ISBLANK('P Index Inputs'!R32),\"-\",'P Index Inputs'!R32)","v":"-"},{"$f":"IF(ISBLANK('P Index Inputs'!S32),\"-\",'P Index Inputs'!S32)","v":"-"},{"$f":"Calculations!AE30","v":"-"},{"$f":"Calculations!AF30","v":"-"},{"$f":"Calculations!Z30","v":"N/A"},{"$f":"Calculations!AF30","v":"-"},{"$f":"Calculations!AG30","v":"N/A"},{"$f":"Calculations!AH30","v":"N/A"}]
[{"$f":"'P Index Inputs'!C33","v":0},{"$f":"'P Index Inputs'!D33","v":0},{"$f":"'P Index Inputs'!I33","v":0},{"$f":"IF(ISBLANK('P Index Inputs'!R33),\"-\",'P Index Inputs'!R33)","v":"-"},{"$f":"IF(ISBLANK('P Index Inputs'!S33),\"-\",'P Index Inputs'!S33)","v":"-"},{"$f":"Calculations!AE31","v":"-"},{"$f":"Calculations!AF31","v":"-"},{"$f":"Calculations!Z31","v":"N/A"},{"$f":"Calculations!AF31","v":"-"},{"$f":"Calculations!AG31","v":"N/A"},{"$f":"Calculations!AH31","v":"N/A"}]
[{"$f":"'P Index Inputs'!C34","v":0},{"$f":"'P Index Inputs'!D34","v":0},{"$f":"'P Index Inputs'!I34","v":0},{"$f":"IF(ISBLANK('P Index Inputs'!R34),\"-\",'P Index Inputs'!R34)","v":"-"},{"$f":"IF(ISBLANK('P Index Inputs'!S34),\"-\",'P Index Inputs'!S34)","v":"-"},{"$f":"Calculations!AE32","v":"-"},{"$f":"Calculations!AF32","v":"-"},{"$f":"Calculations!Z32","v":"N/A"},{"$f":"Calculations!AF32","v":"-"},{"$f":"Calculations!AG32","v":"N/A"},{"$f":"Calculations!AH32","v":"N/A"}]
[{"$f":"'P Index Inputs'!C35","v":0},{"$f":"'P Index Inputs'!D35","v":0},{"$f":"'P Index Inputs'!I35","v":0},{"$f":"IF(ISBLANK('P Index Inputs'!R35),\"-\",'P Index Inputs'!R35)","v":"-"},{"$f":"IF(ISBLANK('P Index Inputs'!S35),\"-\",'P Index Inputs'!S35)","v":"-"},{"$f":"Calculations!AE33","v":"-"},{"$f":"Calculations!AF33","v":"-"},{"$f":"Calculations!Z33","v":"N/A"},{"$f":"Calculations!AF33","v":"-"},{"$f":"Calculations!AG33","v":"N/A"},{"$f":"Calculations!AH33","v":"N/A"}]
[{"$f":"'P Index Inputs'!C36","v":0},{"$f":"'P Index Inputs'!D36","v":0},{"$f":"'P Index Inputs'!I36","v":0},{"$f":"IF(ISBLANK('P Index Inputs'!R36),\"-\",'P Index Inputs'!R36)","v":"-"},{"$f":"IF(ISBLANK('P Index Inputs'!S36),\"-\",'P Index Inputs'!S36)","v":"-"},{"$f":"Calculations!AE34","v":"-"},{"$f":"Calculations!AF34","v":"-"},{"$f":"Calculations!Z34","v":"N/A"},{"$f":"Calculations!AF34","v":"-"},{"$f":"Calculations!AG34","v":"N/A"},{"$f":"Calculations!AH34","v":"N/A"}]
[{"$f":"'P Index Inputs'!C37","v":0},{"$f":"'P Index Inputs'!D37","v":0},{"$f":"'P Index Inputs'!I37","v":0},{"$f":"IF(ISBLANK('P Index Inputs'!R37),\"-\",'P Index Inputs'!R37)","v":"-"},{"$f":"IF(ISBLANK('P Index Inputs'!S37),\"-\",'P Index Inputs'!S37)","v":"-"},{"$f":"Calculations!AE35","v":"-"},{"$f":"Calculations!AF35","v":"-"},{"$f":"Calculations!Z35","v":"N/A"},{"$f":"Calculations!AF35","v":"-"},{"$f":"Calculations!AG35","v":"N/A"},{"$f":"Calculations!AH35","v":"N/A"}]
[{"$f":"'P Index Inputs'!C38","v":0},{"$f":"'P Index Inputs'!D38","v":0},{"$f":"'P Index Inputs'!I38","v":0},{"$f":"IF(ISBLANK('P Index Inputs'!R38),\"-\",'P Index Inputs'!R38)","v":"-"},{"$f":"IF(ISBLANK('P Index Inputs'!S38),\"-\",'P Index Inputs'!S38)","v":"-"},{"$f":"Calculations!AE36","v":"-"},{"$f":"Calculations!AF36","v":"-"},{"$f":"Calculations!Z36","v":"N/A"},{"$f":"Calculations!AF36","v":"-"},{"$f":"Calculations!AG36","v":"N/A"},{"$f":"Calculations!AH36","v":"N/A"}]
[{"$f":"'P Index Inputs'!C39","v":0},{"$f":"'P Index Inputs'!D39","v":0},{"$f":"'P Index Inputs'!I39","v":0},{"$f":"IF(ISBLANK('P Index Inputs'!R39),\"-\",'P Index Inputs'!R39)","v":"-"},{"$f":"IF(ISBLANK('P Index Inputs'!S39),\"-\",'P Index Inputs'!S39)","v":"-"},{"$f":"Calculations!AE37","v":"-"},{"$f":"Calculations!AF37","v":"-"},{"$f":"Calculations!Z37","v":"N/A"},{"$f":"Calculations!AF37","v":"-"},{"$f":"Calculations!AG37","v":"N/A"},{"$f":"Calculations!AH37","v":"N/A"}]
[{"$f":"'P Index Inputs'!C40","v":0},{"$f":"'P Index Inputs'!D40","v":0},{"$f":"'P Index Inputs'!I40","v":0},{"$f":"IF(ISBLANK('P Index Inputs'!R40),\"-\",'P Index Inputs'!R40)","v":"-"},{"$f":"IF(ISBLANK('P Index Inputs'!S40),\"-\",'P Index Inputs'!S40)","v":"-"},{"$f":"Calculations!AE38","v":"-"},{"$f":"Calculations!AF38","v":"-"},{"$f":"Calculations!Z38","v":"N/A"},{"$f":"Calculations!AF38","v":"-"},{"$f":"Calculations!AG38","v":"N/A"},{"$f":"Calculations!AH38","v":"N/A"}]
[{"$f":"'P Index Inputs'!C41","v":0},{"$f":"'P Index Inputs'!D41","v":0},{"$f":"'P Index Inputs'!I41","v":0},{"$f":"IF(ISBLANK('P Index Inputs'!R41),\"-\",'P Index Inputs'!R41)","v":"-"},{"$f":"IF(ISBLANK('P Index Inputs'!S41),\"-\",'P Index Inputs'!S41)","v":"-"},{"$f":"Calculations!AE39","v":"-"},{"$f":"Calculations!AF39","v":"-"},{"$f":"Calculations!Z39","v":"N/A"},{"$f":"Calculations!AF39","v":"-"},{"$f":"Calculations!AG39","v":"N/A"},{"$f":"Calculations!AH39","v":"N/A"}]
[{"$f":"'P Index Inputs'!C42","v":0},{"$f":"'P Index Inputs'!D42","v":0},{"$f":"'P Index Inputs'!I42","v":0},{"$f":"IF(ISBLANK('P Index Inputs'!R42),\"-\",'P Index Inputs'!R42)","v":"-"},{"$f":"IF(ISBLANK('P Index Inputs'!S42),\"-\",'P Index Inputs'!S42)","v":"-"},{"$f":"Calculations!AE40","v":"-"},{"$f":"Calculations!AF40","v":"-"},{"$f":"Calculations!Z40","v":"N/A"},{"$f":"Calculations!AF40","v":"-"},{"$f":"Calculations!AG40","v":"N/A"},{"$f":"Calculations!AH40","v":"N/A"}]
[{"$f":"'P Index Inputs'!C43","v":0},{"$f":"'P Index Inputs'!D43","v":0},{"$f":"'P Index Inputs'!I43","v":0},{"$f":"IF(ISBLANK('P Index Inputs'!R43),\"-\",'P Index Inputs'!R43)","v":"-"},{"$f":"IF(ISBLANK('P Index Inputs'!S43),\"-\",'P Index Inputs'!S43)","v":"-"},{"$f":"Calculations!AE41","v":"-"},{"$f":"Calculations!AF41","v":"-"},{"$f":"Calculations!Z41","v":"N/A"},{"$f":"Calculations!AF41","v":"-"},{"$f":"Calculations!AG41","v":"N/A"},{"$f":"Calculations!AH41","v":"N/A"}]
[{"$f":"'P Index Inputs'!C44","v":0},{"$f":"'P Index Inputs'!D44","v":0},{"$f":"'P Index Inputs'!I44","v":0},{"$f":"IF(ISBLANK('P Index Inputs'!R44),\"-\",'P Index Inputs'!R44)","v":"-"},{"$f":"IF(ISBLANK('P Index Inputs'!S44),\"-\",'P Index Inputs'!S44)","v":"-"},{"$f":"Calculations!AE42","v":"-"},{"$f":"Calculations!AF42","v":"-"},{"$f":"Calculations!Z42","v":"N/A"},{"$f":"Calculations!AF42","v":"-"},{"$f":"Calculations!AG42","v":"N/A"},{"$f":"Calculations!AH42","v":"N/A"}]
[{"$f":"'P Index Inputs'!C45","v":0},{"$f":"'P Index Inputs'!D45","v":0},{"$f":"'P Index Inputs'!I45","v":0},{"$f":"IF(ISBLANK('P Index Inputs'!R45),\"-\",'P Index Inputs'!R45)","v":"-"},{"$f":"IF(ISBLANK('P Index Inputs'!S45),\"-\",'P Index Inputs'!S45)","v":"-"},{"$f":"Calculations!AE43","v":"-"},{"$f":"Calculations!AF43","v":"-"},{"$f":"Calculations!Z43","v":"N/A"},{"$f":"Calculations!AF43","v":"-"},{"$f":"Calculations!AG43","v":"N/A"},{"$f":"Calculations!AH43","v":"N/A"}]
[{"$f":"'P Index Inputs'!C46","v":0},{"$f":"'P Index Inputs'!D46","v":0},{"$f":"'P Index Inputs'!I46","v":0},{"$f":"IF(ISBLANK('P Index Inputs'!R46),\"-\",'P Index Inputs'!R46)","v":"-"},{"$f":"IF(ISBLANK('P Index Inputs'!S46),\"-\",'P Index Inputs'!S46)","v":"-"},{"$f":"Calculations!AE44","v":"-"},{"$f":"Calculations!AF44","v":"-"},{"$f":"Calculations!Z44","v":"N/A"},{"$f":"Calculations!AF44","v":"-"},{"$f":"Calculations!AG44","v":"N/A"},{"$f":"Calculations!AH44","v":"N/A"}]
[{"$f":"'P Index Inputs'!C47","v":0},{"$f":"'P Index Inputs'!D47","v":0},{"$f":"'P Index Inputs'!I47","v":0},{"$f":"IF(ISBLANK('P Index Inputs'!R47),\"-\",'P Index Inputs'!R47)","v":"-"},{"$f":"IF(ISBLANK('P Index Inputs'!S47),\"-\",'P Index Inputs'!S47)","v":"-"},{"$f":"Calculations!AE45","v":"-"},{"$f":"Calculations!AF45","v":"-"},{"$f":"Calculations!Z45","v":"N/A"},{"$f":"Calculations!AF45","v":"-"},{"$f":"Calculations!AG45","v":"N/A"},{"$f":"Calculations!AH45","v":"N/A"}]
[{"$f":"'P Index Inputs'!C48","v":0},{"$f":"'P Index Inputs'!D48","v":0},{"$f":"'P Index Inputs'!I48","v":0},{"$f":"IF(ISBLANK('P Index Inputs'!R48),\"-\",'P Index Inputs'!R48)","v":"-"},{"$f":"IF(ISBLANK('P Index Inputs'!S48),\"-\",'P Index Inputs'!S48)","v":"-"},{"$f":"Calculations!AE46","v":"-"},{"$f":"Calculations!AF46","v":"-"},{"$f":"Calculations!Z46","v":"N/A"},{"$f":"Calculations!AF46","v":"-"},{"$f":"Calculations!AG46","v":"N/A"},{"$f":"Calculations!AH46","v":"N/A"}]
[{"$f":"'P Index Inputs'!C49","v":0},{"$f":"'P Index Inputs'!D49","v":0},{"$f":"'P Index Inputs'!I49","v":0},{"$f":"IF(ISBLANK('P Index Inputs'!R49),\"-\",'P Index Inputs'!R49)","v":"-"},{"$f":"IF(ISBLANK('P Index Inputs'!S49),\"-\",'P Index Inputs'!S49)","v":"-"},{"$f":"Calculations!AE47","v":"-"},{"$f":"Calculations!AF47","v":"-"},{"$f":"Calculations!Z47","v":"N/A"},{"$f":"Calculations!AF47","v":"-"},{"$f":"Calculations!AG47","v":"N/A"},{"$f":"Calculations!AH47","v":"N/A"}]
[{"$f":"'P Index Inputs'!C50","v":0},{"$f":"'P Index Inputs'!D50","v":0},{"$f":"'P Index Inputs'!I50","v":0},{"$f":"IF(ISBLANK('P Index Inputs'!R50),\"-\",'P Index Inputs'!R50)","v":"-"},{"$f":"IF(ISBLANK('P Index Inputs'!S50),\"-\",'P Index Inputs'!S50)","v":"-"},{"$f":"Calculations!AE48","v":"-"},{"$f":"Calculations!AF48","v":"-"},{"$f":"Calculations!Z48","v":"N/A"},{"$f":"Calculations!AF48","v":"-"},{"$f":"Calculations!AG48","v":"N/A"},{"$f":"Calculations!AH48","v":"N/A"}]
[{"$f":"'P Index Inputs'!C51","v":0},{"$f":"'P Index Inputs'!D51","v":0},{"$f":"'P Index Inputs'!I51","v":0},{"$f":"IF(ISBLANK('P Index Inputs'!R51),\"-\",'P Index Inputs'!R51)","v":"-"},{"$f":"IF(ISBLANK('P Index Inputs'!S51),\"-\",'P Index Inputs'!S51)","v":"-"},{"$f":"Calculations!AE49","v":"-"},{"$f":"Calculations!AF49","v":"-"},{"$f":"Calculations!Z49","v":"N/A"},{"$f":"Calculations!AF49","v":"-"},{"$f":"Calculations!AG49","v":"N/A"},{"$f":"Calculations!AH49","v":"N/A"}]
[{"$f":"'P Index Inputs'!C52","v":0},{"$f":"'P Index Inputs'!D52","v":0},{"$f":"'P Index Inputs'!I52","v":0},{"$f":"IF(ISBLANK('P Index Inputs'!R52),\"-\",'P Index Inputs'!R52)","v":"-"},{"$f":"IF(ISBLANK('P Index Inputs'!S52),\"-\",'P Index Inputs'!S52)","v":"-"},{"$f":"Calculations!AE50","v":"-"},{"$f":"Calculations!AF50","v":"-"},{"$f":"Calculations!Z50","v":"N/A"},{"$f":"Calculations!AF50","v":"-"},{"$f":"Calculations!AG50","v":"N/A"},{"$f":"Calculations!AH50","v":"N/A"}]
[{"$f":"'P Index Inputs'!C53","v":0},{"$f":"'P Index Inputs'!D53","v":0},{"$f":"'P Index Inputs'!I53","v":0},{"$f":"IF(ISBLANK('P Index Inputs'!R53),\"-\",'P Index Inputs'!R53)","v":"-"},{"$f":"IF(ISBLANK('P Index Inputs'!S53),\"-\",'P Index Inputs'!S53)","v":"-"},{"$f":"Calculations!AE51","v":"-"},{"$f":"Calculations!AF51","v":"-"},{"$f":"Calculations!Z51","v":"N/A"},{"$f":"Calculations!AF51","v":"-"},{"$f":"Calculations!AG51","v":"N/A"},{"$f":"Calculations!AH51","v":"N/A"}]
[{"$f":"'P Index Inputs'!C54","v":0},{"$f":"'P Index Inputs'!D54","v":0},{"$f":"'P Index Inputs'!I54","v":0},{"$f":"IF(ISBLANK('P Index Inputs'!R54),\"-\",'P Index Inputs'!R54)","v":"-"},{"$f":"IF(ISBLANK('P Index Inputs'!S54),\"-\",'P Index Inputs'!S54)","v":"-"},{"$f":"Calculations!AE52","v":"-"},{"$f":"Calculations!AF52","v":"-"},{"$f":"Calculations!Z52","v":"N/A"},{"$f":"Calculations!AF52","v":"-"},{"$f":"Calculations!AG52","v":"N/A"},{"$f":"Calculations!AH52","v":"N/A"}]
[{"$f":"'P Index Inputs'!C55","v":0},{"$f":"'P Index Inputs'!D55","v":0},{"$f":"'P Index Inputs'!I55","v":0},{"$f":"IF(ISBLANK('P Index Inputs'!R55),\"-\",'P Index Inputs'!R55)","v":"-"},{"$f":"IF(ISBLANK('P Index Inputs'!S55),\"-\",'P Index Inputs'!S55)","v":"-"},{"$f":"Calculations!AE53","v":"-"},{"$f":"Calculations!AF53","v":"-"},{"$f":"Calculations!Z53","v":"N/A"},{"$f":"Calculations!AF53","v":"-"},{"$f":"Calculations!AG53","v":"N/A"},{"$f":"Calculations!AH53","v":"N/A"}]
[{"$f":"'P Index Inputs'!C56","v":0},{"$f":"'P Index Inputs'!D56","v":0},{"$f":"'P Index Inputs'!I56","v":0},{"$f":"IF(ISBLANK('P Index Inputs'!R56),\"-\",'P Index Inputs'!R56)","v":"-"},{"$f":"IF(ISBLANK('P Index Inputs'!S56),\"-\",'P Index Inputs'!S56)","v":"-"},{"$f":"Calculations!AE54","v":"-"},{"$f":"Calculations!AF54","v":"-"},{"$f":"Calculations!Z54","v":"N/A"},{"$f":"Calculations!AF54","v":"-"},{"$f":"Calculations!AG54","v":"N/A"},{"$f":"Calculations!AH54","v":"N/A"}]
[{"$f":"'P Index Inputs'!C57","v":0},{"$f":"'P Index Inputs'!D57","v":0},{"$f":"'P Index Inputs'!I57","v":0},{"$f":"IF(ISBLANK('P Index Inputs'!R57),\"-\",'P Index Inputs'!R57)","v":"-"},{"$f":"IF(ISBLANK('P Index Inputs'!S57),\"-\",'P Index Inputs'!S57)","v":"-"},{"$f":"Calculations!AE55","v":"-"},{"$f":"Calculations!AF55","v":"-"},{"$f":"Calculations!Z55","v":"N/A"},{"$f":"Calculations!AF55","v":"-"},{"$f":"Calculations!AG55","v":"N/A"},{"$f":"Calculations!AH55","v":"N/A"}]
[{"$f":"'P Index Inputs'!C58","v":0},{"$f":"'P Index Inputs'!D58","v":0},{"$f":"'P Index Inputs'!I58","v":0},{"$f":"IF(ISBLANK('P Index Inputs'!R58),\"-\",'P Index Inputs'!R58)","v":"-"},{"$f":"IF(ISBLANK('P Index Inputs'!S58),\"-\",'P Index Inputs'!S58)","v":"-"},{"$f":"Calculations!AE56","v":"-"},{"$f":"Calculations!AF56","v":"-"},{"$f":"Calculations!Z56","v":"N/A"},{"$f":"Calculations!AF56","v":"-"},{"$f":"Calculations!AG56","v":"N/A"},{"$f":"Calculations!AH56","v":"N/A"}]
[{"$f":"'P Index Inputs'!C59","v":0},{"$f":"'P Index Inputs'!D59","v":0},{"$f":"'P Index Inputs'!I59","v":0},{"$f":"IF(ISBLANK('P Index Inputs'!R59),\"-\",'P Index Inputs'!R59)","v":"-"},{"$f":"IF(ISBLANK('P Index Inputs'!S59),\"-\",'P Index Inputs'!S59)","v":"-"},{"$f":"Calculations!AE57","v":"-"},{"$f":"Calculations!AF57","v":"-"},{"$f":"Calculations!Z57","v":"N/A"},{"$f":"Calculations!AF57","v":"-"},{"$f":"Calculations!AG57","v":"N/A"},{"$f":"Calculations!AH57","v":"N/A"}]
[{"$f":"'P Index Inputs'!C60","v":0},{"$f":"'P Index Inputs'!D60","v":0},{"$f":"'P Index Inputs'!I60","v":0},{"$f":"IF(ISBLANK('P Index Inputs'!R60),\"-\",'P Index Inputs'!R60)","v":"-"},{"$f":"IF(ISBLANK('P Index Inputs'!S60),\"-\",'P Index Inputs'!S60)","v":"-"},{"$f":"Calculations!AE58","v":"-"},{"$f":"Calculations!AF58","v":"-"},{"$f":"Calculations!Z58","v":"N/A"},{"$f":"Calculations!AF58","v":"-"},{"$f":"Calculations!AG58","v":"N/A"},{"$f":"Calculations!AH58","v":"N/A"}]
[{"$f":"'P Index Inputs'!C61","v":0},{"$f":"'P Index Inputs'!D61","v":0},{"$f":"'P Index Inputs'!I61","v":0},{"$f":"IF(ISBLANK('P Index Inputs'!R61),\"-\",'P Index Inputs'!R61)","v":"-"},{"$f":"IF(ISBLANK('P Index Inputs'!S61),\"-\",'P Index Inputs'!S61)","v":"-"},{"$f":"Calculations!AE59","v":"-"},{"$f":"Calculations!AF59","v":"-"},{"$f":"Calculations!Z59","v":"N/A"},{"$f":"Calculations!AF59","v":"-"},{"$f":"Calculations!AG59","v":"N/A"},{"$f":"Calculations!AH59","v":"N/A"}]
[{"$f":"'P Index Inputs'!C62","v":0},{"$f":"'P Index Inputs'!D62","v":0},{"$f":"'P Index Inputs'!I62","v":0},{"$f":"IF(ISBLANK('P Index Inputs'!R62),\"-\",'P Index Inputs'!R62)","v":"-"},{"$f":"IF(ISBLANK('P Index Inputs'!S62),\"-\",'P Index Inputs'!S62)","v":"-"},{"$f":"Calculations!AE60","v":"-"},{"$f":"Calculations!AF60","v":"-"},{"$f":"Calculations!Z60","v":"N/A"},{"$f":"Calculations!AF60","v":"-"},{"$f":"Calculations!AG60","v":"N/A"},{"$f":"Calculations!AH60","v":"N/A"}]
[{"$f":"'P Index Inputs'!C63","v":0},{"$f":"'P Index Inputs'!D63","v":0},{"$f":"'P Index Inputs'!I63","v":0},{"$f":"IF(ISBLANK('P Index Inputs'!R63),\"-\",'P Index Inputs'!R63)","v":"-"},{"$f":"IF(ISBLANK('P Index Inputs'!S63),\"-\",'P Index Inputs'!S63)","v":"-"},{"$f":"Calculations!AE61","v":"-"},{"$f":"Calculations!AF61","v":"-"},{"$f":"Calculations!Z61","v":"N/A"},{"$f":"Calculations!AF61","v":"-"},{"$f":"Calculations!AG61","v":"N/A"},{"$f":"Calculations!AH61","v":"N/A"}]
[{"$f":"'P Index Inputs'!C64","v":0},{"$f":"'P Index Inputs'!D64","v":0},{"$f":"'P Index Inputs'!I64","v":0},{"$f":"IF(ISBLANK('P Index Inputs'!R64),\"-\",'P Index Inputs'!R64)","v":"-"},{"$f":"IF(ISBLANK('P Index Inputs'!S64),\"-\",'P Index Inputs'!S64)","v":"-"},{"$f":"Calculations!AE62","v":"-"},{"$f":"Calculations!AF62","v":"-"},{"$f":"Calculations!Z62","v":"N/A"},{"$f":"Calculations!AF62","v":"-"},{"$f":"Calculations!AG62","v":"N/A"},{"$f":"Calculations!AH62","v":"N/A"}]
[{"$f":"'P Index Inputs'!C65","v":0},{"$f":"'P Index Inputs'!D65","v":0},{"$f":"'P Index Inputs'!I65","v":0},{"$f":"IF(ISBLANK('P Index Inputs'!R65),\"-\",'P Index Inputs'!R65)","v":"-"},{"$f":"IF(ISBLANK('P Index Inputs'!S65),\"-\",'P Index Inputs'!S65)","v":"-"},{"$f":"Calculations!AE63","v":"-"},{"$f":"Calculations!AF63","v":"-"},{"$f":"Calculations!Z63","v":"N/A"},{"$f":"Calculations!AF63","v":"-"},{"$f":"Calculations!AG63","v":"N/A"},{"$f":"Calculations!AH63","v":"N/A"}]
[{"$f":"'P Index Inputs'!C66","v":0},{"$f":"'P Index Inputs'!D66","v":0},{"$f":"'P Index Inputs'!I66","v":0},{"$f":"IF(ISBLANK('P Index Inputs'!R66),\"-\",'P Index Inputs'!R66)","v":"-"},{"$f":"IF(ISBLANK('P Index Inputs'!S66),\"-\",'P Index Inputs'!S66)","v":"-"},{"$f":"Calculations!AE64","v":"-"},{"$f":"Calculations!AF64","v":"-"},{"$f":"Calculations!Z64","v":"N/A"},{"$f":"Calculations!AF64","v":"-"},{"$f":"Calculations!AG64","v":"N/A"},{"$f":"Calculations!AH64","v":"N/A"}]
[{"$f":"'P Index Inputs'!C67","v":0},{"$f":"'P Index Inputs'!D67","v":0},{"$f":"'P Index Inputs'!I67","v":0},{"$f":"IF(ISBLANK('P Index Inputs'!R67),\"-\",'P Index Inputs'!R67)","v":"-"},{"$f":"IF(ISBLANK('P Index Inputs'!S67),\"-\",'P Index Inputs'!S67)","v":"-"},{"$f":"Calculations!AE65","v":"-"},{"$f":"Calculations!AF65","v":"-"},{"$f":"Calculations!Z65","v":"N/A"},{"$f":"Calculations!AF65","v":"-"},{"$f":"Calculations!AG65","v":"N/A"},{"$f":"Calculations!AH65","v":"N/A"}]
[{"$f":"'P Index Inputs'!C68","v":0},{"$f":"'P Index Inputs'!D68","v":0},{"$f":"'P Index Inputs'!I68","v":0},{"$f":"IF(ISBLANK('P Index Inputs'!R68),\"-\",'P Index Inputs'!R68)","v":"-"},{"$f":"IF(ISBLANK('P Index Inputs'!S68),\"-\",'P Index Inputs'!S68)","v":"-"},{"$f":"Calculations!AE66","v":"-"},{"$f":"Calculations!AF66","v":"-"},{"$f":"Calculations!Z66","v":"N/A"},{"$f":"Calculations!AF66","v":"-"},{"$f":"Calculations!AG66","v":"N/A"},{"$f":"Calculations!AH66","v":"N/A"}]
[{"$f":"'P Index Inputs'!C69","v":0},{"$f":"'P Index Inputs'!D69","v":0},{"$f":"'P Index Inputs'!I69","v":0},{"$f":"IF(ISBLANK('P Index Inputs'!R69),\"-\",'P Index Inputs'!R69)","v":"-"},{"$f":"IF(ISBLANK('P Index Inputs'!S69),\"-\",'P Index Inputs'!S69)","v":"-"},{"$f":"Calculations!AE67","v":"-"},{"$f":"Calculations!AF67","v":"-"},{"$f":"Calculations!Z67","v":"N/A"},{"$f":"Calculations!AF67","v":"-"},{"$f":"Calculations!AG67","v":"N/A"},{"$f":"Calculations!AH67","v":"N/A"}]
[{"$f":"'P Index Inputs'!C70","v":0},{"$f":"'P Index Inputs'!D70","v":0},{"$f":"'P Index Inputs'!I70","v":0},{"$f":"IF(ISBLANK('P Index Inputs'!R70),\"-\",'P Index Inputs'!R70)","v":"-"},{"$f":"IF(ISBLANK('P Index Inputs'!S70),\"-\",'P Index Inputs'!S70)","v":"-"},{"$f":"Calculations!AE68","v":"-"},{"$f":"Calculations!AF68","v":"-"},{"$f":"Calculations!Z68","v":"N/A"},{"$f":"Calculations!AF68","v":"-"},{"$f":"Calculations!AG68","v":"N/A"},{"$f":"Calculations!AH68","v":"N/A"}]
[{"$f":"'P Index Inputs'!C71","v":0},{"$f":"'P Index Inputs'!D71","v":0},{"$f":"'P Index Inputs'!I71","v":0},{"$f":"IF(ISBLANK('P Index Inputs'!R71),\"-\",'P Index Inputs'!R71)","v":"-"},{"$f":"IF(ISBLANK('P Index Inputs'!S71),\"-\",'P Index Inputs'!S71)","v":"-"},{"$f":"Calculations!AE69","v":"-"},{"$f":"Calculations!AF69","v":"-"},{"$f":"Calculations!Z69","v":"N/A"},{"$f":"Calculations!AF69","v":"-"},{"$f":"Calculations!AG69","v":"N/A"},{"$f":"Calculations!AH69","v":"N/A"}]
[{"$f":"'P Index Inputs'!C72","v":0},{"$f":"'P Index Inputs'!D72","v":0},{"$f":"'P Index Inputs'!I72","v":0},{"$f":"IF(ISBLANK('P Index Inputs'!R72),\"-\",'P Index Inputs'!R72)","v":"-"},{"$f":"IF(ISBLANK('P Index Inputs'!S72),\"-\",'P Index Inputs'!S72)","v":"-"},{"$f":"Calculations!AE70","v":"-"},{"$f":"Calculations!AF70","v":"-"},{"$f":"Calculations!Z70","v":"N/A"},{"$f":"Calculations!AF70","v":"-"},{"$f":"Calculations!AG70","v":"N/A"},{"$f":"Calculations!AH70","v":"N/A"}]
[{"$f":"'P Index Inputs'!C73","v":0},{"$f":"'P Index Inputs'!D73","v":0},{"$f":"'P Index Inputs'!I73","v":0},{"$f":"IF(ISBLANK('P Index Inputs'!R73),\"-\",'P Index Inputs'!R73)","v":"-"},{"$f":"IF(ISBLANK('P Index Inputs'!S73),\"-\",'P Index Inputs'!S73)","v":"-"},{"$f":"Calculations!AE71","v":"-"},{"$f":"Calculations!AF71","v":"-"},{"$f":"Calculations!Z71","v":"N/A"},{"$f":"Calculations!AF71","v":"-"},{"$f":"Calculations!AG71","v":"N/A"},{"$f":"Calculations!AH71","v":"N/A"}]
[{"$f":"'P Index Inputs'!C74","v":0},{"$f":"'P Index Inputs'!D74","v":0},{"$f":"'P Index Inputs'!I74","v":0},{"$f":"IF(ISBLANK('P Index Inputs'!R74),\"-\",'P Index Inputs'!R74)","v":"-"},{"$f":"IF(ISBLANK('P Index Inputs'!S74),\"-\",'P Index Inputs'!S74)","v":"-"},{"$f":"Calculations!AE72","v":"-"},{"$f":"Calculations!AF72","v":"-"},{"$f":"Calculations!Z72","v":"N/A"},{"$f":"Calculations!AF72","v":"-"},{"$f":"Calculations!AG72","v":"N/A"},{"$f":"Calculations!AH72","v":"N/A"}]
[{"$f":"'P Index Inputs'!C75","v":0},{"$f":"'P Index Inputs'!D75","v":0},{"$f":"'P Index Inputs'!I75","v":0},{"$f":"IF(ISBLANK('P Index Inputs'!R75),\"-\",'P Index Inputs'!R75)","v":"-"},{"$f":"IF(ISBLANK('P Index Inputs'!S75),\"-\",'P Index Inputs'!S75)","v":"-"},{"$f":"Calculations!AE73","v":"-"},{"$f":"Calculations!AF73","v":"-"},{"$f":"Calculations!Z73","v":"N/A"},{"$f":"Calculations!AF73","v":"-"},{"$f":"Calculations!AG73","v":"N/A"},{"$f":"Calculations!AH73","v":"N/A"}]
[{"$f":"'P Index Inputs'!C76","v":0},{"$f":"'P Index Inputs'!D76","v":0},{"$f":"'P Index Inputs'!I76","v":0},{"$f":"IF(ISBLANK('P Index Inputs'!R76),\"-\",'P Index Inputs'!R76)","v":"-"},{"$f":"IF(ISBLANK('P Index Inputs'!S76),\"-\",'P Index Inputs'!S76)","v":"-"},{"$f":"Calculations!AE74","v":"-"},{"$f":"Calculations!AF74","v":"-"},{"$f":"Calculations!Z74","v":"N/A"},{"$f":"Calculations!AF74","v":"-"},{"$f":"Calculations!AG74","v":"N/A"},{"$f":"Calculations!AH74","v":"N/A"}]
[{"$f":"'P Index Inputs'!C77","v":0},{"$f":"'P Index Inputs'!D77","v":0},{"$f":"'P Index Inputs'!I77","v":0},{"$f":"IF(ISBLANK('P Index Inputs'!R77),\"-\",'P Index Inputs'!R77)","v":"-"},{"$f":"IF(ISBLANK('P Index Inputs'!S77),\"-\",'P Index Inputs'!S77)","v":"-"},{"$f":"Calculations!AE75","v":"-"},{"$f":"Calculations!AF75","v":"-"},{"$f":"Calculations!Z75","v":"N/A"},{"$f":"Calculations!AF75","v":"-"},{"$f":"Calculations!AG75","v":"N/A"},{"$f":"Calculations!AH75","v":"N/A"}]
[{"$f":"'P Index Inputs'!C78","v":0},{"$f":"'P Index Inputs'!D78","v":0},{"$f":"'P Index Inputs'!I78","v":0},{"$f":"IF(ISBLANK('P Index Inputs'!R78),\"-\",'P Index Inputs'!R78)","v":"-"},{"$f":"IF(ISBLANK('P Index Inputs'!S78),\"-\",'P Index Inputs'!S78)","v":"-"},{"$f":"Calculations!AE76","v":"-"},{"$f":"Calculations!AF76","v":"-"},{"$f":"Calculations!Z76","v":"N/A"},{"$f":"Calculations!AF76","v":"-"},{"$f":"Calculations!AG76","v":"N/A"},{"$f":"Calculations!AH76","v":"N/A"}]
[{"$f":"'P Index Inputs'!C79","v":0},{"$f":"'P Index Inputs'!D79","v":0},{"$f":"'P Index Inputs'!I79","v":0},{"$f":"IF(ISBLANK('P Index Inputs'!R79),\"-\",'P Index Inputs'!R79)","v":"-"},{"$f":"IF(ISBLANK('P Index Inputs'!S79),\"-\",'P Index Inputs'!S79)","v":"-"},{"$f":"Calculations!AE77","v":"-"},{"$f":"Calculations!AF77","v":"-"},{"$f":"Calculations!Z77","v":"N/A"},{"$f":"Calculations!AF77","v":"-"},{"$f":"Calculations!AG77","v":"N/A"},{"$f":"Calculations!AH77","v":"N/A"}]
[{"$f":"'P Index Inputs'!C80","v":0},{"$f":"'P Index Inputs'!D80","v":0},{"$f":"'P Index Inputs'!I80","v":0},{"$f":"IF(ISBLANK('P Index Inputs'!R80),\"-\",'P Index Inputs'!R80)","v":"-"},{"$f":"IF(ISBLANK('P Index Inputs'!S80),\"-\",'P Index Inputs'!S80)","v":"-"},{"$f":"Calculations!AE78","v":"-"},{"$f":"Calculations!AF78","v":"-"},{"$f":"Calculations!Z78","v":"N/A"},{"$f":"Calculations!AF78","v":"-"},{"$f":"Calculations!AG78","v":"N/A"},{"$f":"Calculations!AH78","v":"N/A"}]
[{"$f":"'P Index Inputs'!C81","v":0},{"$f":"'P Index Inputs'!D81","v":0},{"$f":"'P Index Inputs'!I81","v":0},{"$f":"IF(ISBLANK('P Index Inputs'!R81),\"-\",'P Index Inputs'!R81)","v":"-"},{"$f":"IF(ISBLANK('P Index Inputs'!S81),\"-\",'P Index Inputs'!S81)","v":"-"},{"$f":"Calculations!AE79","v":"-"},{"$f":"Calculations!AF79","v":"-"},{"$f":"Calculations!Z79","v":"N/A"},{"$f":"Calculations!AF79","v":"-"},{"$f":"Calculations!AG79","v":"N/A"},{"$f":"Calculations!AH79","v":"N/A"}]
[{"$f":"'P Index Inputs'!C82","v":0},{"$f":"'P Index Inputs'!D82","v":0},{"$f":"'P Index Inputs'!I82","v":0},{"$f":"IF(ISBLANK('P Index Inputs'!R82),\"-\",'P Index Inputs'!R82)","v":"-"},{"$f":"IF(ISBLANK('P Index Inputs'!S82),\"-\",'P Index Inputs'!S82)","v":"-"},{"$f":"Calculations!AE80","v":"-"},{"$f":"Calculations!AF80","v":"-"},{"$f":"Calculations!Z80","v":"N/A"},{"$f":"Calculations!AF80","v":"-"},{"$f":"Calculations!AG80","v":"N/A"},{"$f":"Calculations!AH80","v":"N/A"}]
[{"$f":"'P Index Inputs'!C83","v":0},{"$f":"'P Index Inputs'!D83","v":0},{"$f":"'P Index Inputs'!I83","v":0},{"$f":"IF(ISBLANK('P Index Inputs'!R83),\"-\",'P Index Inputs'!R83)","v":"-"},{"$f":"IF(ISBLANK('P Index Inputs'!S83),\"-\",'P Index Inputs'!S83)","v":"-"},{"$f":"Calculations!AE81","v":"-"},{"$f":"Calculations!AF81","v":"-"},{"$f":"Calculations!Z81","v":"N/A"},{"$f":"Calculations!AF81","v":"-"},{"$f":"Calculations!AG81","v":"N/A"},{"$f":"Calculations!AH81","v":"N/A"}]
[{"$f":"'P Index Inputs'!C84","v":0},{"$f":"'P Index Inputs'!D84","v":0},{"$f":"'P Index Inputs'!I84","v":0},{"$f":"IF(ISBLANK('P Index Inputs'!R84),\"-\",'P Index Inputs'!R84)","v":"-"},{"$f":"IF(ISBLANK('P Index Inputs'!S84),\"-\",'P Index Inputs'!S84)","v":"-"},{"$f":"Calculations!AE82","v":"-"},{"$f":"Calculations!AF82","v":"-"},{"$f":"Calculations!Z82","v":"N/A"},{"$f":"Calculations!AF82","v":"-"},{"$f":"Calculations!AG82","v":"N/A"},{"$f":"Calculations!AH82","v":"N/A"}]
[{"$f":"'P Index Inputs'!C85","v":0},{"$f":"'P Index Inputs'!D85","v":0},{"$f":"'P Index Inputs'!I85","v":0},{"$f":"IF(ISBLANK('P Index Inputs'!R85),\"-\",'P Index Inputs'!R85)","v":"-"},{"$f":"IF(ISBLANK('P Index Inputs'!S85),\"-\",'P Index Inputs'!S85)","v":"-"},{"$f":"Calculations!AE83","v":"-"},{"$f":"Calculations!AF83","v":"-"},{"$f":"Calculations!Z83","v":"N/A"},{"$f":"Calculations!AF83","v":"-"},{"$f":"Calculations!AG83","v":"N/A"},{"$f":"Calculations!AH83","v":"N/A"}]
[{"$f":"'P Index Inputs'!C86","v":0},{"$f":"'P Index Inputs'!D86","v":0},{"$f":"'P Index Inputs'!I86","v":0},{"$f":"IF(ISBLANK('P Index Inputs'!R86),\"-\",'P Index Inputs'!R86)","v":"-"},{"$f":"IF(ISBLANK('P Index Inputs'!S86),\"-\",'P Index Inputs'!S86)","v":"-"},{"$f":"Calculations!AE84","v":"-"},{"$f":"Calculations!AF84","v":"-"},{"$f":"Calculations!Z84","v":"N/A"},{"$f":"Calculations!AF84","v":"-"},{"$f":"Calculations!AG84","v":"N/A"},{"$f":"Calculations!AH84","v":"N/A"}]
[{"$f":"'P Index Inputs'!C87","v":0},{"$f":"'P Index Inputs'!D87","v":0},{"$f":"'P Index Inputs'!I87","v":0},{"$f":"IF(ISBLANK('P Index Inputs'!R87),\"-\",'P Index Inputs'!R87)","v":"-"},{"$f":"IF(ISBLANK('P Index Inputs'!S87),\"-\",'P Index Inputs'!S87)","v":"-"},{"$f":"Calculations!AE85","v":"-"},{"$f":"Calculations!AF85","v":"-"},{"$f":"Calculations!Z85","v":"N/A"},{"$f":"Calculations!AF85","v":"-"},{"$f":"Calculations!AG85","v":"N/A"},{"$f":"Calculations!AH85","v":"N/A"}]
[{"$f":"'P Index Inputs'!C88","v":0},{"$f":"'P Index Inputs'!D88","v":0},{"$f":"'P Index Inputs'!I88","v":0},{"$f":"IF(ISBLANK('P Index Inputs'!R88),\"-\",'P Index Inputs'!R88)","v":"-"},{"$f":"IF(ISBLANK('P Index Inputs'!S88),\"-\",'P Index Inputs'!S88)","v":"-"},{"$f":"Calculations!AE86","v":"-"},{"$f":"Calculations!AF86","v":"-"},{"$f":"Calculations!Z86","v":"N/A"},{"$f":"Calculations!AF86","v":"-"},{"$f":"Calculations!AG86","v":"N/A"},{"$f":"Calculations!AH86","v":"N/A"}]
[{"$f":"'P Index Inputs'!C89","v":0},{"$f":"'P Index Inputs'!D89","v":0},{"$f":"'P Index Inputs'!I89","v":0},{"$f":"IF(ISBLANK('P Index Inputs'!R89),\"-\",'P Index Inputs'!R89)","v":"-"},{"$f":"IF(ISBLANK('P Index Inputs'!S89),\"-\",'P Index Inputs'!S89)","v":"-"},{"$f":"Calculations!AE87","v":"-"},{"$f":"Calculations!AF87","v":"-"},{"$f":"Calculations!Z87","v":"N/A"},{"$f":"Calculations!AF87","v":"-"},{"$f":"Calculations!AG87","v":"N/A"},{"$f":"Calculations!AH87","v":"N/A"}]
[{"$f":"'P Index Inputs'!C90","v":0},{"$f":"'P Index Inputs'!D90","v":0},{"$f":"'P Index Inputs'!I90","v":0},{"$f":"IF(ISBLANK('P Index Inputs'!R90),\"-\",'P Index Inputs'!R90)","v":"-"},{"$f":"IF(ISBLANK('P Index Inputs'!S90),\"-\",'P Index Inputs'!S90)","v":"-"},{"$f":"Calculations!AE88","v":"-"},{"$f":"Calculations!AF88","v":"-"},{"$f":"Calculations!Z88","v":"N/A"},{"$f":"Calculations!AF88","v":"-"},{"$f":"Calculations!AG88","v":"N/A"},{"$f":"Calculations!AH88","v":"N/A"}]
[{"$f":"'P Index Inputs'!C91","v":0},{"$f":"'P Index Inputs'!D91","v":0},{"$f":"'P Index Inputs'!I91","v":0},{"$f":"IF(ISBLANK('P Index Inputs'!R91),\"-\",'P Index Inputs'!R91)","v":"-"},{"$f":"IF(ISBLANK('P Index Inputs'!S91),\"-\",'P Index Inputs'!S91)","v":"-"},{"$f":"Calculations!AE89","v":"-"},{"$f":"Calculations!AF89","v":"-"},{"$f":"Calculations!Z89","v":"N/A"},{"$f":"Calculations!AF89","v":"-"},{"$f":"Calculations!AG89","v":"N/A"},{"$f":"Calculations!AH89","v":"N/A"}]
[{"$f":"'P Index Inputs'!C92","v":0},{"$f":"'P Index Inputs'!D92","v":0},{"$f":"'P Index Inputs'!I92","v":0},{"$f":"IF(ISBLANK('P Index Inputs'!R92),\"-\",'P Index Inputs'!R92)","v":"-"},{"$f":"IF(ISBLANK('P Index Inputs'!S92),\"-\",'P Index Inputs'!S92)","v":"-"},{"$f":"Calculations!AE90","v":"-"},{"$f":"Calculations!AF90","v":"-"},{"$f":"Calculations!Z90","v":"N/A"},{"$f":"Calculations!AF90","v":"-"},{"$f":"Calculations!AG90","v":"N/A"},{"$f":"Calculations!AH90","v":"N/A"}]
[{"$f":"'P Index Inputs'!C93","v":0},{"$f":"'P Index Inputs'!D93","v":0},{"$f":"'P Index Inputs'!I93","v":0},{"$f":"IF(ISBLANK('P Index Inputs'!R93),\"-\",'P Index Inputs'!R93)","v":"-"},{"$f":"IF(ISBLANK('P Index Inputs'!S93),\"-\",'P Index Inputs'!S93)","v":"-"},{"$f":"Calculations!AE91","v":"-"},{"$f":"Calculations!AF91","v":"-"},{"$f":"Calculations!Z91","v":"N/A"},{"$f":"Calculations!AF91","v":"-"},{"$f":"Calculations!AG91","v":"N/A"},{"$f":"Calculations!AH91","v":"N/A"}]
[{"$f":"'P Index Inputs'!C94","v":0},{"$f":"'P Index Inputs'!D94","v":0},{"$f":"'P Index Inputs'!I94","v":0},{"$f":"IF(ISBLANK('P Index Inputs'!R94),\"-\",'P Index Inputs'!R94)","v":"-"},{"$f":"IF(ISBLANK('P Index Inputs'!S94),\"-\",'P Index Inputs'!S94)","v":"-"},{"$f":"Calculations!AE92","v":"-"},{"$f":"Calculations!AF92","v":"-"},{"$f":"Calculations!Z92","v":"N/A"},{"$f":"Calculations!AF92","v":"-"},{"$f":"Calculations!AG92","v":"N/A"},{"$f":"Calculations!AH92","v":"N/A"}]
[{"$f":"'P Index Inputs'!C95","v":0},{"$f":"'P Index Inputs'!D95","v":0},{"$f":"'P Index Inputs'!I95","v":0},{"$f":"IF(ISBLANK('P Index Inputs'!R95),\"-\",'P Index Inputs'!R95)","v":"-"},{"$f":"IF(ISBLANK('P Index Inputs'!S95),\"-\",'P Index Inputs'!S95)","v":"-"},{"$f":"Calculations!AE93","v":"-"},{"$f":"Calculations!AF93","v":"-"},{"$f":"Calculations!Z93","v":"N/A"},{"$f":"Calculations!AF93","v":"-"},{"$f":"Calculations!AG93","v":"N/A"},{"$f":"Calculations!AH93","v":"N/A"}]
[{"$f":"'P Index Inputs'!C96","v":0},{"$f":"'P Index Inputs'!D96","v":0},{"$f":"'P Index Inputs'!I96","v":0},{"$f":"IF(ISBLANK('P Index Inputs'!R96),\"-\",'P Index Inputs'!R96)","v":"-"},{"$f":"IF(ISBLANK('P Index Inputs'!S96),\"-\",'P Index Inputs'!S96)","v":"-"},{"$f":"Calculations!AE94","v":"-"},{"$f":"Calculations!AF94","v":"-"},{"$f":"Calculations!Z94","v":"N/A"},{"$f":"Calculations!AF94","v":"-"},{"$f":"Calculations!AG94","v":"N/A"},{"$f":"Calculations!AH94","v":"N/A"}]
[{"$f":"'P Index Inputs'!C97","v":0},{"$f":"'P Index Inputs'!D97","v":0},{"$f":"'P Index Inputs'!I97","v":0},{"$f":"IF(ISBLANK('P Index Inputs'!R97),\"-\",'P Index Inputs'!R97)","v":"-"},{"$f":"IF(ISBLANK('P Index Inputs'!S97),\"-\",'P Index Inputs'!S97)","v":"-"},{"$f":"Calculations!AE95","v":"-"},{"$f":"Calculations!AF95","v":"-"},{"$f":"Calculations!Z95","v":"N/A"},{"$f":"Calculations!AF95","v":"-"},{"$f":"Calculations!AG95","v":"N/A"},{"$f":"Calculations!AH95","v":"N/A"}]
[{"$f":"'P Index Inputs'!C98","v":0},{"$f":"'P Index Inputs'!D98","v":0},{"$f":"'P Index Inputs'!I98","v":0},{"$f":"IF(ISBLANK('P Index Inputs'!R98),\"-\",'P Index Inputs'!R98)","v":"-"},{"$f":"IF(ISBLANK('P Index Inputs'!S98),\"-\",'P Index Inputs'!S98)","v":"-"},{"$f":"Calculations!AE96","v":"-"},{"$f":"Calculations!AF96","v":"-"},{"$f":"Calculations!Z96","v":"N/A"},{"$f":"Calculations!AF96","v":"-"},{"$f":"Calculations!AG96","v":"N/A"},{"$f":"Calculations!AH96","v":"N/A"}]
[{"$f":"'P Index Inputs'!C99","v":0},{"$f":"'P Index Inputs'!D99","v":0},{"$f":"'P Index Inputs'!I99","v":0},{"$f":"IF(ISBLANK('P Index Inputs'!R99),\"-\",'P Index Inputs'!R99)","v":"-"},{"$f":"IF(ISBLANK('P Index Inputs'!S99),\"-\",'P Index Inputs'!S99)","v":"-"},{"$f":"Calculations!AE97","v":"-"},{"$f":"Calculations!AF97","v":"-"},{"$f":"Calculations!Z97","v":"N/A"},{"$f":"Calculations!AF97","v":"-"},{"$f":"Calculations!AG97","v":"N/A"},{"$f":"Calculations!AH97","v":"N/A"}]
[{"$f":"'P Index Inputs'!C100","v":0},{"$f":"'P Index Inputs'!D100","v":0},{"$f":"'P Index Inputs'!I100","v":0},{"$f":"IF(ISBLANK('P Index Inputs'!R100),\"-\",'P Index Inputs'!R100)","v":"-"},{"$f":"IF(ISBLANK('P Index Inputs'!S100),\"-\",'P Index Inputs'!S100)","v":"-"},{"$f":"Calculations!AE98","v":"-"},{"$f":"Calculations!AF98","v":"-"},{"$f":"Calculations!Z98","v":"N/A"},{"$f":"Calculations!AF98","v":"-"},{"$f":"Calculations!AG98","v":"N/A"},{"$f":"Calculations!AH98","v":"N/A"}]
[{"$f":"'P Index Inputs'!C101","v":0},{"$f":"'P Index Inputs'!D101","v":0},{"$f":"'P Index Inputs'!I101","v":0},{"$f":"IF(ISBLANK('P Index Inputs'!R101),\"-\",'P Index Inputs'!R101)","v":"-"},{"$f":"IF(ISBLANK('P Index Inputs'!S101),\"-\",'P Index Inputs'!S101)","v":"-"},{"$f":"Calculations!AE99","v":"-"},{"$f":"Calculations!AF99","v":"-"},{"$f":"Calculations!Z99","v":"N/A"},{"$f":"Calculations!AF99","v":"-"},{"$f":"Calculations!AG99","v":"N/A"},{"$f":"Calculations!AH99","v":"N/A"}]
[{"$f":"'P Index Inputs'!C102","v":0},{"$f":"'P Index Inputs'!D102","v":0},{"$f":"'P Index Inputs'!I102","v":0},{"$f":"IF(ISBLANK('P Index Inputs'!R102),\"-\",'P Index Inputs'!R102)","v":"-"},{"$f":"IF(ISBLANK('P Index Inputs'!S102),\"-\",'P Index Inputs'!S102)","v":"-"},{"$f":"Calculations!AE100","v":"-"},{"$f":"Calculations!AF100","v":"-"},{"$f":"Calculations!Z100","v":"N/A"},{"$f":"Calculations!AF100","v":"-"},{"$f":"Calculations!AG100","v":"N/A"},{"$f":"Calculations!AH100","v":"N/A"}]
[{"$f":"'P Index Inputs'!C103","v":0},{"$f":"'P Index Inputs'!D103","v":0},{"$f":"'P Index Inputs'!I103","v":0},{"$f":"IF(ISBLANK('P Index Inputs'!R103),\"-\",'P Index Inputs'!R103)","v":"-"},{"$f":"IF(ISBLANK('P Index Inputs'!S103),\"-\",'P Index Inputs'!S103)","v":"-"},{"$f":"Calculations!AE101","v":"-"},{"$f":"Calculations!AF101","v":"-"},{"$f":"Calculations!Z101","v":"N/A"},{"$f":"Calculations!AF101","v":"-"},{"$f":"Calculations!AG101","v":"N/A"},{"$f":"Calculations!AH101","v":"N/A"}]
[{"$f":"'P Index Inputs'!C104","v":0},{"$f":"'P Index Inputs'!D104","v":0},{"$f":"'P Index Inputs'!I104","v":0},{"$f":"IF(ISBLANK('P Index Inputs'!R104),\"-\",'P Index Inputs'!R104)","v":"-"},{"$f":"IF(ISBLANK('P Index Inputs'!S104),\"-\",'P Index Inputs'!S104)","v":"-"},{"$f":"Calculations!AE102","v":"-"},{"$f":"Calculations!AF102","v":"-"},{"$f":"Calculations!Z102","v":"N/A"},{"$f":"Calculations!AF102","v":"-"},{"$f":"Calculations!AG102","v":"N/A"},{"$f":"Calculations!AH102","v":"N/A"}]
[{"$f":"'P Index Inputs'!C105","v":0},{"$f":"'P Index Inputs'!D105","v":0},{"$f":"'P Index Inputs'!I105","v":0},{"$f":"IF(ISBLANK('P Index Inputs'!R105),\"-\",'P Index Inputs'!R105)","v":"-"},{"$f":"IF(ISBLANK('P Index Inputs'!S105),\"-\",'P Index Inputs'!S105)","v":"-"},{"$f":"Calculations!AE103","v":"-"},{"$f":"Calculations!AF103","v":"-"},{"$f":"Calculations!Z103","v":"N/A"},{"$f":"Calculations!AF103","v":"-"},{"$f":"Calculations!AG103","v":"N/A"},{"$f":"Calculations!AH103","v":"N/A"}]
[{"$f":"'P Index Inputs'!C106","v":0},{"$f":"'P Index Inputs'!D106","v":0},{"$f":"'P Index Inputs'!I106","v":0},{"$f":"IF(ISBLANK('P Index Inputs'!R106),\"-\",'P Index Inputs'!R106)","v":"-"},{"$f":"IF(ISBLANK('P Index Inputs'!S106),\"-\",'P Index Inputs'!S106)","v":"-"},{"$f":"Calculations!AE104","v":"-"},{"$f":"Calculations!AF104","v":"-"},{"$f":"Calculations!Z104","v":"N/A"},{"$f":"Calculations!AF104","v":"-"},{"$f":"Calculations!AG104","v":"N/A"},{"$f":"Calculations!AH104","v":"N/A"}]
[{"$f":"'P Index Inputs'!C107","v":0},{"$f":"'P Index Inputs'!D107","v":0},{"$f":"'P Index Inputs'!I107","v":0},{"$f":"IF(ISBLANK('P Index Inputs'!R107),\"-\",'P Index Inputs'!R107)","v":"-"},{"$f":"IF(ISBLANK('P Index Inputs'!S107),\"-\",'P Index Inputs'!S107)","v":"-"},{"$f":"Calculations!AE105","v":"-"},{"$f":"Calculations!AF105","v":"-"},{"$f":"Calculations!Z105","v":"N/A"},{"$f":"Calculations!AF105","v":"-"},{"$f":"Calculations!AG105","v":"N/A"},{"$f":"Calculations!AH105","v":"N/A"}]
[{"$f":"'P Index Inputs'!C108","v":0},{"$f":"'P Index Inputs'!D108","v":0},{"$f":"'P Index Inputs'!I108","v":0},{"$f":"IF(ISBLANK('P Index Inputs'!R108),\"-\",'P Index Inputs'!R108)","v":"-"},{"$f":"IF(ISBLANK('P Index Inputs'!S108),\"-\",'P Index Inputs'!S108)","v":"-"},{"$f":"Calculations!AE106","v":"-"},{"$f":"Calculations!AF106","v":"-"},{"$f":"Calculations!Z106","v":"N/A"},{"$f":"Calculations!AF106","v":"-"},{"$f":"Calculations!AG106","v":"N/A"},{"$f":"Calculations!AH106","v":"N/A"}]
[{"$f":"'P Index Inputs'!C109","v":0},{"$f":"'P Index Inputs'!D109","v":0},{"$f":"'P Index Inputs'!I109","v":0},{"$f":"IF(ISBLANK('P Index Inputs'!R109),\"-\",'P Index Inputs'!R109)","v":"-"},{"$f":"IF(ISBLANK('P Index Inputs'!S109),\"-\",'P Index Inputs'!S109)","v":"-"},{"$f":"Calculations!AE107","v":"-"},{"$f":"Calculations!AF107","v":"-"},{"$f":"Calculations!Z107","v":"N/A"},{"$f":"Calculations!AF107","v":"-"},{"$f":"Calculations!AG107","v":"N/A"},{"$f":"Calculations!AH107","v":"N/A"}]
[{"$f":"'P Index Inputs'!C110","v":0},{"$f":"'P Index Inputs'!D110","v":0},{"$f":"'P Index Inputs'!I110","v":0},{"$f":"IF(ISBLANK('P Index Inputs'!R110),\"-\",'P Index Inputs'!R110)","v":"-"},{"$f":"IF(ISBLANK('P Index Inputs'!S110),\"-\",'P Index Inputs'!S110)","v":"-"},{"$f":"Calculations!AE108","v":"-"},{"$f":"Calculations!AF108","v":"-"},{"$f":"Calculations!Z108","v":"N/A"},{"$f":"Calculations!AF108","v":"-"},{"$f":"Calculations!AG108","v":"N/A"},{"$f":"Calculations!AH108","v":"N/A"}]
[{"$f":"'P Index Inputs'!C111","v":0},{"$f":"'P Index Inputs'!D111","v":0},{"$f":"'P Index Inputs'!I111","v":0},{"$f":"IF(ISBLANK('P Index Inputs'!R111),\"-\",'P Index Inputs'!R111)","v":"-"},{"$f":"IF(ISBLANK('P Index Inputs'!S111),\"-\",'P Index Inputs'!S111)","v":"-"},{"$f":"Calculations!AE109","v":"-"},{"$f":"Calculations!AF109","v":"-"},{"$f":"Calculations!Z109","v":"N/A"},{"$f":"Calculations!AF109","v":"-"},{"$f":"Calculations!AG109","v":"N/A"},{"$f":"Calculations!AH109","v":"N/A"}]
[{"$f":"'P Index Inputs'!C112","v":0},{"$f":"'P Index Inputs'!D112","v":0},{"$f":"'P Index Inputs'!I112","v":0},{"$f":"IF(ISBLANK('P Index Inputs'!R112),\"-\",'P Index Inputs'!R112)","v":"-"},{"$f":"IF(ISBLANK('P Index Inputs'!S112),\"-\",'P Index Inputs'!S112)","v":"-"},{"$f":"Calculations!AE110","v":"-"},{"$f":"Calculations!AF110","v":"-"},{"$f":"Calculations!Z110","v":"N/A"},{"$f":"Calculations!AF110","v":"-"},{"$f":"Calculations!AG110","v":"N/A"},{"$f":"Calculations!AH110","v":"N/A"}]
[{"$f":"'P Index Inputs'!C113","v":0},{"$f":"'P Index Inputs'!D113","v":0},{"$f":"'P Index Inputs'!I113","v":0},{"$f":"IF(ISBLANK('P Index Inputs'!R113),\"-\",'P Index Inputs'!R113)","v":"-"},{"$f":"IF(ISBLANK('P Index Inputs'!S113),\"-\",'P Index Inputs'!S113)","v":"-"},{"$f":"Calculations!AE111","v":"-"},{"$f":"Calculations!AF111","v":"-"},{"$f":"Calculations!Z111","v":"N/A"},{"$f":"Calculations!AF111","v":"-"},{"$f":"Calculations!AG111","v":"N/A"},{"$f":"Calculations!AH111","v":"N/A"}]
[{"$f":"'P Index Inputs'!C114","v":0},{"$f":"'P Index Inputs'!D114","v":0},{"$f":"'P Index Inputs'!I114","v":0},{"$f":"IF(ISBLANK('P Index Inputs'!R114),\"-\",'P Index Inputs'!R114)","v":"-"},{"$f":"IF(ISBLANK('P Index Inputs'!S114),\"-\",'P Index Inputs'!S114)","v":"-"},{"$f":"Calculations!AE112","v":"-"},{"$f":"Calculations!AF112","v":"-"},{"$f":"Calculations!Z112","v":"N/A"},{"$f":"Calculations!AF112","v":"-"},{"$f":"Calculations!AG112","v":"N/A"},{"$f":"Calculations!AH112","v":"N/A"}]
[{"$f":"'P Index Inputs'!C115","v":0},{"$f":"'P Index Inputs'!D115","v":0},{"$f":"'P Index Inputs'!I115","v":0},{"$f":"IF(ISBLANK('P Index Inputs'!R115),\"-\",'P Index Inputs'!R115)","v":"-"},{"$f":"IF(ISBLANK('P Index Inputs'!S115),\"-\",'P Index Inputs'!S115)","v":"-"},{"$f":"Calculations!AE113","v":"-"},{"$f":"Calculations!AF113","v":"-"},{"$f":"Calculations!Z113","v":"N/A"},{"$f":"Calculations!AF113","v":"-"},{"$f":"Calculations!AG113","v":"N/A"},{"$f":"Calculations!AH113","v":"N/A"}]
[{"$f":"'P Index Inputs'!C116","v":0},{"$f":"'P Index Inputs'!D116","v":0},{"$f":"'P Index Inputs'!I116","v":0},{"$f":"IF(ISBLANK('P Index Inputs'!R116),\"-\",'P Index Inputs'!R116)","v":"-"},{"$f":"IF(ISBLANK('P Index Inputs'!S116),\"-\",'P Index Inputs'!S116)","v":"-"},{"$f":"Calculations!AE114","v":"-"},{"$f":"Calculations!AF114","v":"-"},{"$f":"Calculations!Z114","v":"N/A"},{"$f":"Calculations!AF114","v":"-"},{"$f":"Calculations!AG114","v":"N/A"},{"$f":"Calculations!AH114","v":"N/A"}]
[{"$f":"'P Index Inputs'!C117","v":0},{"$f":"'P Index Inputs'!D117","v":0},{"$f":"'P Index Inputs'!I117","v":0},{"$f":"IF(ISBLANK('P Index Inputs'!R117),\"-\",'P Index Inputs'!R117)","v":"-"},{"$f":"IF(ISBLANK('P Index Inputs'!S117),\"-\",'P Index Inputs'!S117)","v":"-"},{"$f":"Calculations!AE115","v":"-"},{"$f":"Calculations!AF115","v":"-"},{"$f":"Calculations!Z115","v":"N/A"},{"$f":"Calculations!AF115","v":"-"},{"$f":"Calculations!AG115","v":"N/A"},{"$f":"Calculations!AH115","v":"N/A"}]
[{"$f":"'P Index Inputs'!C118","v":0},{"$f":"'P Index Inputs'!D118","v":0},{"$f":"'P Index Inputs'!I118","v":0},{"$f":"IF(ISBLANK('P Index Inputs'!R118),\"-\",'P Index Inputs'!R118)","v":"-"},{"$f":"IF(ISBLANK('P Index Inputs'!S118),\"-\",'P Index Inputs'!S118)","v":"-"},{"$f":"Calculations!AE116","v":"-"},{"$f":"Calculations!AF116","v":"-"},{"$f":"Calculations!Z116","v":"N/A"},{"$f":"Calculations!AF116","v":"-"},{"$f":"Calculations!AG116","v":"N/A"},{"$f":"Calculations!AH116","v":"N/A"}]
[{"$f":"'P Index Inputs'!C119","v":0},{"$f":"'P Index Inputs'!D119","v":0},{"$f":"'P Index Inputs'!I119","v":0},{"$f":"IF(ISBLANK('P Index Inputs'!R119),\"-\",'P Index Inputs'!R119)","v":"-"},{"$f":"IF(ISBLANK('P Index Inputs'!S119),\"-\",'P Index Inputs'!S119)","v":"-"},{"$f":"Calculations!AE117","v":"-"},{"$f":"Calculations!AF117","v":"-"},{"$f":"Calculations!Z117","v":"N/A"},{"$f":"Calculations!AF117","v":"-"},{"$f":"Calculations!AG117","v":"N/A"},{"$f":"Calculations!AH117","v":"N/A"}]
[{"$f":"'P Index Inputs'!C120","v":0},{"$f":"'P Index Inputs'!D120","v":0},{"$f":"'P Index Inputs'!I120","v":0},{"$f":"IF(ISBLANK('P Index Inputs'!R120),\"-\",'P Index Inputs'!R120)","v":"-"},{"$f":"IF(ISBLANK('P Index Inputs'!S120),\"-\",'P Index Inputs'!S120)","v":"-"},{"$f":"Calculations!AE118","v":"-"},{"$f":"Calculations!AF118","v":"-"},{"$f":"Calculations!Z118","v":"N/A"},{"$f":"Calculations!AF118","v":"-"},{"$f":"Calculations!AG118","v":"N/A"},{"$f":"Calculations!AH118","v":"N/A"}]
[{"$f":"'P Index Inputs'!C121","v":0},{"$f":"'P Index Inputs'!D121","v":0},{"$f":"'P Index Inputs'!I121","v":0},{"$f":"IF(ISBLANK('P Index Inputs'!R121),\"-\",'P Index Inputs'!R121)","v":"-"},{"$f":"IF(ISBLANK('P Index Inputs'!S121),\"-\",'P Index Inputs'!S121)","v":"-"},{"$f":"Calculations!AE119","v":"-"},{"$f":"Calculations!AF119","v":"-"},{"$f":"Calculations!Z119","v":"N/A"},{"$f":"Calculations!AF119","v":"-"},{"$f":"Calculations!AG119","v":"N/A"},{"$f":"Calculations!AH119","v":"N/A"}]
[{"$f":"'P Index Inputs'!C122","v":0},{"$f":"'P Index Inputs'!D122","v":0},{"$f":"'P Index Inputs'!I122","v":0},{"$f":"IF(ISBLANK('P Index Inputs'!R122),\"-\",'P Index Inputs'!R122)","v":"-"},{"$f":"IF(ISBLANK('P Index Inputs'!S122),\"-\",'P Index Inputs'!S122)","v":"-"},{"$f":"Calculations!AE120","v":"-"},{"$f":"Calculations!AF120","v":"-"},{"$f":"Calculations!Z120","v":"N/A"},{"$f":"Calculations!AF120","v":"-"},{"$f":"Calculations!AG120","v":"N/A"},{"$f":"Calculations!AH120","v":"N/A"}]
[{"$f":"'P Index Inputs'!C123","v":0},{"$f":"'P Index Inputs'!D123","v":0},{"$f":"'P Index Inputs'!I123","v":0},{"$f":"IF(ISBLANK('P Index Inputs'!R123),\"-\",'P Index Inputs'!R123)","v":"-"},{"$f":"IF(ISBLANK('P Index Inputs'!S123),\"-\",'P Index Inputs'!S123)","v":"-"},{"$f":"Calculations!AE121","v":"-"},{"$f":"Calculations!AF121","v":"-"},{"$f":"Calculations!Z121","v":"N/A"},{"$f":"Calculations!AF121","v":"-"},{"$f":"Calculations!AG121","v":"N/A"},{"$f":"Calculations!AH121","v":"N/A"}]
[{"$f":"'P Index Inputs'!C124","v":0},{"$f":"'P Index Inputs'!D124","v":0},{"$f":"'P Index Inputs'!I124","v":0},{"$f":"IF(ISBLANK('P Index Inputs'!R124),\"-\",'P Index Inputs'!R124)","v":"-"},{"$f":"IF(ISBLANK('P Index Inputs'!S124),\"-\",'P Index Inputs'!S124)","v":"-"},{"$f":"Calculations!AE122","v":"-"},{"$f":"Calculations!AF122","v":"-"},{"$f":"Calculations!Z122","v":"N/A"},{"$f":"Calculations!AF122","v":"-"},{"$f":"Calculations!AG122","v":"N/A"},{"$f":"Calculations!AH122","v":"N/A"}]
[{"$f":"'P Index Inputs'!C125","v":0},{"$f":"'P Index Inputs'!D125","v":0},{"$f":"'P Index Inputs'!I125","v":0},{"$f":"IF(ISBLANK('P Index Inputs'!R125),\"-\",'P Index Inputs'!R125)","v":"-"},{"$f":"IF(ISBLANK('P Index Inputs'!S125),\"-\",'P Index Inputs'!S125)","v":"-"},{"$f":"Calculations!AE123","v":"-"},{"$f":"Calculations!AF123","v":"-"},{"$f":"Calculations!Z123","v":"N/A"},{"$f":"Calculations!AF123","v":"-"},{"$f":"Calculations!AG123","v":"N/A"},{"$f":"Calculations!AH123","v":"N/A"}]
[{"$f":"'P Index Inputs'!C126","v":0},{"$f":"'P Index Inputs'!D126","v":0},{"$f":"'P Index Inputs'!I126","v":0},{"$f":"IF(ISBLANK('P Index Inputs'!R126),\"-\",'P Index Inputs'!R126)","v":"-"},{"$f":"IF(ISBLANK('P Index Inputs'!S126),\"-\",'P Index Inputs'!S126)","v":"-"},{"$f":"Calculations!AE124","v":"-"},{"$f":"Calculations!AF124","v":"-"},{"$f":"Calculations!Z124","v":"N/A"},{"$f":"Calculations!AF124","v":"-"},{"$f":"Calculations!AG124","v":"N/A"},{"$f":"Calculations!AH124","v":"N/A"}]
[{"$f":"'P Index Inputs'!C127","v":0},{"$f":"'P Index Inputs'!D127","v":0},{"$f":"'P Index Inputs'!I127","v":0},{"$f":"IF(ISBLANK('P Index Inputs'!R127),\"-\",'P Index Inputs'!R127)","v":"-"},{"$f":"IF(ISBLANK('P Index Inputs'!S127),\"-\",'P Index Inputs'!S127)","v":"-"},{"$f":"Calculations!AE125","v":"-"},{"$f":"Calculations!AF125","v":"-"},{"$f":"Calculations!Z125","v":"N/A"},{"$f":"Calculations!AF125","v":"-"},{"$f":"Calculations!AG125","v":"N/A"},{"$f":"Calculations!AH125","v":"N/A"}]
[{"$f":"'P Index Inputs'!C128","v":0},{"$f":"'P Index Inputs'!D128","v":0},{"$f":"'P Index Inputs'!I128","v":0},{"$f":"IF(ISBLANK('P Index Inputs'!R128),\"-\",'P Index Inputs'!R128)","v":"-"},{"$f":"IF(ISBLANK('P Index Inputs'!S128),\"-\",'P Index Inputs'!S128)","v":"-"},{"$f":"Calculations!AE126","v":"-"},{"$f":"Calculations!AF126","v":"-"},{"$f":"Calculations!Z126","v":"N/A"},{"$f":"Calculations!AF126","v":"-"},{"$f":"Calculations!AG126","v":"N/A"},{"$f":"Calculations!AH126","v":"N/A"}]
[{"$f":"'P Index Inputs'!C129","v":0},{"$f":"'P Index Inputs'!D129","v":0},{"$f":"'P Index Inputs'!I129","v":0},{"$f":"IF(ISBLANK('P Index Inputs'!R129),\"-\",'P Index Inputs'!R129)","v":"-"},{"$f":"IF(ISBLANK('P Index Inputs'!S129),\"-\",'P Index Inputs'!S129)","v":"-"},{"$f":"Calculations!AE127","v":"-"},{"$f":"Calculations!AF127","v":"-"},{"$f":"Calculations!Z127","v":"N/A"},{"$f":"Calculations!AF127","v":"-"},{"$f":"Calculations!AG127","v":"N/A"},{"$f":"Calculations!AH127","v":"N/A"}]
[{"$f":"'P Index Inputs'!C130","v":0},{"$f":"'P Index Inputs'!D130","v":0},{"$f":"'P Index Inputs'!I130","v":0},{"$f":"IF(ISBLANK('P Index Inputs'!R130),\"-\",'P Index Inputs'!R130)","v":"-"},{"$f":"IF(ISBLANK('P Index Inputs'!S130),\"-\",'P Index Inputs'!S130)","v":"-"},{"$f":"Calculations!AE128","v":"-"},{"$f":"Calculations!AF128","v":"-"},{"$f":"Calculations!Z128","v":"N/A"},{"$f":"Calculations!AF128","v":"-"},{"$f":"Calculations!AG128","v":"N/A"},{"$f":"Calculations!AH128","v":"N/A"}]
[{"$f":"'P Index Inputs'!C131","v":0},{"$f":"'P Index Inputs'!D131","v":0},{"$f":"'P Index Inputs'!I131","v":0},{"$f":"IF(ISBLANK('P Index Inputs'!R131),\"-\",'P Index Inputs'!R131)","v":"-"},{"$f":"IF(ISBLANK('P Index Inputs'!S131),\"-\",'P Index Inputs'!S131)","v":"-"},{"$f":"Calculations!AE129","v":"-"},{"$f":"Calculations!AF129","v":"-"},{"$f":"Calculations!Z129","v":"N/A"},{"$f":"Calculations!AF129","v":"-"},{"$f":"Calculations!AG129","v":"N/A"},{"$f":"Calculations!AH129","v":"N/A"}]
[{"$f":"'P Index Inputs'!C132","v":0},{"$f":"'P Index Inputs'!D132","v":0},{"$f":"'P Index Inputs'!I132","v":0},{"$f":"IF(ISBLANK('P Index Inputs'!R132),\"-\",'P Index Inputs'!R132)","v":"-"},{"$f":"IF(ISBLANK('P Index Inputs'!S132),\"-\",'P Index Inputs'!S132)","v":"-"},{"$f":"Calculations!AE130","v":"-"},{"$f":"Calculations!AF130","v":"-"},{"$f":"Calculations!Z130","v":"N/A"},{"$f":"Calculations!AF130","v":"-"},{"$f":"Calculations!AG130","v":"N/A"},{"$f":"Calculations!AH130","v":"N/A"}]
[{"$f":"'P Index Inputs'!C133","v":0},{"$f":"'P Index Inputs'!D133","v":0},{"$f":"'P Index Inputs'!I133","v":0},{"$f":"IF(ISBLANK('P Index Inputs'!R133),\"-\",'P Index Inputs'!R133)","v":"-"},{"$f":"IF(ISBLANK('P Index Inputs'!S133),\"-\",'P Index Inputs'!S133)","v":"-"},{"$f":"Calculations!AE131","v":"-"},{"$f":"Calculations!AF131","v":"-"},{"$f":"Calculations!Z131","v":"N/A"},{"$f":"Calculations!AF131","v":"-"},{"$f":"Calculations!AG131","v":"N/A"},{"$f":"Calculations!AH131","v":"N/A"}]
[{"$f":"'P Index Inputs'!C134","v":0},{"$f":"'P Index Inputs'!D134","v":0},{"$f":"'P Index Inputs'!I134","v":0},{"$f":"IF(ISBLANK('P Index Inputs'!R134),\"-\",'P Index Inputs'!R134)","v":"-"},{"$f":"IF(ISBLANK('P Index Inputs'!S134),\"-\",'P Index Inputs'!S134)","v":"-"},{"$f":"Calculations!AE132","v":"-"},{"$f":"Calculations!AF132","v":"-"},{"$f":"Calculations!Z132","v":"N/A"},{"$f":"Calculations!AF132","v":"-"},{"$f":"Calculations!AG132","v":"N/A"},{"$f":"Calculations!AH132","v":"N/A"}]
[{"$f":"'P Index Inputs'!C135","v":0},{"$f":"'P Index Inputs'!D135","v":0},{"$f":"'P Index Inputs'!I135","v":0},{"$f":"IF(ISBLANK('P Index Inputs'!R135),\"-\",'P Index Inputs'!R135)","v":"-"},{"$f":"IF(ISBLANK('P Index Inputs'!S135),\"-\",'P Index Inputs'!S135)","v":"-"},{"$f":"Calculations!AE133","v":"-"},{"$f":"Calculations!AF133","v":"-"},{"$f":"Calculations!Z133","v":"N/A"},{"$f":"Calculations!AF133","v":"-"},{"$f":"Calculations!AG133","v":"N/A"},{"$f":"Calculations!AH133","v":"N/A"}]
[{"$f":"'P Index Inputs'!C136","v":0},{"$f":"'P Index Inputs'!D136","v":0},{"$f":"'P Index Inputs'!I136","v":0},{"$f":"IF(ISBLANK('P Index Inputs'!R136),\"-\",'P Index Inputs'!R136)","v":"-"},{"$f":"IF(ISBLANK('P Index Inputs'!S136),\"-\",'P Index Inputs'!S136)","v":"-"},{"$f":"Calculations!AE134","v":"-"},{"$f":"Calculations!AF134","v":"-"},{"$f":"Calculations!Z134","v":"N/A"},{"$f":"Calculations!AF134","v":"-"},{"$f":"Calculations!AG134","v":"N/A"},{"$f":"Calculations!AH134","v":"N/A"}]
[{"$f":"'P Index Inputs'!C137","v":0},{"$f":"'P Index Inputs'!D137","v":0},{"$f":"'P Index Inputs'!I137","v":0},{"$f":"IF(ISBLANK('P Index Inputs'!R137),\"-\",'P Index Inputs'!R137)","v":"-"},{"$f":"IF(ISBLANK('P Index Inputs'!S137),\"-\",'P Index Inputs'!S137)","v":"-"},{"$f":"Calculations!AE135","v":"-"},{"$f":"Calculations!AF135","v":"-"},{"$f":"Calculations!Z135","v":"N/A"},{"$f":"Calculations!AF135","v":"-"},{"$f":"Calculations!AG135","v":"N/A"},{"$f":"Calculations!AH135","v":"N/A"}]
[{"$f":"'P Index Inputs'!C138","v":0},{"$f":"'P Index Inputs'!D138","v":0},{"$f":"'P Index Inputs'!I138","v":0},{"$f":"IF(ISBLANK('P Index Inputs'!R138),\"-\",'P Index Inputs'!R138)","v":"-"},{"$f":"IF(ISBLANK('P Index Inputs'!S138),\"-\",'P Index Inputs'!S138)","v":"-"},{"$f":"Calculations!AE136","v":"-"},{"$f":"Calculations!AF136","v":"-"},{"$f":"Calculations!Z136","v":"N/A"},{"$f":"Calculations!AF136","v":"-"},{"$f":"Calculations!AG136","v":"N/A"},{"$f":"Calculations!AH136","v":"N/A"}]
[{"$f":"'P Index Inputs'!C139","v":0},{"$f":"'P Index Inputs'!D139","v":0},{"$f":"'P Index Inputs'!I139","v":0},{"$f":"IF(ISBLANK('P Index Inputs'!R139),\"-\",'P Index Inputs'!R139)","v":"-"},{"$f":"IF(ISBLANK('P Index Inputs'!S139),\"-\",'P Index Inputs'!S139)","v":"-"},{"$f":"Calculations!AE137","v":"-"},{"$f":"Calculations!AF137","v":"-"},{"$f":"Calculations!Z137","v":"N/A"},{"$f":"Calculations!AF137","v":"-"},{"$f":"Calculations!AG137","v":"N/A"},{"$f":"Calculations!AH137","v":"N/A"}]
[{"$f":"'P Index Inputs'!C140","v":0},{"$f":"'P Index Inputs'!D140","v":0},{"$f":"'P Index Inputs'!I140","v":0},{"$f":"IF(ISBLANK('P Index Inputs'!R140),\"-\",'P Index Inputs'!R140)","v":"-"},{"$f":"IF(ISBLANK('P Index Inputs'!S140),\"-\",'P Index Inputs'!S140)","v":"-"},{"$f":"Calculations!AE138","v":"-"},{"$f":"Calculations!AF138","v":"-"},{"$f":"Calculations!Z138","v":"N/A"},{"$f":"Calculations!AF138","v":"-"},{"$f":"Calculations!AG138","v":"N/A"},{"$f":"Calculations!AH138","v":"N/A"}]
[{"$f":"'P Index Inputs'!C141","v":0},{"$f":"'P Index Inputs'!D141","v":0},{"$f":"'P Index Inputs'!I141","v":0},{"$f":"IF(ISBLANK('P Index Inputs'!R141),\"-\",'P Index Inputs'!R141)","v":"-"},{"$f":"IF(ISBLANK('P Index Inputs'!S141),\"-\",'P Index Inputs'!S141)","v":"-"},{"$f":"Calculations!AE139","v":"-"},{"$f":"Calculations!AF139","v":"-"},{"$f":"Calculations!Z139","v":"N/A"},{"$f":"Calculations!AF139","v":"-"},{"$f":"Calculations!AG139","v":"N/A"},{"$f":"Calculations!AH139","v":"N/A"}]
[{"$f":"'P Index Inputs'!C142","v":0},{"$f":"'P Index Inputs'!D142","v":0},{"$f":"'P Index Inputs'!I142","v":0},{"$f":"IF(ISBLANK('P Index Inputs'!R142),\"-\",'P Index Inputs'!R142)","v":"-"},{"$f":"IF(ISBLANK('P Index Inputs'!S142),\"-\",'P Index Inputs'!S142)","v":"-"},{"$f":"Calculations!AE140","v":"-"},{"$f":"Calculations!AF140","v":"-"},{"$f":"Calculations!Z140","v":"N/A"},{"$f":"Calculations!AF140","v":"-"},{"$f":"Calculations!AG140","v":"N/A"},{"$f":"Calculations!AH140","v":"N/A"}]
[{"$f":"'P Index Inputs'!C143","v":0},{"$f":"'P Index Inputs'!D143","v":0},{"$f":"'P Index Inputs'!I143","v":0},{"$f":"IF(ISBLANK('P Index Inputs'!R143),\"-\",'P Index Inputs'!R143)","v":"-"},{"$f":"IF(ISBLANK('P Index Inputs'!S143),\"-\",'P Index Inputs'!S143)","v":"-"},{"$f":"Calculations!AE141","v":"-"},{"$f":"Calculations!AF141","v":"-"},{"$f":"Calculations!Z141","v":"N/A"},{"$f":"Calculations!AF141","v":"-"},{"$f":"Calculations!AG141","v":"N/A"},{"$f":"Calculations!AH141","v":"N/A"}]
[{"$f":"'P Index Inputs'!C144","v":0},{"$f":"'P Index Inputs'!D144","v":0},{"$f":"'P Index Inputs'!I144","v":0},{"$f":"IF(ISBLANK('P Index Inputs'!R144),\"-\",'P Index Inputs'!R144)","v":"-"},{"$f":"IF(ISBLANK('P Index Inputs'!S144),\"-\",'P Index Inputs'!S144)","v":"-"},{"$f":"Calculations!AE142","v":"-"},{"$f":"Calculations!AF142","v":"-"},{"$f":"Calculations!Z142","v":"N/A"},{"$f":"Calculations!AF142","v":"-"},{"$f":"Calculations!AG142","v":"N/A"},{"$f":"Calculations!AH142","v":"N/A"}]
[{"$f":"'P Index Inputs'!C145","v":0},{"$f":"'P Index Inputs'!D145","v":0},{"$f":"'P Index Inputs'!I145","v":0},{"$f":"IF(ISBLANK('P Index Inputs'!R145),\"-\",'P Index Inputs'!R145)","v":"-"},{"$f":"IF(ISBLANK('P Index Inputs'!S145),\"-\",'P Index Inputs'!S145)","v":"-"},{"$f":"Calculations!AE143","v":"-"},{"$f":"Calculations!AF143","v":"-"},{"$f":"Calculations!Z143","v":"N/A"},{"$f":"Calculations!AF143","v":"-"},{"$f":"Calculations!AG143","v":"N/A"},{"$f":"Calculations!AH143","v":"N/A"}]
[{"$f":"'P Index Inputs'!C146","v":0},{"$f":"'P Index Inputs'!D146","v":0},{"$f":"'P Index Inputs'!I146","v":0},{"$f":"IF(ISBLANK('P Index Inputs'!R146),\"-\",'P Index Inputs'!R146)","v":"-"},{"$f":"IF(ISBLANK('P Index Inputs'!S146),\"-\",'P Index Inputs'!S146)","v":"-"},{"$f":"Calculations!AE144","v":"-"},{"$f":"Calculations!AF144","v":"-"},{"$f":"Calculations!Z144","v":"N/A"},{"$f":"Calculations!AF144","v":"-"},{"$f":"Calculations!AG144","v":"N/A"},{"$f":"Calculations!AH144","v":"N/A"}]
[{"$f":"'P Index Inputs'!C147","v":0},{"$f":"'P Index Inputs'!D147","v":0},{"$f":"'P Index Inputs'!I147","v":0},{"$f":"IF(ISBLANK('P Index Inputs'!R147),\"-\",'P Index Inputs'!R147)","v":"-"},{"$f":"IF(ISBLANK('P Index Inputs'!S147),\"-\",'P Index Inputs'!S147)","v":"-"},{"$f":"Calculations!AE145","v":"-"},{"$f":"Calculations!AF145","v":"-"},{"$f":"Calculations!Z145","v":"N/A"},{"$f":"Calculations!AF145","v":"-"},{"$f":"Calculations!AG145","v":"N/A"},{"$f":"Calculations!AH145","v":"N/A"}]
[{"$f":"'P Index Inputs'!C148","v":0},{"$f":"'P Index Inputs'!D148","v":0},{"$f":"'P Index Inputs'!I148","v":0},{"$f":"IF(ISBLANK('P Index Inputs'!R148),\"-\",'P Index Inputs'!R148)","v":"-"},{"$f":"IF(ISBLANK('P Index Inputs'!S148),\"-\",'P Index Inputs'!S148)","v":"-"},{"$f":"Calculations!AE146","v":"-"},{"$f":"Calculations!AF146","v":"-"},{"$f":"Calculations!Z146","v":"N/A"},{"$f":"Calculations!AF146","v":"-"},{"$f":"Calculations!AG146","v":"N/A"},{"$f":"Calculations!AH146","v":"N/A"}]
[{"$f":"'P Index Inputs'!C149","v":0},{"$f":"'P Index Inputs'!D149","v":0},{"$f":"'P Index Inputs'!I149","v":0},{"$f":"IF(ISBLANK('P Index Inputs'!R149),\"-\",'P Index Inputs'!R149)","v":"-"},{"$f":"IF(ISBLANK('P Index Inputs'!S149),\"-\",'P Index Inputs'!S149)","v":"-"},{"$f":"Calculations!AE147","v":"-"},{"$f":"Calculations!AF147","v":"-"},{"$f":"Calculations!Z147","v":"N/A"},{"$f":"Calculations!AF147","v":"-"},{"$f":"Calculations!AG147","v":"N/A"},{"$f":"Calculations!AH147","v":"N/A"}]
[{"$f":"'P Index Inputs'!C150","v":0},{"$f":"'P Index Inputs'!D150","v":0},{"$f":"'P Index Inputs'!I150","v":0},{"$f":"IF(ISBLANK('P Index Inputs'!R150),\"-\",'P Index Inputs'!R150)","v":"-"},{"$f":"IF(ISBLANK('P Index Inputs'!S150),\"-\",'P Index Inputs'!S150)","v":"-"},{"$f":"Calculations!AE148","v":"-"},{"$f":"Calculations!AF148","v":"-"},{"$f":"Calculations!Z148","v":"N/A"},{"$f":"Calculations!AF148","v":"-"},{"$f":"Calculations!AG148","v":"N/A"},{"$f":"Calculations!AH148","v":"N/A"}]
[{"$f":"'P Index Inputs'!C151","v":0},{"$f":"'P Index Inputs'!D151","v":0},{"$f":"'P Index Inputs'!I151","v":0},{"$f":"IF(ISBLANK('P Index Inputs'!R151),\"-\",'P Index Inputs'!R151)","v":"-"},{"$f":"IF(ISBLANK('P Index Inputs'!S151),\"-\",'P Index Inputs'!S151)","v":"-"},{"$f":"Calculations!AE149","v":"-"},{"$f":"Calculations!AF149","v":"-"},{"$f":"Calculations!Z149","v":"N/A"},{"$f":"Calculations!AF149","v":"-"},{"$f":"Calculations!AG149","v":"N/A"},{"$f":"Calculations!AH149","v":"N/A"}]
[{"$f":"'P Index Inputs'!C152","v":0},{"$f":"'P Index Inputs'!D152","v":0},{"$f":"'P Index Inputs'!I152","v":0},{"$f":"IF(ISBLANK('P Index Inputs'!R152),\"-\",'P Index Inputs'!R152)","v":"-"},{"$f":"IF(ISBLANK('P Index Inputs'!S152),\"-\",'P Index Inputs'!S152)","v":"-"},{"$f":"Calculations!AE150","v":"-"},{"$f":"Calculations!AF150","v":"-"},{"$f":"Calculations!Z150","v":"N/A"},{"$f":"Calculations!AF150","v":"-"},{"$f":"Calculations!AG150","v":"N/A"},{"$f":"Calculations!AH150","v":"N/A"}]
[{"$f":"'P Index Inputs'!C153","v":0},{"$f":"'P Index Inputs'!D153","v":0},{"$f":"'P Index Inputs'!I153","v":0},{"$f":"IF(ISBLANK('P Index Inputs'!R153),\"-\",'P Index Inputs'!R153)","v":"-"},{"$f":"IF(ISBLANK('P Index Inputs'!S153),\"-\",'P Index Inputs'!S153)","v":"-"},{"$f":"Calculations!AE151","v":"-"},{"$f":"Calculations!AF151","v":"-"},{"$f":"Calculations!Z151","v":"N/A"},{"$f":"Calculations!AF151","v":"-"},{"$f":"Calculations!AG151","v":"N/A"},{"$f":"Calculations!AH151","v":"N/A"}]
[{"$f":"'P Index Inputs'!C154","v":0},{"$f":"'P Index Inputs'!D154","v":0},{"$f":"'P Index Inputs'!I154","v":0},{"$f":"IF(ISBLANK('P Index Inputs'!R154),\"-\",'P Index Inputs'!R154)","v":"-"},{"$f":"IF(ISBLANK('P Index Inputs'!S154),\"-\",'P Index Inputs'!S154)","v":"-"},{"$f":"Calculations!AE152","v":"-"},{"$f":"Calculations!AF152","v":"-"},{"$f":"Calculations!Z152","v":"N/A"},{"$f":"Calculations!AF152","v":"-"},{"$f":"Calculations!AG152","v":"N/A"},{"$f":"Calculations!AH152","v":"N/A"}]
[{"$f":"'P Index Inputs'!C155","v":0},{"$f":"'P Index Inputs'!D155","v":0},{"$f":"'P Index Inputs'!I155","v":0},{"$f":"IF(ISBLANK('P Index Inputs'!R155),\"-\",'P Index Inputs'!R155)","v":"-"},{"$f":"IF(ISBLANK('P Index Inputs'!S155),\"-\",'P Index Inputs'!S155)","v":"-"},{"$f":"Calculations!AE153","v":"-"},{"$f":"Calculations!AF153","v":"-"},{"$f":"Calculations!Z153","v":"N/A"},{"$f":"Calculations!AF153","v":"-"},{"$f":"Calculations!AG153","v":"N/A"},{"$f":"Calculations!AH153","v":"N/A"}]
[{"$f":"'P Index Inputs'!C156","v":0},{"$f":"'P Index Inputs'!D156","v":0},{"$f":"'P Index Inputs'!I156","v":0},{"$f":"IF(ISBLANK('P Index Inputs'!R156),\"-\",'P Index Inputs'!R156)","v":"-"},{"$f":"IF(ISBLANK('P Index Inputs'!S156),\"-\",'P Index Inputs'!S156)","v":"-"},{"$f":"Calculations!AE154","v":"-"},{"$f":"Calculations!AF154","v":"-"},{"$f":"Calculations!Z154","v":"N/A"},{"$f":"Calculations!AF154","v":"-"},{"$f":"Calculations!AG154","v":"N/A"},{"$f":"Calculations!AH154","v":"N/A"}]
[{"$f":"'P Index Inputs'!C157","v":0},{"$f":"'P Index Inputs'!D157","v":0},{"$f":"'P Index Inputs'!I157","v":0},{"$f":"IF(ISBLANK('P Index Inputs'!R157),\"-\",'P Index Inputs'!R157)","v":"-"},{"$f":"IF(ISBLANK('P Index Inputs'!S157),\"-\",'P Index Inputs'!S157)","v":"-"},{"$f":"Calculations!AE155","v":"-"},{"$f":"Calculations!AF155","v":"-"},{"$f":"Calculations!Z155","v":"N/A"},{"$f":"Calculations!AF155","v":"-"},{"$f":"Calculations!AG155","v":"N/A"},{"$f":"Calculations!AH155","v":"N/A"}]
[{"$f":"'P Index Inputs'!C158","v":0},{"$f":"'P Index Inputs'!D158","v":0},{"$f":"'P Index Inputs'!I158","v":0},{"$f":"IF(ISBLANK('P Index Inputs'!R158),\"-\",'P Index Inputs'!R158)","v":"-"},{"$f":"IF(ISBLANK('P Index Inputs'!S158),\"-\",'P Index Inputs'!S158)","v":"-"},{"$f":"Calculations!AE156","v":"-"},{"$f":"Calculations!AF156","v":"-"},{"$f":"Calculations!Z156","v":"N/A"},{"$f":"Calculations!AF156","v":"-"},{"$f":"Calculations!AG156","v":"N/A"},{"$f":"Calculations!AH156","v":"N/A"}]
[{"$f":"'P Index Inputs'!C159","v":0},{"$f":"'P Index Inputs'!D159","v":0},{"$f":"'P Index Inputs'!I159","v":0},{"$f":"IF(ISBLANK('P Index Inputs'!R159),\"-\",'P Index Inputs'!R159)","v":"-"},{"$f":"IF(ISBLANK('P Index Inputs'!S159),\"-\",'P Index Inputs'!S159)","v":"-"},{"$f":"Calculations!AE157","v":"-"},{"$f":"Calculations!AF157","v":"-"},{"$f":"Calculations!Z157","v":"N/A"},{"$f":"Calculations!AF157","v":"-"},{"$f":"Calculations!AG157","v":"N/A"},{"$f":"Calculations!AH157","v":"N/A"}]
[{"$f":"'P Index Inputs'!C160","v":0},{"$f":"'P Index Inputs'!D160","v":0},{"$f":"'P Index Inputs'!I160","v":0},{"$f":"IF(ISBLANK('P Index Inputs'!R160),\"-\",'P Index Inputs'!R160)","v":"-"},{"$f":"IF(ISBLANK('P Index Inputs'!S160),\"-\",'P Index Inputs'!S160)","v":"-"},{"$f":"Calculations!AE158","v":"-"},{"$f":"Calculations!AF158","v":"-"},{"$f":"Calculations!Z158","v":"N/A"},{"$f":"Calculations!AF158","v":"-"},{"$f":"Calculations!AG158","v":"N/A"},{"$f":"Calculations!AH158","v":"N/A"}]
[{"$f":"'P Index Inputs'!C161","v":0},{"$f":"'P Index Inputs'!D161","v":0},{"$f":"'P Index Inputs'!I161","v":0},{"$f":"IF(ISBLANK('P Index Inputs'!R161),\"-\",'P Index Inputs'!R161)","v":"-"},{"$f":"IF(ISBLANK('P Index Inputs'!S161),\"-\",'P Index Inputs'!S161)","v":"-"},{"$f":"Calculations!AE159","v":"-"},{"$f":"Calculations!AF159","v":"-"},{"$f":"Calculations!Z159","v":"N/A"},{"$f":"Calculations!AF159","v":"-"},{"$f":"Calculations!AG159","v":"N/A"},{"$f":"Calculations!AH159","v":"N/A"}]
[{"$f":"'P Index Inputs'!C162","v":0},{"$f":"'P Index Inputs'!D162","v":0},{"$f":"'P Index Inputs'!I162","v":0},{"$f":"IF(ISBLANK('P Index Inputs'!R162),\"-\",'P Index Inputs'!R162)","v":"-"},{"$f":"IF(ISBLANK('P Index Inputs'!S162),\"-\",'P Index Inputs'!S162)","v":"-"},{"$f":"Calculations!AE160","v":"-"},{"$f":"Calculations!AF160","v":"-"},{"$f":"Calculations!Z160","v":"N/A"},{"$f":"Calculations!AF160","v":"-"},{"$f":"Calculations!AG160","v":"N/A"},{"$f":"Calculations!AH160","v":"N/A"}]
[{"$f":"'P Index Inputs'!C163","v":0},{"$f":"'P Index Inputs'!D163","v":0},{"$f":"'P Index Inputs'!I163","v":0},{"$f":"IF(ISBLANK('P Index Inputs'!R163),\"-\",'P Index Inputs'!R163)","v":"-"},{"$f":"IF(ISBLANK('P Index Inputs'!S163),\"-\",'P Index Inputs'!S163)","v":"-"},{"$f":"Calculations!AE161","v":"-"},{"$f":"Calculations!AF161","v":"-"},{"$f":"Calculations!Z161","v":"N/A"},{"$f":"Calculations!AF161","v":"-"},{"$f":"Calculations!AG161","v":"N/A"},{"$f":"Calculations!AH161","v":"N/A"}]
[{"$f":"'P Index Inputs'!C164","v":0},{"$f":"'P Index Inputs'!D164","v":0},{"$f":"'P Index Inputs'!I164","v":0},{"$f":"IF(ISBLANK('P Index Inputs'!R164),\"-\",'P Index Inputs'!R164)","v":"-"},{"$f":"IF(ISBLANK('P Index Inputs'!S164),\"-\",'P Index Inputs'!S164)","v":"-"},{"$f":"Calculations!AE162","v":"-"},{"$f":"Calculations!AF162","v":"-"},{"$f":"Calculations!Z162","v":"N/A"},{"$f":"Calculations!AF162","v":"-"},{"$f":"Calculations!AG162","v":"N/A"},{"$f":"Calculations!AH162","v":"N/A"}]
[{"$f":"'P Index Inputs'!C165","v":0},{"$f":"'P Index Inputs'!D165","v":0},{"$f":"'P Index Inputs'!I165","v":0},{"$f":"IF(ISBLANK('P Index Inputs'!R165),\"-\",'P Index Inputs'!R165)","v":"-"},{"$f":"IF(ISBLANK('P Index Inputs'!S165),\"-\",'P Index Inputs'!S165)","v":"-"},{"$f":"Calculations!AE163","v":"-"},{"$f":"Calculations!AF163","v":"-"},{"$f":"Calculations!Z163","v":"N/A"},{"$f":"Calculations!AF163","v":"-"},{"$f":"Calculations!AG163","v":"N/A"},{"$f":"Calculations!AH163","v":"N/A"}]
[{"$f":"'P Index Inputs'!C166","v":0},{"$f":"'P Index Inputs'!D166","v":0},{"$f":"'P Index Inputs'!I166","v":0},{"$f":"IF(ISBLANK('P Index Inputs'!R166),\"-\",'P Index Inputs'!R166)","v":"-"},{"$f":"IF(ISBLANK('P Index Inputs'!S166),\"-\",'P Index Inputs'!S166)","v":"-"},{"$f":"Calculations!AE164","v":"-"},{"$f":"Calculations!AF164","v":"-"},{"$f":"Calculations!Z164","v":"N/A"},{"$f":"Calculations!AF164","v":"-"},{"$f":"Calculations!AG164","v":"N/A"},{"$f":"Calculations!AH164","v":"N/A"}]
[{"$f":"'P Index Inputs'!C167","v":0},{"$f":"'P Index Inputs'!D167","v":0},{"$f":"'P Index Inputs'!I167","v":0},{"$f":"IF(ISBLANK('P Index Inputs'!R167),\"-\",'P Index Inputs'!R167)","v":"-"},{"$f":"IF(ISBLANK('P Index Inputs'!S167),\"-\",'P Index Inputs'!S167)","v":"-"},{"$f":"Calculations!AE165","v":"-"},{"$f":"Calculations!AF165","v":"-"},{"$f":"Calculations!Z165","v":"N/A"},{"$f":"Calculations!AF165","v":"-"},{"$f":"Calculations!AG165","v":"N/A"},{"$f":"Calculations!AH165","v":"N/A"}]
[{"$f":"'P Index Inputs'!C168","v":0},{"$f":"'P Index Inputs'!D168","v":0},{"$f":"'P Index Inputs'!I168","v":0},{"$f":"IF(ISBLANK('P Index Inputs'!R168),\"-\",'P Index Inputs'!R168)","v":"-"},{"$f":"IF(ISBLANK('P Index Inputs'!S168),\"-\",'P Index Inputs'!S168)","v":"-"},{"$f":"Calculations!AE166","v":"-"},{"$f":"Calculations!AF166","v":"-"},{"$f":"Calculations!Z166","v":"N/A"},{"$f":"Calculations!AF166","v":"-"},{"$f":"Calculations!AG166","v":"N/A"},{"$f":"Calculations!AH166","v":"N/A"}]
[{"$f":"'P Index Inputs'!C169","v":0},{"$f":"'P Index Inputs'!D169","v":0},{"$f":"'P Index Inputs'!I169","v":0},{"$f":"IF(ISBLANK('P Index Inputs'!R169),\"-\",'P Index Inputs'!R169)","v":"-"},{"$f":"IF(ISBLANK('P Index Inputs'!S169),\"-\",'P Index Inputs'!S169)","v":"-"},{"$f":"Calculations!AE167","v":"-"},{"$f":"Calculations!AF167","v":"-"},{"$f":"Calculations!Z167","v":"N/A"},{"$f":"Calculations!AF167","v":"-"},{"$f":"Calculations!AG167","v":"N/A"},{"$f":"Calculations!AH167","v":"N/A"}]
[{"$f":"'P Index Inputs'!C170","v":0},{"$f":"'P Index Inputs'!D170","v":0},{"$f":"'P Index Inputs'!I170","v":0},{"$f":"IF(ISBLANK('P Index Inputs'!R170),\"-\",'P Index Inputs'!R170)","v":"-"},{"$f":"IF(ISBLANK('P Index Inputs'!S170),\"-\",'P Index Inputs'!S170)","v":"-"},{"$f":"Calculations!AE168","v":"-"},{"$f":"Calculations!AF168","v":"-"},{"$f":"Calculations!Z168","v":"N/A"},{"$f":"Calculations!AF168","v":"-"},{"$f":"Calculations!AG168","v":"N/A"},{"$f":"Calculations!AH168","v":"N/A"}]
[{"$f":"'P Index Inputs'!C171","v":0},{"$f":"'P Index Inputs'!D171","v":0},{"$f":"'P Index Inputs'!I171","v":0},{"$f":"IF(ISBLANK('P Index Inputs'!R171),\"-\",'P Index Inputs'!R171)","v":"-"},{"$f":"IF(ISBLANK('P Index Inputs'!S171),\"-\",'P Index Inputs'!S171)","v":"-"},{"$f":"Calculations!AE169","v":"-"},{"$f":"Calculations!AF169","v":"-"},{"$f":"Calculations!Z169","v":"N/A"},{"$f":"Calculations!AF169","v":"-"},{"$f":"Calculations!AG169","v":"N/A"},{"$f":"Calculations!AH169","v":"N/A"}]
[{"$f":"'P Index Inputs'!C172","v":0},{"$f":"'P Index Inputs'!D172","v":0},{"$f":"'P Index Inputs'!I172","v":0},{"$f":"IF(ISBLANK('P Index Inputs'!R172),\"-\",'P Index Inputs'!R172)","v":"-"},{"$f":"IF(ISBLANK('P Index Inputs'!S172),\"-\",'P Index Inputs'!S172)","v":"-"},{"$f":"Calculations!AE170","v":"-"},{"$f":"Calculations!AF170","v":"-"},{"$f":"Calculations!Z170","v":"N/A"},{"$f":"Calculations!AF170","v":"-"},{"$f":"Calculations!AG170","v":"N/A"},{"$f":"Calculations!AH170","v":"N/A"}]
[{"$f":"'P Index Inputs'!C173","v":0},{"$f":"'P Index Inputs'!D173","v":0},{"$f":"'P Index Inputs'!I173","v":0},{"$f":"IF(ISBLANK('P Index Inputs'!R173),\"-\",'P Index Inputs'!R173)","v":"-"},{"$f":"IF(ISBLANK('P Index Inputs'!S173),\"-\",'P Index Inputs'!S173)","v":"-"},{"$f":"Calculations!AE171","v":"-"},{"$f":"Calculations!AF171","v":"-"},{"$f":"Calculations!Z171","v":"N/A"},{"$f":"Calculations!AF171","v":"-"},{"$f":"Calculations!AG171","v":"N/A"},{"$f":"Calculations!AH171","v":"N/A"}]
[{"$f":"'P Index Inputs'!C174","v":0},{"$f":"'P Index Inputs'!D174","v":0},{"$f":"'P Index Inputs'!I174","v":0},{"$f":"IF(ISBLANK('P Index Inputs'!R174),\"-\",'P Index Inputs'!R174)","v":"-"},{"$f":"IF(ISBLANK('P Index Inputs'!S174),\"-\",'P Index Inputs'!S174)","v":"-"},{"$f":"Calculations!AE172","v":"-"},{"$f":"Calculations!AF172","v":"-"},{"$f":"Calculations!Z172","v":"N/A"},{"$f":"Calculations!AF172","v":"-"},{"$f":"Calculations!AG172","v":"N/A"},{"$f":"Calculations!AH172","v":"N/A"}]
[{"$f":"'P Index Inputs'!C175","v":0},{"$f":"'P Index Inputs'!D175","v":0},{"$f":"'P Index Inputs'!I175","v":0},{"$f":"IF(ISBLANK('P Index Inputs'!R175),\"-\",'P Index Inputs'!R175)","v":"-"},{"$f":"IF(ISBLANK('P Index Inputs'!S175),\"-\",'P Index Inputs'!S175)","v":"-"},{"$f":"Calculations!AE173","v":"-"},{"$f":"Calculations!AF173","v":"-"},{"$f":"Calculations!Z173","v":"N/A"},{"$f":"Calculations!AF173","v":"-"},{"$f":"Calculations!AG173","v":"N/A"},{"$f":"Calculations!AH173","v":"N/A"}]
[{"$f":"'P Index Inputs'!C176","v":0},{"$f":"'P Index Inputs'!D176","v":0},{"$f":"'P Index Inputs'!I176","v":0},{"$f":"IF(ISBLANK('P Index Inputs'!R176),\"-\",'P Index Inputs'!R176)","v":"-"},{"$f":"IF(ISBLANK('P Index Inputs'!S176),\"-\",'P Index Inputs'!S176)","v":"-"},{"$f":"Calculations!AE174","v":"-"},{"$f":"Calculations!AF174","v":"-"},{"$f":"Calculations!Z174","v":"N/A"},{"$f":"Calculations!AF174","v":"-"},{"$f":"Calculations!AG174","v":"N/A"},{"$f":"Calculations!AH174","v":"N/A"}]
[{"$f":"'P Index Inputs'!C177","v":0},{"$f":"'P Index Inputs'!D177","v":0},{"$f":"'P Index Inputs'!I177","v":0},{"$f":"IF(ISBLANK('P Index Inputs'!R177),\"-\",'P Index Inputs'!R177)","v":"-"},{"$f":"IF(ISBLANK('P Index Inputs'!S177),\"-\",'P Index Inputs'!S177)","v":"-"},{"$f":"Calculations!AE175","v":"-"},{"$f":"Calculations!AF175","v":"-"},{"$f":"Calculations!Z175","v":"N/A"},{"$f":"Calculations!AF175","v":"-"},{"$f":"Calculations!AG175","v":"N/A"},{"$f":"Calculations!AH175","v":"N/A"}]
[{"$f":"'P Index Inputs'!C178","v":0},{"$f":"'P Index Inputs'!D178","v":0},{"$f":"'P Index Inputs'!I178","v":0},{"$f":"IF(ISBLANK('P Index Inputs'!R178),\"-\",'P Index Inputs'!R178)","v":"-"},{"$f":"IF(ISBLANK('P Index Inputs'!S178),\"-\",'P Index Inputs'!S178)","v":"-"},{"$f":"Calculations!AE176","v":"-"},{"$f":"Calculations!AF176","v":"-"},{"$f":"Calculations!Z176","v":"N/A"},{"$f":"Calculations!AF176","v":"-"},{"$f":"Calculations!AG176","v":"N/A"},{"$f":"Calculations!AH176","v":"N/A"}]
[{"$f":"'P Index Inputs'!C179","v":0},{"$f":"'P Index Inputs'!D179","v":0},{"$f":"'P Index Inputs'!I179","v":0},{"$f":"IF(ISBLANK('P Index Inputs'!R179),\"-\",'P Index Inputs'!R179)","v":"-"},{"$f":"IF(ISBLANK('P Index Inputs'!S179),\"-\",'P Index Inputs'!S179)","v":"-"},{"$f":"Calculations!AE177","v":"-"},{"$f":"Calculations!AF177","v":"-"},{"$f":"Calculations!Z177","v":"N/A"},{"$f":"Calculations!AF177","v":"-"},{"$f":"Calculations!AG177","v":"N/A"},{"$f":"Calculations!AH177","v":"N/A"}]
[{"$f":"'P Index Inputs'!C180","v":0},{"$f":"'P Index Inputs'!D180","v":0},{"$f":"'P Index Inputs'!I180","v":0},{"$f":"IF(ISBLANK('P Index Inputs'!R180),\"-\",'P Index Inputs'!R180)","v":"-"},{"$f":"IF(ISBLANK('P Index Inputs'!S180),\"-\",'P Index Inputs'!S180)","v":"-"},{"$f":"Calculations!AE178","v":"-"},{"$f":"Calculations!AF178","v":"-"},{"$f":"Calculations!Z178","v":"N/A"},{"$f":"Calculations!AF178","v":"-"},{"$f":"Calculations!AG178","v":"N/A"},{"$f":"Calculations!AH178","v":"N/A"}]
[{"$f":"'P Index Inputs'!C181","v":0},{"$f":"'P Index Inputs'!D181","v":0},{"$f":"'P Index Inputs'!I181","v":0},{"$f":"IF(ISBLANK('P Index Inputs'!R181),\"-\",'P Index Inputs'!R181)","v":"-"},{"$f":"IF(ISBLANK('P Index Inputs'!S181),\"-\",'P Index Inputs'!S181)","v":"-"},{"$f":"Calculations!AE179","v":"-"},{"$f":"Calculations!AF179","v":"-"},{"$f":"Calculations!Z179","v":"N/A"},{"$f":"Calculations!AF179","v":"-"},{"$f":"Calculations!AG179","v":"N/A"},{"$f":"Calculations!AH179","v":"N/A"}]
[{"$f":"'P Index Inputs'!C182","v":0},{"$f":"'P Index Inputs'!D182","v":0},{"$f":"'P Index Inputs'!I182","v":0},{"$f":"IF(ISBLANK('P Index Inputs'!R182),\"-\",'P Index Inputs'!R182)","v":"-"},{"$f":"IF(ISBLANK('P Index Inputs'!S182),\"-\",'P Index Inputs'!S182)","v":"-"},{"$f":"Calculations!AE180","v":"-"},{"$f":"Calculations!AF180","v":"-"},{"$f":"Calculations!Z180","v":"N/A"},{"$f":"Calculations!AF180","v":"-"},{"$f":"Calculations!AG180","v":"N/A"},{"$f":"Calculations!AH180","v":"N/A"}]
[{"$f":"'P Index Inputs'!C183","v":0},{"$f":"'P Index Inputs'!D183","v":0},{"$f":"'P Index Inputs'!I183","v":0},{"$f":"IF(ISBLANK('P Index Inputs'!R183),\"-\",'P Index Inputs'!R183)","v":"-"},{"$f":"IF(ISBLANK('P Index Inputs'!S183),\"-\",'P Index Inputs'!S183)","v":"-"},{"$f":"Calculations!AE181","v":"-"},{"$f":"Calculations!AF181","v":"-"},{"$f":"Calculations!Z181","v":"N/A"},{"$f":"Calculations!AF181","v":"-"},{"$f":"Calculations!AG181","v":"N/A"},{"$f":"Calculations!AH181","v":"N/A"}]
[{"$f":"'P Index Inputs'!C184","v":0},{"$f":"'P Index Inputs'!D184","v":0},{"$f":"'P Index Inputs'!I184","v":0},{"$f":"IF(ISBLANK('P Index Inputs'!R184),\"-\",'P Index Inputs'!R184)","v":"-"},{"$f":"IF(ISBLANK('P Index Inputs'!S184),\"-\",'P Index Inputs'!S184)","v":"-"},{"$f":"Calculations!AE182","v":"-"},{"$f":"Calculations!AF182","v":"-"},{"$f":"Calculations!Z182","v":"N/A"},{"$f":"Calculations!AF182","v":"-"},{"$f":"Calculations!AG182","v":"N/A"},{"$f":"Calculations!AH182","v":"N/A"}]
[{"$f":"'P Index Inputs'!C185","v":0},{"$f":"'P Index Inputs'!D185","v":0},{"$f":"'P Index Inputs'!I185","v":0},{"$f":"IF(ISBLANK('P Index Inputs'!R185),\"-\",'P Index Inputs'!R185)","v":"-"},{"$f":"IF(ISBLANK('P Index Inputs'!S185),\"-\",'P Index Inputs'!S185)","v":"-"},{"$f":"Calculations!AE183","v":"-"},{"$f":"Calculations!AF183","v":"-"},{"$f":"Calculations!Z183","v":"N/A"},{"$f":"Calculations!AF183","v":"-"},{"$f":"Calculations!AG183","v":"N/A"},{"$f":"Calculations!AH183","v":"N/A"}]
[{"$f":"'P Index Inputs'!C186","v":0},{"$f":"'P Index Inputs'!D186","v":0},{"$f":"'P Index Inputs'!I186","v":0},{"$f":"IF(ISBLANK('P Index Inputs'!R186),\"-\",'P Index Inputs'!R186)","v":"-"},{"$f":"IF(ISBLANK('P Index Inputs'!S186),\"-\",'P Index Inputs'!S186)","v":"-"},{"$f":"Calculations!AE184","v":"-"},{"$f":"Calculations!AF184","v":"-"},{"$f":"Calculations!Z184","v":"N/A"},{"$f":"Calculations!AF184","v":"-"},{"$f":"Calculations!AG184","v":"N/A"},{"$f":"Calculations!AH184","v":"N/A"}]
[{"$f":"'P Index Inputs'!C187","v":0},{"$f":"'P Index Inputs'!D187","v":0},{"$f":"'P Index Inputs'!I187","v":0},{"$f":"IF(ISBLANK('P Index Inputs'!R187),\"-\",'P Index Inputs'!R187)","v":"-"},{"$f":"IF(ISBLANK('P Index Inputs'!S187),\"-\",'P Index Inputs'!S187)","v":"-"},{"$f":"Calculations!AE185","v":"-"},{"$f":"Calculations!AF185","v":"-"},{"$f":"Calculations!Z185","v":"N/A"},{"$f":"Calculations!AF185","v":"-"},{"$f":"Calculations!AG185","v":"N/A"},{"$f":"Calculations!AH185","v":"N/A"}]
[{"$f":"'P Index Inputs'!C188","v":0},{"$f":"'P Index Inputs'!D188","v":0},{"$f":"'P Index Inputs'!I188","v":0},{"$f":"IF(ISBLANK('P Index Inputs'!R188),\"-\",'P Index Inputs'!R188)","v":"-"},{"$f":"IF(ISBLANK('P Index Inputs'!S188),\"-\",'P Index Inputs'!S188)","v":"-"},{"$f":"Calculations!AE186","v":"-"},{"$f":"Calculations!AF186","v":"-"},{"$f":"Calculations!Z186","v":"N/A"},{"$f":"Calculations!AF186","v":"-"},{"$f":"Calculations!AG186","v":"N/A"},{"$f":"Calculations!AH186","v":"N/A"}]
[{"$f":"'P Index Inputs'!C189","v":0},{"$f":"'P Index Inputs'!D189","v":0},{"$f":"'P Index Inputs'!I189","v":0},{"$f":"IF(ISBLANK('P Index Inputs'!R189),\"-\",'P Index Inputs'!R189)","v":"-"},{"$f":"IF(ISBLANK('P Index Inputs'!S189),\"-\",'P Index Inputs'!S189)","v":"-"},{"$f":"Calculations!AE187","v":"-"},{"$f":"Calculations!AF187","v":"-"},{"$f":"Calculations!Z187","v":"N/A"},{"$f":"Calculations!AF187","v":"-"},{"$f":"Calculations!AG187","v":"N/A"},{"$f":"Calculations!AH187","v":"N/A"}]
[{"$f":"'P Index Inputs'!C190","v":0},{"$f":"'P Index Inputs'!D190","v":0},{"$f":"'P Index Inputs'!I190","v":0},{"$f":"IF(ISBLANK('P Index Inputs'!R190),\"-\",'P Index Inputs'!R190)","v":"-"},{"$f":"IF(ISBLANK('P Index Inputs'!S190),\"-\",'P Index Inputs'!S190)","v":"-"},{"$f":"Calculations!AE188","v":"-"},{"$f":"Calculations!AF188","v":"-"},{"$f":"Calculations!Z188","v":"N/A"},{"$f":"Calculations!AF188","v":"-"},{"$f":"Calculations!AG188","v":"N/A"},{"$f":"Calculations!AH188","v":"N/A"}]
[{"$f":"'P Index Inputs'!C191","v":0},{"$f":"'P Index Inputs'!D191","v":0},{"$f":"'P Index Inputs'!I191","v":0},{"$f":"IF(ISBLANK('P Index Inputs'!R191),\"-\",'P Index Inputs'!R191)","v":"-"},{"$f":"IF(ISBLANK('P Index Inputs'!S191),\"-\",'P Index Inputs'!S191)","v":"-"},{"$f":"Calculations!AE189","v":"-"},{"$f":"Calculations!AF189","v":"-"},{"$f":"Calculations!Z189","v":"N/A"},{"$f":"Calculations!AF189","v":"-"},{"$f":"Calculations!AG189","v":"N/A"},{"$f":"Calculations!AH189","v":"N/A"}]
[{"$f":"'P Index Inputs'!C192","v":0},{"$f":"'P Index Inputs'!D192","v":0},{"$f":"'P Index Inputs'!I192","v":0},{"$f":"IF(ISBLANK('P Index Inputs'!R192),\"-\",'P Index Inputs'!R192)","v":"-"},{"$f":"IF(ISBLANK('P Index Inputs'!S192),\"-\",'P Index Inputs'!S192)","v":"-"},{"$f":"Calculations!AE190","v":"-"},{"$f":"Calculations!AF190","v":"-"},{"$f":"Calculations!Z190","v":"N/A"},{"$f":"Calculations!AF190","v":"-"},{"$f":"Calculations!AG190","v":"N/A"},{"$f":"Calculations!AH190","v":"N/A"}]
[{"$f":"'P Index Inputs'!C193","v":0},{"$f":"'P Index Inputs'!D193","v":0},{"$f":"'P Index Inputs'!I193","v":0},{"$f":"IF(ISBLANK('P Index Inputs'!R193),\"-\",'P Index Inputs'!R193)","v":"-"},{"$f":"IF(ISBLANK('P Index Inputs'!S193),\"-\",'P Index Inputs'!S193)","v":"-"},{"$f":"Calculations!AE191","v":"-"},{"$f":"Calculations!AF191","v":"-"},{"$f":"Calculations!Z191","v":"N/A"},{"$f":"Calculations!AF191","v":"-"},{"$f":"Calculations!AG191","v":"N/A"},{"$f":"Calculations!AH191","v":"N/A"}]
[{"$f":"'P Index Inputs'!C194","v":0},{"$f":"'P Index Inputs'!D194","v":0},{"$f":"'P Index Inputs'!I194","v":0},{"$f":"IF(ISBLANK('P Index Inputs'!R194),\"-\",'P Index Inputs'!R194)","v":"-"},{"$f":"IF(ISBLANK('P Index Inputs'!S194),\"-\",'P Index Inputs'!S194)","v":"-"},{"$f":"Calculations!AE192","v":"-"},{"$f":"Calculations!AF192","v":"-"},{"$f":"Calculations!Z192","v":"N/A"},{"$f":"Calculations!AF192","v":"-"},{"$f":"Calculations!AG192","v":"N/A"},{"$f":"Calculations!AH192","v":"N/A"}]
[{"$f":"'P Index Inputs'!C195","v":0},{"$f":"'P Index Inputs'!D195","v":0},{"$f":"'P Index Inputs'!I195","v":0},{"$f":"IF(ISBLANK('P Index Inputs'!R195),\"-\",'P Index Inputs'!R195)","v":"-"},{"$f":"IF(ISBLANK('P Index Inputs'!S195),\"-\",'P Index Inputs'!S195)","v":"-"},{"$f":"Calculations!AE193","v":"-"},{"$f":"Calculations!AF193","v":"-"},{"$f":"Calculations!Z193","v":"N/A"},{"$f":"Calculations!AF193","v":"-"},{"$f":"Calculations!AG193","v":"N/A"},{"$f":"Calculations!AH193","v":"N/A"}]
[{"$f":"'P Index Inputs'!C196","v":0},{"$f":"'P Index Inputs'!D196","v":0},{"$f":"'P Index Inputs'!I196","v":0},{"$f":"IF(ISBLANK('P Index Inputs'!R196),\"-\",'P Index Inputs'!R196)","v":"-"},{"$f":"IF(ISBLANK('P Index Inputs'!S196),\"-\",'P Index Inputs'!S196)","v":"-"},{"$f":"Calculations!AE194","v":"-"},{"$f":"Calculations!AF194","v":"-"},{"$f":"Calculations!Z194","v":"N/A"},{"$f":"Calculations!AF194","v":"-"},{"$f":"Calculations!AG194","v":"N/A"},{"$f":"Calculations!AH194","v":"N/A"}]
[{"$f":"'P Index Inputs'!C197","v":0},{"$f":"'P Index Inputs'!D197","v":0},{"$f":"'P Index Inputs'!I197","v":0},{"$f":"IF(ISBLANK('P Index Inputs'!R197),\"-\",'P Index Inputs'!R197)","v":"-"},{"$f":"IF(ISBLANK('P Index Inputs'!S197),\"-\",'P Index Inputs'!S197)","v":"-"},{"$f":"Calculations!AE195","v":"-"},{"$f":"Calculations!AF195","v":"-"},{"$f":"Calculations!Z195","v":"N/A"},{"$f":"Calculations!AF195","v":"-"},{"$f":"Calculations!AG195","v":"N/A"},{"$f":"Calculations!AH195","v":"N/A"}]
[{"$f":"'P Index Inputs'!C198","v":0},{"$f":"'P Index Inputs'!D198","v":0},{"$f":"'P Index Inputs'!I198","v":0},{"$f":"IF(ISBLANK('P Index Inputs'!R198),\"-\",'P Index Inputs'!R198)","v":"-"},{"$f":"IF(ISBLANK('P Index Inputs'!S198),\"-\",'P Index Inputs'!S198)","v":"-"},{"$f":"Calculations!AE196","v":"-"},{"$f":"Calculations!AF196","v":"-"},{"$f":"Calculations!Z196","v":"N/A"},{"$f":"Calculations!AF196","v":"-"},{"$f":"Calculations!AG196","v":"N/A"},{"$f":"Calculations!AH196","v":"N/A"}]
[{"$f":"'P Index Inputs'!C199","v":0},{"$f":"'P Index Inputs'!D199","v":0},{"$f":"'P Index Inputs'!I199","v":0},{"$f":"IF(ISBLANK('P Index Inputs'!R199),\"-\",'P Index Inputs'!R199)","v":"-"},{"$f":"IF(ISBLANK('P Index Inputs'!S199),\"-\",'P Index Inputs'!S199)","v":"-"},{"$f":"Calculations!AE197","v":"-"},{"$f":"Calculations!AF197","v":"-"},{"$f":"Calculations!Z197","v":"N/A"},{"$f":"Calculations!AF197","v":"-"},{"$f":"Calculations!AG197","v":"N/A"},{"$f":"Calculations!AH197","v":"N/A"}]
[{"$f":"'P Index Inputs'!C200","v":0},{"$f":"'P Index Inputs'!D200","v":0},{"$f":"'P Index Inputs'!I200","v":0},{"$f":"IF(ISBLANK('P Index Inputs'!R200),\"-\",'P Index Inputs'!R200)","v":"-"},{"$f":"IF(ISBLANK('P Index Inputs'!S200),\"-\",'P Index Inputs'!S200)","v":"-"},{"$f":"Calculations!AE198","v":"-"},{"$f":"Calculations!AF198","v":"-"},{"$f":"Calculations!Z198","v":"N/A"},{"$f":"Calculations!AF198","v":"-"},{"$f":"Calculations!AG198","v":"N/A"},{"$f":"Calculations!AH198","v":"N/A"}]
[{"$f":"'P Index Inputs'!C201","v":0},{"$f":"'P Index Inputs'!D201","v":0},{"$f":"'P Index Inputs'!I201","v":0},{"$f":"IF(ISBLANK('P Index Inputs'!R201),\"-\",'P Index Inputs'!R201)","v":"-"},{"$f":"IF(ISBLANK('P Index Inputs'!S201),\"-\",'P Index Inputs'!S201)","v":"-"},{"$f":"Calculations!AE199","v":"-"},{"$f":"Calculations!AF199","v":"-"},{"$f":"Calculations!Z199","v":"N/A"},{"$f":"Calculations!AF199","v":"-"},{"$f":"Calculations!AG199","v":"N/A"},{"$f":"Calculations!AH199","v":"N/A"}]
[{"$f":"'P Index Inputs'!C202","v":0},{"$f":"'P Index Inputs'!D202","v":0},{"$f":"'P Index Inputs'!I202","v":0},{"$f":"IF(ISBLANK('P Index Inputs'!R202),\"-\",'P Index Inputs'!R202)","v":"-"},{"$f":"IF(ISBLANK('P Index Inputs'!S202),\"-\",'P Index Inputs'!S202)","v":"-"},{"$f":"Calculations!AE200","v":"-"},{"$f":"Calculations!AF200","v":"-"},{"$f":"Calculations!Z200","v":"N/A"},{"$f":"Calculations!AF200","v":"-"},{"$f":"Calculations!AG200","v":"N/A"},{"$f":"Calculations!AH200","v":"N/A"}]
[{"$f":"'P Index Inputs'!C203","v":0},{"$f":"'P Index Inputs'!D203","v":0},{"$f":"'P Index Inputs'!I203","v":0},{"$f":"IF(ISBLANK('P Index Inputs'!R203),\"-\",'P Index Inputs'!R203)","v":"-"},{"$f":"IF(ISBLANK('P Index Inputs'!S203),\"-\",'P Index Inputs'!S203)","v":"-"},{"$f":"Calculations!AE201","v":"-"},{"$f":"Calculations!AF201","v":"-"},{"$f":"Calculations!Z201","v":"N/A"},{"$f":"Calculations!AF201","v":"-"},{"$f":"Calculations!AG201","v":"N/A"},{"$f":"Calculations!AH201","v":"N/A"}]
[{"$f":"'P Index Inputs'!C204","v":0},{"$f":"'P Index Inputs'!D204","v":0},{"$f":"'P Index Inputs'!I204","v":0},{"$f":"IF(ISBLANK('P Index Inputs'!R204),\"-\",'P Index Inputs'!R204)","v":"-"},{"$f":"IF(ISBLANK('P Index Inputs'!S204),\"-\",'P Index Inputs'!S204)","v":"-"},{"$f":"Calculations!AE202","v":"-"},{"$f":"Calculations!AF202","v":"-"},{"$f":"Calculations!Z202","v":"N/A"},{"$f":"Calculations!AF202","v":"-"},{"$f":"Calculations!AG202","v":"N/A"},{"$f":"Calculations!AH202","v":"N/A"}]
[{"$f":"'P Index Inputs'!C205","v":0},{"$f":"'P Index Inputs'!D205","v":0},{"$f":"'P Index Inputs'!I205","v":0},{"$f":"IF(ISBLANK('P Index Inputs'!R205),\"-\",'P Index Inputs'!R205)","v":"-"},{"$f":"IF(ISBLANK('P Index Inputs'!S205),\"-\",'P Index Inputs'!S205)","v":"-"},{"$f":"Calculations!AE203","v":"-"},{"$f":"Calculations!AF203","v":"-"},{"$f":"Calculations!Z203","v":"N/A"},{"$f":"Calculations!AF203","v":"-"},{"$f":"Calculations!AG203","v":"N/A"},{"$f":"Calculations!AH203","v":"N/A"}]
[{"$f":"'P Index Inputs'!C206","v":0},{"$f":"'P Index Inputs'!D206","v":0},{"$f":"'P Index Inputs'!I206","v":0},{"$f":"IF(ISBLANK('P Index Inputs'!R206),\"-\",'P Index Inputs'!R206)","v":"-"},{"$f":"IF(ISBLANK('P Index Inputs'!S206),\"-\",'P Index Inputs'!S206)","v":"-"},{"$f":"Calculations!AE204","v":"-"},{"$f":"Calculations!AF204","v":"-"},{"$f":"Calculations!Z204","v":"N/A"},{"$f":"Calculations!AF204","v":"-"},{"$f":"Calculations!AG204","v":"N/A"},{"$f":"Calculations!AH204","v":"N/A"}]
[{"$f":"'P Index Inputs'!C207","v":0},{"$f":"'P Index Inputs'!D207","v":0},{"$f":"'P Index Inputs'!I207","v":0},{"$f":"IF(ISBLANK('P Index Inputs'!R207),\"-\",'P Index Inputs'!R207)","v":"-"},{"$f":"IF(ISBLANK('P Index Inputs'!S207),\"-\",'P Index Inputs'!S207)","v":"-"},{"$f":"Calculations!AE205","v":"-"},{"$f":"Calculations!AF205","v":"-"},{"$f":"Calculations!Z205","v":"N/A"},{"$f":"Calculations!AF205","v":"-"},{"$f":"Calculations!AG205","v":"N/A"},{"$f":"Calculations!AH205","v":"N/A"}]
[{"$f":"'P Index Inputs'!C208","v":0},{"$f":"'P Index Inputs'!D208","v":0},{"$f":"'P Index Inputs'!I208","v":0},{"$f":"IF(ISBLANK('P Index Inputs'!R208),\"-\",'P Index Inputs'!R208)","v":"-"},{"$f":"IF(ISBLANK('P Index Inputs'!S208),\"-\",'P Index Inputs'!S208)","v":"-"},{"$f":"Calculations!AE206","v":"-"},{"$f":"Calculations!AF206","v":"-"},{"$f":"Calculations!Z206","v":"N/A"},{"$f":"Calculations!AF206","v":"-"},{"$f":"Calculations!AG206","v":"N/A"},{"$f":"Calculations!AH206","v":"N/A"}]
[{"$f":"'P Index Inputs'!C209","v":0},{"$f":"'P Index Inputs'!D209","v":0},{"$f":"'P Index Inputs'!I209","v":0},{"$f":"IF(ISBLANK('P Index Inputs'!R209),\"-\",'P Index Inputs'!R209)","v":"-"},{"$f":"IF(ISBLANK('P Index Inputs'!S209),\"-\",'P Index Inputs'!S209)","v":"-"},{"$f":"Calculations!AE207","v":"-"},{"$f":"Calculations!AF207","v":"-"},{"$f":"Calculations!Z207","v":"N/A"},{"$f":"Calculations!AF207","v":"-"},{"$f":"Calculations!AG207","v":"N/A"},{"$f":"Calculations!AH207","v":"N/A"}]
[{"$f":"'P Index Inputs'!C210","v":0},{"$f":"'P Index Inputs'!D210","v":0},{"$f":"'P Index Inputs'!I210","v":0},{"$f":"IF(ISBLANK('P Index Inputs'!R210),\"-\",'P Index Inputs'!R210)","v":"-"},{"$f":"IF(ISBLANK('P Index Inputs'!S210),\"-\",'P Index Inputs'!S210)","v":"-"},{"$f":"Calculations!AE208","v":"-"},{"$f":"Calculations!AF208","v":"-"},{"$f":"Calculations!Z208","v":"N/A"},{"$f":"Calculations!AF208","v":"-"},{"$f":"Calculations!AG208","v":"N/A"},{"$f":"Calculations!AH208","v":"N/A"}]
[{"$f":"'P Index Inputs'!C211","v":0},{"$f":"'P Index Inputs'!D211","v":0},{"$f":"'P Index Inputs'!I211","v":0},{"$f":"IF(ISBLANK('P Index Inputs'!R211),\"-\",'P Index Inputs'!R211)","v":"-"},{"$f":"IF(ISBLANK('P Index Inputs'!S211),\"-\",'P Index Inputs'!S211)","v":"-"},{"$f":"Calculations!AE209","v":"-"},{"$f":"Calculations!AF209","v":"-"},{"$f":"Calculations!Z209","v":"N/A"},{"$f":"Calculations!AF209","v":"-"},{"$f":"Calculations!AG209","v":"N/A"},{"$f":"Calculations!AH209","v":"N/A"}]
[{"$f":"'P Index Inputs'!C212","v":0},{"$f":"'P Index Inputs'!D212","v":0},{"$f":"'P Index Inputs'!I212","v":0},{"$f":"IF(ISBLANK('P Index Inputs'!R212),\"-\",'P Index Inputs'!R212)","v":"-"},{"$f":"IF(ISBLANK('P Index Inputs'!S212),\"-\",'P Index Inputs'!S212)","v":"-"},{"$f":"Calculations!AE210","v":"-"},{"$f":"Calculations!AF210","v":"-"},{"$f":"Calculations!Z210","v":"N/A"},{"$f":"Calculations!AF210","v":"-"},{"$f":"Calculations!AG210","v":"N/A"},{"$f":"Calculations!AH210","v":"N/A"}]
[{"$f":"'P Index Inputs'!C213","v":0},{"$f":"'P Index Inputs'!D213","v":0},{"$f":"'P Index Inputs'!I213","v":0},{"$f":"IF(ISBLANK('P Index Inputs'!R213),\"-\",'P Index Inputs'!R213)","v":"-"},{"$f":"IF(ISBLANK('P Index Inputs'!S213),\"-\",'P Index Inputs'!S213)","v":"-"},{"$f":"Calculations!AE211","v":"-"},{"$f":"Calculations!AF211","v":"-"},{"$f":"Calculations!Z211","v":"N/A"},{"$f":"Calculations!AF211","v":"-"},{"$f":"Calculations!AG211","v":"N/A"},{"$f":"Calculations!AH211","v":"N/A"}]
[{"$f":"'P Index Inputs'!C214","v":0},{"$f":"'P Index Inputs'!D214","v":0},{"$f":"'P Index Inputs'!I214","v":0},{"$f":"IF(ISBLANK('P Index Inputs'!R214),\"-\",'P Index Inputs'!R214)","v":"-"},{"$f":"IF(ISBLANK('P Index Inputs'!S214),\"-\",'P Index Inputs'!S214)","v":"-"},{"$f":"Calculations!AE212","v":"-"},{"$f":"Calculations!AF212","v":"-"},{"$f":"Calculations!Z212","v":"N/A"},{"$f":"Calculations!AF212","v":"-"},{"$f":"Calculations!AG212","v":"N/A"},{"$f":"Calculations!AH212","v":"N/A"}]
[{"$f":"'P Index Inputs'!C215","v":0},{"$f":"'P Index Inputs'!D215","v":0},{"$f":"'P Index Inputs'!I215","v":0},{"$f":"IF(ISBLANK('P Index Inputs'!R215),\"-\",'P Index Inputs'!R215)","v":"-"},{"$f":"IF(ISBLANK('P Index Inputs'!S215),\"-\",'P Index Inputs'!S215)","v":"-"},{"$f":"Calculations!AE213","v":"-"},{"$f":"Calculations!AF213","v":"-"},{"$f":"Calculations!Z213","v":"N/A"},{"$f":"Calculations!AF213","v":"-"},{"$f":"Calculations!AG213","v":"N/A"},{"$f":"Calculations!AH213","v":"N/A"}]
[{"$f":"'P Index Inputs'!C216","v":0},{"$f":"'P Index Inputs'!D216","v":0},{"$f":"'P Index Inputs'!I216","v":0},{"$f":"IF(ISBLANK('P Index Inputs'!R216),\"-\",'P Index Inputs'!R216)","v":"-"},{"$f":"IF(ISBLANK('P Index Inputs'!S216),\"-\",'P Index Inputs'!S216)","v":"-"},{"$f":"Calculations!AE214","v":"-"},{"$f":"Calculations!AF214","v":"-"},{"$f":"Calculations!Z214","v":"N/A"},{"$f":"Calculations!AF214","v":"-"},{"$f":"Calculations!AG214","v":"N/A"},{"$f":"Calculations!AH214","v":"N/A"}]
[{"$f":"'P Index Inputs'!C217","v":0},{"$f":"'P Index Inputs'!D217","v":0},{"$f":"'P Index Inputs'!I217","v":0},{"$f":"IF(ISBLANK('P Index Inputs'!R217),\"-\",'P Index Inputs'!R217)","v":"-"},{"$f":"IF(ISBLANK('P Index Inputs'!S217),\"-\",'P Index Inputs'!S217)","v":"-"},{"$f":"Calculations!AE215","v":"-"},{"$f":"Calculations!AF215","v":"-"},{"$f":"Calculations!Z215","v":"N/A"},{"$f":"Calculations!AF215","v":"-"},{"$f":"Calculations!AG215","v":"N/A"},{"$f":"Calculations!AH215","v":"N/A"}]
[{"$f":"'P Index Inputs'!C218","v":0},{"$f":"'P Index Inputs'!D218","v":0},{"$f":"'P Index Inputs'!I218","v":0},{"$f":"IF(ISBLANK('P Index Inputs'!R218),\"-\",'P Index Inputs'!R218)","v":"-"},{"$f":"IF(ISBLANK('P Index Inputs'!S218),\"-\",'P Index Inputs'!S218)","v":"-"},{"$f":"Calculations!AE216","v":"-"},{"$f":"Calculations!AF216","v":"-"},{"$f":"Calculations!Z216","v":"N/A"},{"$f":"Calculations!AF216","v":"-"},{"$f":"Calculations!AG216","v":"N/A"},{"$f":"Calculations!AH216","v":"N/A"}]
[{"$f":"'P Index Inputs'!C219","v":0},{"$f":"'P Index Inputs'!D219","v":0},{"$f":"'P Index Inputs'!I219","v":0},{"$f":"IF(ISBLANK('P Index Inputs'!R219),\"-\",'P Index Inputs'!R219)","v":"-"},{"$f":"IF(ISBLANK('P Index Inputs'!S219),\"-\",'P Index Inputs'!S219)","v":"-"},{"$f":"Calculations!AE217","v":"-"},{"$f":"Calculations!AF217","v":"-"},{"$f":"Calculations!Z217","v":"N/A"},{"$f":"Calculations!AF217","v":"-"},{"$f":"Calculations!AG217","v":"N/A"},{"$f":"Calculations!AH217","v":"N/A"}]
[{"$f":"'P Index Inputs'!C220","v":0},{"$f":"'P Index Inputs'!D220","v":0},{"$f":"'P Index Inputs'!I220","v":0},{"$f":"IF(ISBLANK('P Index Inputs'!R220),\"-\",'P Index Inputs'!R220)","v":"-"},{"$f":"IF(ISBLANK('P Index Inputs'!S220),\"-\",'P Index Inputs'!S220)","v":"-"},{"$f":"Calculations!AE218","v":"-"},{"$f":"Calculations!AF218","v":"-"},{"$f":"Calculations!Z218","v":"N/A"},{"$f":"Calculations!AF218","v":"-"},{"$f":"Calculations!AG218","v":"N/A"},{"$f":"Calculations!AH218","v":"N/A"}]
[{"$f":"'P Index Inputs'!C221","v":0},{"$f":"'P Index Inputs'!D221","v":0},{"$f":"'P Index Inputs'!I221","v":0},{"$f":"IF(ISBLANK('P Index Inputs'!R221),\"-\",'P Index Inputs'!R221)","v":"-"},{"$f":"IF(ISBLANK('P Index Inputs'!S221),\"-\",'P Index Inputs'!S221)","v":"-"},{"$f":"Calculations!AE219","v":"-"},{"$f":"Calculations!AF219","v":"-"},{"$f":"Calculations!Z219","v":"N/A"},{"$f":"Calculations!AF219","v":"-"},{"$f":"Calculations!AG219","v":"N/A"},{"$f":"Calculations!AH219","v":"N/A"}]
[{"$f":"'P Index Inputs'!C222","v":0},{"$f":"'P Index Inputs'!D222","v":0},{"$f":"'P Index Inputs'!I222","v":0},{"$f":"IF(ISBLANK('P Index Inputs'!R222),\"-\",'P Index Inputs'!R222)","v":"-"},{"$f":"IF(ISBLANK('P Index Inputs'!S222),\"-\",'P Index Inputs'!S222)","v":"-"},{"$f":"Calculations!AE220","v":"-"},{"$f":"Calculations!AF220","v":"-"},{"$f":"Calculations!Z220","v":"N/A"},{"$f":"Calculations!AF220","v":"-"},{"$f":"Calculations!AG220","v":"N/A"},{"$f":"Calculations!AH220","v":"N/A"}]
[{"$f":"'P Index Inputs'!C223","v":0},{"$f":"'P Index Inputs'!D223","v":0},{"$f":"'P Index Inputs'!I223","v":0},{"$f":"IF(ISBLANK('P Index Inputs'!R223),\"-\",'P Index Inputs'!R223)","v":"-"},{"$f":"IF(ISBLANK('P Index Inputs'!S223),\"-\",'P Index Inputs'!S223)","v":"-"},{"$f":"Calculations!AE221","v":"-"},{"$f":"Calculations!AF221","v":"-"},{"$f":"Calculations!Z221","v":"N/A"},{"$f":"Calculations!AF221","v":"-"},{"$f":"Calculations!AG221","v":"N/A"},{"$f":"Calculations!AH221","v":"N/A"}]
[{"$f":"'P Index Inputs'!C224","v":0},{"$f":"'P Index Inputs'!D224","v":0},{"$f":"'P Index Inputs'!I224","v":0},{"$f":"IF(ISBLANK('P Index Inputs'!R224),\"-\",'P Index Inputs'!R224)","v":"-"},{"$f":"IF(ISBLANK('P Index Inputs'!S224),\"-\",'P Index Inputs'!S224)","v":"-"},{"$f":"Calculations!AE222","v":"-"},{"$f":"Calculations!AF222","v":"-"},{"$f":"Calculations!Z222","v":"N/A"},{"$f":"Calculations!AF222","v":"-"},{"$f":"Calculations!AG222","v":"N/A"},{"$f":"Calculations!AH222","v":"N/A"}]
[{"$f":"'P Index Inputs'!C225","v":0},{"$f":"'P Index Inputs'!D225","v":0},{"$f":"'P Index Inputs'!I225","v":0},{"$f":"IF(ISBLANK('P Index Inputs'!R225),\"-\",'P Index Inputs'!R225)","v":"-"},{"$f":"IF(ISBLANK('P Index Inputs'!S225),\"-\",'P Index Inputs'!S225)","v":"-"},{"$f":"Calculations!AE223","v":"-"},{"$f":"Calculations!AF223","v":"-"},{"$f":"Calculations!Z223","v":"N/A"},{"$f":"Calculations!AF223","v":"-"},{"$f":"Calculations!AG223","v":"N/A"},{"$f":"Calculations!AH223","v":"N/A"}]
[{"$f":"'P Index Inputs'!C226","v":0},{"$f":"'P Index Inputs'!D226","v":0},{"$f":"'P Index Inputs'!I226","v":0},{"$f":"IF(ISBLANK('P Index Inputs'!R226),\"-\",'P Index Inputs'!R226)","v":"-"},{"$f":"IF(ISBLANK('P Index Inputs'!S226),\"-\",'P Index Inputs'!S226)","v":"-"},{"$f":"Calculations!AE224","v":"-"},{"$f":"Calculations!AF224","v":"-"},{"$f":"Calculations!Z224","v":"N/A"},{"$f":"Calculations!AF224","v":"-"},{"$f":"Calculations!AG224","v":"N/A"},{"$f":"Calculations!AH224","v":"N/A"}]
[{"$f":"'P Index Inputs'!C227","v":0},{"$f":"'P Index Inputs'!D227","v":0},{"$f":"'P Index Inputs'!I227","v":0},{"$f":"IF(ISBLANK('P Index Inputs'!R227),\"-\",'P Index Inputs'!R227)","v":"-"},{"$f":"IF(ISBLANK('P Index Inputs'!S227),\"-\",'P Index Inputs'!S227)","v":"-"},{"$f":"Calculations!AE225","v":"-"},{"$f":"Calculations!AF225","v":"-"},{"$f":"Calculations!Z225","v":"N/A"},{"$f":"Calculations!AF225","v":"-"},{"$f":"Calculations!AG225","v":"N/A"},{"$f":"Calculations!AH225","v":"N/A"}]
[{"$f":"'P Index Inputs'!C228","v":0},{"$f":"'P Index Inputs'!D228","v":0},{"$f":"'P Index Inputs'!I228","v":0},{"$f":"IF(ISBLANK('P Index Inputs'!R228),\"-\",'P Index Inputs'!R228)","v":"-"},{"$f":"IF(ISBLANK('P Index Inputs'!S228),\"-\",'P Index Inputs'!S228)","v":"-"},{"$f":"Calculations!AE226","v":"-"},{"$f":"Calculations!AF226","v":"-"},{"$f":"Calculations!Z226","v":"N/A"},{"$f":"Calculations!AF226","v":"-"},{"$f":"Calculations!AG226","v":"N/A"},{"$f":"Calculations!AH226","v":"N/A"}]
[{"$f":"'P Index Inputs'!C229","v":0},{"$f":"'P Index Inputs'!D229","v":0},{"$f":"'P Index Inputs'!I229","v":0},{"$f":"IF(ISBLANK('P Index Inputs'!R229),\"-\",'P Index Inputs'!R229)","v":"-"},{"$f":"IF(ISBLANK('P Index Inputs'!S229),\"-\",'P Index Inputs'!S229)","v":"-"},{"$f":"Calculations!AE227","v":"-"},{"$f":"Calculations!AF227","v":"-"},{"$f":"Calculations!Z227","v":"N/A"},{"$f":"Calculations!AF227","v":"-"},{"$f":"Calculations!AG227","v":"N/A"},{"$f":"Calculations!AH227","v":"N/A"}]
[{"$f":"'P Index Inputs'!C230","v":0},{"$f":"'P Index Inputs'!D230","v":0},{"$f":"'P Index Inputs'!I230","v":0},{"$f":"IF(ISBLANK('P Index Inputs'!R230),\"-\",'P Index Inputs'!R230)","v":"-"},{"$f":"IF(ISBLANK('P Index Inputs'!S230),\"-\",'P Index Inputs'!S230)","v":"-"},{"$f":"Calculations!AE228","v":"-"},{"$f":"Calculations!AF228","v":"-"},{"$f":"Calculations!Z228","v":"N/A"},{"$f":"Calculations!AF228","v":"-"},{"$f":"Calculations!AG228","v":"N/A"},{"$f":"Calculations!AH228","v":"N/A"}]
[{"$f":"'P Index Inputs'!C231","v":0},{"$f":"'P Index Inputs'!D231","v":0},{"$f":"'P Index Inputs'!I231","v":0},{"$f":"IF(ISBLANK('P Index Inputs'!R231),\"-\",'P Index Inputs'!R231)","v":"-"},{"$f":"IF(ISBLANK('P Index Inputs'!S231),\"-\",'P Index Inputs'!S231)","v":"-"},{"$f":"Calculations!AE229","v":"-"},{"$f":"Calculations!AF229","v":"-"},{"$f":"Calculations!Z229","v":"N/A"},{"$f":"Calculations!AF229","v":"-"},{"$f":"Calculations!AG229","v":"N/A"},{"$f":"Calculations!AH229","v":"N/A"}]
[{"$f":"'P Index Inputs'!C232","v":0},{"$f":"'P Index Inputs'!D232","v":0},{"$f":"'P Index Inputs'!I232","v":0},{"$f":"IF(ISBLANK('P Index Inputs'!R232),\"-\",'P Index Inputs'!R232)","v":"-"},{"$f":"IF(ISBLANK('P Index Inputs'!S232),\"-\",'P Index Inputs'!S232)","v":"-"},{"$f":"Calculations!AE230","v":"-"},{"$f":"Calculations!AF230","v":"-"},{"$f":"Calculations!Z230","v":"N/A"},{"$f":"Calculations!AF230","v":"-"},{"$f":"Calculations!AG230","v":"N/A"},{"$f":"Calculations!AH230","v":"N/A"}]
[{"$f":"'P Index Inputs'!C233","v":0},{"$f":"'P Index Inputs'!D233","v":0},{"$f":"'P Index Inputs'!I233","v":0},{"$f":"IF(ISBLANK('P Index Inputs'!R233),\"-\",'P Index Inputs'!R233)","v":"-"},{"$f":"IF(ISBLANK('P Index Inputs'!S233),\"-\",'P Index Inputs'!S233)","v":"-"},{"$f":"Calculations!AE231","v":"-"},{"$f":"Calculations!AF231","v":"-"},{"$f":"Calculations!Z231","v":"N/A"},{"$f":"Calculations!AF231","v":"-"},{"$f":"Calculations!AG231","v":"N/A"},{"$f":"Calculations!AH231","v":"N/A"}]
[{"$f":"'P Index Inputs'!C234","v":0},{"$f":"'P Index Inputs'!D234","v":0},{"$f":"'P Index Inputs'!I234","v":0},{"$f":"IF(ISBLANK('P Index Inputs'!R234),\"-\",'P Index Inputs'!R234)","v":"-"},{"$f":"IF(ISBLANK('P Index Inputs'!S234),\"-\",'P Index Inputs'!S234)","v":"-"},{"$f":"Calculations!AE232","v":"-"},{"$f":"Calculations!AF232","v":"-"},{"$f":"Calculations!Z232","v":"N/A"},{"$f":"Calculations!AF232","v":"-"},{"$f":"Calculations!AG232","v":"N/A"},{"$f":"Calculations!AH232","v":"N/A"}]
[{"$f":"'P Index Inputs'!C235","v":0},{"$f":"'P Index Inputs'!D235","v":0},{"$f":"'P Index Inputs'!I235","v":0},{"$f":"IF(ISBLANK('P Index Inputs'!R235),\"-\",'P Index Inputs'!R235)","v":"-"},{"$f":"IF(ISBLANK('P Index Inputs'!S235),\"-\",'P Index Inputs'!S235)","v":"-"},{"$f":"Calculations!AE233","v":"-"},{"$f":"Calculations!AF233","v":"-"},{"$f":"Calculations!Z233","v":"N/A"},{"$f":"Calculations!AF233","v":"-"},{"$f":"Calculations!AG233","v":"N/A"},{"$f":"Calculations!AH233","v":"N/A"}]
[{"$f":"'P Index Inputs'!C236","v":0},{"$f":"'P Index Inputs'!D236","v":0},{"$f":"'P Index Inputs'!I236","v":0},{"$f":"IF(ISBLANK('P Index Inputs'!R236),\"-\",'P Index Inputs'!R236)","v":"-"},{"$f":"IF(ISBLANK('P Index Inputs'!S236),\"-\",'P Index Inputs'!S236)","v":"-"},{"$f":"Calculations!AE234","v":"-"},{"$f":"Calculations!AF234","v":"-"},{"$f":"Calculations!Z234","v":"N/A"},{"$f":"Calculations!AF234","v":"-"},{"$f":"Calculations!AG234","v":"N/A"},{"$f":"Calculations!AH234","v":"N/A"}]
[{"$f":"'P Index Inputs'!C237","v":0},{"$f":"'P Index Inputs'!D237","v":0},{"$f":"'P Index Inputs'!I237","v":0},{"$f":"IF(ISBLANK('P Index Inputs'!R237),\"-\",'P Index Inputs'!R237)","v":"-"},{"$f":"IF(ISBLANK('P Index Inputs'!S237),\"-\",'P Index Inputs'!S237)","v":"-"},{"$f":"Calculations!AE235","v":"-"},{"$f":"Calculations!AF235","v":"-"},{"$f":"Calculations!Z235","v":"N/A"},{"$f":"Calculations!AF235","v":"-"},{"$f":"Calculations!AG235","v":"N/A"},{"$f":"Calculations!AH235","v":"N/A"}]
[{"$f":"'P Index Inputs'!C238","v":0},{"$f":"'P Index Inputs'!D238","v":0},{"$f":"'P Index Inputs'!I238","v":0},{"$f":"IF(ISBLANK('P Index Inputs'!R238),\"-\",'P Index Inputs'!R238)","v":"-"},{"$f":"IF(ISBLANK('P Index Inputs'!S238),\"-\",'P Index Inputs'!S238)","v":"-"},{"$f":"Calculations!AE236","v":"-"},{"$f":"Calculations!AF236","v":"-"},{"$f":"Calculations!Z236","v":"N/A"},{"$f":"Calculations!AF236","v":"-"},{"$f":"Calculations!AG236","v":"N/A"},{"$f":"Calculations!AH236","v":"N/A"}]
[{"$f":"'P Index Inputs'!C239","v":0},{"$f":"'P Index Inputs'!D239","v":0},{"$f":"'P Index Inputs'!I239","v":0},{"$f":"IF(ISBLANK('P Index Inputs'!R239),\"-\",'P Index Inputs'!R239)","v":"-"},{"$f":"IF(ISBLANK('P Index Inputs'!S239),\"-\",'P Index Inputs'!S239)","v":"-"},{"$f":"Calculations!AE237","v":"-"},{"$f":"Calculations!AF237","v":"-"},{"$f":"Calculations!Z237","v":"N/A"},{"$f":"Calculations!AF237","v":"-"},{"$f":"Calculations!AG237","v":"N/A"},{"$f":"Calculations!AH237","v":"N/A"}]
[{"$f":"'P Index Inputs'!C240","v":0},{"$f":"'P Index Inputs'!D240","v":0},{"$f":"'P Index Inputs'!I240","v":0},{"$f":"IF(ISBLANK('P Index Inputs'!R240),\"-\",'P Index Inputs'!R240)","v":"-"},{"$f":"IF(ISBLANK('P Index Inputs'!S240),\"-\",'P Index Inputs'!S240)","v":"-"},{"$f":"Calculations!AE238","v":"-"},{"$f":"Calculations!AF238","v":"-"},{"$f":"Calculations!Z238","v":"N/A"},{"$f":"Calculations!AF238","v":"-"},{"$f":"Calculations!AG238","v":"N/A"},{"$f":"Calculations!AH238","v":"N/A"}]
[{"$f":"'P Index Inputs'!C241","v":0},{"$f":"'P Index Inputs'!D241","v":0},{"$f":"'P Index Inputs'!I241","v":0},{"$f":"IF(ISBLANK('P Index Inputs'!R241),\"-\",'P Index Inputs'!R241)","v":"-"},{"$f":"IF(ISBLANK('P Index Inputs'!S241),\"-\",'P Index Inputs'!S241)","v":"-"},{"$f":"Calculations!AE239","v":"-"},{"$f":"Calculations!AF239","v":"-"},{"$f":"Calculations!Z239","v":"N/A"},{"$f":"Calculations!AF239","v":"-"},{"$f":"Calculations!AG239","v":"N/A"},{"$f":"Calculations!AH239","v":"N/A"}]
[{"$f":"'P Index Inputs'!C242","v":0},{"$f":"'P Index Inputs'!D242","v":0},{"$f":"'P Index Inputs'!I242","v":0},{"$f":"IF(ISBLANK('P Index Inputs'!R242),\"-\",'P Index Inputs'!R242)","v":"-"},{"$f":"IF(ISBLANK('P Index Inputs'!S242),\"-\",'P Index Inputs'!S242)","v":"-"},{"$f":"Calculations!AE240","v":"-"},{"$f":"Calculations!AF240","v":"-"},{"$f":"Calculations!Z240","v":"N/A"},{"$f":"Calculations!AF240","v":"-"},{"$f":"Calculations!AG240","v":"N/A"},{"$f":"Calculations!AH240","v":"N/A"}]
[{"$f":"'P Index Inputs'!C243","v":0},{"$f":"'P Index Inputs'!D243","v":0},{"$f":"'P Index Inputs'!I243","v":0},{"$f":"IF(ISBLANK('P Index Inputs'!R243),\"-\",'P Index Inputs'!R243)","v":"-"},{"$f":"IF(ISBLANK('P Index Inputs'!S243),\"-\",'P Index Inputs'!S243)","v":"-"},{"$f":"Calculations!AE241","v":"-"},{"$f":"Calculations!AF241","v":"-"},{"$f":"Calculations!Z241","v":"N/A"},{"$f":"Calculations!AF241","v":"-"},{"$f":"Calculations!AG241","v":"N/A"},{"$f":"Calculations!AH241","v":"N/A"}]
[{"$f":"'P Index Inputs'!C244","v":0},{"$f":"'P Index Inputs'!D244","v":0},{"$f":"'P Index Inputs'!I244","v":0},{"$f":"IF(ISBLANK('P Index Inputs'!R244),\"-\",'P Index Inputs'!R244)","v":"-"},{"$f":"IF(ISBLANK('P Index Inputs'!S244),\"-\",'P Index Inputs'!S244)","v":"-"},{"$f":"Calculations!AE242","v":"-"},{"$f":"Calculations!AF242","v":"-"},{"$f":"Calculations!Z242","v":"N/A"},{"$f":"Calculations!AF242","v":"-"},{"$f":"Calculations!AG242","v":"N/A"},{"$f":"Calculations!AH242","v":"N/A"}]
[{"$f":"'P Index Inputs'!C245","v":0},{"$f":"'P Index Inputs'!D245","v":0},{"$f":"'P Index Inputs'!I245","v":0},{"$f":"IF(ISBLANK('P Index Inputs'!R245),\"-\",'P Index Inputs'!R245)","v":"-"},{"$f":"IF(ISBLANK('P Index Inputs'!S245),\"-\",'P Index Inputs'!S245)","v":"-"},{"$f":"Calculations!AE243","v":"-"},{"$f":"Calculations!AF243","v":"-"},{"$f":"Calculations!Z243","v":"N/A"},{"$f":"Calculations!AF243","v":"-"},{"$f":"Calculations!AG243","v":"N/A"},{"$f":"Calculations!AH243","v":"N/A"}]
[{"$f":"'P Index Inputs'!C246","v":0},{"$f":"'P Index Inputs'!D246","v":0},{"$f":"'P Index Inputs'!I246","v":0},{"$f":"IF(ISBLANK('P Index Inputs'!R246),\"-\",'P Index Inputs'!R246)","v":"-"},{"$f":"IF(ISBLANK('P Index Inputs'!S246),\"-\",'P Index Inputs'!S246)","v":"-"},{"$f":"Calculations!AE244","v":"-"},{"$f":"Calculations!AF244","v":"-"},{"$f":"Calculations!Z244","v":"N/A"},{"$f":"Calculations!AF244","v":"-"},{"$f":"Calculations!AG244","v":"N/A"},{"$f":"Calculations!AH244","v":"N/A"}]
[{"$f":"'P Index Inputs'!C247","v":0},{"$f":"'P Index Inputs'!D247","v":0},{"$f":"'P Index Inputs'!I247","v":0},{"$f":"IF(ISBLANK('P Index Inputs'!R247),\"-\",'P Index Inputs'!R247)","v":"-"},{"$f":"IF(ISBLANK('P Index Inputs'!S247),\"-\",'P Index Inputs'!S247)","v":"-"},{"$f":"Calculations!AE245","v":"-"},{"$f":"Calculations!AF245","v":"-"},{"$f":"Calculations!Z245","v":"N/A"},{"$f":"Calculations!AF245","v":"-"},{"$f":"Calculations!AG245","v":"N/A"},{"$f":"Calculations!AH245","v":"N/A"}]
[{"$f":"'P Index Inputs'!C248","v":0},{"$f":"'P Index Inputs'!D248","v":0},{"$f":"'P Index Inputs'!I248","v":0},{"$f":"IF(ISBLANK('P Index Inputs'!R248),\"-\",'P Index Inputs'!R248)","v":"-"},{"$f":"IF(ISBLANK('P Index Inputs'!S248),\"-\",'P Index Inputs'!S248)","v":"-"},{"$f":"Calculations!AE246","v":"-"},{"$f":"Calculations!AF246","v":"-"},{"$f":"Calculations!Z246","v":"N/A"},{"$f":"Calculations!AF246","v":"-"},{"$f":"Calculations!AG246","v":"N/A"},{"$f":"Calculations!AH246","v":"N/A"}]
[{"$f":"'P Index Inputs'!C249","v":0},{"$f":"'P Index Inputs'!D249","v":0},{"$f":"'P Index Inputs'!I249","v":0},{"$f":"IF(ISBLANK('P Index Inputs'!R249),\"-\",'P Index Inputs'!R249)","v":"-"},{"$f":"IF(ISBLANK('P Index Inputs'!S249),\"-\",'P Index Inputs'!S249)","v":"-"},{"$f":"Calculations!AE247","v":"-"},{"$f":"Calculations!AF247","v":"-"},{"$f":"Calculations!Z247","v":"N/A"},{"$f":"Calculations!AF247","v":"-"},{"$f":"Calculations!AG247","v":"N/A"},{"$f":"Calculations!AH247","v":"N/A"}]
[{"$f":"'P Index Inputs'!C250","v":0},{"$f":"'P Index Inputs'!D250","v":0},{"$f":"'P Index Inputs'!I250","v":0},{"$f":"IF(ISBLANK('P Index Inputs'!R250),\"-\",'P Index Inputs'!R250)","v":"-"},{"$f":"IF(ISBLANK('P Index Inputs'!S250),\"-\",'P Index Inputs'!S250)","v":"-"},{"$f":"Calculations!AE248","v":"-"},{"$f":"Calculations!AF248","v":"-"},{"$f":"Calculations!Z248","v":"N/A"},{"$f":"Calculations!AF248","v":"-"},{"$f":"Calculations!AG248","v":"N/A"},{"$f":"Calculations!AH248","v":"N/A"}]
[{"$f":"'P Index Inputs'!C251","v":0},{"$f":"'P Index Inputs'!D251","v":0},{"$f":"'P Index Inputs'!I251","v":0},{"$f":"IF(ISBLANK('P Index Inputs'!R251),\"-\",'P Index Inputs'!R251)","v":"-"},{"$f":"IF(ISBLANK('P Index Inputs'!S251),\"-\",'P Index Inputs'!S251)","v":"-"},{"$f":"Calculations!AE249","v":"-"},{"$f":"Calculations!AF249","v":"-"},{"$f":"Calculations!Z249","v":"N/A"},{"$f":"Calculations!AF249","v":"-"},{"$f":"Calculations!AG249","v":"N/A"},{"$f":"Calculations!AH249","v":"N/A"}]
[{"$f":"'P Index Inputs'!C252","v":0},{"$f":"'P Index Inputs'!D252","v":0},{"$f":"'P Index Inputs'!I252","v":0},{"$f":"IF(ISBLANK('P Index Inputs'!R252),\"-\",'P Index Inputs'!R252)","v":"-"},{"$f":"IF(ISBLANK('P Index Inputs'!S252),\"-\",'P Index Inputs'!S252)","v":"-"},{"$f":"Calculations!AE250","v":"-"},{"$f":"Calculations!AF250","v":"-"},{"$f":"Calculations!Z250","v":"N/A"},{"$f":"Calculations!AF250","v":"-"},{"$f":"Calculations!AG250","v":"N/A"},{"$f":"Calculations!AH250","v":"N/A"}]
[{"$f":"'P Index Inputs'!C253","v":0},{"$f":"'P Index Inputs'!D253","v":0},{"$f":"'P Index Inputs'!I253","v":0},{"$f":"IF(ISBLANK('P Index Inputs'!R253),\"-\",'P Index Inputs'!R253)","v":"-"},{"$f":"IF(ISBLANK('P Index Inputs'!S253),\"-\",'P Index Inputs'!S253)","v":"-"},{"$f":"Calculations!AE251","v":"-"},{"$f":"Calculations!AF251","v":"-"},{"$f":"Calculations!Z251","v":"N/A"},{"$f":"Calculations!AF251","v":"-"},{"$f":"Calculations!AG251","v":"N/A"},{"$f":"Calculations!AH251","v":"N/A"}]
[{"$f":"'P Index Inputs'!C254","v":0},{"$f":"'P Index Inputs'!D254","v":0},{"$f":"'P Index Inputs'!I254","v":0},{"$f":"IF(ISBLANK('P Index Inputs'!R254),\"-\",'P Index Inputs'!R254)","v":"-"},{"$f":"IF(ISBLANK('P Index Inputs'!S254),\"-\",'P Index Inputs'!S254)","v":"-"},{"$f":"Calculations!AE252","v":"-"},{"$f":"Calculations!AF252","v":"-"},{"$f":"Calculations!Z252","v":"N/A"},{"$f":"Calculations!AF252","v":"-"},{"$f":"Calculations!AG252","v":"N/A"},{"$f":"Calculations!AH252","v":"N/A"}]
[{"$f":"'P Index Inputs'!C255","v":0},{"$f":"'P Index Inputs'!D255","v":0},{"$f":"'P Index Inputs'!I255","v":0},{"$f":"IF(ISBLANK('P Index Inputs'!R255),\"-\",'P Index Inputs'!R255)","v":"-"},{"$f":"IF(ISBLANK('P Index Inputs'!S255),\"-\",'P Index Inputs'!S255)","v":"-"},{"$f":"Calculations!AE253","v":"-"},{"$f":"Calculations!AF253","v":"-"},{"$f":"Calculations!Z253","v":"N/A"},{"$f":"Calculations!AF253","v":"-"},{"$f":"Calculations!AG253","v":"N/A"},{"$f":"Calculations!AH253","v":"N/A"}]
[{"$f":"'P Index Inputs'!C256","v":0},{"$f":"'P Index Inputs'!D256","v":0},{"$f":"'P Index Inputs'!I256","v":0},{"$f":"IF(ISBLANK('P Index Inputs'!R256),\"-\",'P Index Inputs'!R256)","v":"-"},{"$f":"IF(ISBLANK('P Index Inputs'!S256),\"-\",'P Index Inputs'!S256)","v":"-"},{"$f":"Calculations!AE254","v":"-"},{"$f":"Calculations!AF254","v":"-"},{"$f":"Calculations!Z254","v":"N/A"},{"$f":"Calculations!AF254","v":"-"},{"$f":"Calculations!AG254","v":"N/A"},{"$f":"Calculations!AH254","v":"N/A"}]
[{"$f":"'P Index Inputs'!C257","v":0},{"$f":"'P Index Inputs'!D257","v":0},{"$f":"'P Index Inputs'!I257","v":0},{"$f":"IF(ISBLANK('P Index Inputs'!R257),\"-\",'P Index Inputs'!R257)","v":"-"},{"$f":"IF(ISBLANK('P Index Inputs'!S257),\"-\",'P Index Inputs'!S257)","v":"-"},{"$f":"Calculations!AE255","v":"-"},{"$f":"Calculations!AF255","v":"-"},{"$f":"Calculations!Z255","v":"N/A"},{"$f":"Calculations!AF255","v":"-"},{"$f":"Calculations!AG255","v":"N/A"},{"$f":"Calculations!AH255","v":"N/A"}]
[{"$f":"'P Index Inputs'!C258","v":0},{"$f":"'P Index Inputs'!D258","v":0},{"$f":"'P Index Inputs'!I258","v":0},{"$f":"IF(ISBLANK('P Index Inputs'!R258),\"-\",'P Index Inputs'!R258)","v":"-"},{"$f":"IF(ISBLANK('P Index Inputs'!S258),\"-\",'P Index Inputs'!S258)","v":"-"},{"$f":"Calculations!AE256","v":"-"},{"$f":"Calculations!AF256","v":"-"},{"$f":"Calculations!Z256","v":"N/A"},{"$f":"Calculations!AF256","v":"-"},{"$f":"Calculations!AG256","v":"N/A"},{"$f":"Calculations!AH256","v":"N/A"}]
[{"$f":"'P Index Inputs'!C259","v":0},{"$f":"'P Index Inputs'!D259","v":0},{"$f":"'P Index Inputs'!I259","v":0},{"$f":"IF(ISBLANK('P Index Inputs'!R259),\"-\",'P Index Inputs'!R259)","v":"-"},{"$f":"IF(ISBLANK('P Index Inputs'!S259),\"-\",'P Index Inputs'!S259)","v":"-"},{"$f":"Calculations!AE257","v":"-"},{"$f":"Calculations!AF257","v":"-"},{"$f":"Calculations!Z257","v":"N/A"},{"$f":"Calculations!AF257","v":"-"},{"$f":"Calculations!AG257","v":"N/A"},{"$f":"Calculations!AH257","v":"N/A"}]
[{"$f":"'P Index Inputs'!C260","v":0},{"$f":"'P Index Inputs'!D260","v":0},{"$f":"'P Index Inputs'!I260","v":0},{"$f":"IF(ISBLANK('P Index Inputs'!R260),\"-\",'P Index Inputs'!R260)","v":"-"},{"$f":"IF(ISBLANK('P Index Inputs'!S260),\"-\",'P Index Inputs'!S260)","v":"-"},{"$f":"Calculations!AE258","v":"-"},{"$f":"Calculations!AF258","v":"-"},{"$f":"Calculations!Z258","v":"N/A"},{"$f":"Calculations!AF258","v":"-"},{"$f":"Calculations!AG258","v":"N/A"},{"$f":"Calculations!AH258","v":"N/A"}]
[{"$f":"'P Index Inputs'!C261","v":0},{"$f":"'P Index Inputs'!D261","v":0},{"$f":"'P Index Inputs'!I261","v":0},{"$f":"IF(ISBLANK('P Index Inputs'!R261),\"-\",'P Index Inputs'!R261)","v":"-"},{"$f":"IF(ISBLANK('P Index Inputs'!S261),\"-\",'P Index Inputs'!S261)","v":"-"},{"$f":"Calculations!AE259","v":"-"},{"$f":"Calculations!AF259","v":"-"},{"$f":"Calculations!Z259","v":"N/A"},{"$f":"Calculations!AF259","v":"-"},{"$f":"Calculations!AG259","v":"N/A"},{"$f":"Calculations!AH259","v":"N/A"}]
[{"$f":"'P Index Inputs'!C262","v":0},{"$f":"'P Index Inputs'!D262","v":0},{"$f":"'P Index Inputs'!I262","v":0},{"$f":"IF(ISBLANK('P Index Inputs'!R262),\"-\",'P Index Inputs'!R262)","v":"-"},{"$f":"IF(ISBLANK('P Index Inputs'!S262),\"-\",'P Index Inputs'!S262)","v":"-"},{"$f":"Calculations!AE260","v":"-"},{"$f":"Calculations!AF260","v":"-"},{"$f":"Calculations!Z260","v":"N/A"},{"$f":"Calculations!AF260","v":"-"},{"$f":"Calculations!AG260","v":"N/A"},{"$f":"Calculations!AH260","v":"N/A"}]
[{"$f":"'P Index Inputs'!C263","v":0},{"$f":"'P Index Inputs'!D263","v":0},{"$f":"'P Index Inputs'!I263","v":0},{"$f":"IF(ISBLANK('P Index Inputs'!R263),\"-\",'P Index Inputs'!R263)","v":"-"},{"$f":"IF(ISBLANK('P Index Inputs'!S263),\"-\",'P Index Inputs'!S263)","v":"-"},{"$f":"Calculations!AE261","v":"-"},{"$f":"Calculations!AF261","v":"-"},{"$f":"Calculations!Z261","v":"N/A"},{"$f":"Calculations!AF261","v":"-"},{"$f":"Calculations!AG261","v":"N/A"},{"$f":"Calculations!AH261","v":"N/A"}]
[{"$f":"'P Index Inputs'!C264","v":0},{"$f":"'P Index Inputs'!D264","v":0},{"$f":"'P Index Inputs'!I264","v":0},{"$f":"IF(ISBLANK('P Index Inputs'!R264),\"-\",'P Index Inputs'!R264)","v":"-"},{"$f":"IF(ISBLANK('P Index Inputs'!S264),\"-\",'P Index Inputs'!S264)","v":"-"},{"$f":"Calculations!AE262","v":"-"},{"$f":"Calculations!AF262","v":"-"},{"$f":"Calculations!Z262","v":"N/A"},{"$f":"Calculations!AF262","v":"-"},{"$f":"Calculations!AG262","v":"N/A"},{"$f":"Calculations!AH262","v":"N/A"}]
[{"$f":"'P Index Inputs'!C265","v":0},{"$f":"'P Index Inputs'!D265","v":0},{"$f":"'P Index Inputs'!I265","v":0},{"$f":"IF(ISBLANK('P Index Inputs'!R265),\"-\",'P Index Inputs'!R265)","v":"-"},{"$f":"IF(ISBLANK('P Index Inputs'!S265),\"-\",'P Index Inputs'!S265)","v":"-"},{"$f":"Calculations!AE263","v":"-"},{"$f":"Calculations!AF263","v":"-"},{"$f":"Calculations!Z263","v":"N/A"},{"$f":"Calculations!AF263","v":"-"},{"$f":"Calculations!AG263","v":"N/A"},{"$f":"Calculations!AH263","v":"N/A"}]
[{"$f":"'P Index Inputs'!C266","v":0},{"$f":"'P Index Inputs'!D266","v":0},{"$f":"'P Index Inputs'!I266","v":0},{"$f":"IF(ISBLANK('P Index Inputs'!R266),\"-\",'P Index Inputs'!R266)","v":"-"},{"$f":"IF(ISBLANK('P Index Inputs'!S266),\"-\",'P Index Inputs'!S266)","v":"-"},{"$f":"Calculations!AE264","v":"-"},{"$f":"Calculations!AF264","v":"-"},{"$f":"Calculations!Z264","v":"N/A"},{"$f":"Calculations!AF264","v":"-"},{"$f":"Calculations!AG264","v":"N/A"},{"$f":"Calculations!AH264","v":"N/A"}]
[{"$f":"'P Index Inputs'!C267","v":0},{"$f":"'P Index Inputs'!D267","v":0},{"$f":"'P Index Inputs'!I267","v":0},{"$f":"IF(ISBLANK('P Index Inputs'!R267),\"-\",'P Index Inputs'!R267)","v":"-"},{"$f":"IF(ISBLANK('P Index Inputs'!S267),\"-\",'P Index Inputs'!S267)","v":"-"},{"$f":"Calculations!AE265","v":"-"},{"$f":"Calculations!AF265","v":"-"},{"$f":"Calculations!Z265","v":"N/A"},{"$f":"Calculations!AF265","v":"-"},{"$f":"Calculations!AG265","v":"N/A"},{"$f":"Calculations!AH265","v":"N/A"}]
[{"$f":"'P Index Inputs'!C268","v":0},{"$f":"'P Index Inputs'!D268","v":0},{"$f":"'P Index Inputs'!I268","v":0},{"$f":"IF(ISBLANK('P Index Inputs'!R268),\"-\",'P Index Inputs'!R268)","v":"-"},{"$f":"IF(ISBLANK('P Index Inputs'!S268),\"-\",'P Index Inputs'!S268)","v":"-"},{"$f":"Calculations!AE266","v":"-"},{"$f":"Calculations!AF266","v":"-"},{"$f":"Calculations!Z266","v":"N/A"},{"$f":"Calculations!AF266","v":"-"},{"$f":"Calculations!AG266","v":"N/A"},{"$f":"Calculations!AH266","v":"N/A"}]
[{"$f":"'P Index Inputs'!C269","v":0},{"$f":"'P Index Inputs'!D269","v":0},{"$f":"'P Index Inputs'!I269","v":0},{"$f":"IF(ISBLANK('P Index Inputs'!R269),\"-\",'P Index Inputs'!R269)","v":"-"},{"$f":"IF(ISBLANK('P Index Inputs'!S269),\"-\",'P Index Inputs'!S269)","v":"-"},{"$f":"Calculations!AE267","v":"-"},{"$f":"Calculations!AF267","v":"-"},{"$f":"Calculations!Z267","v":"N/A"},{"$f":"Calculations!AF267","v":"-"},{"$f":"Calculations!AG267","v":"N/A"},{"$f":"Calculations!AH267","v":"N/A"}]
[{"$f":"'P Index Inputs'!C270","v":0},{"$f":"'P Index Inputs'!D270","v":0},{"$f":"'P Index Inputs'!I270","v":0},{"$f":"IF(ISBLANK('P Index Inputs'!R270),\"-\",'P Index Inputs'!R270)","v":"-"},{"$f":"IF(ISBLANK('P Index Inputs'!S270),\"-\",'P Index Inputs'!S270)","v":"-"},{"$f":"Calculations!AE268","v":"-"},{"$f":"Calculations!AF268","v":"-"},{"$f":"Calculations!Z268","v":"N/A"},{"$f":"Calculations!AF268","v":"-"},{"$f":"Calculations!AG268","v":"N/A"},{"$f":"Calculations!AH268","v":"N/A"}]
[{"$f":"'P Index Inputs'!C271","v":0},{"$f":"'P Index Inputs'!D271","v":0},{"$f":"'P Index Inputs'!I271","v":0},{"$f":"IF(ISBLANK('P Index Inputs'!R271),\"-\",'P Index Inputs'!R271)","v":"-"},{"$f":"IF(ISBLANK('P Index Inputs'!S271),\"-\",'P Index Inputs'!S271)","v":"-"},{"$f":"Calculations!AE269","v":"-"},{"$f":"Calculations!AF269","v":"-"},{"$f":"Calculations!Z269","v":"N/A"},{"$f":"Calculations!AF269","v":"-"},{"$f":"Calculations!AG269","v":"N/A"},{"$f":"Calculations!AH269","v":"N/A"}]
[{"$f":"'P Index Inputs'!C272","v":0},{"$f":"'P Index Inputs'!D272","v":0},{"$f":"'P Index Inputs'!I272","v":0},{"$f":"IF(ISBLANK('P Index Inputs'!R272),\"-\",'P Index Inputs'!R272)","v":"-"},{"$f":"IF(ISBLANK('P Index Inputs'!S272),\"-\",'P Index Inputs'!S272)","v":"-"},{"$f":"Calculations!AE270","v":"-"},{"$f":"Calculations!AF270","v":"-"},{"$f":"Calculations!Z270","v":"N/A"},{"$f":"Calculations!AF270","v":"-"},{"$f":"Calculations!AG270","v":"N/A"},{"$f":"Calculations!AH270","v":"N/A"}]
[{"$f":"'P Index Inputs'!C273","v":0},{"$f":"'P Index Inputs'!D273","v":0},{"$f":"'P Index Inputs'!I273","v":0},{"$f":"IF(ISBLANK('P Index Inputs'!R273),\"-\",'P Index Inputs'!R273)","v":"-"},{"$f":"IF(ISBLANK('P Index Inputs'!S273),\"-\",'P Index Inputs'!S273)","v":"-"},{"$f":"Calculations!AE271","v":"-"},{"$f":"Calculations!AF271","v":"-"},{"$f":"Calculations!Z271","v":"N/A"},{"$f":"Calculations!AF271","v":"-"},{"$f":"Calculations!AG271","v":"N/A"},{"$f":"Calculations!AH271","v":"N/A"}]
[{"$f":"'P Index Inputs'!C274","v":0},{"$f":"'P Index Inputs'!D274","v":0},{"$f":"'P Index Inputs'!I274","v":0},{"$f":"IF(ISBLANK('P Index Inputs'!R274),\"-\",'P Index Inputs'!R274)","v":"-"},{"$f":"IF(ISBLANK('P Index Inputs'!S274),\"-\",'P Index Inputs'!S274)","v":"-"},{"$f":"Calculations!AE272","v":"-"},{"$f":"Calculations!AF272","v":"-"},{"$f":"Calculations!Z272","v":"N/A"},{"$f":"Calculations!AF272","v":"-"},{"$f":"Calculations!AG272","v":"N/A"},{"$f":"Calculations!AH272","v":"N/A"}]
[{"$f":"'P Index Inputs'!C275","v":0},{"$f":"'P Index Inputs'!D275","v":0},{"$f":"'P Index Inputs'!I275","v":0},{"$f":"IF(ISBLANK('P Index Inputs'!R275),\"-\",'P Index Inputs'!R275)","v":"-"},{"$f":"IF(ISBLANK('P Index Inputs'!S275),\"-\",'P Index Inputs'!S275)","v":"-"},{"$f":"Calculations!AE273","v":"-"},{"$f":"Calculations!AF273","v":"-"},{"$f":"Calculations!Z273","v":"N/A"},{"$f":"Calculations!AF273","v":"-"},{"$f":"Calculations!AG273","v":"N/A"},{"$f":"Calculations!AH273","v":"N/A"}]
[{"$f":"'P Index Inputs'!C276","v":0},{"$f":"'P Index Inputs'!D276","v":0},{"$f":"'P Index Inputs'!I276","v":0},{"$f":"IF(ISBLANK('P Index Inputs'!R276),\"-\",'P Index Inputs'!R276)","v":"-"},{"$f":"IF(ISBLANK('P Index Inputs'!S276),\"-\",'P Index Inputs'!S276)","v":"-"},{"$f":"Calculations!AE274","v":"-"},{"$f":"Calculations!AF274","v":"-"},{"$f":"Calculations!Z274","v":"N/A"},{"$f":"Calculations!AF274","v":"-"},{"$f":"Calculations!AG274","v":"N/A"},{"$f":"Calculations!AH274","v":"N/A"}]
[{"$f":"'P Index Inputs'!C277","v":0},{"$f":"'P Index Inputs'!D277","v":0},{"$f":"'P Index Inputs'!I277","v":0},{"$f":"IF(ISBLANK('P Index Inputs'!R277),\"-\",'P Index Inputs'!R277)","v":"-"},{"$f":"IF(ISBLANK('P Index Inputs'!S277),\"-\",'P Index Inputs'!S277)","v":"-"},{"$f":"Calculations!AE275","v":"-"},{"$f":"Calculations!AF275","v":"-"},{"$f":"Calculations!Z275","v":"N/A"},{"$f":"Calculations!AF275","v":"-"},{"$f":"Calculations!AG275","v":"N/A"},{"$f":"Calculations!AH275","v":"N/A"}]
[{"$f":"'P Index Inputs'!C278","v":0},{"$f":"'P Index Inputs'!D278","v":0},{"$f":"'P Index Inputs'!I278","v":0},{"$f":"IF(ISBLANK('P Index Inputs'!R278),\"-\",'P Index Inputs'!R278)","v":"-"},{"$f":"IF(ISBLANK('P Index Inputs'!S278),\"-\",'P Index Inputs'!S278)","v":"-"},{"$f":"Calculations!AE276","v":"-"},{"$f":"Calculations!AF276","v":"-"},{"$f":"Calculations!Z276","v":"N/A"},{"$f":"Calculations!AF276","v":"-"},{"$f":"Calculations!AG276","v":"N/A"},{"$f":"Calculations!AH276","v":"N/A"}]
[{"$f":"'P Index Inputs'!C279","v":0},{"$f":"'P Index Inputs'!D279","v":0},{"$f":"'P Index Inputs'!I279","v":0},{"$f":"IF(ISBLANK('P Index Inputs'!R279),\"-\",'P Index Inputs'!R279)","v":"-"},{"$f":"IF(ISBLANK('P Index Inputs'!S279),\"-\",'P Index Inputs'!S279)","v":"-"},{"$f":"Calculations!AE277","v":"-"},{"$f":"Calculations!AF277","v":"-"},{"$f":"Calculations!Z277","v":"N/A"},{"$f":"Calculations!AF277","v":"-"},{"$f":"Calculations!AG277","v":"N/A"},{"$f":"Calculations!AH277","v":"N/A"}]
[{"$f":"'P Index Inputs'!C280","v":0},{"$f":"'P Index Inputs'!D280","v":0},{"$f":"'P Index Inputs'!I280","v":0},{"$f":"IF(ISBLANK('P Index Inputs'!R280),\"-\",'P Index Inputs'!R280)","v":"-"},{"$f":"IF(ISBLANK('P Index Inputs'!S280),\"-\",'P Index Inputs'!S280)","v":"-"},{"$f":"Calculations!AE278","v":"-"},{"$f":"Calculations!AF278","v":"-"},{"$f":"Calculations!Z278","v":"N/A"},{"$f":"Calculations!AF278","v":"-"},{"$f":"Calculations!AG278","v":"N/A"},{"$f":"Calculations!AH278","v":"N/A"}]
[{"$f":"'P Index Inputs'!C281","v":0},{"$f":"'P Index Inputs'!D281","v":0},{"$f":"'P Index Inputs'!I281","v":0},{"$f":"IF(ISBLANK('P Index Inputs'!R281),\"-\",'P Index Inputs'!R281)","v":"-"},{"$f":"IF(ISBLANK('P Index Inputs'!S281),\"-\",'P Index Inputs'!S281)","v":"-"},{"$f":"Calculations!AE279","v":"-"},{"$f":"Calculations!AF279","v":"-"},{"$f":"Calculations!Z279","v":"N/A"},{"$f":"Calculations!AF279","v":"-"},{"$f":"Calculations!AG279","v":"N/A"},{"$f":"Calculations!AH279","v":"N/A"}]
[{"$f":"'P Index Inputs'!C282","v":0},{"$f":"'P Index Inputs'!D282","v":0},{"$f":"'P Index Inputs'!I282","v":0},{"$f":"IF(ISBLANK('P Index Inputs'!R282),\"-\",'P Index Inputs'!R282)","v":"-"},{"$f":"IF(ISBLANK('P Index Inputs'!S282),\"-\",'P Index Inputs'!S282)","v":"-"},{"$f":"Calculations!AE280","v":"-"},{"$f":"Calculations!AF280","v":"-"},{"$f":"Calculations!Z280","v":"N/A"},{"$f":"Calculations!AF280","v":"-"},{"$f":"Calculations!AG280","v":"N/A"},{"$f":"Calculations!AH280","v":"N/A"}]
[{"$f":"'P Index Inputs'!C283","v":0},{"$f":"'P Index Inputs'!D283","v":0},{"$f":"'P Index Inputs'!I283","v":0},{"$f":"IF(ISBLANK('P Index Inputs'!R283),\"-\",'P Index Inputs'!R283)","v":"-"},{"$f":"IF(ISBLANK('P Index Inputs'!S283),\"-\",'P Index Inputs'!S283)","v":"-"},{"$f":"Calculations!AE281","v":"-"},{"$f":"Calculations!AF281","v":"-"},{"$f":"Calculations!Z281","v":"N/A"},{"$f":"Calculations!AF281","v":"-"},{"$f":"Calculations!AG281","v":"N/A"},{"$f":"Calculations!AH281","v":"N/A"}]
[{"$f":"'P Index Inputs'!C284","v":0},{"$f":"'P Index Inputs'!D284","v":0},{"$f":"'P Index Inputs'!I284","v":0},{"$f":"IF(ISBLANK('P Index Inputs'!R284),\"-\",'P Index Inputs'!R284)","v":"-"},{"$f":"IF(ISBLANK('P Index Inputs'!S284),\"-\",'P Index Inputs'!S284)","v":"-"},{"$f":"Calculations!AE282","v":"-"},{"$f":"Calculations!AF282","v":"-"},{"$f":"Calculations!Z282","v":"N/A"},{"$f":"Calculations!AF282","v":"-"},{"$f":"Calculations!AG282","v":"N/A"},{"$f":"Calculations!AH282","v":"N/A"}]
[{"$f":"'P Index Inputs'!C285","v":0},{"$f":"'P Index Inputs'!D285","v":0},{"$f":"'P Index Inputs'!I285","v":0},{"$f":"IF(ISBLANK('P Index Inputs'!R285),\"-\",'P Index Inputs'!R285)","v":"-"},{"$f":"IF(ISBLANK('P Index Inputs'!S285),\"-\",'P Index Inputs'!S285)","v":"-"},{"$f":"Calculations!AE283","v":"-"},{"$f":"Calculations!AF283","v":"-"},{"$f":"Calculations!Z283","v":"N/A"},{"$f":"Calculations!AF283","v":"-"},{"$f":"Calculations!AG283","v":"N/A"},{"$f":"Calculations!AH283","v":"N/A"}]
[{"$f":"'P Index Inputs'!C286","v":0},{"$f":"'P Index Inputs'!D286","v":0},{"$f":"'P Index Inputs'!I286","v":0},{"$f":"IF(ISBLANK('P Index Inputs'!R286),\"-\",'P Index Inputs'!R286)","v":"-"},{"$f":"IF(ISBLANK('P Index Inputs'!S286),\"-\",'P Index Inputs'!S286)","v":"-"},{"$f":"Calculations!AE284","v":"-"},{"$f":"Calculations!AF284","v":"-"},{"$f":"Calculations!Z284","v":"N/A"},{"$f":"Calculations!AF284","v":"-"},{"$f":"Calculations!AG284","v":"N/A"},{"$f":"Calculations!AH284","v":"N/A"}]
[{"$f":"'P Index Inputs'!C287","v":0},{"$f":"'P Index Inputs'!D287","v":0},{"$f":"'P Index Inputs'!I287","v":0},{"$f":"IF(ISBLANK('P Index Inputs'!R287),\"-\",'P Index Inputs'!R287)","v":"-"},{"$f":"IF(ISBLANK('P Index Inputs'!S287),\"-\",'P Index Inputs'!S287)","v":"-"},{"$f":"Calculations!AE285","v":"-"},{"$f":"Calculations!AF285","v":"-"},{"$f":"Calculations!Z285","v":"N/A"},{"$f":"Calculations!AF285","v":"-"},{"$f":"Calculations!AG285","v":"N/A"},{"$f":"Calculations!AH285","v":"N/A"}]
[{"$f":"'P Index Inputs'!C288","v":0},{"$f":"'P Index Inputs'!D288","v":0},{"$f":"'P Index Inputs'!I288","v":0},{"$f":"IF(ISBLANK('P Index Inputs'!R288),\"-\",'P Index Inputs'!R288)","v":"-"},{"$f":"IF(ISBLANK('P Index Inputs'!S288),\"-\",'P Index Inputs'!S288)","v":"-"},{"$f":"Calculations!AE286","v":"-"},{"$f":"Calculations!AF286","v":"-"},{"$f":"Calculations!Z286","v":"N/A"},{"$f":"Calculations!AF286","v":"-"},{"$f":"Calculations!AG286","v":"N/A"},{"$f":"Calculations!AH286","v":"N/A"}]
[{"$f":"'P Index Inputs'!C289","v":0},{"$f":"'P Index Inputs'!D289","v":0},{"$f":"'P Index Inputs'!I289","v":0},{"$f":"IF(ISBLANK('P Index Inputs'!R289),\"-\",'P Index Inputs'!R289)","v":"-"},{"$f":"IF(ISBLANK('P Index Inputs'!S289),\"-\",'P Index Inputs'!S289)","v":"-"},{"$f":"Calculations!AE287","v":"-"},{"$f":"Calculations!AF287","v":"-"},{"$f":"Calculations!Z287","v":"N/A"},{"$f":"Calculations!AF287","v":"-"},{"$f":"Calculations!AG287","v":"N/A"},{"$f":"Calculations!AH287","v":"N/A"}]
[{"$f":"'P Index Inputs'!C290","v":0},{"$f":"'P Index Inputs'!D290","v":0},{"$f":"'P Index Inputs'!I290","v":0},{"$f":"IF(ISBLANK('P Index Inputs'!R290),\"-\",'P Index Inputs'!R290)","v":"-"},{"$f":"IF(ISBLANK('P Index Inputs'!S290),\"-\",'P Index Inputs'!S290)","v":"-"},{"$f":"Calculations!AE288","v":"-"},{"$f":"Calculations!AF288","v":"-"},{"$f":"Calculations!Z288","v":"N/A"},{"$f":"Calculations!AF288","v":"-"},{"$f":"Calculations!AG288","v":"N/A"},{"$f":"Calculations!AH288","v":"N/A"}]
[{"$f":"'P Index Inputs'!C291","v":0},{"$f":"'P Index Inputs'!D291","v":0},{"$f":"'P Index Inputs'!I291","v":0},{"$f":"IF(ISBLANK('P Index Inputs'!R291),\"-\",'P Index Inputs'!R291)","v":"-"},{"$f":"IF(ISBLANK('P Index Inputs'!S291),\"-\",'P Index Inputs'!S291)","v":"-"},{"$f":"Calculations!AE289","v":"-"},{"$f":"Calculations!AF289","v":"-"},{"$f":"Calculations!Z289","v":"N/A"},{"$f":"Calculations!AF289","v":"-"},{"$f":"Calculations!AG289","v":"N/A"},{"$f":"Calculations!AH289","v":"N/A"}]
[{"$f":"'P Index Inputs'!C292","v":0},{"$f":"'P Index Inputs'!D292","v":0},{"$f":"'P Index Inputs'!I292","v":0},{"$f":"IF(ISBLANK('P Index Inputs'!R292),\"-\",'P Index Inputs'!R292)","v":"-"},{"$f":"IF(ISBLANK('P Index Inputs'!S292),\"-\",'P Index Inputs'!S292)","v":"-"},{"$f":"Calculations!AE290","v":"-"},{"$f":"Calculations!AF290","v":"-"},{"$f":"Calculations!Z290","v":"N/A"},{"$f":"Calculations!AF290","v":"-"},{"$f":"Calculations!AG290","v":"N/A"},{"$f":"Calculations!AH290","v":"N/A"}]
[{"$f":"'P Index Inputs'!C293","v":0},{"$f":"'P Index Inputs'!D293","v":0},{"$f":"'P Index Inputs'!I293","v":0},{"$f":"IF(ISBLANK('P Index Inputs'!R293),\"-\",'P Index Inputs'!R293)","v":"-"},{"$f":"IF(ISBLANK('P Index Inputs'!S293),\"-\",'P Index Inputs'!S293)","v":"-"},{"$f":"Calculations!AE291","v":"-"},{"$f":"Calculations!AF291","v":"-"},{"$f":"Calculations!Z291","v":"N/A"},{"$f":"Calculations!AF291","v":"-"},{"$f":"Calculations!AG291","v":"N/A"},{"$f":"Calculations!AH291","v":"N/A"}]
[{"$f":"'P Index Inputs'!C294","v":0},{"$f":"'P Index Inputs'!D294","v":0},{"$f":"'P Index Inputs'!I294","v":0},{"$f":"IF(ISBLANK('P Index Inputs'!R294),\"-\",'P Index Inputs'!R294)","v":"-"},{"$f":"IF(ISBLANK('P Index Inputs'!S294),\"-\",'P Index Inputs'!S294)","v":"-"},{"$f":"Calculations!AE292","v":"-"},{"$f":"Calculations!AF292","v":"-"},{"$f":"Calculations!Z292","v":"N/A"},{"$f":"Calculations!AF292","v":"-"},{"$f":"Calculations!AG292","v":"N/A"},{"$f":"Calculations!AH292","v":"N/A"}]
[{"$f":"'P Index Inputs'!C295","v":0},{"$f":"'P Index Inputs'!D295","v":0},{"$f":"'P Index Inputs'!I295","v":0},{"$f":"IF(ISBLANK('P Index Inputs'!R295),\"-\",'P Index Inputs'!R295)","v":"-"},{"$f":"IF(ISBLANK('P Index Inputs'!S295),\"-\",'P Index Inputs'!S295)","v":"-"},{"$f":"Calculations!AE293","v":"-"},{"$f":"Calculations!AF293","v":"-"},{"$f":"Calculations!Z293","v":"N/A"},{"$f":"Calculations!AF293","v":"-"},{"$f":"Calculations!AG293","v":"N/A"},{"$f":"Calculations!AH293","v":"N/A"}]
[{"$f":"'P Index Inputs'!C296","v":0},{"$f":"'P Index Inputs'!D296","v":0},{"$f":"'P Index Inputs'!I296","v":0},{"$f":"IF(ISBLANK('P Index Inputs'!R296),\"-\",'P Index Inputs'!R296)","v":"-"},{"$f":"IF(ISBLANK('P Index Inputs'!S296),\"-\",'P Index Inputs'!S296)","v":"-"},{"$f":"Calculations!AE294","v":"-"},{"$f":"Calculations!AF294","v":"-"},{"$f":"Calculations!Z294","v":"N/A"},{"$f":"Calculations!AF294","v":"-"},{"$f":"Calculations!AG294","v":"N/A"},{"$f":"Calculations!AH294","v":"N/A"}]
[{"$f":"'P Index Inputs'!C297","v":0},{"$f":"'P Index Inputs'!D297","v":0},{"$f":"'P Index Inputs'!I297","v":0},{"$f":"IF(ISBLANK('P Index Inputs'!R297),\"-\",'P Index Inputs'!R297)","v":"-"},{"$f":"IF(ISBLANK('P Index Inputs'!S297),\"-\",'P Index Inputs'!S297)","v":"-"},{"$f":"Calculations!AE295","v":"-"},{"$f":"Calculations!AF295","v":"-"},{"$f":"Calculations!Z295","v":"N/A"},{"$f":"Calculations!AF295","v":"-"},{"$f":"Calculations!AG295","v":"N/A"},{"$f":"Calculations!AH295","v":"N/A"}]
[{"$f":"'P Index Inputs'!C298","v":0},{"$f":"'P Index Inputs'!D298","v":0},{"$f":"'P Index Inputs'!I298","v":0},{"$f":"IF(ISBLANK('P Index Inputs'!R298),\"-\",'P Index Inputs'!R298)","v":"-"},{"$f":"IF(ISBLANK('P Index Inputs'!S298),\"-\",'P Index Inputs'!S298)","v":"-"},{"$f":"Calculations!AE296","v":"-"},{"$f":"Calculations!AF296","v":"-"},{"$f":"Calculations!Z296","v":"N/A"},{"$f":"Calculations!AF296","v":"-"},{"$f":"Calculations!AG296","v":"N/A"},{"$f":"Calculations!AH296","v":"N/A"}]
[{"$f":"'P Index Inputs'!C299","v":0},{"$f":"'P Index Inputs'!D299","v":0},{"$f":"'P Index Inputs'!I299","v":0},{"$f":"IF(ISBLANK('P Index Inputs'!R299),\"-\",'P Index Inputs'!R299)","v":"-"},{"$f":"IF(ISBLANK('P Index Inputs'!S299),\"-\",'P Index Inputs'!S299)","v":"-"},{"$f":"Calculations!AE297","v":"-"},{"$f":"Calculations!AF297","v":"-"},{"$f":"Calculations!Z297","v":"N/A"},{"$f":"Calculations!AF297","v":"-"},{"$f":"Calculations!AG297","v":"N/A"},{"$f":"Calculations!AH297","v":"N/A"}]
[{"$f":"'P Index Inputs'!C300","v":0},{"$f":"'P Index Inputs'!D300","v":0},{"$f":"'P Index Inputs'!I300","v":0},{"$f":"IF(ISBLANK('P Index Inputs'!R300),\"-\",'P Index Inputs'!R300)","v":"-"},{"$f":"IF(ISBLANK('P Index Inputs'!S300),\"-\",'P Index Inputs'!S300)","v":"-"},{"$f":"Calculations!AE298","v":"-"},{"$f":"Calculations!AF298","v":"-"},{"$f":"Calculations!Z298","v":"N/A"},{"$f":"Calculations!AF298","v":"-"},{"$f":"Calculations!AG298","v":"N/A"},{"$f":"Calculations!AH298","v":"N/A"}]
[{"$f":"'P Index Inputs'!C301","v":0},{"$f":"'P Index Inputs'!D301","v":0},{"$f":"'P Index Inputs'!I301","v":0},{"$f":"IF(ISBLANK('P Index Inputs'!R301),\"-\",'P Index Inputs'!R301)","v":"-"},{"$f":"IF(ISBLANK('P Index Inputs'!S301),\"-\",'P Index Inputs'!S301)","v":"-"},{"$f":"Calculations!AE299","v":"-"},{"$f":"Calculations!AF299","v":"-"},{"$f":"Calculations!Z299","v":"N/A"},{"$f":"Calculations!AF299","v":"-"},{"$f":"Calculations!AG299","v":"N/A"},{"$f":"Calculations!AH299","v":"N/A"}]
[{"$f":"'P Index Inputs'!C302","v":0},{"$f":"'P Index Inputs'!D302","v":0},{"$f":"'P Index Inputs'!I302","v":0},{"$f":"IF(ISBLANK('P Index Inputs'!R302),\"-\",'P Index Inputs'!R302)","v":"-"},{"$f":"IF(ISBLANK('P Index Inputs'!S302),\"-\",'P Index Inputs'!S302)","v":"-"},{"$f":"Calculations!AE300","v":"-"},{"$f":"Calculations!AF300","v":"-"},{"$f":"Calculations!Z300","v":"N/A"},{"$f":"Calculations!AF300","v":"-"},{"$f":"Calculations!AG300","v":"N/A"},{"$f":"Calculations!AH300","v":"N/A"}]
[{"$f":"'P Index Inputs'!C303","v":0},{"$f":"'P Index Inputs'!D303","v":0},{"$f":"'P Index Inputs'!I303","v":0},{"$f":"IF(ISBLANK('P Index Inputs'!R303),\"-\",'P Index Inputs'!R303)","v":"-"},{"$f":"IF(ISBLANK('P Index Inputs'!S303),\"-\",'P Index Inputs'!S303)","v":"-"},{"$f":"Calculations!AE301","v":"-"},{"$f":"Calculations!AF301","v":"-"},{"$f":"Calculations!Z301","v":"N/A"},{"$f":"Calculations!AF301","v":"-"},{"$f":"Calculations!AG301","v":"N/A"},{"$f":"Calculations!AH301","v":"N/A"}]
[{"$f":"'P Index Inputs'!C304","v":0},{"$f":"'P Index Inputs'!D304","v":0},{"$f":"'P Index Inputs'!I304","v":0},{"$f":"IF(ISBLANK('P Index Inputs'!R304),\"-\",'P Index Inputs'!R304)","v":"-"},{"$f":"IF(ISBLANK('P Index Inputs'!S304),\"-\",'P Index Inputs'!S304)","v":"-"},{"$f":"Calculations!AE302","v":"-"},{"$f":"Calculations!AF302","v":"-"},{"$f":"Calculations!Z302","v":"N/A"},{"$f":"Calculations!AF302","v":"-"},{"$f":"Calculations!AG302","v":"N/A"},{"$f":"Calculations!AH302","v":"N/A"}]
[{"$f":"'P Index Inputs'!C305","v":0},{"$f":"'P Index Inputs'!D305","v":0},{"$f":"'P Index Inputs'!I305","v":0},{"$f":"IF(ISBLANK('P Index Inputs'!R305),\"-\",'P Index Inputs'!R305)","v":"-"},{"$f":"IF(ISBLANK('P Index Inputs'!S305),\"-\",'P Index Inputs'!S305)","v":"-"},{"$f":"Calculations!AE303","v":"-"},{"$f":"Calculations!AF303","v":"-"},{"$f":"Calculations!Z303","v":"N/A"},{"$f":"Calculations!AF303","v":"-"},{"$f":"Calculations!AG303","v":"N/A"},{"$f":"Calculations!AH303","v":"N/A"}]

{"sheet":"PSt Calculator","index":5,"n_rows":6,"n_cols":8,"rows_kept":6,"cut":false,"hidden":false,"merged":[]}
[]
[null,null,"Mehlich-3 Psat Calculator"]
[]
[null,null,null,"Mehlich-3 P",null,null,"Psat",{"$f":"IFERROR('Cell References'!$L$3*($E$4/'Cell References'!$L$4)/(($E$5/'Cell References'!$L$5)+($E$6/'Cell References'!$L$6)),\" \")","v":" "}]
[null,null,null,"Mechlich-3 Al"]
[null,null,null,"Mehlich -3 Fe"]

{"sheet":"Cell References","index":6,"n_rows":12,"n_cols":12,"rows_kept":12,"cut":false,"hidden":false,"merged":[]}
[]
[]
[null,true,null,"Row",null,"Yes",null,"Absent",null,"< 35",null,100]
[null,false,null,"Sod",null,"No",null,"Present",null,"≥ 35",null,30.974]
[null,null,null,null,null,null,null,null,null,null,null,26.981999999999999]
[null,null,null,null,null,null,null,null,null,null,null,55.844999999999999]
[null,"CT"]
[null,"MA"]
[null,"ME"]
[null,"NH"]
[null,"RI"]
[null,"NY"]

{"sheet":"Soils Info","index":7,"n_rows":14542,"n_cols":10,"rows_kept":4500,"cut":true,"hidden":false,"merged":[[2,5,2,9],[2,1,2,3]],"bounds":{"rows_first":2000,"rows_last":500,"rows_between":2000,"halvings":0}}
[]
[]
[null,"Soil Survey Areas",null,null,null,"Soils Info by State"]
[null,"State","Area","Area Name",null,"Area Name","Area + Symbol","Symbol","Flood Freq","Hydro Group"]
[null,"Connecticut","CT_601","Connecticut, Western Part",null,"Connecticut, Western Part",{"$f":"$C$5&\" \"&H5","v":"CT_601 10"},10,"None","C/D"]
[null,"Connecticut","CT_602","Connecticut, Eastern Part",null,"Connecticut, Western Part",{"$f":"$C$5&\" \"&H6","v":"CT_601 100"},100,"Occasional","A"]
[null,"Maine","ME_005","Cumberland",null,"Connecticut, Western Part","CT_601 101",101,"Occasional","B"]
[null,"Maine","ME_011","Kennebec",null,"Connecticut, Western Part","CT_601 102",102,"Frequent","A/D"]
[null,"Maine","ME_027","Waldo",null,"Connecticut, Western Part","CT_601 103",103,"Frequent","B/D"]
[null,"Maine","ME_031","York",null,"Connecticut, Western Part","CT_601 104",104,"Frequent","B/D"]
[null,"Maine","ME_601","Knox and Lincoln",null,"Connecticut, Western Part","CT_601 105",105,"Occasional","B"]
[null,"Maine","ME_602","Southern Somerset",null,"Connecticut, Western Part","CT_601 106",106,"Frequent","B/D"]
[null,"Maine","ME_606","Androscoggin",null,"Connecticut, Western Part","CT_601 107",107,"Frequent","B/D"]
[null,"Maine","ME_607","Northeastern Aroostook",null,"Connecticut, Western Part","CT_601 108",108,"Frequent","B/D"]
[null,"Maine","ME_608","Southern Aroostook",null,"Connecticut, Western Part","CT_601 109",109,"Frequent","B/D"]
[null,"Maine","ME_610","Franklin and Part of Somerset",null,"Connecticut, Western Part","CT_601 12",12,"None","B/D"]
[null,"Maine","ME_611","Hancock",null,"Connecticut, Western Part","CT_601 13",13,"None","B/D"]
[null,"Maine","ME_612","Southern Penobscot",null,"Connecticut, Western Part","CT_601 14",14,"None","B/D"]
[null,"Maine","ME_613","Oxford",null,"Connecticut, Western Part","CT_601 15",15,"None","A/D"]
[null,"Maine","ME_614","Penobscot",null,"Connecticut, Western Part","CT_601 16",16,"None","B/D"]
[null,"Maine","ME_615","Southern Piscataquis",null,"Connecticut, Western Part","CT_601 17",17,"Rare","B/D"]
[null,"Maine","ME_617","Washington",null,"Connecticut, Western Part","CT_601 18",18,"Rare","B/D"]
[null,"Maine","ME_619","Somerset, Parts of Franklin and Oxford",null,"Connecticut, Western Part","CT_601 2",2,"None","D"]
[null,"Maine","ME_620","Northern Piscataquis and Northern Somerset",null,"Connecticut, Western Part","CT_601 20A","20A","None","A/D"]
[null,"Maine","ME_621","Western Aroostook",null,"Connecticut, Western Part","CT_601 21A","21A","None","C/D"]
[null,"Maine","ME_622","Northern Hancock, Western Washington",null,"Connecticut, Western Part","CT_601 21B","21B","None","C/D"]
[null,"Massachusetts","MA_001","Barnstable",null,"Connecticut, Western Part","CT_601 221A","221A","None","B/D"]
[null,"Massachusetts","MA_003","Berkshire",null,"Connecticut, Western Part","CT_601 224A","224A","None","A"]
[null,"Massachusetts","MA_007","Dukes",null,"Connecticut, Western Part","CT_601 225B","225B","None","C/D"]
[null,"Massachusetts","MA_011","Franklin",null,"Connecticut, Western Part","CT_601 226B","226B","None","C/D"]
[null,"Massachusetts","MA_017","Middlesex",null,"Connecticut, Western Part","CT_601 228B","228B","None","D"]
[null,"Massachusetts","MA_019","Nantucket",null,"Connecticut, Western Part","CT_601 229B","229B","None","B"]
[null,"Massachusetts","MA_023","Plymouth",null,"Connecticut, Western Part","CT_601 229C","229C","None","B"]
[null,"Massachusetts","MA_602","Bristol Northern",null,"Connecticut, Western Part","CT_601 22A","22A","None","A/D"]
[null,"Massachusetts","MA_603","Bristol Southern",null,"Connecticut, Western Part","CT_601 22B","22B","None","A/D"]
[null,"Massachusetts","MA_605","Essex Northern",null,"Connecticut, Western Part","CT_601 230B","230B","None","B"]
[null,"Massachusetts","MA_606","Essex Southern",null,"Connecticut, Western Part","CT_601 230C","230C","None","B"]
[null,"Massachusetts","MA_607","Hampden Central",null,"Connecticut, Western Part","CT_601 232B","232B","None","B"]
[null,"Massachusetts","MA_608","Hampden and Hampshire Western",null,"Connecticut, Western Part","CT_601 234B","234B","None","A"]
[null,"Massachusetts","MA_609","Hampshire Central",null,"Connecticut, Western Part","CT_601 235B","235B","None","A"]
[null,"Massachusetts","MA_610","Hampden and Hampshire Eastern",null,"Connecticut, Western Part","CT_601 236B","236B","None","A"]
[null,"Massachusetts","MA_613","Worcester Northeastern",null,"Connecticut, Western Part","CT_601 237A","237A","None","A"]
[null,"Massachusetts","MA_614","Worcester Northwestern",null,"Connecticut, Western Part","CT_601 237C","237C","None","A"]
[null,"Massachusetts","MA_615","Worcester Southern",null,"Connecticut, Western Part","CT_601 238A","238A","None","A"]
[null,"Massachusetts","MA_616","Norfolk and Suffolk",null,"Connecticut, Western Part","CT_601 238C","238C","None","A"]
[null,"New Hampsire","NH_005","Cheshire",null,"Connecticut, Western Part","CT_601 23A","23A","None","A/D"]
[null,"New Hampsire","NH_009","Grafton",null,"Connecticut, Western Part","CT_601 240B","240B","None","C/D"]
[null,"New Hampsire","NH_015","Rockingham",null,"Connecticut, Western Part","CT_601 243B","243B","None","D"]
[null,"New Hampsire","NH_017","Strafford",null,"Connecticut, Western Part","CT_601 245B","245B","None","C/D"]
[null,"New Hampsire","NH_019","Sullivan",null,"Connecticut, Western Part","CT_601 245C","245C","None","C/D"]
[null,"New Hampsire","NH_601","Hillsborough, Eastern Part",null,"Connecticut, Western Part","CT_601 248B","248B","None","C/D"]
[null,"New Hampsire","NH_602","Hillsborough, Western Part",null,"Connecticut, Western Part","CT_601 24A","24A","None","A"]
[null,"New Hampsire","NH_603","Carroll Area",null,"Connecticut, Western Part","CT_601 250B","250B","None","B/D"]
[null,"New Hampsire","NH_607","Coos Area",null,"Connecticut, Western Part","CT_601 253B","253B","None","B/D"]
[null,"New Hampsire","NH_609","Merrimack and Belknap",null,"Connecticut, Western Part","CT_601 255B","255B","None","D"]
[null,"Rhode Isalnd","RI_600","Rhode Island",null,"Connecticut, Western Part","CT_601 25A","25A","None","C/D"]
[null,"New York","NY_001","Albany County",null,"Connecticut, Western Part","CT_601 25B","25B","None","C/D"]
[null,"New York","NY_003","Allegany County Area",null,"Connecticut, Western Part","CT_601 25C","25C","None","C/D"]
[null,"New York","NY_005","Bronx County",null,"Connecticut, Western Part","CT_601 260B","260B","None","B"]
[null,"New York","NY_007","Broome County",null,"Connecticut, Western Part","CT_601 260C","260C","None","B"]
[null,"New York","NY_009","Cattaraugus County",null,"Connecticut, Western Part","CT_601 260D","260D","None","B"]
[null,"New York","NY_011","Cayuga County",null,"Connecticut, Western Part","CT_601 263B","263B","None","D"]
[null,"New York","NY_013","Chautauqua County",null,"Connecticut, Western Part","CT_601 263C","263C","None","D"]
[null,"New York","NY_015","Chemung County",null,"Connecticut, Western Part","CT_601 266B","266B","None","B"]
[null,"New York","NY_017","Chenango County",null,"Connecticut, Western Part","CT_601 269B","269B","None","C"]
[null,"New York","NY_019","Clinton County",null,"Connecticut, Western Part","CT_601 269C","269C","None","C"]
[null,"New York","NY_021","Columbia County",null,"Connecticut, Western Part","CT_601 26A","26A","None","C/D"]
[null,"New York","NY_023","Cortland County",null,"Connecticut, Western Part","CT_601 26B","26B","None","C/D"]
[null,"New York","NY_025","Delaware County",null,"Connecticut, Western Part","CT_601 273C","273C","None","D"]
[null,"New York","NY_027","Dutchess County",null,"Connecticut, Western Part",{"$f":"$C$5&\" \"&H70","v":"CT_601 273E"},"273E","None","D"]
[null,"New York","NY_029","Erie County",null,"Connecticut, Western Part","CT_601 275C","275C","None","D"]
[null,"New York","NY_031","Essex County",null,"Connecticut, Western Part","CT_601 275E","275E","None","D"]
[null,"New York","NY_033","Franklin County",null,"Connecticut, Western Part","CT_601 27A","27A","None","B/D"]
[null,"New York","NY_035","Fulton County",null,"Connecticut, Western Part","CT_601 282B","282B","None","C"]
[null,"New York","NY_037","Genesee County",null,"Connecticut, Western Part","CT_601 284B","284B","None","C"]
[null,"New York","NY_039","Greene County",null,"Connecticut, Western Part","CT_601 284C","284C","None","C"]
[null,"New York","NY_041","Hamilton County",null,"Connecticut, Western Part","CT_601 284D","284D","None","C"]
[null,"New York","NY_043","Herkimer County",null,"Connecticut, Western Part","CT_601 287B","287B","None","C"]
[null,"New York","NY_045","Jefferson County",null,"Connecticut, Western Part","CT_601 287C","287C","None","C"]
[null,"New York","NY_047","Kings County",null,"Connecticut, Western Part","CT_601 287D","287D","None","C"]
[null,"New York","NY_049","Lewis County",null,"Connecticut, Western Part","CT_601 28A","28A","None","D"]
[null,"New York","NY_051","Livingston County",null,"Connecticut, Western Part","CT_601 28B","28B","None","D"]
[null,"New York","NY_053","Madison County",null,"Connecticut, Western Part","CT_601 290B","290B","None","B"]
[null,"New York","NY_055","Monroe County",null,"Connecticut, Western Part","CT_601 290C","290C","None","B"]
[null,"New York","NY_057","Montgomery County",null,"Connecticut, Western Part","CT_601 290D","290D","None","B"]
[null,"New York","NY_059","Nassau County",null,"Connecticut, Western Part","CT_601 29A","29A","None","B"]
[null,"New York","NY_061","New York County",null,"Connecticut, Western Part","CT_601 29B","29B","None","B"]
[null,"New York","NY_065","Oneida County",null,"Connecticut, Western Part","CT_601 29C","29C","None","B"]
[null,"New York","NY_067","Onondaga County",null,"Connecticut, Western Part","CT_601 3",3,"None","D"]
[null,"New York","NY_069","Ontario County",null,"Connecticut, Western Part","CT_601 301",301,"Very frequent"]
[null,"New York","NY_071","Orange County",null,"Connecticut, Western Part","CT_601 302",302,"None"]
[null,"New York","NY_073","Orleans County",null,"Connecticut, Western Part","CT_601 303",303,"None"]
[null,"New York","NY_075","Oswego County",null,"Connecticut, Western Part","CT_601 304",304,"None","B"]
[null,"New York","NY_077","Otsego County",null,"Connecticut, Western Part","CT_601 305",305,"None","C"]
[null,"New York","NY_079","Putnam County",null,"Connecticut, Western Part","CT_601 306",306,"None","B"]
[null,"New York","NY_081","Queens County",null,"Connecticut, Western Part","CT_601 307",307,"None","D"]
[null,"New York","NY_083","Rensselaer County",null,"Connecticut, Western Part","CT_601 308",308,"None","B"]
[null,"New York","NY_085","Richmond County",null,"Connecticut, Western Part","CT_601 309",309,"Rare","C"]
[null,"New York","NY_087","Rockland County",null,"Connecticut, Western Part","CT_601 30A","30A","None","B"]
[null,"New York","NY_089","St. Lawrence County",null,"Connecticut, Western Part","CT_601 30B","30B","None","B"]
[null,"New York","NY_091","Saratoga County",null,"Connecticut, Western Part","CT_601 30C","30C","None","B"]
[null,"New York","NY_093","Schenectady County",null,"Connecticut, Western Part","CT_601 310",310,"Frequent","C"]
[null,"New York","NY_095","Schoharie County",null,"Connecticut, Western Part","CT_601 311",311,"Rare","C"]
[null,"New York","NY_097","Schuyler County",null,"Connecticut, Western Part","CT_601 313",313,"Very frequent"]
[null,"New York","NY_099","Seneca County",null,"Connecticut, Western Part","CT_601 314",314,"Very frequent"]
[null,"New York","NY_101","Steuben County",null,"Connecticut, Western Part","CT_601 315",315,"Very frequent"]
[null,"New York","NY_103","Suffolk County",null,"Connecticut, Western Part","CT_601 31A","31A","None","B"]
[null,"New York","NY_105","Sullivan County",null,"Connecticut, Western Part","CT_601 31B","31B","None","B"]
[null,"New York","NY_107","Tioga County",null,"Connecticut, Western Part","CT_601 31C","31C","None","B"]
[null,"New York","NY_109","Tompkins County",null,"Connecticut, Western Part","CT_601 32B","32B","None","A"]
[null,"New York","NY_111","Ulster County",null,"Connecticut, Western Part","CT_601 32C","32C","None","A"]
[null,"New York","NY_113","Warren County",null,"Connecticut, Western Part","CT_601 33A","33A","None","A"]
[null,"New York","NY_115","Washington County",null,"Connecticut, Western Part","CT_601 33B","33B","None","A"]
[null,"New York","NY_117","Wayne County",null,"Connecticut, Western Part","CT_601 34A","34A","None","A"]
[null,"New York","NY_119","Westchester County",null,"Connecticut, Western Part","CT_601 34B","34B","None","A"]
[null,"New York","NY_121","Wyoming County",null,"Connecticut, Western Part","CT_601 34C","34C","None","A"]
[null,"New York","NY_123","Yates County",null,"Connecticut, Western Part","CT_601 35A","35A","None","A"]
[null,"New York","NY_605","Seneca Nation of Indians",null,"Connecticut, Western Part","CT_601 35B","35B","None","A"]
[null,"New York","NY_664","Niagara County Area",null,"Connecticut, Western Part","CT_601 36A","36A","None","A"]
[null,"New York","NY_689","Akwesasne Territory: St. Regis Mohawk Reservation",null,"Connecticut, Western Part","CT_601 36B","36B","None","A"]
[null,null,null,null,null,"Connecticut, Western Part","CT_601 36C","36C","None","A"]
[null,null,null,null,null,"Connecticut, Western Part","CT_601 37A","37A","None","A"]
[null,null,null,null,null,"Connecticut, Western Part","CT_601 37C","37C","None","A"]
[null,null,null,null,null,"Connecticut, Western Part","CT_601 37E","37E","None","A"]
[null,null,null,null,null,"Connecticut, Western Part","CT_601 38A","38A","None","A"]
[null,null,null,null,null,"Connecticut, Western Part","CT_601 38C","38C","None","A"]
[null,null,null,null,null,"Connecticut, Western Part","CT_601 38E","38E","None","A"]
[null,null,null,null,null,"Connecticut, Western Part","CT_601 39A","39A","None","A"]
[null,null,null,null,null,"Connecticut, Western Part","CT_601 39C","39C","None","A"]
[null,null,null,null,null,"Connecticut, Western Part","CT_601 39E","39E","None","A"]
[null,null,null,null,null,"Connecticut, Western Part","CT_601 4",4,"None","B/D"]
[null,null,null,null,null,"Connecticut, Western Part","CT_601 401C","401C","None","C"]
[null,null,null,null,null,"Connecticut, Western Part","CT_601 402D","402D","None","C"]
[null,null,null,null,null,"Connecticut, Western Part",{"$f":"$C$5&\" \"&H134","v":"CT_601 403C"},"403C","None","D"]
[null,null,null,null,null,"Connecticut, Western Part","CT_601 403E","403E","None","D"]
[null,null,null,null,null,"Connecticut, Western Part","CT_601 403F","403F","None","D"]
[null,null,null,null,null,"Connecticut, Western Part","CT_601 405C","405C","None","B"]
[null,null,null,null,null,"Connecticut, Western Part","CT_601 405E","405E","None","B"]
[null,null,null,null,null,"Connecticut, Western Part","CT_601 407C","407C","None","C"]
[null,null,null,null,null,"Connecticut, Western Part","CT_601 407E","407E","None","C"]
[null,null,null,null,null,"Connecticut, Western Part","CT_601 408C","408C","None","C"]
[null,null,null,null,null,"Connecticut, Western Part","CT_601 409B","409B","None","D"]
[null,null,null,null,null,"Connecticut, Western Part","CT_601 40A","40A","None","C/D"]
[null,null,null,null,null,"Connecticut, Western Part","CT_601 40B","40B","None","C/D"]
[null,null,null,null,null,"Connecticut, Western Part","CT_601 412B","412B","None","B"]
[null,null,null,null,null,"Connecticut, Western Part","CT_601 412C","412C","None","B"]
[null,null,null,null,null,"Connecticut, Western Part","CT_601 412D","412D","None","B"]
[null,null,null,null,null,"Connecticut, Western Part","CT_601 413C","413C","None","B"]
[null,null,null,null,null,"Connecticut, Western Part","CT_601 413E","413E","None","B"]
[null,null,null,null,null,"Connecticut, Western Part","CT_601 414",414,"None","B/D"]
[null,null,null,null,null,"Connecticut, Western Part","CT_601 415C","415C","None","D"]
[null,null,null,null,null,"Connecticut, Western Part","CT_601 415E","415E","None","D"]
[null,null,null,null,null,"Connecticut, Western Part","CT_601 416E","416E","None","D"]
[null,null,null,null,null,"Connecticut, Western Part","CT_601 416F","416F","None","D"]
[null,null,null,null,null,"Connecticut, Western Part","CT_601 417B","417B","None","B"]
[null,null,null,null,null,"Connecticut, Western Part","CT_601 417C","417C","None","B"]
[null,null,null,null,null,"Connecticut, Western Part","CT_601 417D","417D","None","B"]
[null,null,null,null,null,"Connecticut, Western Part","CT_601 418C","418C","None","A/D"]
[null,null,null,null,null,"Connecticut, Western Part","CT_601 41B","41B","None","C/D"]
[null,null,null,null,null,"Connecticut, Western Part","CT_601 420A","420A","None","A/D"]
[null,null,null,null,null,"Connecticut, Western Part","CT_601 420B","420B","None","A/D"]
[null,null,null,null,null,"Connecticut, Western Part","CT_601 421A","421A","None","B/D"]
[null,null,null,null,null,"Connecticut, Western Part","CT_601 423A","423A","None","A/D"]
[null,null,null,null,null,"Connecticut, Western Part","CT_601 424B","424B","None","B"]
[null,null,null,null,null,"Connecticut, Western Part","CT_601 424C","424C","None","B"]
[null,null,null,null,null,"Connecticut, Western Part","CT_601 424D","424D","None","B"]
[null,null,null,null,null,"Connecticut, Western Part","CT_601 425B","425B","None","B"]
[null,null,null,null,null,"Connecticut, Western Part","CT_601 425C","425C","None","B"]
[null,null,null,null,null,"Connecticut, Western Part","CT_601 426D","426D","None","B"]
[null,null,null,null,null,"Connecticut, Western Part","CT_601 427B","427B","None","C/D"]
[null,null,null,null,null,"Connecticut, Western Part","CT_601 427C","427C","None","C/D"]
[null,null,null,null,null,"Connecticut, Western Part","CT_601 428A","428A","None","C/D"]
[null,null,null,null,null,"Connecticut, Western Part","CT_601 428B","428B","None","C/D"]
[null,null,null,null,null,"Connecticut, Western Part","CT_601 428C","428C","None","C/D"]
[null,null,null,null,null,"Connecticut, Western Part","CT_601 429A","429A","None","B"]
[null,null,null,null,null,"Connecticut, Western Part","CT_601 429B","429B","None","B"]
[null,null,null,null,null,"Connecticut, Western Part","CT_601 429C","429C","None","B"]
[null,null,null,null,null,"Connecticut, Western Part","CT_601 42C","42C","None","C/D"]
[null,null,null,null,null,"Connecticut, Western Part","CT_601 433",433,"None","B/D"]
[null,null,null,null,null,"Connecticut, Western Part","CT_601 434A","434A","None","A"]
[null,null,null,null,null,"Connecticut, Western Part","CT_601 434B","434B","None","A"]
[null,null,null,null,null,"Connecticut, Western Part","CT_601 434C","434C","None","A"]
[null,null,null,null,null,"Connecticut, Western Part","CT_601 435",435,"None","A/D"]
[null,null,null,null,null,"Connecticut, Western Part","CT_601 436",436,"None","B/D"]
[null,null,null,null,null,"Connecticut, Western Part","CT_601 437",437,"None","B/D"]
[null,null,null,null,null,"Connecticut, Western Part","CT_601 438",438,"None","B/D"]
[null,null,null,null,null,"Connecticut, Western Part","CT_601 43A","43A","None","C/D"]
[null,null,null,null,null,"Connecticut, Western Part","CT_601 43B","43B","None","C/D"]
[null,null,null,null,null,"Connecticut, Western Part","CT_601 440A","440A","None","A"]
[null,null,null,null,null,"Connecticut, Western Part","CT_601 440C","440C","None","A"]
[null,null,null,null,null,"Connecticut, Western Part","CT_601 440E","440E","None","A"]
[null,null,null,null,null,"Connecticut, Western Part","CT_601 442",442,"None","C/D"]
[null,null,null,null,null,"Connecticut, Western Part","CT_601 443",443,"None","C/D"]
[null,null,null,null,null,"Connecticut, Western Part","CT_601 448B","448B","None","B/D"]
[null,null,null,null,null,"Connecticut, Western Part","CT_601 449B","449B","None","B/D"]
[null,null,null,null,null,"Connecticut, Western Part","CT_601 449C","449C","None","B/D"]
[null,null,null,null,null,"Connecticut, Western Part","CT_601 44B","44B","None","C/D"]
[null,null,null,null,null,"Connecticut, Western Part",{"$f":"$C$5&\" \"&H198","v":"CT_601 450B"},"450B","None","B"]
[null,null,null,null,null,"Connecticut, Western Part","CT_601 450C","450C","None","B"]
[null,null,null,null,null,"Connecticut, Western Part","CT_601 450D","450D","None","B"]
[null,null,null,null,null,"Connecticut, Western Part","CT_601 451B","451B","None","B"]
[null,null,null,null,null,"Connecticut, Western Part","CT_601 451C","451C","None","B"]
[null,null,null,null,null,"Connecticut, Western Part","CT_601 451D","451D","None","B"]
[null,null,null,null,null,"Connecticut, Western Part","CT_601 457",457,"None","C/D"]
[null,null,null,null,null,"Connecticut, Western Part","CT_601 458",458,"None","C/D"]
[null,null,null,null,null,"Connecticut, Western Part","CT_601 45A","45A","None","C/D"]
[null,null,null,null,null,"Connecticut, Western Part","CT_601 45B","45B","None","C/D"]
[null,null,null,null,null,"Connecticut, Western Part","CT_601 45C","45C","None","C/D"]
[null,null,null,null,null,"Connecticut, Western Part","CT_601 46B","46B","None","C/D"]
[null,null,null,null,null,"Connecticut, Western Part","CT_601 46C","46C","None","C/D"]
[null,null,null,null,null,"Connecticut, Western Part","CT_601 47C","47C","None","C/D"]
[null,null,null,null,null,"Connecticut, Western Part","CT_601 48B","48B","None","C/D"]
[null,null,null,null,null,"Connecticut, Western Part","CT_601 48C","48C","None","C/D"]
[null,null,null,null,null,"Connecticut, Western Part","CT_601 49B","49B","None","C/D"]
[null,null,null,null,null,"Connecticut, Western Part","CT_601 49C","49C","None","C/D"]
[null,null,null,null,null,"Connecticut, Western Part","CT_601 5",5,"None","C/D"]
[null,null,null,null,null,"Connecticut, Western Part","CT_601 501",501,"Occasional","B"]
[null,null,null,null,null,"Connecticut, Western Part","CT_601 503",503,"Frequent","B/D"]
[null,null,null,null,null,"Connecticut, Western Part","CT_601 508",508,"Frequent","B/D"]
[null,null,null,null,null,"Connecticut, Western Part","CT_601 50A","50A","None","B/D"]
[null,null,null,null,null,"Connecticut, Western Part","CT_601 50B","50B","None","B/D"]
[null,null,null,null,null,"Connecticut, Western Part","CT_601 51B","51B","None","B/D"]
[null,null,null,null,null,"Connecticut, Western Part","CT_601 52C","52C","None","B/D"]
[null,null,null,null,null,"Connecticut, Western Part","CT_601 53A","53A","None","B/D"]
[null,null,null,null,null,"Connecticut, Western Part","CT_601 53B","53B","None","B/D"]
[null,null,null,null,null,"Connecticut, Western Part","CT_601 54B","54B","None","B/D"]
[null,null,null,null,null,"Connecticut, Western Part","CT_601 55A","55A","None","B/D"]
[null,null,null,null,null,"Connecticut, Western Part","CT_601 55B","55B","None","B/D"]
[null,null,null,null,null,"Connecticut, Western Part","CT_601 56B","56B","None","B/D"]
[null,null,null,null,null,"Connecticut, Western Part","CT_601 57B","57B","None","A"]
[null,null,null,null,null,"Connecticut, Western Part","CT_601 57C","57C","None","A"]
[null,null,null,null,null,"Connecticut, Western Part","CT_601 57D","57D","None","A"]
[null,null,null,null,null,"Connecticut, Western Part","CT_601 58B","58B","None","A"]
[null,null,null,null,null,"Connecticut, Western Part","CT_601 58C","58C","None","A"]
[null,null,null,null,null,"Connecticut, Western Part","CT_601 59C","59C","None","A"]
[null,null,null,null,null,"Connecticut, Western Part","CT_601 59D","59D","None","A"]
[null,null,null,null,null,"Connecticut, Western Part","CT_601 6",6,"None","C/D"]
[null,null,null,null,null,"Connecticut, Western Part","CT_601 601",601,"Rare","A"]
[null,null,null,null,null,"Connecticut, Western Part","CT_601 60B","60B","None","B"]
[null,null,null,null,null,"Connecticut, Western Part","CT_601 60C","60C","None","B"]
[null,null,null,null,null,"Connecticut, Western Part","CT_601 60D","60D","None","B"]
[null,null,null,null,null,"Connecticut, Western Part","CT_601 611",611,"Rare","A"]
[null,null,null,null,null,"Connecticut, Western Part","CT_601 61B","61B","None","B"]
[null,null,null,null,null,"Connecticut, Western Part","CT_601 61C","61C","None","B"]
[null,null,null,null,null,"Connecticut, Western Part","CT_601 621",621,"Rare","D"]
[null,null,null,null,null,"Connecticut, Western Part","CT_601 62C","62C","None","B"]
[null,null,null,null,null,"Connecticut, Western Part","CT_601 62D","62D","None","B"]
[null,null,null,null,null,"Connecticut, Western Part","CT_601 63B","63B","None","B"]
[null,null,null,null,null,"Connecticut, Western Part","CT_601 63C","63C","None","B"]
[null,null,null,null,null,"Connecticut, Western Part","CT_601 63D","63D","None","B"]
[null,null,null,null,null,"Connecticut, Western Part","CT_601 640",640,"Very frequent"]
[null,null,null,null,null,"Connecticut, Western Part","CT_601 641",641,"Rare"]
[null,null,null,null,null,"Connecticut, Western Part","CT_601 642",642,"Rare"]
[null,null,null,null,null,"Connecticut, Western Part","CT_601 643",643,"Rare"]
[null,null,null,null,null,"Connecticut, Western Part","CT_601 644",644,"Very frequent"]
[null,null,null,null,null,"Connecticut, Western Part","CT_601 64B","64B","None","B"]
[null,null,null,null,null,"Connecticut, Western Part","CT_601 64C","64C","None","B"]
[null,null,null,null,null,"Connecticut, Western Part","CT_601 65C","65C","None","B"]
[null,null,null,null,null,"Connecticut, Western Part","CT_601 65D","65D","None","B"]
[null,null,null,null,null,"Connecticut, Western Part","CT_601 66B","66B","None","B"]
[null,null,null,null,null,"Connecticut, Western Part","CT_601 66C","66C","None","B"]
[null,null,null,null,null,"Connecticut, Western Part",{"$f":"$C$5&\" \"&H262","v":"CT_601 67B"},"67B","None","B"]
[null,null,null,null,null,"Connecticut, Western Part","CT_601 67C","67C","None","B"]
[null,null,null,null,null,"Connecticut, Western Part","CT_601 68C","68C","None","B"]
[null,null,null,null,null,"Connecticut, Western Part","CT_601 68D","68D","None","B"]
[null,null,null,null,null,"Connecticut, Western Part","CT_601 69B","69B","None","C"]
[null,null,null,null,null,"Connecticut, Western Part","CT_601 69C","69C","None","C"]
[null,null,null,null,null,"Connecticut, Western Part","CT_601 7",7,"None","C/D"]
[null,null,null,null,null,"Connecticut, Western Part","CT_601 700E","700E","None","D"]
[null,null,null,null,null,"Connecticut, Western Part","CT_601 701A","701A","None","B/D"]
[null,null,null,null,null,"Connecticut, Western Part","CT_601 701B","701B","None","B/D"]
[null,null,null,null,null,"Connecticut, Western Part","CT_601 702A","702A","None","B/D"]
[null,null,null,null,null,"Connecticut, Western Part","CT_601 702B","702B","None","B/D"]
[null,null,null,null,null,"Connecticut, Western Part","CT_601 703A","703A","None","B"]
[null,null,null,null,null,"Connecticut, Western Part","CT_601 703B","703B","None","B"]
[null,null,null,null,null,"Connecticut, Western Part","CT_601 703C","703C","None","B"]
[null,null,null,null,null,"Connecticut, Western Part","CT_601 704A","704A","None","B"]
[null,null,null,null,null,"Connecticut, Western Part","CT_601 704B","704B","None","B"]
[null,null,null,null,null,"Connecticut, Western Part","CT_601 704C","704C","None","B"]
[null,null,null,null,null,"Connecticut, Western Part","CT_601 70C","70C","None","B"]
[null,null,null,null,null,"Connecticut, Western Part","CT_601 71C","71C","None","B"]
[null,null,null,null,null,"Connecticut, Western Part","CT_601 71E","71E","None","B"]
[null,null,null,null,null,"Connecticut, Western Part","CT_601 72C","72C","None","B"]
[null,null,null,null,null,"Connecticut, Western Part","CT_601 72E","72E","None","B"]
[null,null,null,null,null,"Connecticut, Western Part","CT_601 73C","73C","None","B"]
[null,null,null,null,null,"Connecticut, Western Part","CT_601 73E","73E","None","B"]
[null,null,null,null,null,"Connecticut, Western Part","CT_601 75C","75C","None","D"]
[null,null,null,null,null,"Connecticut, Western Part","CT_601 75E","75E","None","D"]
[null,null,null,null,null,"Connecticut, Western Part","CT_601 76E","76E","None","D"]
[null,null,null,null,null,"Connecticut, Western Part","CT_601 76F","76F","None","D"]
[null,null,null,null,null,"Connecticut, Western Part","CT_601 77C","77C","None","B"]
[null,null,null,null,null,"Connecticut, Western Part","CT_601 77D","77D","None","B"]
[null,null,null,null,null,"Connecticut, Western Part","CT_601 78C","78C","None","D"]
[null,null,null,null,null,"Connecticut, Western Part","CT_601 78E","78E","None","D"]
[null,null,null,null,null,"Connecticut, Western Part","CT_601 79E","79E","None","D"]
[null,null,null,null,null,"Connecticut, Western Part","CT_601 8",8,"None","C/D"]
[null,null,null,null,null,"Connecticut, Western Part","CT_601 80B","80B","None","C"]
[null,null,null,null,null,"Connecticut, Western Part","CT_601 80C","80C","None","C"]
[null,null,null,null,null,"Connecticut, Western Part","CT_601 81C","81C","None","C"]
[null,null,null,null,null,"Connecticut, Western Part","CT_601 81D","81D","None","C"]
[null,null,null,null,null,"Connecticut, Western Part","CT_601 82B","82B","None","C"]
[null,null,null,null,null,"Connecticut, Western Part","CT_601 82C","82C","None","C"]
[null,null,null,null,null,"Connecticut, Western Part","CT_601 82D","82D","None","C"]
[null,null,null,null,null,"Connecticut, Western Part","CT_601 83B","83B","None","C"]
[null,null,null,null,null,"Connecticut, Western Part","CT_601 83C","83C","None","C"]
[null,null,null,null,null,"Connecticut, Western Part","CT_601 84B","84B","None","C"]
[null,null,null,null,null,"Connecticut, Western Part","CT_601 84C","84C","None","C"]
[null,null,null,null,null,"Connecticut, Western Part","CT_601 84D","84D","None","C"]
[null,null,null,null,null,"Connecticut, Western Part","CT_601 85B","85B","None","C"]
[null,null,null,null,null,"Connecticut, Western Part","CT_601 85C","85C","None","C"]
[null,null,null,null,null,"Connecticut, Western Part","CT_601 86C","86C","None","C"]
[null,null,null,null,null,"Connecticut, Western Part","CT_601 86D","86D","None","C"]
[null,null,null,null,null,"Connecticut, Western Part","CT_601 870",870,"Very frequent","D"]
[null,null,null,null,null,"Connecticut, Western Part","CT_601 871",871,"Very frequent","D"]
[null,null,null,null,null,"Connecticut, Western Part","CT_601 872",872,"Very frequent","D"]
[null,null,null,null,null,"Connecticut, Western Part","CT_601 873",873,"Very frequent","D"]
[null,null,null,null,null,"Connecticut, Western Part","CT_601 874",874,"Very frequent","D"]
[null,null,null,null,null,"Connecticut, Western Part","CT_601 87B","87B","None","C"]
[null,null,null,null,null,"Connecticut, Western Part","CT_601 87C","87C","None","C"]
[null,null,null,null,null,"Connecticut, Western Part","CT_601 87D","87D","None","C"]
[null,null,null,null,null,"Connecticut, Western Part","CT_601 88B","88B","None","C"]
[null,null,null,null,null,"Connecticut, Western Part","CT_601 88C","88C","None","C"]
[null,null,null,null,null,"Connecticut, Western Part","CT_601 89C","89C","None","C"]
[null,null,null,null,null,"Connecticut, Western Part","CT_601 89D","89D","None","C"]
[null,null,null,null,null,"Connecticut, Western Part","CT_601 9",9,"None","C/D"]
[null,null,null,null,null,"Connecticut, Western Part",{"$f":"$C$5&\" \"&H326","v":"CT_601 90B"},"90B","None","B"]
[null,null,null,null,null,"Connecticut, Western Part","CT_601 90C","90C","None","B"]
[null,null,null,null,null,"Connecticut, Western Part","CT_601 90D","90D","None","B"]
[null,null,null,null,null,"Connecticut, Western Part","CT_601 91B","91B","None","B"]
[null,null,null,null,null,"Connecticut, Western Part","CT_601 91C","91C","None","B"]
[null,null,null,null,null,"Connecticut, Western Part","CT_601 91D","91D","None","B"]
[null,null,null,null,null,"Connecticut, Western Part","CT_601 92B","92B","None","B"]
[null,null,null,null,null,"Connecticut, Western Part","CT_601 92C","92C","None","B"]
[null,null,null,null,null,"Connecticut, Western Part","CT_601 92D","92D","None","B"]
[null,null,null,null,null,"Connecticut, Western Part","CT_601 93C","93C","None","B"]
[null,null,null,null,null,"Connecticut, Western Part","CT_601 94C","94C","None","D"]
[null,null,null,null,null,"Connecticut, Western Part","CT_601 94E","94E","None","D"]
[null,null,null,null,null,"Connecticut, Western Part","CT_601 95C","95C","None","D"]
[null,null,null,null,null,"Connecticut, Western Part","CT_601 95E","95E","None","D"]
[null,null,null,null,null,"Connecticut, Western Part","CT_601 97",97,"Very frequent","A/D"]
[null,null,null,null,null,"Connecticut, Western Part","CT_601 98",98,"Very frequent","B/D"]
[null,null,null,null,null,"Connecticut, Western Part","CT_601 99",99,"Very frequent","A/D"]
[null,null,null,null,null,"Connecticut, Eastern Part",{"$f":"$C$6&\" \"&H343","v":"CT_602 100"},100,"Occasional","A"]
[null,null,null,null,null,"Connecticut, Eastern Part",{"$f":"$C$6&\" \"&H344","v":"CT_602 101"},101,"Occasional","B"]
[null,null,null,null,null,"Connecticut, Eastern Part","CT_602 102",102,"Frequent","A/D"]
[null,null,null,null,null,"Connecticut, Eastern Part","CT_602 103",103,"Frequent","B/D"]
[null,null,null,null,null,"Connecticut, Eastern Part","CT_602 104",104,"Frequent","B/D"]
[null,null,null,null,null,"Connecticut, Eastern Part","CT_602 106",106,"Frequent","B/D"]
[null,null,null,null,null,"Connecticut, Eastern Part","CT_602 107",107,"Frequent","B/D"]
[null,null,null,null,null,"Connecticut, Eastern Part","CT_602 108",108,"Frequent","B/D"]
[null,null,null,null,null,"Connecticut, Eastern Part","CT_602 109",109,"Frequent","B/D"]
[null,null,null,null,null,"Connecticut, Eastern Part","CT_602 12",12,"None","B/D"]
[null,null,null,null,null,"Connecticut, Eastern Part","CT_602 13",13,"None","B/D"]
[null,null,null,null,null,"Connecticut, Eastern Part","CT_602 15",15,"None","A/D"]
[null,null,null,null,null,"Connecticut, Eastern Part","CT_602 17",17,"Rare","B/D"]
[null,null,null,null,null,"Connecticut, Eastern Part","CT_602 18",18,"Rare","B/D"]
[null,null,null,null,null,"Connecticut, Eastern Part","CT_602 2",2,"None","D"]
[null,null,null,null,null,"Connecticut, Eastern Part","CT_602 20A","20A","None","A/D"]
[null,null,null,null,null,"Connecticut, Eastern Part","CT_602 221A","221A","None","B/D"]
[null,null,null,null,null,"Connecticut, Eastern Part","CT_602 229B","229B","None","B"]
[null,null,null,null,null,"Connecticut, Eastern Part","CT_602 230B","230B","None","B"]
[null,null,null,null,null,"Connecticut, Eastern Part","CT_602 230C","230C","None","B"]
[null,null,null,null,null,"Connecticut, Eastern Part","CT_602 234B","234B","None","A"]
[null,null,null,null,null,"Connecticut, Eastern Part","CT_602 235B","235B","None","A"]
[null,null,null,null,null,"Connecticut, Eastern Part","CT_602 236B","236B","None","A"]
[null,null,null,null,null,"Connecticut, Eastern Part","CT_602 237A","237A","None","A"]
[null,null,null,null,null,"Connecticut, Eastern Part","CT_602 237C","237C","None","A"]
[null,null,null,null,null,"Connecticut, Eastern Part","CT_602 238A","238A","None","A"]
[null,null,null,null,null,"Connecticut, Eastern Part","CT_602 238C","238C","None","A"]
[null,null,null,null,null,"Connecticut, Eastern Part","CT_602 23A","23A","None","A/D"]
[null,null,null,null,null,"Connecticut, Eastern Part","CT_602 240B","240B","None","C/D"]
[null,null,null,null,null,"Connecticut, Eastern Part","CT_602 245B","245B","None","C/D"]
[null,null,null,null,null,"Connecticut, Eastern Part","CT_602 245C","245C","None","C/D"]
[null,null,null,null,null,"Connecticut, Eastern Part","CT_602 24A","24A","None","A"]
[null,null,null,null,null,"Connecticut, Eastern Part","CT_602 250B","250B","None","B/D"]
[null,null,null,null,null,"Connecticut, Eastern Part","CT_602 25A","25A","None","C/D"]
[null,null,null,null,null,"Connecticut, Eastern Part","CT_602 260B","260B","None","B"]
[null,null,null,null,null,"Connecticut, Eastern Part","CT_602 260C","260C","None","B"]
[null,null,null,null,null,"Connecticut, Eastern Part","CT_602 260D","260D","None","B"]
[null,null,null,null,null,"Connecticut, Eastern Part","CT_602 263B","263B","None","D"]
[null,null,null,null,null,"Connecticut, Eastern Part","CT_602 263C","263C","None","D"]
[null,null,null,null,null,"Connecticut, Eastern Part","CT_602 269B","269B","None","C"]
[null,null,null,null,null,"Connecticut, Eastern Part","CT_602 269C","269C","None","C"]
[null,null,null,null,null,"Connecticut, Eastern Part","CT_602 26A","26A","None","C/D"]
[null,null,null,null,null,"Connecticut, Eastern Part","CT_602 26B","26B","None","C/D"]
[null,null,null,null,null,"Connecticut, Eastern Part","CT_602 273C","273C","None","D"]
[null,null,null,null,null,"Connecticut, Eastern Part","CT_602 273E","273E","None","D"]
[null,null,null,null,null,"Connecticut, Eastern Part","CT_602 27A","27A","None","B/D"]
[null,null,null,null,null,"Connecticut, Eastern Part","CT_602 284B","284B","None","C"]
[null,null,null,null,null,"Connecticut, Eastern Part","CT_602 284C","284C","None","C"]
[null,null,null,null,null,"Connecticut, Eastern Part","CT_602 287B","287B","None","C"]
[null,null,null,null,null,"Connecticut, Eastern Part","CT_602 287C","287C","None","C"]
[null,null,null,null,null,"Connecticut, Eastern Part","CT_602 29A","29A","None","B"]
[null,null,null,null,null,"Connecticut, Eastern Part","CT_602 29B","29B","None","B"]
[null,null,null,null,null,"Connecticut, Eastern Part","CT_602 29C","29C","None","B"]
[null,null,null,null,null,"Connecticut, Eastern Part","CT_602 3",3,"None","D"]
[null,null,null,null,null,"Connecticut, Eastern Part","CT_602 301",301,"Very frequent"]
[null,null,null,null,null,"Connecticut, Eastern Part","CT_602 302",302,"None"]
[null,null,null,null,null,"Connecticut, Eastern Part","CT_602 303",303,"None"]
[null,null,null,null,null,"Connecticut, Eastern Part","CT_602 305",305,"None","C"]
[null,null,null,null,null,"Connecticut, Eastern Part","CT_602 306",306,"None","B"]
[null,null,null,null,null,"Connecticut, Eastern Part","CT_602 307",307,"None","D"]
[null,null,null,null,null,"Connecticut, Eastern Part","CT_602 308",308,"None","B"]
[null,null,null,null,null,"Connecticut, Eastern Part","CT_602 309",309,"Rare","C"]
[null,null,null,null,null,"Connecticut, Eastern Part","CT_602 30A","30A","None","B"]
[null,null,null,null,null,"Connecticut, Eastern Part","CT_602 30B","30B","None","B"]
[null,null,null,null,null,"Connecticut, Eastern Part","CT_602 30C","30C","None","B"]
[null,null,null,null,null,"Connecticut, Eastern Part",{"$f":"$C$6&\" \"&H408","v":"CT_602 311"},311,"Rare","C"]
[null,null,null,null,null,"Connecticut, Eastern Part","CT_602 312",312,"Rare","C"]
[null,null,null,null,null,"Connecticut, Eastern Part","CT_602 313",313,"Very frequent"]
[null,null,null,null,null,"Connecticut, Eastern Part","CT_602 314",314,"Very frequent"]
[null,null,null,null,null,"Connecticut, Eastern Part","CT_602 33A","33A","None","A"]
[null,null,null,null,null,"Connecticut, Eastern Part","CT_602 33B","33B","None","A"]
[null,null,null,null,null,"Connecticut, Eastern Part","CT_602 34A","34A","None","A"]
[null,null,null,null,null,"Connecticut, Eastern Part","CT_602 34B","34B","None","A"]
[null,null,null,null,null,"Connecticut, Eastern Part","CT_602 34C","34C","None","A"]
[null,null,null,null,null,"Connecticut, Eastern Part","CT_602 35A","35A","None","A"]
[null,null,null,null,null,"Connecticut, Eastern Part","CT_602 35B","35B","None","A"]
[null,null,null,null,null,"Connecticut, Eastern Part","CT_602 36A","36A","None","A"]
[null,null,null,null,null,"Connecticut, Eastern Part","CT_602 36B","36B","None","A"]
[null,null,null,null,null,"Connecticut, Eastern Part","CT_602 36C","36C","None","A"]
[null,null,null,null,null,"Connecticut, Eastern Part","CT_602 37A","37A","None","A"]
[null,null,null,null,null,"Connecticut, Eastern Part","CT_602 37C","37C","None","A"]
[null,null,null,null,null,"Connecticut, Eastern Part","CT_602 37E","37E","None","A"]
[null,null,null,null,null,"Connecticut, Eastern Part","CT_602 38A","38A","None","A"]
[null,null,null,null,null,"Connecticut, Eastern Part","CT_602 38C","38C","None","A"]
[null,null,null,null,null,"Connecticut, Eastern Part","CT_602 38E","38E","None","A"]
[null,null,null,null,null,"Connecticut, Eastern Part","CT_602 39A","39A","None","A"]
[null,null,null,null,null,"Connecticut, Eastern Part","CT_602 4",4,"None","B/D"]
[null,null,null,null,null,"Connecticut, Eastern Part","CT_602 40A","40A","None","C/D"]
[null,null,null,null,null,"Connecticut, Eastern Part","CT_602 40B","40B","None","C/D"]
[null,null,null,null,null,"Connecticut, Eastern Part","CT_602 41B","41B","None","C/D"]
[null,null,null,null,null,"Connecticut, Eastern Part","CT_602 42C","42C","None","C/D"]
[null,null,null,null,null,"Connecticut, Eastern Part","CT_602 43A","43A","None","C/D"]
[null,null,null,null,null,"Connecticut, Eastern Part","CT_602 43B","43B","None","C/D"]
[null,null,null,null,null,"Connecticut, Eastern Part","CT_602 44B","44B","None","C/D"]
[null,null,null,null,null,"Connecticut, Eastern Part","CT_602 45A","45A","None","C/D"]
[null,null,null,null,null,"Connecticut, Eastern Part","CT_602 45B","45B","None","C/D"]
[null,null,null,null,null,"Connecticut, Eastern Part","CT_602 45C","45C","None","C/D"]
[null,null,null,null,null,"Connecticut, Eastern Part","CT_602 46B","46B","None","C/D"]
[null,null,null,null,null,"Connecticut, Eastern Part","CT_602 46C","46C","None","C/D"]
[null,null,null,null,null,"Connecticut, Eastern Part","CT_602 47C","47C","None","C/D"]
[null,null,null,null,null,"Connecticut, Eastern Part","CT_602 5",5,"None","C/D"]
[null,null,null,null,null,"Connecticut, Eastern Part","CT_602 50A","50A","None","B/D"]
[null,null,null,null,null,"Connecticut, Eastern Part","CT_602 50B","50B","None","B/D"]
[null,null,null,null,null,"Connecticut, Eastern Part","CT_602 51B","51B","None","B/D"]
[null,null,null,null,null,"Connecticut, Eastern Part","CT_602 52C","52C","None","B/D"]
[null,null,null,null,null,"Connecticut, Eastern Part","CT_602 53A","53A","None","B/D"]
[null,null,null,null,null,"Connecticut, Eastern Part","CT_602 53B","53B","None","B/D"]
[null,null,null,null,null,"Connecticut, Eastern Part","CT_602 54B","54B","None","B/D"]
[null,null,null,null,null,"Connecticut, Eastern Part","CT_602 55A","55A","None","B/D"]
[null,null,null,null,null,"Connecticut, Eastern Part","CT_602 55B","55B","None","B/D"]
[null,null,null,null,null,"Connecticut, Eastern Part","CT_602 57B","57B","None","A"]
[null,null,null,null,null,"Connecticut, Eastern Part","CT_602 57C","57C","None","A"]
[null,null,null,null,null,"Connecticut, Eastern Part","CT_602 57D","57D","None","A"]
[null,null,null,null,null,"Connecticut, Eastern Part","CT_602 58B","58B","None","A"]
[null,null,null,null,null,"Connecticut, Eastern Part","CT_602 58C","58C","None","A"]
[null,null,null,null,null,"Connecticut, Eastern Part","CT_602 59C","59C","None","A"]
[null,null,null,null,null,"Connecticut, Eastern Part","CT_602 59D","59D","None","A"]
[null,null,null,null,null,"Connecticut, Eastern Part","CT_602 6",6,"None","C/D"]
[null,null,null,null,null,"Connecticut, Eastern Part","CT_602 601",601,"Rare","A"]
[null,null,null,null,null,"Connecticut, Eastern Part","CT_602 606",606,"Very frequent","A/D"]
[null,null,null,null,null,"Connecticut, Eastern Part","CT_602 60B","60B","None","B"]
[null,null,null,null,null,"Connecticut, Eastern Part","CT_602 60C","60C","None","B"]
[null,null,null,null,null,"Connecticut, Eastern Part","CT_602 60D","60D","None","B"]
[null,null,null,null,null,"Connecticut, Eastern Part","CT_602 61B","61B","None","B"]
[null,null,null,null,null,"Connecticut, Eastern Part","CT_602 61C","61C","None","B"]
[null,null,null,null,null,"Connecticut, Eastern Part","CT_602 621",621,"Rare","D"]
[null,null,null,null,null,"Connecticut, Eastern Part","CT_602 624",624,"Rare","D"]
[null,null,null,null,null,"Connecticut, Eastern Part","CT_602 62C","62C","None","B"]
[null,null,null,null,null,"Connecticut, Eastern Part","CT_602 62D","62D","None","B"]
[null,null,null,null,null,"Connecticut, Eastern Part",{"$f":"$C$6&\" \"&H472","v":"CT_602 63B"},"63B","None","B"]
[null,null,null,null,null,"Connecticut, Eastern Part","CT_602 63C","63C","None","B"]
[null,null,null,null,null,"Connecticut, Eastern Part","CT_602 63D","63D","None","B"]
[null,null,null,null,null,"Connecticut, Eastern Part","CT_602 640",640,"Very frequent"]
[null,null,null,null,null,"Connecticut, Eastern Part","CT_602 641",641,"Rare"]
[null,null,null,null,null,"Connecticut, Eastern Part","CT_602 642",642,"Rare"]
[null,null,null,null,null,"Connecticut, Eastern Part","CT_602 643",643,"Rare"]
[null,null,null,null,null,"Connecticut, Eastern Part","CT_602 644",644,"Very frequent"]
[null,null,null,null,null,"Connecticut, Eastern Part","CT_602 64B","64B","None","B"]
[null,null,null,null,null,"Connecticut, Eastern Part","CT_602 64C","64C","None","B"]
[null,null,null,null,null,"Connecticut, Eastern Part","CT_602 65D","65D","None","B"]
[null,null,null,null,null,"Connecticut, Eastern Part","CT_602 66B","66B","None","B"]
[null,null,null,null,null,"Connecticut, Eastern Part","CT_602 66C","66C","None","B"]
[null,null,null,null,null,"Connecticut, Eastern Part","CT_602 67B","67B","None","B"]
[null,null,null,null,null,"Connecticut, Eastern Part","CT_602 67C","67C","None","B"]
[null,null,null,null,null,"Connecticut, Eastern Part","CT_602 68C","68C","None","B"]
[null,null,null,null,null,"Connecticut, Eastern Part","CT_602 68D","68D","None","B"]
[null,null,null,null,null,"Connecticut, Eastern Part","CT_602 69B","69B","None","C"]
[null,null,null,null,null,"Connecticut, Eastern Part","CT_602 69C","69C","None","C"]
[null,null,null,null,null,"Connecticut, Eastern Part","CT_602 700E","700E","None","D"]
[null,null,null,null,null,"Connecticut, Eastern Part","CT_602 700F","700F","None","D"]
[null,null,null,null,null,"Connecticut, Eastern Part","CT_602 701A","701A","None","B/D"]
[null,null,null,null,null,"Connecticut, Eastern Part","CT_602 701B","701B","None","B/D"]
[null,null,null,null,null,"Connecticut, Eastern Part","CT_602 702A","702A","None","B/D"]
[null,null,null,null,null,"Connecticut, Eastern Part","CT_602 702B","702B","None","B/D"]
[null,null,null,null,null,"Connecticut, Eastern Part","CT_602 703A","703A","None","B"]
[null,null,null,null,null,"Connecticut, Eastern Part","CT_602 703B","703B","None","B"]
[null,null,null,null,null,"Connecticut, Eastern Part","CT_602 704A","704A","None","B"]
[null,null,null,null,null,"Connecticut, Eastern Part","CT_602 704B","704B","None","B"]
[null,null,null,null,null,"Connecticut, Eastern Part","CT_602 704C","704C","None","B"]
[null,null,null,null,null,"Connecticut, Eastern Part","CT_602 71C","71C","None","B"]
[null,null,null,null,null,"Connecticut, Eastern Part","CT_602 71E","71E","None","B"]
[null,null,null,null,null,"Connecticut, Eastern Part","CT_602 72C","72C","None","B"]
[null,null,null,null,null,"Connecticut, Eastern Part","CT_602 72E","72E","None","B"]
[null,null,null,null,null,"Connecticut, Eastern Part","CT_602 73C","73C","None","B"]
[null,null,null,null,null,"Connecticut, Eastern Part","CT_602 73E","73E","None","B"]
[null,null,null,null,null,"Connecticut, Eastern Part","CT_602 74C","74C","None","B"]
[null,null,null,null,null,"Connecticut, Eastern Part","CT_602 75C","75C","None","D"]
[null,null,null,null,null,"Connecticut, Eastern Part","CT_602 75E","75E","None","D"]
[null,null,null,null,null,"Connecticut, Eastern Part","CT_602 76E","76E","None","D"]
[null,null,null,null,null,"Connecticut, Eastern Part","CT_602 76F","76F","None","D"]
[null,null,null,null,null,"Connecticut, Eastern Part","CT_602 77C","77C","None","B"]
[null,null,null,null,null,"Connecticut, Eastern Part","CT_602 77D","77D","None","B"]
[null,null,null,null,null,"Connecticut, Eastern Part","CT_602 78C","78C","None","D"]
[null,null,null,null,null,"Connecticut, Eastern Part","CT_602 78E","78E","None","D"]
[null,null,null,null,null,"Connecticut, Eastern Part","CT_602 79E","79E","None","D"]
[null,null,null,null,null,"Connecticut, Eastern Part","CT_602 800",800,"Very frequent","D"]
[null,null,null,null,null,"Connecticut, Eastern Part","CT_602 810",810,"Very frequent","D"]
[null,null,null,null,null,"Connecticut, Eastern Part","CT_602 811",811,"Very frequent","D"]
[null,null,null,null,null,"Connecticut, Eastern Part","CT_602 812",812,"Very frequent","D"]
[null,null,null,null,null,"Connecticut, Eastern Part","CT_602 813",813,"Very frequent","D"]
[null,null,null,null,null,"Connecticut, Eastern Part","CT_602 820",820,"Very frequent","D"]
[null,null,null,null,null,"Connecticut, Eastern Part","CT_602 822",822,"Very frequent","D"]
[null,null,null,null,null,"Connecticut, Eastern Part","CT_602 829",829,"Very frequent","D"]
[null,null,null,null,null,"Connecticut, Eastern Part","CT_602 82B","82B","None","C"]
[null,null,null,null,null,"Connecticut, Eastern Part","CT_602 82D","82D","None","C"]
[null,null,null,null,null,"Connecticut, Eastern Part","CT_602 830",830,"Very frequent","D"]
[null,null,null,null,null,"Connecticut, Eastern Part","CT_602 831",831,"Very frequent","D"]
[null,null,null,null,null,"Connecticut, Eastern Part","CT_602 83B","83B","None","C"]
[null,null,null,null,null,"Connecticut, Eastern Part","CT_602 840",840,"Very frequent","D"]
[null,null,null,null,null,"Connecticut, Eastern Part","CT_602 841",841,"Very frequent","D"]
[null,null,null,null,null,"Connecticut, Eastern Part","CT_602 842",842,"Very frequent","D"]
[null,null,null,null,null,"Connecticut, Eastern Part","CT_602 849",849,"Very frequent","D"]
[null,null,null,null,null,"Connecticut, Eastern Part","CT_602 84B","84B","None","C"]
[null,null,null,null,null,"Connecticut, Eastern Part",{"$f":"$C$6&\" \"&H536","v":"CT_602 84C"},"84C","None","C"]
[null,null,null,null,null,"Connecticut, Eastern Part","CT_602 84D","84D","None","C"]
[null,null,null,null,null,"Connecticut, Eastern Part","CT_602 850",850,"Very frequent","D"]
[null,null,null,null,null,"Connecticut, Eastern Part","CT_602 851",851,"Very frequent","D"]
[null,null,null,null,null,"Connecticut, Eastern Part","CT_602 85B","85B","None","C"]
[null,null,null,null,null,"Connecticut, Eastern Part","CT_602 85C","85C","None","C"]
[null,null,null,null,null,"Connecticut, Eastern Part","CT_602 860",860,"Very frequent","D"]
[null,null,null,null,null,"Connecticut, Eastern Part","CT_602 861",861,"Very frequent","D"]
[null,null,null,null,null,"Connecticut, Eastern Part","CT_602 86C","86C","None","C"]
[null,null,null,null,null,"Connecticut, Eastern Part","CT_602 86D","86D","None","C"]
[null,null,null,null,null,"Connecticut, Eastern Part","CT_602 873",873,"Very frequent","D"]
[null,null,null,null,null,"Connecticut, Eastern Part","CT_602 875",875,"Very frequent","D"]
[null,null,null,null,null,"Connecticut, Eastern Part","CT_602 876",876,"Very frequent","D"]
[null,null,null,null,null,"Connecticut, Eastern Part","CT_602 877",877,"Very frequent","D"]
[null,null,null,null,null,"Connecticut, Eastern Part","CT_602 878",878,"Very frequent","D"]
[null,null,null,null,null,"Connecticut, Eastern Part","CT_602 879",879,"Very frequent","D"]
[null,null,null,null,null,"Connecticut, Eastern Part","CT_602 87B","87B","None","C"]
[null,null,null,null,null,"Connecticut, Eastern Part","CT_602 87C","87C","None","C"]
[null,null,null,null,null,"Connecticut, Eastern Part","CT_602 87D","87D","None","C"]
[null,null,null,null,null,"Connecticut, Eastern Part","CT_602 88B","88B","None","C"]
[null,null,null,null,null,"Connecticut, Eastern Part","CT_602 88C","88C","None","C"]
[null,null,null,null,null,"Connecticut, Eastern Part","CT_602 890",890,"Very frequent","D"]
[null,null,null,null,null,"Connecticut, Eastern Part","CT_602 891",891,"Very frequent","D"]
[null,null,null,null,null,"Connecticut, Eastern Part","CT_602 892",892,"Very frequent","D"]
[null,null,null,null,null,"Connecticut, Eastern Part","CT_602 893",893,"Very frequent","D"]
[null,null,null,null,null,"Connecticut, Eastern Part","CT_602 89C","89C","None","C"]
[null,null,null,null,null,"Connecticut, Eastern Part","CT_602 89D","89D","None","C"]
[null,null,null,null,null,"Connecticut, Eastern Part","CT_602 9",9,"None","C/D"]
[null,null,null,null,null,"Connecticut, Eastern Part","CT_602 910",910,"Very frequent","D"]
[null,null,null,null,null,"Connecticut, Eastern Part","CT_602 96",96,"Very frequent","A/D"]
[null,null,null,null,null,"Connecticut, Eastern Part","CT_602 97",97,"Very frequent","A/D"]
[null,null,null,null,null,"Connecticut, Eastern Part","CT_602 98",98,"Very frequent","B/D"]
[null,null,null,null,null,"Connecticut, Eastern Part","CT_602 99",99,"Very frequent","A/D"]
[null,null,null,null,null,"Cumberland",{"$f":"$C$7&\" \"&H569","v":"ME_005 CcC"},"CcC","None","D"]
[null,null,null,null,null,"Cumberland","ME_005 CdB","CdB","None","D"]
[null,null,null,null,null,"Cumberland","ME_005 CcB","CcB","None","D"]
[null,null,null,null,null,"Cumberland","ME_005 CdC","CdC","None","D"]
[null,null,null,null,null,"Cumberland","ME_005 Ca","Ca","Occasional","B/D"]
[null,null,null,null,null,"Cumberland","ME_005 Rn","Rn","None","B/D"]
[null,null,null,null,null,"Cumberland","ME_005 Rp","Rp","Occasional","B/D"]
[null,null,null,null,null,"Cumberland","ME_005 HmD","HmD","None","A"]
[null,null,null,null,null,"Cumberland","ME_005 HTD","HTD","None","B"]
[null,null,null,null,null,"Cumberland","ME_005 HTE","HTE","None","B"]
[null,null,null,null,null,"Cumberland","ME_005 HVC","HVC","None","A"]
[null,null,null,null,null,"Cumberland","ME_005 LtB","LtB","None","D"]
[null,null,null,null,null,"Cumberland","ME_005 LtC","LtC","None","D"]
[null,null,null,null,null,"Cumberland","ME_005 LtD","LtD","None","D"]
[null,null,null,null,null,"Cumberland","ME_005 LUD","LUD","None","C"]
[null,null,null,null,null,"Cumberland","ME_005 LUE","LUE","None","C"]
[null,null,null,null,null,"Cumberland","ME_005 LWC","LWC","None","D"]
[null,null,null,null,null,"Cumberland","ME_005 LWD","LWD","None","D"]
[null,null,null,null,null,"Cumberland","ME_005 LWE","LWE","None","D"]
[null,null,null,null,null,"Cumberland","ME_005 LXC","LXC","None","D"]
[null,null,null,null,null,"Cumberland","ME_005 MaB","MaB","None","C"]
[null,null,null,null,null,"Cumberland","ME_005 Mk","Mk","Frequent","B/D"]
[null,null,null,null,null,"Cumberland","ME_005 ML","ML","Frequent","B/D"]
[null,null,null,null,null,"Cumberland","ME_005 MnB","MnB","None","B"]
[null,null,null,null,null,"Cumberland","ME_005 MnC","MnC","None","B"]
[null,null,null,null,null,"Cumberland","ME_005 MvC","MvC","None","B"]
[null,null,null,null,null,"Cumberland","ME_005 MvD","MvD","None","B"]
[null,null,null,null,null,"Cumberland","ME_005 MWC","MWC","None","B"]
[null,null,null,null,null,"Cumberland","ME_005 MXC","MXC","None","B"]
[null,null,null,null,null,"Cumberland","ME_005 Nb","Nb","None","A/D"]
[null,null,null,null,null,"Cumberland","ME_005 NCB","NCB","None","A/D"]
[null,null,null,null,null,"Cumberland","ME_005 NvB","NvB","None","C"]
[null,null,null,null,null,"Cumberland",{"$f":"$C$7&\" \"&H601","v":"ME_005 RZ"},"RZ","Frequent","B/D"]
[null,null,null,null,null,"Cumberland","ME_005 Se","Se","None","A/D"]
[null,null,null,null,null,"Cumberland","ME_005 SkB","SkB","None","C/D"]
[null,null,null,null,null,"Cumberland","ME_005 SkC","SkC","None","C/D"]
[null,null,null,null,null,"Cumberland","ME_005 SnB","SnB","None","C/D"]
[null,null,null,null,null,"Cumberland","ME_005 SnC","SnC","None","C/D"]
[null,null,null,null,null,"Cumberland","ME_005 SnD","SnD","None","C/D"]
[null,null,null,null,null,"Cumberland","ME_005 DXD","DXD","None","C/D"]
[null,null,null,null,null,"Cumberland","ME_005 DXC","DXC","None","C/D"]
[null,null,null,null,null,"Cumberland","ME_005 DWC","DWC","None","C/D"]
[null,null,null,null,null,"Cumberland","ME_005 DUC","DUC","None","C/D"]
[null,null,null,null,null,"Cumberland","ME_005 DsC","DsC","None","C/D"]
[null,null,null,null,null,"Cumberland","ME_005 DfC","DfC","None","C/D"]
[null,null,null,null,null,"Cumberland","ME_005 DfB","DfB","None","C/D"]
[null,null,null,null,null,"Cumberland","ME_005 CrB","CrB","None","A"]
[null,null,null,null,null,"Cumberland","ME_005 CrA","CrA","None","A"]
[null,null,null,null,null,"Cumberland","ME_005 Cp","Cp","Frequent","B/D"]
[null,null,null,null,null,"Cumberland","ME_005 CHC","CHC","None","A"]
[null,null,null,null,null,"Cumberland","ME_005 CgC","CgC","None","A"]
[null,null,null,null,null,"Cumberland","ME_005 CgB","CgB","None","A"]
[null,null,null,null,null,"Cumberland","ME_005 Cb","Cb","Frequent","B/D"]
[null,null,null,null,null,"Cumberland","ME_005 BRB","BRB","None","D"]
[null,null,null,null,null,"Cumberland","ME_005 Bp","Bp","None","D"]
[null,null,null,null,null,"Cumberland","ME_005 BkD","BkD","None","C"]
[null,null,null,null,null,"Cumberland","ME_005 BkC","BkC","None","C"]
[null,null,null,null,null,"Cumberland","ME_005 BkB","BkB","None","C"]
[null,null,null,null,null,"Cumberland","ME_005 BeD","BeD","None","C"]
[null,null,null,null,null,"Cumberland","ME_005 BeC","BeC","None","C"]
[null,null,null,null,null,"Cumberland","ME_005 BeB","BeB","None","C"]
[null,null,null,null,null,"Cumberland","ME_005 ACC","ACC","None","D"]
[null,null,null,null,null,"Cumberland","ME_005 AbE","AbE","None","D"]
[null,null,null,null,null,"Cumberland","ME_005 AHD","AHD","None","A"]
[null,null,null,null,null,"Cumberland",{"$f":"$C$7&\" \"&H633","v":"ME_005 AHC"},"AHC","None","A"]
[null,null,null,null,null,"Cumberland","ME_005 AGC","AGC","None","A"]
[null,null,null,null,null,"Cumberland","ME_005 AED","AED","None","A"]
[null,null,null,null,null,"Cumberland","ME_005 AdD","AdD","None","A"]
[null,null,null,null,null,"Cumberland","ME_005 AdC","AdC","None","A"]
[null,null,null,null,null,"Cumberland","ME_005 AdB","AdB","None","A"]
[null,null,null,null,null,"Cumberland","ME_005 AdA","AdA","None","A"]
[null,null,null,null,null,"Cumberland","ME_005 ACE","ACE","None","D"]
[null,null,null,null,null,"Cumberland","ME_005 WsC","WsC","None","C"]
[null,null,null,null,null,"Cumberland","ME_005 WsB","WsB","None","C"]
[null,null,null,null,null,"Cumberland","ME_005 WrC","WrC","None","C"]
[null,null,null,null,null,"Cumberland","ME_005 WrB","WrB","None","C"]
[null,null,null,null,null,"Cumberland","ME_005 WmD","WmD","None","A"]
[null,null,null,null,null,"Cumberland","ME_005 WmC","WmC","None","A"]
[null,null,null,null,null,"Cumberland","ME_005 WmB","WmB","None","A"]
[null,null,null,null,null,"Cumberland","ME_005 Wh","Wh","None","D"]
[null,null,null,null,null,"Cumberland","ME_005 Wg","Wg","None","C/D"]
[null,null,null,null,null,"Cumberland","ME_005 Wa","Wa","None","A/D"]
[null,null,null,null,null,"Cumberland","ME_005 Tm","Tm","Frequent","A/D"]
[null,null,null,null,null,"Cumberland","ME_005 Sz","Sz","None","C/D"]
[null,null,null,null,null,"Cumberland","ME_005 SuE2","SuE2","None","C"]
[null,null,null,null,null,"Cumberland","ME_005 SuD2","SuD2","None","C"]
[null,null,null,null,null,"Cumberland","ME_005 SuC2","SuC2","None","C"]
[null,null,null,null,null,"Cumberland","ME_005 Sp","Sp","None","A/D"]
[null,null,null,null,null,"Cumberland","ME_005 So","So","None","A/D"]
[null,null,null,null,null,"Cumberland","ME_005 Sn","Sn","None","D"]
[null,null,null,null,null,"Cumberland","ME_005 Sd","Sd","None","A/D"]
[null,null,null,null,null,"Cumberland","ME_005 Ru","Ru","Frequent","B/D"]
[null,null,null,null,null,"Cumberland","ME_005 Ro","Ro","None"]
[null,null,null,null,null,"Cumberland","ME_005 RgA","RgA","None","C/D"]
[null,null,null,null,null,"Cumberland","ME_005 RbA","RbA","None","C/D"]
[null,null,null,null,null,"Cumberland","ME_005 Py","Py","Occasional","B/D"]
[null,null,null,null,null,"Cumberland",{"$f":"$C$7&\" \"&H665","v":"ME_005 PlC"},"PlC","None","C/D"]
[null,null,null,null,null,"Cumberland","ME_005 PlB","PlB","None","C/D"]
[null,null,null,null,null,"Cumberland","ME_005 PkC","PkC","None","C/D"]
[null,null,null,null,null,"Cumberland","ME_005 PkB","PkB","None","C/D"]
[null,null,null,null,null,"Cumberland","ME_005 PfD","PfD","None","C"]
[null,null,null,null,null,"Cumberland","ME_005 PfC","PfC","None","C"]
[null,null,null,null,null,"Cumberland","ME_005 PfB","PfB","None","C"]
[null,null,null,null,null,"Cumberland","ME_005 PbD","PbD","None","C"]
[null,null,null,null,null,"Cumberland","ME_005 PbC","PbC","None","C"]
[null,null,null,null,null,"Cumberland","ME_005 PbB","PbB","None","C"]
[null,null,null,null,null,"Cumberland","ME_005 On","On","Occasional","B"]
[null,null,null,null,null,"Cumberland","ME_005 MkC","MkC","None","A"]
[null,null,null,null,null,"Cumberland","ME_005 MkB","MkB","None","A"]
[null,null,null,null,null,"Cumberland","ME_005 MeC","MeC","None","C"]
[null,null,null,null,null,"Cumberland","ME_005 Md","Md","None"]
[null,null,null,null,null,"Cumberland","ME_005 LzE","LzE","None","D"]
[null,null,null,null,null,"Cumberland","ME_005 LzC","LzC","None","D"]
[null,null,null,null,null,"Cumberland","ME_005 LzB","LzB","None","D"]
[null,null,null,null,null,"Cumberland","ME_005 LyC","LyC","None","D"]
[null,null,null,null,null,"Cumberland","ME_005 LyB","LyB","None","D"]
[null,null,null,null,null,"Cumberland","ME_005 Ls","Ls","Frequent","B/D"]
[null,null,null,null,null,"Cumberland","ME_005 HsE","HsE","None","D"]
[null,null,null,null,null,"Cumberland","ME_005 HsC","HsC","None","D"]
[null,null,null,null,null,"Cumberland","ME_005 HsB","HsB","None","D"]
[null,null,null,null,null,"Cumberland","ME_005 HrD","HrD","None","D"]
[null,null,null,null,null,"Cumberland","ME_005 HrC","HrC","None","D"]
[null,null,null,null,null,"Cumberland","ME_005 HrB","HrB","None","D"]
[null,null,null,null,null,"Cumberland","ME_005 HnD","HnD","None","A"]
[null,null,null,null,null,"Cumberland","ME_005 HnC","HnC","None","A"]
[null,null,null,null,null,"Cumberland","ME_005 HnB","HnB","None","A"]
[null,null,null,null,null,"Cumberland","ME_005 HlD","HlD","None","A"]
[null,null,null,null,null,"Cumberland","ME_005 HlC","HlC","None","A"]
[null,null,null,null,null,"Cumberland",{"$f":"$C$7&\" \"&H697","v":"ME_005 HlB"},"HlB","None","A"]
[null,null,null,null,null,"Cumberland","ME_005 HkE","HkE","None","A"]
[null,null,null,null,null,"Cumberland","ME_005 HkC","HkC","None","A"]
[null,null,null,null,null,"Cumberland","ME_005 HhD","HhD","None","A"]
[null,null,null,null,null,"Cumberland","ME_005 HhC","HhC","None","A"]
[null,null,null,null,null,"Cumberland","ME_005 HhB","HhB","None","A"]
[null,null,null,null,null,"Cumberland","ME_005 HgD","HgD","None","A"]
[null,null,null,null,null,"Cumberland","ME_005 HgC","HgC","None","A"]
[null,null,null,null,null,"Cumberland","ME_005 HgB","HgB","None","A"]
[null,null,null,null,null,"Cumberland","ME_005 HfD2","HfD2","None","B"]
[null,null,null,null,null,"Cumberland","ME_005 HfC2","HfC2","None","B"]
[null,null,null,null,null,"Cumberland","ME_005 HfB","HfB","None","B"]
[null,null,null,null,null,"Cumberland","ME_005 Gp","Gp","None"]
[null,null,null,null,null,"Cumberland","ME_005 EmB","EmB","None","B"]
[null,null,null,null,null,"Cumberland","ME_005 Du","Du","None"]
[null,null,null,null,null,"Cumberland","ME_005 DeB","DeB","None","A"]
[null,null,null,null,null,"Cumberland","ME_005 DeA","DeA","None","A"]
[null,null,null,null,null,"Cumberland","ME_005 Cu","Cu","None"]
[null,null,null,null,null,"Cumberland","ME_005 Ck","Ck","Frequent"]
[null,null,null,null,null,"Cumberland","ME_005 CeE","CeE","None","D"]
[null,null,null,null,null,"Cumberland","ME_005 CeC","CeC","None","D"]
[null,null,null,null,null,"Cumberland","ME_005 CeB","CeB","None","D"]
[null,null,null,null,null,"Cumberland","ME_005 CaC","CaC","None","D"]
[null,null,null,null,null,"Cumberland","ME_005 CaB","CaB","None","D"]
[null,null,null,null,null,"Cumberland","ME_005 BuC2","BuC2","None","C/D"]
[null,null,null,null,null,"Cumberland","ME_005 BuB","BuB","None","C/D"]
[null,null,null,null,null,"Cumberland","ME_005 Bo","Bo","None","D"]
[null,null,null,null,null,"Cumberland","ME_005 BgB","BgB","None","C"]
[null,null,null,null,null,"Cumberland","ME_005 BgC2","BgC2","None","C"]
[null,null,null,null,null,"Cumberland","ME_005 Au","Au","None","A/D"]
[null,null,null,null,null,"Cumberland","ME_005 CFB","CFB","None","D"]
[null,null,null,null,null,"Cumberland","ME_005 SOC","SOC","None","C/D"]
[null,null,null,null,null,"Cumberland",{"$f":"$C$7&\" \"&H729","v":"ME_005 SOD"},"SOD","None","C/D"]
[null,null,null,null,null,"Cumberland","ME_005 SRC","SRC","None","C/D"]
[null,null,null,null,null,"Cumberland","ME_005 SRD","SRD","None","C/D"]
[null,null,null,null,null,"Cumberland","ME_005 SSC","SSC","None","C/D"]
[null,null,null,null,null,"Cumberland","ME_005 STC","STC","None","C/D"]
[null,null,null,null,null,"Cumberland","ME_005 STD","STD","None","C/D"]
[null,null,null,null,null,"Cumberland","ME_005 TyB","TyB","None","C"]
[null,null,null,null,null,"Cumberland","ME_005 TyC","TyC","None","C"]
[null,null,null,null,null,"Cumberland","ME_005 TyD","TyD","None","C"]
[null,null,null,null,null,"Cumberland","ME_005 UaC","UaC","None"]
[null,null,null,null,null,"Cumberland","ME_005 UhC","UhC","None"]
[null,null,null,null,null,"Cumberland","ME_005 Va","Va","Rare","A/D"]
[null,null,null,null,null,"Cumberland","ME_005 Vb","Vb","None","A/D"]
[null,null,null,null,null,"Cumberland","ME_005 VW","VW","None","A/D"]
[null,null,null,null,null,"Cumberland","ME_005 Wk","Wk","None","B/D"]
[null,null,null,null,null,"Cumberland","ME_005 WS","WS","None","A/D"]
[null,null,null,null,null,"Cumberland","ME_005 Qu","Qu","None"]
[null,null,null,null,null,"Cumberland","ME_005 DHU","DHU","Rare"]
[null,null,null,null,null,"Cumberland","ME_005 HDB","HDB","Rare","A"]
[null,null,null,null,null,"Cumberland","ME_005 HDR","HDR","Rare","A"]
[null,null,null,null,null,"Cumberland","ME_005 HoA","HoA","Rare","A"]
[null,null,null,null,null,"Cumberland","ME_005 HoB","HoB","Rare","A"]
[null,null,null,null,null,"Cumberland","ME_005 HU","HU","Rare","A"]
[null,null,null,null,null,"Cumberland","ME_005 UH","UH","Rare","D"]
[null,null,null,null,null,"Kennebec",{"$f":"$C$8&\" \"&H753","v":"ME_011 HrB"},"HrB","None","D"]
[null,null,null,null,null,"Kennebec","ME_011 HrC","HrC","None","D"]
[null,null,null,null,null,"Kennebec","ME_011 HrD","HrD","None","D"]
[null,null,null,null,null,"Kennebec","ME_011 HtB","HtB","None","D"]
[null,null,null,null,null,"Kennebec","ME_011 HtC","HtC","None","D"]
[null,null,null,null,null,"Kennebec","ME_011 HtD","HtD","None","D"]
[null,null,null,null,null,"Kennebec","ME_011 Lk","Lk","Frequent","B/D"]
[null,null,null,null,null,"Kennebec","ME_011 LyB","LyB","None","D"]
[null,null,null,null,null,"Kennebec","ME_011 LyC","LyC","None","D"]
[null,null,null,null,null,"Kennebec","ME_011 LyD","LyD","None","D"]
[null,null,null,null,null,"Kennebec","ME_011 LzC","LzC","None","D"]
[null,null,null,null,null,"Kennebec","ME_011 ML","ML","None"]
[null,null,null,null,null,"Kennebec","ME_011 MoA","MoA","None","D"]
[null,null,null,null,null,"Kennebec","ME_011 MrA","MrA","None","D"]
[null,null,null,null,null,"Kennebec","ME_011 PbB","PbB","None","C/D"]
[null,null,null,null,null,"Kennebec","ME_011 PbC","PbC","None","C/D"]
[null,null,null,null,null,"Kennebec","ME_011 PcB","PcB","None","C/D"]
[null,null,null,null,null,"Kennebec","ME_011 PcC","PcC","None","C/D"]
[null,null,null,null,null,"Kennebec","ME_011 PcD","PcD","None","C/D"]
[null,null,null,null,null,"Kennebec","ME_011 PdB","PdB","None","C/D"]
[null,null,null,null,null,"Kennebec","ME_011 PdC2","PdC2","None","C/D"]
[null,null,null,null,null,"Kennebec","ME_011 PdD2","PdD2","None","C/D"]
[null,null,null,null,null,"Kennebec","ME_011 PeB","PeB","None","C/D"]
[null,null,null,null,null,"Kennebec","ME_011 PeC","PeC","None","C/D"]
[null,null,null,null,null,"Kennebec","ME_011 PeD","PeD","None","C/D"]
[null,null,null,null,null,"Kennebec","ME_011 PfB","PfB","None","C/D"]
[null,null,null,null,null,"Kennebec","ME_011 PkB","PkB","None","C/D"]
[null,null,null,null,null,"Kennebec","ME_011 PkC","PkC","None","C/D"]
[null,null,null,null,null,"Kennebec","ME_011 RcA","RcA","None","C/D"]
[null,null,null,null,null,"Kennebec","ME_011 RdA","RdA","None","C/D"]
[null,null,null,null,null,"Kennebec","ME_011 RF","RF","None","A/D"]
[null,null,null,null,null,"Kennebec","ME_011 SA","SA","Frequent","B/D"]
[null,null,null,null,null,"Kennebec",{"$f":"$C$8&\" \"&H785","v":"ME_011 HkD"},"HkD","None","A"]
[null,null,null,null,null,"Kennebec","ME_011 HkC","HkC","None","A"]
[null,null,null,null,null,"Kennebec","ME_011 HkB","HkB","None","A"]
[null,null,null,null,null,"Kennebec","ME_011 HfD","HfD","None","B"]
[null,null,null,null,null,"Kennebec","ME_011 HfC","HfC","None","B"]
[null,null,null,null,null,"Kennebec","ME_011 Ha","Ha","Occasional","B"]
[null,null,null,null,null,"Kennebec","ME_011 GP","GP","None"]
[null,null,null,null,null,"Kennebec","ME_011 DeB","DeB","None","A"]
[null,null,null,null,null,"Kennebec","ME_011 DL","DL","None"]
[null,null,null,null,null,"Kennebec","ME_011 CF","CF","None"]
[null,null,null,null,null,"Kennebec","ME_011 BuC2","BuC2","None","C/D"]
[null,null,null,null,null,"Kennebec","ME_011 BuB2","BuB2","None","C/D"]
[null,null,null,null,null,"Kennebec","ME_011 Bo","Bo","None","D"]
[null,null,null,null,null,"Kennebec","ME_011 BkD","BkD","None","B"]
[null,null,null,null,null,"Kennebec","ME_011 BkC","BkC","None","B"]
[null,null,null,null,null,"Kennebec","ME_011 BkB","BkB","None","B"]
[null,null,null,null,null,"Kennebec","ME_011 BhB","BhB","None","B"]
[null,null,null,null,null,"Kennebec","ME_011 ScA","ScA","None","D"]
[null,null,null,null,null,"Kennebec","ME_011 Sd","Sd","None","A/D"]
[null,null,null,null,null,"Kennebec","ME_011 SkB","SkB","None","C"]
[null,null,null,null,null,"Kennebec","ME_011 SkC2","SkC2","None","C"]
[null,null,null,null,null,"Kennebec","ME_011 SuC2","SuC2","None","C"]
[null,null,null,null,null,"Kennebec","ME_011 SuD2","SuD2","None","C"]
[null,null,null,null,null,"Kennebec","ME_011 SuE2","SuE2","None","C"]
[null,null,null,null,null,"Kennebec","ME_011 TO","TO","None","A/D"]
[null,null,null,null,null,"Kennebec","ME_011 VA","VA","None","A/D"]
[null,null,null,null,null,"Kennebec","ME_011 WmB","WmB","None","A"]
[null,null,null,null,null,"Kennebec","ME_011 WmC","WmC","None","A"]
[null,null,null,null,null,"Kennebec","ME_011 WmD","WmD","None","A"]
[null,null,null,null,null,"Kennebec","ME_011 Wn","Wn","Occasional","C"]
[null,null,null,null,null,"Kennebec","ME_011 WrB","WrB","None","C/D"]
[null,null,null,null,null,"Kennebec","ME_011 WrC","WrC","None","C/D"]
[null,null,null,null,null,"Kennebec",{"$f":"$C$8&\" \"&H817","v":"ME_011 WsB"},"WsB","None","C/D"]
[null,null,null,null,null,"Kennebec","ME_011 WsC","WsC","None","C/D"]
[null,null,null,null,null,"Kennebec","ME_011 Bp","Bp","None","A/D"]
[null,null,null,null,null,"Kennebec","ME_011 BuD2","BuD2","None","C/D"]
[null,null,null,null,null,"Kennebec","ME_011 DxB","DxB","None","C/D"]
[null,null,null,null,null,"Kennebec","ME_011 DyB","DyB","None","C/D"]
[null,null,null,null,null,"Kennebec","ME_011 DyC","DyC","None","C/D"]
[null,null,null,null,null,"Kennebec","ME_011 QU","QU","None"]
[null,null,null,null,null,"Waldo",{"$f":"$C$9&\" \"&H825","v":"ME_027 AdB"},"AdB","None","A"]
[null,null,null,null,null,"Waldo","ME_027 AdC","AdC","None","A"]
[null,null,null,null,null,"Waldo","ME_027 AdD","AdD","None","A"]
[null,null,null,null,null,"Waldo","ME_027 BaB","BaB","None","B"]
[null,null,null,null,null,"Waldo","ME_027 BaC","BaC","None","B"]
[null,null,null,null,null,"Waldo","ME_027 BaD","BaD","None","B"]
[null,null,null,null,null,"Waldo","ME_027 BbB","BbB","None","B"]
[null,null,null,null,null,"Waldo","ME_027 BbC","BbC","None","B"]
[null,null,null,null,null,"Waldo","ME_027 BbD","BbD","None","B"]
[null,null,null,null,null,"Waldo","ME_027 Be","Be","Frequent"]
[null,null,null,null,null,"Waldo","ME_027 Bf","Bf","None","D"]
[null,null,null,null,null,"Waldo","ME_027 BoB","BoB","None","D"]
[null,null,null,null,null,"Waldo","ME_027 BoC","BoC","None","C/D"]
[null,null,null,null,null,"Waldo","ME_027 BoD","BoD","None","C/D"]
[null,null,null,null,null,"Waldo","ME_027 BoE3","BoE3","None","C/D"]
[null,null,null,null,null,"Waldo","ME_027 BpB","BpB","None","D"]
[null,null,null,null,null,"Waldo","ME_027 Bs","Bs","None","A/D"]
[null,null,null,null,null,"Waldo","ME_027 BtB","BtB","None","D"]
[null,null,null,null,null,"Waldo","ME_027 BvB","BvB","None","D"]
[null,null,null,null,null,"Waldo","ME_027 BxB","BxB","None","C/D"]
[null,null,null,null,null,"Waldo","ME_027 DxB","DxB","None","C/D"]
[null,null,null,null,null,"Waldo","ME_027 DxC","DxC","None","C/D"]
[null,null,null,null,null,"Waldo","ME_027 DyB","DyB","None","C/D"]
[null,null,null,null,null,"Waldo","ME_027 DyC","DyC","None","C/D"]
[null,null,null,null,null,"Waldo","ME_027 ElB","ElB","None","A"]
[null,null,null,null,null,"Waldo","ME_027 ElC","ElC","None","A"]
[null,null,null,null,null,"Waldo","ME_027 HeB","HeB","None","A"]
[null,null,null,null,null,"Waldo","ME_027 HeC","HeC","None","A"]
[null,null,null,null,null,"Waldo","ME_027 HfC","HfC","None","A"]
[null,null,null,null,null,"Waldo","ME_027 HfD","HfD","None","A"]
[null,null,null,null,null,"Waldo","ME_027 HgC","HgC","None","A"]
[null,null,null,null,null,"Waldo","ME_027 HgD","HgD","None","A"]
[null,null,null,null,null,"Waldo",{"$f":"$C$9&\" \"&H857","v":"ME_027 Lk"},"Lk","None","B/D"]
[null,null,null,null,null,"Waldo","ME_027 LrB","LrB","None","D"]
[null,null,null,null,null,"Waldo","ME_027 LrC","LrC","None","D"]
[null,null,null,null,null,"Waldo","ME_027 LrE","LrE","None","D"]
[null,null,null,null,null,"Waldo","ME_027 MaB","MaB","None","B"]
[null,null,null,null,null,"Waldo","ME_027 MbB","MbB","None","C"]
[null,null,null,null,null,"Waldo","ME_027 MbC","MbC","None","C"]
[null,null,null,null,null,"Waldo","ME_027 MbD","MbD","None","C"]
[null,null,null,null,null,"Waldo","ME_027 MeB","MeB","None","C"]
[null,null,null,null,null,"Waldo","ME_027 MeC","MeC","None","C"]
[null,null,null,null,null,"Waldo","ME_027 MeD","MeD","None","C"]
[null,null,null,null,null,"Waldo","ME_027 MeE","MeE","None","C"]
[null,null,null,null,null,"Waldo","ME_027 MfC","MfC","None","C"]
[null,null,null,null,null,"Waldo","ME_027 MfE","MfE","None","C"]
[null,null,null,null,null,"Waldo","ME_027 MkB","MkB","None","A"]
[null,null,null,null,null,"Waldo","ME_027 MkC","MkC","None","A"]
[null,null,null,null,null,"Waldo","ME_027 MkE","MkE","None","A"]
[null,null,null,null,null,"Waldo","ME_027 MrB","MrB","None","B"]
[null,null,null,null,null,"Waldo","ME_027 MrC","MrC","None","B"]
[null,null,null,null,null,"Waldo","ME_027 MsB","MsB","None","B"]
[null,null,null,null,null,"Waldo","ME_027 MsC","MsC","None","B"]
[null,null,null,null,null,"Waldo","ME_027 MwB","MwB","None","D"]
[null,null,null,null,null,"Waldo","ME_027 MyB","MyB","None","D"]
[null,null,null,null,null,"Waldo","ME_027 PaB","PaB","None","C/D"]
[null,null,null,null,null,"Waldo","ME_027 PaC","PaC","None","C/D"]
[null,null,null,null,null,"Waldo","ME_027 PbB","PbB","None","C/D"]
[null,null,null,null,null,"Waldo","ME_027 PbC","PbC","None","C/D"]
[null,null,null,null,null,"Waldo","ME_027 PcB","PcB","None","C/D"]
[null,null,null,null,null,"Waldo","ME_027 PcC","PcC","None","C/D"]
[null,null,null,null,null,"Waldo","ME_027 PcD","PcD","None","C/D"]
[null,null,null,null,null,"Waldo","ME_027 Pg","Pg","None"]
[null,null,null,null,null,"Waldo","ME_027 Py","Py","Frequent","B/D"]
[null,null,null,null,null,"Waldo",{"$f":"$C$9&\" \"&H889","v":"ME_027 Qu"},"Qu","None"]
[null,null,null,null,null,"Waldo","ME_027 Rc","Rc","None"]
[null,null,null,null,null,"Waldo","ME_027 RmC","RmC","None"]
[null,null,null,null,null,"Waldo","ME_027 RmE","RmE","None"]
[null,null,null,null,null,"Waldo","ME_027 Sa","Sa","None","B/D"]
[null,null,null,null,null,"Waldo","ME_027 Se","Se","Rare","A/D"]
[null,null,null,null,null,"Waldo","ME_027 Su","Su","Frequent","B/D"]
[null,null,null,null,null,"Waldo","ME_027 Sw","Sw","None","C/D"]
[null,null,null,null,null,"Waldo","ME_027 ThB","ThB","None","D"]
[null,null,null,null,null,"Waldo","ME_027 ThC","ThC","None","D"]
[null,null,null,null,null,"Waldo","ME_027 ThD","ThD","None","D"]
[null,null,null,null,null,"Waldo","ME_027 TkB","TkB","None","D"]
[null,null,null,null,null,"Waldo","ME_027 TkC","TkC","None","D"]
[null,null,null,null,null,"Waldo","ME_027 TkE","TkE","None","D"]
[null,null,null,null,null,"Waldo","ME_027 TrB","TrB","None","C"]
[null,null,null,null,null,"Waldo","ME_027 TrC","TrC","None","C"]
[null,null,null,null,null,"Waldo","ME_027 TrD","TrD","None","C"]
[null,null,null,null,null,"Waldo","ME_027 Ud","Ud","None","A"]
[null,null,null,null,null,"Waldo","ME_027 Ch","Ch","Frequent","B/D"]
[null,null,null,null,null,"Waldo","ME_027 Le","Le","Occasional","B"]
[null,null,null,null,null,"Waldo","ME_027 My","My","Frequent","B/D"]
[null,null,null,null,null,"Waldo","ME_027 Na","Na","None","A/D"]
[null,null,null,null,null,"York",{"$f":"$C$10&\" \"&H911","v":"ME_031 AdB"},"AdB","None","A"]
[null,null,null,null,null,"York","ME_031 AdC","AdC","None","A"]
[null,null,null,null,null,"York","ME_031 AdD","AdD","None","A"]
[null,null,null,null,null,"York","ME_031 AgB","AgB","None","A"]
[null,null,null,null,null,"York","ME_031 AlB","AlB","None","B"]
[null,null,null,null,null,"York","ME_031 AlC","AlC","None","B"]
[null,null,null,null,null,"York","ME_031 Ba","Ba","Frequent"]
[null,null,null,null,null,"York","ME_031 BcB","BcB","None","C"]
[null,null,null,null,null,"York","ME_031 BcC","BcC","None","C"]
[null,null,null,null,null,"York","ME_031 BcD","BcD","None","C"]
[null,null,null,null,null,"York","ME_031 BeB","BeB","None","C"]
[null,null,null,null,null,"York","ME_031 BeC","BeC","None","C"]
[null,null,null,null,null,"York","ME_031 BeD","BeD","None","C"]
[null,null,null,null,null,"York","ME_031 Bm","Bm","None","D"]
[null,null,null,null,null,"York","ME_031 BrB","BrB","None","D"]
[null,null,null,null,null,"York","ME_031 BsB","BsB","None","D"]
[null,null,null,null,null,"York","ME_031 BuB","BuB","None","D"]
[null,null,null,null,null,"York","ME_031 BuC","BuC","None","C"]
[null,null,null,null,null,"York","ME_031 BuD","BuD","None","C"]
[null,null,null,null,null,"York","ME_031 Ch","Ch","None","A/D"]
[null,null,null,null,null,"York","ME_031 CoB","CoB","None","A"]
[null,null,null,null,null,"York","ME_031 CoC","CoC","None","A"]
[null,null,null,null,null,"York","ME_031 CoD","CoD","None","A"]
[null,null,null,null,null,"York","ME_031 CoE","CoE","None","A"]
[null,null,null,null,null,"York","ME_031 CrB","CrB","None","A"]
[null,null,null,null,null,"York","ME_031 CuB","CuB","None","A"]
[null,null,null,null,null,"York","ME_031 Dm","Dm","None"]
[null,null,null,null,null,"York","ME_031 EmB","EmB","None","B"]
[null,null,null,null,null,"York","ME_031 EmC","EmC","None","B"]
[null,null,null,null,null,"York","ME_031 HeB","HeB","None","A"]
[null,null,null,null,null,"York","ME_031 HeC","HeC","None","A"]
[null,null,null,null,null,"York","ME_031 HeD","HeD","None","A"]
[null,null,null,null,null,"York",{"$f":"$C$10&\" \"&H943","v":"ME_031 HmB"},"HmB","None","A"]
[null,null,null,null,null,"York","ME_031 HmC","HmC","None","A"]
[null,null,null,null,null,"York","ME_031 HmD","HmD","None","A"]
[null,null,null,null,null,"York","ME_031 HnC","HnC","None","A"]
[null,null,null,null,null,"York","ME_031 HnE","HnE","None","A"]
[null,null,null,null,null,"York","ME_031 LnB","LnB","None","D"]
[null,null,null,null,null,"York","ME_031 LnC","LnC","None","D"]
[null,null,null,null,null,"York","ME_031 LnD","LnD","None","D"]
[null,null,null,null,null,"York","ME_031 LyB","LyB","None","D"]
[null,null,null,null,null,"York","ME_031 LyC","LyC","None","D"]
[null,null,null,null,null,"York","ME_031 LyE","LyE","None","D"]
[null,null,null,null,null,"York","ME_031 MaB","MaB","None","B"]
[null,null,null,null,null,"York","ME_031 MrB","MrB","None","C"]
[null,null,null,null,null,"York","ME_031 MrC2","MrC2","None","C"]
[null,null,null,null,null,"York","ME_031 MrD2","MrD2","None","C"]
[null,null,null,null,null,"York","ME_031 MvB","MvB","None","C"]
[null,null,null,null,null,"York","ME_031 MvC","MvC","None","C"]
[null,null,null,null,null,"York","ME_031 MvD","MvD","None","C"]
[null,null,null,null,null,"York","ME_031 Na","Na","None","A/D"]
[null,null,null,null,null,"York","ME_031 On","On","Occasional","B"]
[null,null,null,null,null,"York","ME_031 PeB","PeB","None","C/D"]
[null,null,null,null,null,"York","ME_031 Pg","Pg","None"]
[null,null,null,null,null,"York","ME_031 Po","Po","Occasional","B"]
[null,null,null,null,null,"York","ME_031 Ra","Ra","None","C/D"]
[null,null,null,null,null,"York","ME_031 RoC","RoC","None"]
[null,null,null,null,null,"York","ME_031 RoE","RoE","None"]
[null,null,null,null,null,"York","ME_031 Ru","Ru","Frequent","B/D"]
[null,null,null,null,null,"York","ME_031 Sa","Sa","Frequent","B/D"]
[null,null,null,null,null,"York","ME_031 Sc","Sc","None","D"]
[null,null,null,null,null,"York","ME_031 SeB","SeB","None","C"]
[null,null,null,null,null,"York","ME_031 SeC","SeC","None","C"]
[null,null,null,null,null,"York","ME_031 SeD","SeD","None","C"]
[null,null,null,null,null,"York",{"$f":"$C$10&\" \"&H975","v":"ME_031 Sg"},"Sg","Rare","A/D"]
[null,null,null,null,null,"York","ME_031 SkB","SkB","None","C/D"]
[null,null,null,null,null,"York","ME_031 SkC","SkC","None","C/D"]
[null,null,null,null,null,"York","ME_031 SrB","SrB","None","C/D"]
[null,null,null,null,null,"York","ME_031 SrC","SrC","None","C/D"]
[null,null,null,null,null,"York","ME_031 Su","Su","Frequent","A/D"]
[null,null,null,null,null,"York","ME_031 Ur","Ur","None"]
[null,null,null,null,null,"York","ME_031 UsA","UsA","None"]
[null,null,null,null,null,"York","ME_031 Va","Va","Rare","A/D"]
[null,null,null,null,null,"York","ME_031 Vp","Vp","None","A/D"]
[null,null,null,null,null,"York","ME_031 Wa","Wa","None","A/D"]
[null,null,null,null,null,"York","ME_031 BH","BH","Frequent"]
[null,null,null,null,null,"York","ME_031 HDR","HDR","Rare","A"]
[null,null,null,null,null,"York","ME_031 HkA","HkA","Rare","A"]
[null,null,null,null,null,"York","ME_031 HkB","HkB","Rare","A"]
[null,null,null,null,null,"York","ME_031 HkC","HkC","Rare","A"]
[null,null,null,null,null,"York","ME_031 HkR","HkR","Rare","A"]
[null,null,null,null,null,"York","ME_031 HU","HU","Rare","A"]
[null,null,null,null,null,"York","ME_031 ShA","ShA","Rare","A"]
[null,null,null,null,null,"York","ME_031 UH","UH","Rare","D"]
[null,null,null,null,null,"Knox and Lincoln",{"$f":"$C$11&\" \"&H995","v":"ME_601 AdB"},"AdB","None","A"]
[null,null,null,null,null,"Knox and Lincoln","ME_601 AdC","AdC","None","A"]
[null,null,null,null,null,"Knox and Lincoln","ME_601 AdD","AdD","None","A"]
[null,null,null,null,null,"Knox and Lincoln","ME_601 AgA","AgA","None","B"]
[null,null,null,null,null,"Knox and Lincoln","ME_601 AgB","AgB","None","B"]
[null,null,null,null,null,"Knox and Lincoln","ME_601 AgC","AgC","None","B"]
[null,null,null,null,null,"Knox and Lincoln","ME_601 Be","Be","Frequent"]
[null,null,null,null,null,"Knox and Lincoln","ME_601 Bg","Bg","None","D"]
[null,null,null,null,null,"Knox and Lincoln","ME_601 BoB","BoB","None","D"]
[null,null,null,null,null,"Knox and Lincoln","ME_601 BoC","BoC","None","D"]
[null,null,null,null,null,"Knox and Lincoln","ME_601 BoD2","BoD2","None","C/D"]
[null,null,null,null,null,"Knox and Lincoln","ME_601 Bp","Bp","None","A/D"]
[null,null,null,null,null,"Knox and Lincoln","ME_601 BsB","BsB","None","D"]
[null,null,null,null,null,"Knox and Lincoln","ME_601 BtB","BtB","None","D"]
[null,null,null,null,null,"Knox and Lincoln","ME_601 BuB","BuB","None","C/D"]
[null,null,null,null,null,"Knox and Lincoln","ME_601 BuC","BuC","None","C/D"]
[null,null,null,null,null,"Knox and Lincoln","ME_601 BuD2","BuD2","None","C/D"]
[null,null,null,null,null,"Knox and Lincoln","ME_601 Ch","Ch","Frequent","B/D"]
[null,null,null,null,null,"Knox and Lincoln","ME_601 Dp","Dp","None"]
[null,null,null,null,null,"Knox and Lincoln","ME_601 EgB","EgB","None","A"]
[null,null,null,null,null,"Knox and Lincoln","ME_601 HeB","HeB","None","A"]
[null,null,null,null,null,"Knox and Lincoln","ME_601 HeC","HeC","None","A"]
[null,null,null,null,null,"Knox and Lincoln","ME_601 HtB","HtB","None","A"]
[null,null,null,null,null,"Knox and Lincoln","ME_601 HtC","HtC","None","A"]
[null,null,null,null,null,"Knox and Lincoln","ME_601 HtD","HtD","None","A"]
[null,null,null,null,null,"Knox and Lincoln","ME_601 HxB","HxB","None","A"]
[null,null,null,null,null,"Knox and Lincoln","ME_601 HxC","HxC","None","A"]
[null,null,null,null,null,"Knox and Lincoln","ME_601 Le","Le","Occasional","B"]
[null,null,null,null,null,"Knox and Lincoln","ME_601 LmB","LmB","None","D"]
[null,null,null,null,null,"Knox and Lincoln","ME_601 LrB","LrB","None","D"]
[null,null,null,null,null,"Knox and Lincoln","ME_601 LrC","LrC","None","D"]
[null,null,null,null,null,"Knox and Lincoln","ME_601 LrE","LrE","None","D"]
[null,null,null,null,null,"Knox and Lincoln",{"$f":"$C$11&\" \"&H1027","v":"ME_601 MaB"},"MaB","None","B"]
[null,null,null,null,null,"Knox and Lincoln","ME_601 MrB","MrB","None","C"]
[null,null,null,null,null,"Knox and Lincoln","ME_601 MrC","MrC","None","C"]
[null,null,null,null,null,"Knox and Lincoln","ME_601 MrD","MrD","None","C"]
[null,null,null,null,null,"Knox and Lincoln","ME_601 MsB","MsB","None","C"]
[null,null,null,null,null,"Knox and Lincoln","ME_601 MsC","MsC","None","C"]
[null,null,null,null,null,"Knox and Lincoln","ME_601 MsD","MsD","None","C"]
[null,null,null,null,null,"Knox and Lincoln","ME_601 MtB","MtB","None","C"]
[null,null,null,null,null,"Knox and Lincoln","ME_601 MtC","MtC","None","C"]
[null,null,null,null,null,"Knox and Lincoln","ME_601 MwB","MwB","None","C"]
[null,null,null,null,null,"Knox and Lincoln","ME_601 MwC","MwC","None","C"]
[null,null,null,null,null,"Knox and Lincoln","ME_601 MwD","MwD","None","C"]
[null,null,null,null,null,"Knox and Lincoln","ME_601 MxB","MxB","None","A"]
[null,null,null,null,null,"Knox and Lincoln","ME_601 MxC","MxC","None","A"]
[null,null,null,null,null,"Knox and Lincoln","ME_601 MxD","MxD","None","A"]
[null,null,null,null,null,"Knox and Lincoln","ME_601 My","My","Frequent","B/D"]
[null,null,null,null,null,"Knox and Lincoln","ME_601 Na","Na","None","A/D"]
[null,null,null,null,null,"Knox and Lincoln","ME_601 PaB","PaB","None","C/D"]
[null,null,null,null,null,"Knox and Lincoln","ME_601 PaC","PaC","None","C/D"]
[null,null,null,null,null,"Knox and Lincoln","ME_601 PbB","PbB","None","C/D"]
[null,null,null,null,null,"Knox and Lincoln","ME_601 PbC","PbC","None","C/D"]
[null,null,null,null,null,"Knox and Lincoln","ME_601 Pg","Pg","None"]
[null,null,null,null,null,"Knox and Lincoln","ME_601 Rc","Rc","None"]
[null,null,null,null,null,"Knox and Lincoln","ME_601 RmC","RmC","None"]
[null,null,null,null,null,"Knox and Lincoln","ME_601 RmE","RmE","None"]
[null,null,null,null,null,"Knox and Lincoln","ME_601 Sc","Sc","None","D"]
[null,null,null,null,null,"Knox and Lincoln","ME_601 Sp","Sp","None","A/D"]
[null,null,null,null,null,"Knox and Lincoln","ME_601 StB","StB","None","B"]
[null,null,null,null,null,"Knox and Lincoln","ME_601 Su","Su","Frequent","B/D"]
[null,null,null,null,null,"Knox and Lincoln","ME_601 Sw","Sw","None","C/D"]
[null,null,null,null,null,"Knox and Lincoln","ME_601 TrB","TrB","None","C"]
[null,null,null,null,null,"Knox and Lincoln","ME_601 TrC","TrC","None","C"]
[null,null,null,null,null,"Knox and Lincoln",{"$f":"$C$11&\" \"&H1059","v":"ME_601 TrD"},"TrD","None","C"]
[null,null,null,null,null,"Knox and Lincoln","ME_601 Ud","Ud","None","A"]
[null,null,null,null,null,"Southern Somerset",{"$f":"$C$12&\" \"&H1061","v":"ME_602 AaB"},"AaB","None","A"]
[null,null,null,null,null,"Southern Somerset","ME_602 AaC","AaC","None","A"]
[null,null,null,null,null,"Southern Somerset","ME_602 AaD","AaD","None","A"]
[null,null,null,null,null,"Southern Somerset","ME_602 BvB","BvB","None","D"]
[null,null,null,null,null,"Southern Somerset","ME_602 MkC","MkC","None","A"]
[null,null,null,null,null,"Southern Somerset","ME_602 AgB","AgB","None","B"]
[null,null,null,null,null,"Southern Somerset","ME_602 DaB","DaB","None","A"]
[null,null,null,null,null,"Southern Somerset","ME_602 Cf","Cf","None"]
[null,null,null,null,null,"Southern Somerset","ME_602 Gp","Gp","None"]
[null,null,null,null,null,"Southern Somerset","ME_602 Wn","Wn","Occasional","B/D"]
[null,null,null,null,null,"Southern Somerset","ME_602 Wa","Wa","None","A/D"]
[null,null,null,null,null,"Southern Somerset","ME_602 TtD","TtD","None","D"]
[null,null,null,null,null,"Southern Somerset","ME_602 TtC","TtC","None","D"]
[null,null,null,null,null,"Southern Somerset","ME_602 TtB","TtB","None","D"]
[null,null,null,null,null,"Southern Somerset","ME_602 TpD","TpD","None","D"]
[null,null,null,null,null,"Southern Somerset","ME_602 TpC","TpC","None","D"]
[null,null,null,null,null,"Southern Somerset","ME_602 TpB","TpB","None","D"]
[null,null,null,null,null,"Southern Somerset","ME_602 TkD","TkD","None","D"]
[null,null,null,null,null,"Southern Somerset","ME_602 TkC","TkC","None","D"]
[null,null,null,null,null,"Southern Somerset","ME_602 SuD2","SuD2","None","C"]
[null,null,null,null,null,"Southern Somerset","ME_602 SuC2","SuC2","None","C"]
[null,null,null,null,null,"Southern Somerset","ME_602 StB","StB","None","A"]
[null,null,null,null,null,"Southern Somerset","ME_602 Sk","Sk","None","A"]
[null,null,null,null,null,"Southern Somerset","ME_602 Sc","Sc","None","D"]
[null,null,null,null,null,"Southern Somerset","ME_602 RtE","RtE","None","D"]
[null,null,null,null,null,"Southern Somerset","ME_602 RtC","RtC","None","D"]
[null,null,null,null,null,"Southern Somerset","ME_602 PrD","PrD","None","C"]
[null,null,null,null,null,"Southern Somerset","ME_602 PrC","PrC","None","C"]
[null,null,null,null,null,"Southern Somerset","ME_602 PrB","PrB","None","C"]
[null,null,null,null,null,"Southern Somerset","ME_602 PgC","PgC","None","C"]
[null,null,null,null,null,"Southern Somerset","ME_602 PgB","PgB","None","C"]
[null,null,null,null,null,"Southern Somerset","ME_602 PdC","PdC","None","C/D"]
[null,null,null,null,null,"Southern Somerset",{"$f":"$C$12&\" \"&H1093","v":"ME_602 PdB"},"PdB","None","C/D"]
[null,null,null,null,null,"Southern Somerset","ME_602 PcB","PcB","None","C/D"]
[null,null,null,null,null,"Southern Somerset","ME_602 Pa","Pa","None","A/D"]
[null,null,null,null,null,"Southern Somerset","ME_602 Mr","Mr","None","D"]
[null,null,null,null,null,"Southern Somerset","ME_602 Mo","Mo","None","D"]
[null,null,null,null,null,"Southern Somerset","ME_602 Mn","Mn","None"]
[null,null,null,null,null,"Southern Somerset","ME_602 MeB","MeB","None","B"]
[null,null,null,null,null,"Southern Somerset","ME_602 MbB","MbB","None","B"]
[null,null,null,null,null,"Southern Somerset","ME_602 LzE","LzE","None","D"]
[null,null,null,null,null,"Southern Somerset","ME_602 LzC","LzC","None","D"]
[null,null,null,null,null,"Southern Somerset","ME_602 LyC","LyC","None","D"]
[null,null,null,null,null,"Southern Somerset","ME_602 LyB","LyB","None","D"]
[null,null,null,null,null,"Southern Somerset","ME_602 Lk","Lk","Occasional","B/D"]
[null,null,null,null,null,"Southern Somerset","ME_602 Lc","Lc","None","A/D"]
[null,null,null,null,null,"Southern Somerset","ME_602 Ha","Ha","Occasional","B"]
[null,null,null,null,null,"Southern Somerset","ME_602 Dz","Dz","None"]
[null,null,null,null,null,"Southern Somerset","ME_602 DyC","DyC","None","C/D"]
[null,null,null,null,null,"Southern Somerset","ME_602 DyB","DyB","None","C/D"]
[null,null,null,null,null,"Southern Somerset","ME_602 DxC","DxC","None","C/D"]
[null,null,null,null,null,"Southern Somerset","ME_602 DxB","DxB","None","C/D"]
[null,null,null,null,null,"Southern Somerset","ME_602 CnE","CnE","None","A"]
[null,null,null,null,null,"Southern Somerset","ME_602 CnD","CnD","None","A"]
[null,null,null,null,null,"Southern Somerset","ME_602 CnC","CnC","None","A"]
[null,null,null,null,null,"Southern Somerset","ME_602 BuC2","BuC2","None","C/D"]
[null,null,null,null,null,"Southern Somerset","ME_602 BuB","BuB","None","C/D"]
[null,null,null,null,null,"Southern Somerset","ME_602 Bo","Bo","None","D"]
[null,null,null,null,null,"Southern Somerset","ME_602 BkE","BkE","None","B"]
[null,null,null,null,null,"Southern Somerset","ME_602 BkC","BkC","None","B"]
[null,null,null,null,null,"Southern Somerset","ME_602 BkB","BkB","None","B"]
[null,null,null,null,null,"Southern Somerset","ME_602 BhC","BhC","None","B"]
[null,null,null,null,null,"Southern Somerset","ME_602 BhB","BhB","None","B"]
[null,null,null,null,null,"Southern Somerset","ME_602 BgD","BgD","None","C"]
[null,null,null,null,null,"Southern Somerset",{"$f":"$C$12&\" \"&H1125","v":"ME_602 BgC"},"BgC","None","C"]
[null,null,null,null,null,"Southern Somerset","ME_602 BgB","BgB","None","C"]
[null,null,null,null,null,"Southern Somerset","ME_602 BaC2","BaC2","None","C"]
[null,null,null,null,null,"Southern Somerset","ME_602 BaB","BaB","None","C"]
[null,null,null,null,null,"Androscoggin",{"$f":"$C$13&\" \"&H1129","v":"ME_606 AaB"},"AaB","None","A"]
[null,null,null,null,null,"Androscoggin","ME_606 AaC","AaC","None","A"]
[null,null,null,null,null,"Androscoggin","ME_606 AaD","AaD","None","A"]
[null,null,null,null,null,"Androscoggin","ME_606 AbD","AbD","None","A"]
[null,null,null,null,null,"Androscoggin","ME_606 AdA","AdA","None","B"]
[null,null,null,null,null,"Androscoggin","ME_606 AdB","AdB","None","B"]
[null,null,null,null,null,"Androscoggin","ME_606 AdC","AdC","None","B"]
[null,null,null,null,null,"Androscoggin","ME_606 AdD","AdD","None","B"]
[null,null,null,null,null,"Androscoggin","ME_606 BP","BP","None"]
[null,null,null,null,null,"Androscoggin","ME_606 BgB","BgB","None","C"]
[null,null,null,null,null,"Androscoggin","ME_606 BgC","BgC","None","C"]
[null,null,null,null,null,"Androscoggin","ME_606 Bo","Bo","None","D"]
[null,null,null,null,null,"Androscoggin","ME_606 BuB2","BuB2","None","C/D"]
[null,null,null,null,null,"Androscoggin","ME_606 BuC2","BuC2","None","C/D"]
[null,null,null,null,null,"Androscoggin","ME_606 CfB","CfB","None","A"]
[null,null,null,null,null,"Androscoggin","ME_606 CfC2","CfC2","None","A"]
[null,null,null,null,null,"Androscoggin","ME_606 CfD2","CfD2","None","A"]
[null,null,null,null,null,"Androscoggin","ME_606 ChB","ChB","None","A"]
[null,null,null,null,null,"Androscoggin","ME_606 ChC","ChC","None","A"]
[null,null,null,null,null,"Androscoggin","ME_606 ChD","ChD","None","A"]
[null,null,null,null,null,"Androscoggin","ME_606 Ck","Ck","Frequent"]
[null,null,null,null,null,"Androscoggin","ME_606 Du","Du","None"]
[null,null,null,null,null,"Androscoggin","ME_606 EmB","EmB","None","B"]
[null,null,null,null,null,"Androscoggin","ME_606 EmC2","EmC2","None","B"]
[null,null,null,null,null,"Androscoggin","ME_606 GP","GP","None"]
[null,null,null,null,null,"Androscoggin","ME_606 Ha","Ha","Occasional","B"]
[null,null,null,null,null,"Androscoggin","ME_606 HfB","HfB","None","B"]
[null,null,null,null,null,"Androscoggin","ME_606 HfC2","HfC2","None","B"]
[null,null,null,null,null,"Androscoggin","ME_606 HfD2","HfD2","None","B"]
[null,null,null,null,null,"Androscoggin","ME_606 HkB","HkB","None","A"]
[null,null,null,null,null,"Androscoggin","ME_606 HkC","HkC","None","A"]
[null,null,null,null,null,"Androscoggin","ME_606 HkD","HkD","None","A"]
[null,null,null,null,null,"Androscoggin",{"$f":"$C$13&\" \"&H1161","v":"ME_606 HrB"},"HrB","None","D"]
[null,null,null,null,null,"Androscoggin","ME_606 HrC","HrC","None","D"]
[null,null,null,null,null,"Androscoggin","ME_606 HrD","HrD","None","D"]
[null,null,null,null,null,"Androscoggin","ME_606 HsB","HsB","None","D"]
[null,null,null,null,null,"Androscoggin","ME_606 HsC","HsC","None","D"]
[null,null,null,null,null,"Androscoggin","ME_606 HsD","HsD","None","D"]
[null,null,null,null,null,"Androscoggin","ME_606 Lc","Lc","None","C/D"]
[null,null,null,null,null,"Androscoggin","ME_606 Le","Le","None","C/D"]
[null,null,null,null,null,"Androscoggin","ME_606 Lk","Lk","Occasional","B/D"]
[null,null,null,null,null,"Androscoggin","ME_606 Md","Md","None"]
[null,null,null,null,null,"Androscoggin","ME_606 MeB","MeB","None","C"]
[null,null,null,null,null,"Androscoggin","ME_606 MeC","MeC","None","C"]
[null,null,null,null,null,"Androscoggin","ME_606 Mf","Mf","None"]
[null,null,null,null,null,"Androscoggin","ME_606 MkB","MkB","None","A"]
[null,null,null,null,null,"Androscoggin","ME_606 MkC2","MkC2","None","A"]
[null,null,null,null,null,"Androscoggin","ME_606 MkD2","MkD2","None","A"]
[null,null,null,null,null,"Androscoggin","ME_606 NgB","NgB","None","C"]
[null,null,null,null,null,"Androscoggin","ME_606 On","On","Occasional","B"]
[null,null,null,null,null,"Androscoggin","ME_606 Pa","Pa","None","A/D"]
[null,null,null,null,null,"Androscoggin","ME_606 PbB","PbB","None","C"]
[null,null,null,null,null,"Androscoggin","ME_606 PbC","PbC","None","C"]
[null,null,null,null,null,"Androscoggin","ME_606 PbD","PbD","None","C"]
[null,null,null,null,null,"Androscoggin","ME_606 PfB","PfB","None","C"]
[null,null,null,null,null,"Androscoggin","ME_606 PfC","PfC","None","C"]
[null,null,null,null,null,"Androscoggin","ME_606 PfD","PfD","None","C"]
[null,null,null,null,null,"Androscoggin","ME_606 Py","Py","Occasional","B/D"]
[null,null,null,null,null,"Androscoggin","ME_606 QU","QU","None"]
[null,null,null,null,null,"Androscoggin","ME_606 RhC","RhC","None","D"]
[null,null,null,null,null,"Androscoggin","ME_606 RhD","RhD","None","D"]
[null,null,null,null,null,"Androscoggin","ME_606 Sa","Sa","Frequent","B/D"]
[null,null,null,null,null,"Androscoggin","ME_606 ScA","ScA","None","D"]
[null,null,null,null,null,"Androscoggin","ME_606 So","So","None","A/D"]
[null,null,null,null,null,"Androscoggin",{"$f":"$C$13&\" \"&H1193","v":"ME_606 SuC2"},"SuC2","None","C"]
[null,null,null,null,null,"Androscoggin","ME_606 SuD2","SuD2","None","C"]
[null,null,null,null,null,"Androscoggin","ME_606 SxB","SxB","None","C"]
[null,null,null,null,null,"Androscoggin","ME_606 SxC","SxC","None","C"]
[null,null,null,null,null,"Androscoggin","ME_606 SyB","SyB","None","C"]
[null,null,null,null,null,"Androscoggin","ME_606 SyC","SyC","None","C"]
[null,null,null,null,null,"Androscoggin","ME_606 SzA","SzA","None","D"]
[null,null,null,null,null,"Androscoggin","ME_606 Tn","Tn","Frequent","A/D"]
[null,null,null,null,null,"Androscoggin","ME_606 Wa","Wa","None","A/D"]
[null,null,null,null,null,"Androscoggin","ME_606 Wg","Wg","None","D"]
[null,null,null,null,null,"Androscoggin","ME_606 Wh","Wh","None","B/D"]
[null,null,null,null,null,"Androscoggin","ME_606 Wn","Wn","Occasional","C"]
[null,null,null,null,null,"Androscoggin","ME_606 WrB","WrB","None","C"]
[null,null,null,null,null,"Androscoggin","ME_606 WsB","WsB","None","C"]
[null,null,null,null,null,"Androscoggin","ME_606 DP","DP","None","None"]
[null,null,null,null,null,"Northeastern Aroostook",{"$f":"$C$14&\" \"&H1208","v":"ME_607 GP"},"GP","None"]
[null,null,null,null,null,"Northeastern Aroostook","ME_607 Wn","Wn","Occasional","C"]
[null,null,null,null,null,"Northeastern Aroostook","ME_607 TsC","TsC","None","D"]
[null,null,null,null,null,"Northeastern Aroostook","ME_607 TsB","TsB","None","D"]
[null,null,null,null,null,"Northeastern Aroostook","ME_607 TrE","TrE","None","D"]
[null,null,null,null,null,"Northeastern Aroostook","ME_607 TkE","TkE","None","D"]
[null,null,null,null,null,"Northeastern Aroostook","ME_607 TkD","TkD","None","D"]
[null,null,null,null,null,"Northeastern Aroostook","ME_607 TkC","TkC","None","D"]
[null,null,null,null,null,"Northeastern Aroostook","ME_607 TkB","TkB","None","D"]
[null,null,null,null,null,"Northeastern Aroostook","ME_607 ThE","ThE","None","D"]
[null,null,null,null,null,"Northeastern Aroostook","ME_607 ThD","ThD","None","D"]
[null,null,null,null,null,"Northeastern Aroostook","ME_607 ThC","ThC","None","D"]
[null,null,null,null,null,"Northeastern Aroostook","ME_607 ThB","ThB","None","D"]
[null,null,null,null,null,"Northeastern Aroostook","ME_607 SgE","SgE","None","A"]
[null,null,null,null,null,"Northeastern Aroostook","ME_607 SgD","SgD","None","A"]
[null,null,null,null,null,"Northeastern Aroostook","ME_607 SgC","SgC","None","A"]
[null,null,null,null,null,"Northeastern Aroostook","ME_607 SgB","SgB","None","A"]
[null,null,null,null,null,"Northeastern Aroostook","ME_607 SgA","SgA","None","A"]
[null,null,null,null,null,"Northeastern Aroostook","ME_607 Sb","Sb","None"]
[null,null,null,null,null,"Northeastern Aroostook","ME_607 SaC","SaC","None","B"]
[null,null,null,null,null,"Northeastern Aroostook","ME_607 SaB","SaB","None","B"]
[null,null,null,null,null,"Northeastern Aroostook","ME_607 SaA","SaA","None","B"]
[null,null,null,null,null,"Northeastern Aroostook","ME_607 Re","Re","None"]
[null,null,null,null,null,"Northeastern Aroostook","ME_607 RaB","RaB","None","B/D"]
[null,null,null,null,null,"Northeastern Aroostook","ME_607 RaA","RaA","None","B/D"]
[null,null,null,null,null,"Northeastern Aroostook","ME_607 PvC","PvC","None","C"]
[null,null,null,null,null,"Northeastern Aroostook","ME_607 PvB","PvB","None","C"]
[null,null,null,null,null,"Northeastern Aroostook","ME_607 PrE","PrE","None","C"]
[null,null,null,null,null,"Northeastern Aroostook","ME_607 PrD","PrD","None","C"]
[null,null,null,null,null,"Northeastern Aroostook","ME_607 PrC","PrC","None","C"]
[null,null,null,null,null,"Northeastern Aroostook","ME_607 PrB","PrB","None","C"]
[null,null,null,null,null,"Northeastern Aroostook","ME_607 PgE","PgE","None","C"]
[null,null,null,null,null,"Northeastern Aroostook",{"$f":"$C$14&\" \"&H1240","v":"ME_607 PgD"},"PgD","None","C"]
[null,null,null,null,null,"Northeastern Aroostook","ME_607 PgC","PgC","None","C"]
[null,null,null,null,null,"Northeastern Aroostook","ME_607 PgB","PgB","None","C"]
[null,null,null,null,null,"Northeastern Aroostook","ME_607 PgA","PgA","None","C"]
[null,null,null,null,null,"Northeastern Aroostook","ME_607 PeD","PeD","None","C"]
[null,null,null,null,null,"Northeastern Aroostook","ME_607 PeC","PeC","None","C"]
[null,null,null,null,null,"Northeastern Aroostook","ME_607 PeB","PeB","None","C"]
[null,null,null,null,null,"Northeastern Aroostook","ME_607 PeA","PeA","None","C"]
[null,null,null,null,null,"Northeastern Aroostook","ME_607 Pa","Pa","None","B/D"]
[null,null,null,null,null,"Northeastern Aroostook","ME_607 NcB","NcB","None","C"]
[null,null,null,null,null,"Northeastern Aroostook","ME_607 NcA","NcA","None","C"]
[null,null,null,null,null,"Northeastern Aroostook","ME_607 MrB","MrB","None","D"]
[null,null,null,null,null,"Northeastern Aroostook","ME_607 MoB","MoB","None","D"]
[null,null,null,null,null,"Northeastern Aroostook","ME_607 MoA","MoA","None","D"]
[null,null,null,null,null,"Northeastern Aroostook","ME_607 Mn","Mn","None"]
[null,null,null,null,null,"Northeastern Aroostook","ME_607 MmD","MmD","None","C"]
[null,null,null,null,null,"Northeastern Aroostook","ME_607 MmC","MmC","None","C"]
[null,null,null,null,null,"Northeastern Aroostook","ME_607 MhD","MhD","None","C"]
[null,null,null,null,null,"Northeastern Aroostook","ME_607 MhC2","MhC2","None","C"]
[null,null,null,null,null,"Northeastern Aroostook","ME_607 MhC","MhC","None","C"]
[null,null,null,null,null,"Northeastern Aroostook","ME_607 MhB","MhB","None","C"]
[null,null,null,null,null,"Northeastern Aroostook","ME_607 Md","Md","None"]
[null,null,null,null,null,"Northeastern Aroostook","ME_607 MbC","MbC","None","B"]
[null,null,null,null,null,"Northeastern Aroostook","ME_607 MbB","MbB","None","B"]
[null,null,null,null,null,"Northeastern Aroostook","ME_607 MbA","MbA","None","B"]
[null,null,null,null,null,"Northeastern Aroostook","ME_607 MaC","MaC","None","B"]
[null,null,null,null,null,"Northeastern Aroostook","ME_607 MaB","MaB","None","B"]
[null,null,null,null,null,"Northeastern Aroostook","ME_607 MaA","MaA","None","B"]
[null,null,null,null,null,"Northeastern Aroostook","ME_607 HvC","HvC","None","C/D"]
[null,null,null,null,null,"Northeastern Aroostook","ME_607 HvB","HvB","None","C/D"]
[null,null,null,null,null,"Northeastern Aroostook","ME_607 HoC","HoC","None","C/D"]
[null,null,null,null,null,"Northeastern Aroostook","ME_607 HoB","HoB","None","C/D"]
[null,null,null,null,null,"Northeastern Aroostook",{"$f":"$C$14&\" \"&H1272","v":"ME_607 HoA"},"HoA","None","C/D"]
[null,null,null,null,null,"Northeastern Aroostook","ME_607 HaB","HaB","Occasional","B"]
[null,null,null,null,null,"Northeastern Aroostook","ME_607 HaA","HaA","Occasional","B"]
[null,null,null,null,null,"Northeastern Aroostook","ME_607 FhB","FhB","None","B/D"]
[null,null,null,null,null,"Northeastern Aroostook","ME_607 FhA","FhA","None","B/D"]
[null,null,null,null,null,"Northeastern Aroostook","ME_607 EsB","EsB","None","C/D"]
[null,null,null,null,null,"Northeastern Aroostook","ME_607 EaB","EaB","None","C/D"]
[null,null,null,null,null,"Northeastern Aroostook","ME_607 EaA","EaA","None","C/D"]
[null,null,null,null,null,"Northeastern Aroostook","ME_607 DaC","DaC","None","D"]
[null,null,null,null,null,"Northeastern Aroostook","ME_607 DaB","DaB","None","D"]
[null,null,null,null,null,"Northeastern Aroostook","ME_607 DaA","DaA","None","D"]
[null,null,null,null,null,"Northeastern Aroostook","ME_607 CoC","CoC","None","C"]
[null,null,null,null,null,"Northeastern Aroostook","ME_607 CoB","CoB","None","C"]
[null,null,null,null,null,"Northeastern Aroostook","ME_607 CoA","CoA","None","C"]
[null,null,null,null,null,"Northeastern Aroostook","ME_607 CgE","CgE","None","B"]
[null,null,null,null,null,"Northeastern Aroostook","ME_607 CgD2","CgD2","None","B"]
[null,null,null,null,null,"Northeastern Aroostook","ME_607 CgD","CgD","None","B"]
[null,null,null,null,null,"Northeastern Aroostook","ME_607 CgC2","CgC2","None","B"]
[null,null,null,null,null,"Northeastern Aroostook","ME_607 CgC","CgC","None","B"]
[null,null,null,null,null,"Northeastern Aroostook","ME_607 CgB","CgB","None","B"]
[null,null,null,null,null,"Northeastern Aroostook","ME_607 CgA","CgA","None","B"]
[null,null,null,null,null,"Northeastern Aroostook","ME_607 CdB","CdB","None","C/D"]
[null,null,null,null,null,"Northeastern Aroostook","ME_607 BeD","BeD","None","D"]
[null,null,null,null,null,"Northeastern Aroostook","ME_607 BeC","BeC","None","D"]
[null,null,null,null,null,"Northeastern Aroostook","ME_607 BeB","BeB","None","D"]
[null,null,null,null,null,"Northeastern Aroostook","ME_607 AgD","AgD","None","B"]
[null,null,null,null,null,"Northeastern Aroostook","ME_607 AgC","AgC","None","B"]
[null,null,null,null,null,"Northeastern Aroostook","ME_607 AgB","AgB","None","B"]
[null,null,null,null,null,"Northeastern Aroostook","ME_607 AgA","AgA","None","B"]
[null,null,null,null,null,"Southern Aroostook",{"$f":"$C$15&\" \"&H1301","v":"ME_608 CgA"},"CgA","None","B"]
[null,null,null,null,null,"Southern Aroostook","ME_608 CgB","CgB","None","B"]
[null,null,null,null,null,"Southern Aroostook","ME_608 CgC","CgC","None","B"]
[null,null,null,null,null,"Southern Aroostook","ME_608 CgD","CgD","None","B"]
[null,null,null,null,null,"Southern Aroostook","ME_608 CgE","CgE","None","B"]
[null,null,null,null,null,"Southern Aroostook","ME_608 CnA","CnA","None","A"]
[null,null,null,null,null,"Southern Aroostook","ME_608 CnB","CnB","None","A"]
[null,null,null,null,null,"Southern Aroostook","ME_608 CnC","CnC","None","A"]
[null,null,null,null,null,"Southern Aroostook","ME_608 CnD","CnD","None","A"]
[null,null,null,null,null,"Southern Aroostook","ME_608 CnE","CnE","None","A"]
[null,null,null,null,null,"Southern Aroostook","ME_608 CoA","CoA","None","C"]
[null,null,null,null,null,"Southern Aroostook","ME_608 CoB","CoB","None","C"]
[null,null,null,null,null,"Southern Aroostook","ME_608 CoC","CoC","None","C"]
[null,null,null,null,null,"Southern Aroostook","ME_608 DaA","DaA","None","D"]
[null,null,null,null,null,"Southern Aroostook","ME_608 DaB","DaB","None","D"]
[null,null,null,null,null,"Southern Aroostook","ME_608 DaC","DaC","None","D"]
[null,null,null,null,null,"Southern Aroostook","ME_608 Ha","Ha","Rare","B"]
[null,null,null,null,null,"Southern Aroostook","ME_608 HoA","HoA","None","C/D"]
[null,null,null,null,null,"Southern Aroostook","ME_608 HoB","HoB","None","C/D"]
[null,null,null,null,null,"Southern Aroostook","ME_608 HoC","HoC","None","C/D"]
[null,null,null,null,null,"Southern Aroostook","ME_608 HvB","HvB","None","C/D"]
[null,null,null,null,null,"Southern Aroostook","ME_608 HvC","HvC","None","C/D"]
[null,null,null,null,null,"Southern Aroostook","ME_608 LnB","LnB","None","C"]
[null,null,null,null,null,"Southern Aroostook","ME_608 LnC","LnC","None","C"]
[null,null,null,null,null,"Southern Aroostook","ME_608 LnD","LnD","None","C"]
[null,null,null,null,null,"Southern Aroostook","ME_608 MaA","MaA","None","B"]
[null,null,null,null,null,"Southern Aroostook","ME_608 MaB","MaB","None","B"]
[null,null,null,null,null,"Southern Aroostook","ME_608 MaC","MaC","None","B"]
[null,null,null,null,null,"Southern Aroostook","ME_608 Md","Md","None"]
[null,null,null,null,null,"Southern Aroostook","ME_608 MhB","MhB","None","C"]
[null,null,null,null,null,"Southern Aroostook","ME_608 MhC","MhC","None","C"]
[null,null,null,null,null,"Southern Aroostook","ME_608 MhD","MhD","None","C"]
[null,null,null,null,null,"Southern Aroostook",{"$f":"$C$15&\" \"&H1333","v":"ME_608 MmC"},"MmC","None","C"]
[null,null,null,null,null,"Southern Aroostook","ME_608 MmD","MmD","None","C"]
[null,null,null,null,null,"Southern Aroostook","ME_608 Mn","Mn","None"]
[null,null,null,null,null,"Southern Aroostook","ME_608 MoA","MoA","None","D"]
[null,null,null,null,null,"Southern Aroostook","ME_608 MoB","MoB","None","D"]
[null,null,null,null,null,"Southern Aroostook","ME_608 MrB","MrB","None","D"]
[null,null,null,null,null,"Southern Aroostook","ME_608 Pa","Pa","None","B/D"]
[null,null,null,null,null,"Southern Aroostook","ME_608 PeA","PeA","None","C"]
[null,null,null,null,null,"Southern Aroostook","ME_608 PeB","PeB","None","C"]
[null,null,null,null,null,"Southern Aroostook","ME_608 PeC","PeC","None","C"]
[null,null,null,null,null,"Southern Aroostook","ME_608 PeD","PeD","None","C"]
[null,null,null,null,null,"Southern Aroostook","ME_608 PgB","PgB","None","C"]
[null,null,null,null,null,"Southern Aroostook","ME_608 PgC","PgC","None","C"]
[null,null,null,null,null,"Southern Aroostook","ME_608 PgD","PgD","None","C"]
[null,null,null,null,null,"Southern Aroostook","ME_608 PrB","PrB","None","C"]
[null,null,null,null,null,"Southern Aroostook","ME_608 PrC","PrC","None","C"]
[null,null,null,null,null,"Southern Aroostook","ME_608 PrD","PrD","None","C"]
[null,null,null,null,null,"Southern Aroostook","ME_608 PrE","PrE","None","C"]
[null,null,null,null,null,"Southern Aroostook","ME_608 PvB","PvB","None","C"]
[null,null,null,null,null,"Southern Aroostook","ME_608 PvC","PvC","None","C"]
[null,null,null,null,null,"Southern Aroostook","ME_608 RaA","RaA","None","B/D"]
[null,null,null,null,null,"Southern Aroostook","ME_608 RaB","RaB","None","B/D"]
[null,null,null,null,null,"Southern Aroostook","ME_608 SgA","SgA","None","A"]
[null,null,null,null,null,"Southern Aroostook","ME_608 SgB","SgB","None","A"]
[null,null,null,null,null,"Southern Aroostook","ME_608 ThB","ThB","None","D"]
[null,null,null,null,null,"Southern Aroostook","ME_608 ThC","ThC","None","D"]
[null,null,null,null,null,"Southern Aroostook","ME_608 ThD","ThD","None","D"]
[null,null,null,null,null,"Southern Aroostook","ME_608 ThE","ThE","None","D"]
[null,null,null,null,null,"Southern Aroostook","ME_608 TkB","TkB","None","D"]
[null,null,null,null,null,"Southern Aroostook","ME_608 TkC","TkC","None","D"]
[null,null,null,null,null,"Southern Aroostook","ME_608 TkD","TkD","None","D"]
[null,null,null,null,null,"Southern Aroostook","ME_608 TkE","TkE","None","D"]
[null,null,null,null,null,"Southern Aroostook",{"$f":"$C$15&\" \"&H1365","v":"ME_608 TsB"},"TsB","None","D"]
[null,null,null,null,null,"Southern Aroostook","ME_608 TsC","TsC","None","D"]
[null,null,null,null,null,"Southern Aroostook","ME_608 Wn","Wn","Occasional","C"]
[null,null,null,null,null,"Southern Aroostook","ME_608 GP","GP","None"]
[null,null,null,null,null,"Franklin and Part of Somerset",{"$f":"$C$16&\" \"&H1369","v":"ME_610 AED"},"AED","None","A"]
[null,null,null,null,null,"Franklin and Part of Somerset","ME_610 DTC","DTC","None","C/D"]
[null,null,null,null,null,"Franklin and Part of Somerset","ME_610 DUD","DUD","None","C/D"]
[null,null,null,null,null,"Franklin and Part of Somerset","ME_610 Ud","Ud","None","A"]
[null,null,null,null,null,"Franklin and Part of Somerset","ME_610 TuC","TuC","None","C"]
[null,null,null,null,null,"Franklin and Part of Somerset","ME_610 TuB","TuB","None","C"]
[null,null,null,null,null,"Franklin and Part of Somerset","ME_610 TfC","TfC","None","D"]
[null,null,null,null,null,"Franklin and Part of Somerset","ME_610 TfB","TfB","None","D"]
[null,null,null,null,null,"Franklin and Part of Somerset","ME_610 TeC","TeC","None","D"]
[null,null,null,null,null,"Franklin and Part of Somerset","ME_610 TeB","TeB","None","D"]
[null,null,null,null,null,"Franklin and Part of Somerset","ME_610 TRC","TRC","None","C"]
[null,null,null,null,null,"Franklin and Part of Somerset","ME_610 TOE","TOE","None","D"]
[null,null,null,null,null,"Franklin and Part of Somerset","ME_610 TOC","TOC","None","D"]
[null,null,null,null,null,"Franklin and Part of Somerset","ME_610 TMB","TMB","None","D"]
[null,null,null,null,null,"Franklin and Part of Somerset","ME_610 TLB","TLB","None","D"]
[null,null,null,null,null,"Franklin and Part of Somerset","ME_610 THC","THC","None","D"]
[null,null,null,null,null,"Franklin and Part of Somerset","ME_610 Sw","Sw","None","C/D"]
[null,null,null,null,null,"Franklin and Part of Somerset","ME_610 Sn","Sn","Occasional","A"]
[null,null,null,null,null,"Franklin and Part of Somerset","ME_610 SYB","SYB","None","C/D"]
[null,null,null,null,null,"Franklin and Part of Somerset","ME_610 SVC","SVC","None","C/D"]
[null,null,null,null,null,"Franklin and Part of Somerset","ME_610 SSC","SSC","None","D"]
[null,null,null,null,null,"Franklin and Part of Somerset","ME_610 SRC","SRC","None","C/D"]
[null,null,null,null,null,"Franklin and Part of Somerset","ME_610 SKD","SKD","None","C/D"]
[null,null,null,null,null,"Franklin and Part of Somerset","ME_610 SAE","SAE","None","D"]
[null,null,null,null,null,"Franklin and Part of Somerset","ME_610 RYE","RYE","None","D"]
[null,null,null,null,null,"Franklin and Part of Somerset","ME_610 RSE","RSE","None","D"]
[null,null,null,null,null,"Franklin and Part of Somerset","ME_610 RRE","RRE","None","D"]
[null,null,null,null,null,"Franklin and Part of Somerset","ME_610 Ps","Ps","None"]
[null,null,null,null,null,"Franklin and Part of Somerset","ME_610 Pr","Pr","None"]
[null,null,null,null,null,"Franklin and Part of Somerset","ME_610 PeB","PeB","None","D"]
[null,null,null,null,null,"Franklin and Part of Somerset","ME_610 NvC","NvC","None","C"]
[null,null,null,null,null,"Franklin and Part of Somerset","ME_610 NvB","NvB","None","C"]
[null,null,null,null,null,"Franklin and Part of Somerset",{"$f":"$C$16&\" \"&H1401","v":"ME_610 Nb"},"Nb","None","A/D"]
[null,null,null,null,null,"Franklin and Part of Somerset","ME_610 NS","NS","None","A/D"]
[null,null,null,null,null,"Franklin and Part of Somerset","ME_610 MsB","MsB","None","D"]
[null,null,null,null,null,"Franklin and Part of Somerset","ME_610 MrB","MrB","None","D"]
[null,null,null,null,null,"Franklin and Part of Somerset","ME_610 Mm","Mm","Frequent","B/D"]
[null,null,null,null,null,"Franklin and Part of Somerset","ME_610 MhD","MhD","None","A"]
[null,null,null,null,null,"Franklin and Part of Somerset","ME_610 MhC","MhC","None","A"]
[null,null,null,null,null,"Franklin and Part of Somerset","ME_610 MhB","MhB","None","A"]
[null,null,null,null,null,"Franklin and Part of Somerset","ME_610 MfD","MfD","None","C"]
[null,null,null,null,null,"Franklin and Part of Somerset","ME_610 MfC","MfC","None","C"]
[null,null,null,null,null,"Franklin and Part of Somerset","ME_610 MfB","MfB","None","C"]
[null,null,null,null,null,"Franklin and Part of Somerset","ME_610 MeD","MeD","None","C"]
[null,null,null,null,null,"Franklin and Part of Somerset","ME_610 MeC","MeC","None","C"]
[null,null,null,null,null,"Franklin and Part of Somerset","ME_610 MeB","MeB","None","C"]
[null,null,null,null,null,"Franklin and Part of Somerset","ME_610 MaB","MaB","None","B"]
[null,null,null,null,null,"Franklin and Part of Somerset","ME_610 MVC","MVC","None","D"]
[null,null,null,null,null,"Franklin and Part of Somerset","ME_610 MUB","MUB","None","D"]
[null,null,null,null,null,"Franklin and Part of Somerset","ME_610 MTB","MTB","None","D"]
[null,null,null,null,null,"Franklin and Part of Somerset","ME_610 MNE","MNE","None","B"]
[null,null,null,null,null,"Franklin and Part of Somerset","ME_610 MNC","MNC","None","B"]
[null,null,null,null,null,"Franklin and Part of Somerset","ME_610 MLC","MLC","None","A"]
[null,null,null,null,null,"Franklin and Part of Somerset","ME_610 MKE","MKE","None","A"]
[null,null,null,null,null,"Franklin and Part of Somerset","ME_610 MGD","MGD","None","C"]
[null,null,null,null,null,"Franklin and Part of Somerset","ME_610 MDB","MDB","None","B"]
[null,null,null,null,null,"Franklin and Part of Somerset","ME_610 LyC","LyC","None","D"]
[null,null,null,null,null,"Franklin and Part of Somerset","ME_610 LmE","LmE","None","D"]
[null,null,null,null,null,"Franklin and Part of Somerset","ME_610 Ld","Ld","Frequent","B"]
[null,null,null,null,null,"Franklin and Part of Somerset","ME_610 Lc","Lc","Occasional","B"]
[null,null,null,null,null,"Franklin and Part of Somerset","ME_610 LNE","LNE",null,"D"]
[null,null,null,null,null,"Franklin and Part of Somerset","ME_610 LNC","LNC","None","D"]
[null,null,null,null,null,"Franklin and Part of Somerset","ME_610 HeD","HeD","None","A"]
[null,null,null,null,null,"Franklin and Part of Somerset","ME_610 HeC","HeC","None","A"]
[null,null,null,null,null,"Franklin and Part of Somerset",{"$f":"$C$16&\" \"&H1433","v":"ME_610 HME"},"HME","None","B"]
[null,null,null,null,null,"Franklin and Part of Somerset","ME_610 HMC","HMC","None","B"]
[null,null,null,null,null,"Franklin and Part of Somerset","ME_610 Fr","Fr","Occasional","B"]
[null,null,null,null,null,"Franklin and Part of Somerset","ME_610 EtD","EtD","None","C"]
[null,null,null,null,null,"Franklin and Part of Somerset","ME_610 EtC","EtC","None","C"]
[null,null,null,null,null,"Franklin and Part of Somerset","ME_610 EtB","EtB","None","C"]
[null,null,null,null,null,"Franklin and Part of Somerset","ME_610 EME","EME","None","C"]
[null,null,null,null,null,"Franklin and Part of Somerset","ME_610 EMC","EMC","None","C"]
[null,null,null,null,null,"Franklin and Part of Somerset","ME_610 ECC","ECC","None","C/D"]
[null,null,null,null,null,"Franklin and Part of Somerset","ME_610 DgD","DgD","None","C/D"]
[null,null,null,null,null,"Franklin and Part of Somerset","ME_610 DgC","DgC","None","C/D"]
[null,null,null,null,null,"Franklin and Part of Somerset","ME_610 DgB","DgB","None","C/D"]
[null,null,null,null,null,"Franklin and Part of Somerset","ME_610 DfD","DfD","None","C/D"]
[null,null,null,null,null,"Franklin and Part of Somerset","ME_610 DfC","DfC","None","C/D"]
[null,null,null,null,null,"Franklin and Part of Somerset","ME_610 DfB","DfB","None","C/D"]
[null,null,null,null,null,"Franklin and Part of Somerset","ME_610 DMC","DMC","None","C/D"]
[null,null,null,null,null,"Franklin and Part of Somerset","ME_610 CuB","CuB","None","A"]
[null,null,null,null,null,"Franklin and Part of Somerset","ME_610 CsD","CsD","None","A"]
[null,null,null,null,null,"Franklin and Part of Somerset","ME_610 CsC","CsC","None","A"]
[null,null,null,null,null,"Franklin and Part of Somerset","ME_610 CsB","CsB","None","A"]
[null,null,null,null,null,"Franklin and Part of Somerset","ME_610 CoC","CoC","None","D"]
[null,null,null,null,null,"Franklin and Part of Somerset","ME_610 CoB","CoB","None","D"]
[null,null,null,null,null,"Franklin and Part of Somerset","ME_610 CnC","CnC","None","D"]
[null,null,null,null,null,"Franklin and Part of Somerset","ME_610 CnB","CnB","None","D"]
[null,null,null,null,null,"Franklin and Part of Somerset","ME_610 CkD","CkD","None","C/D"]
[null,null,null,null,null,"Franklin and Part of Somerset","ME_610 CkC","CkC","None","C/D"]
[null,null,null,null,null,"Franklin and Part of Somerset","ME_610 CkB","CkB","None","C/D"]
[null,null,null,null,null,"Franklin and Part of Somerset","ME_610 ChD","ChD","None","C/D"]
[null,null,null,null,null,"Franklin and Part of Somerset","ME_610 ChC","ChC","None","C/D"]
[null,null,null,null,null,"Franklin and Part of Somerset","ME_610 ChB","ChB","None","C/D"]
[null,null,null,null,null,"Franklin and Part of Somerset","ME_610 Ca","Ca","Frequent","B/D"]
[null,null,null,null,null,"Franklin and Part of Somerset","ME_610 CTC","CTC","None","A"]
[null,null,null,null,null,"Franklin and Part of Somerset",{"$f":"$C$16&\" \"&H1465","v":"ME_610 CPC"},"CPC","None","D"]
[null,null,null,null,null,"Franklin and Part of Somerset","ME_610 CLD","CLD","None","C/D"]
[null,null,null,null,null,"Franklin and Part of Somerset","ME_610 CG","CG","Frequent","B/D"]
[null,null,null,null,null,"Franklin and Part of Somerset","ME_610 BrC","BrC","None","D"]
[null,null,null,null,null,"Franklin and Part of Somerset","ME_610 BrB","BrB","None","D"]
[null,null,null,null,null,"Franklin and Part of Somerset","ME_610 BpB","BpB","None","D"]
[null,null,null,null,null,"Franklin and Part of Somerset","ME_610 BoC","BoC","None","C/D"]
[null,null,null,null,null,"Franklin and Part of Somerset","ME_610 BoB","BoB","None","D"]
[null,null,null,null,null,"Franklin and Part of Somerset","ME_610 BkD","BkD","None","B"]
[null,null,null,null,null,"Franklin and Part of Somerset","ME_610 BkC","BkC","None","B"]
[null,null,null,null,null,"Franklin and Part of Somerset","ME_610 BeC","BeC","None","B"]
[null,null,null,null,null,"Franklin and Part of Somerset","ME_610 BeB","BeB","None","B"]
[null,null,null,null,null,"Franklin and Part of Somerset","ME_610 BW","BW","None","B/D"]
[null,null,null,null,null,"Franklin and Part of Somerset","ME_610 BTB","BTB","None","D"]
[null,null,null,null,null,"Franklin and Part of Somerset","ME_610 BSB","BSB","None","D"]
[null,null,null,null,null,"Franklin and Part of Somerset","ME_610 AgC","AgC","None","B"]
[null,null,null,null,null,"Franklin and Part of Somerset","ME_610 AgB","AgB","None","B"]
[null,null,null,null,null,"Franklin and Part of Somerset","ME_610 AgA","AgA","None","B"]
[null,null,null,null,null,"Franklin and Part of Somerset","ME_610 AdD","AdD","None","A"]
[null,null,null,null,null,"Franklin and Part of Somerset","ME_610 AdC","AdC","None","A"]
[null,null,null,null,null,"Franklin and Part of Somerset","ME_610 AdB","AdB","None","A"]
[null,null,null,null,null,"Franklin and Part of Somerset","ME_610 AFC","AFC","None","A"]
[null,null,null,null,null,"Hancock",{"$f":"$C$17&\" \"&H1487","v":"ME_611 AdB"},"AdB","None","A"]
[null,null,null,null,null,"Hancock","ME_611 AdC","AdC","None","A"]
[null,null,null,null,null,"Hancock","ME_611 BSB","BSB","None","D"]
[null,null,null,null,null,"Hancock","ME_611 BTB","BTB","None","D"]
[null,null,null,null,null,"Hancock","ME_611 Bd","Bd","None","D"]
[null,null,null,null,null,"Hancock","ME_611 BfB","BfB","None","D"]
[null,null,null,null,null,"Hancock","ME_611 BgB","BgB","None","D"]
[null,null,null,null,null,"Hancock","ME_611 BhB","BhB","None","D"]
[null,null,null,null,null,"Hancock","ME_611 BwC","BwC","None","C/D"]
[null,null,null,null,null,"Hancock","ME_611 BwD","BwD","None","C/D"]
[null,null,null,null,null,"Hancock","ME_611 CRE","CRE","None","A"]
[null,null,null,null,null,"Hancock","ME_611 CSC","CSC","None","A"]
[null,null,null,null,null,"Hancock","ME_611 Ch","Ch","Occasional","B/D"]
[null,null,null,null,null,"Hancock","ME_611 CoB","CoB","None","A"]
[null,null,null,null,null,"Hancock","ME_611 CoC","CoC","None","A"]
[null,null,null,null,null,"Hancock","ME_611 CoE","CoE","None","A"]
[null,null,null,null,null,"Hancock","ME_611 DWB","DWB","None","C/D"]
[null,null,null,null,null,"Hancock","ME_611 DaB","DaB","None","C/D"]
[null,null,null,null,null,"Hancock","ME_611 DaC","DaC","None","C/D"]
[null,null,null,null,null,"Hancock","ME_611 DbC","DbC","None","C/D"]
[null,null,null,null,null,"Hancock","ME_611 DsB","DsB","None","C/D"]
[null,null,null,null,null,"Hancock","ME_611 DtB","DtB","None","C/D"]
[null,null,null,null,null,"Hancock","ME_611 Go","Go","Frequent","B/D"]
[null,null,null,null,null,"Hancock","ME_611 Gt","Gt","Frequent","D"]
[null,null,null,null,null,"Hancock","ME_611 HVC","HVC","None","A"]
[null,null,null,null,null,"Hancock","ME_611 HVE","HVE","None","A"]
[null,null,null,null,null,"Hancock","ME_611 HcC","HcC","None","A"]
[null,null,null,null,null,"Hancock","ME_611 HmB","HmB","None","A"]
[null,null,null,null,null,"Hancock","ME_611 HmC","HmC","None","A"]
[null,null,null,null,null,"Hancock","ME_611 HtB","HtB","None","A"]
[null,null,null,null,null,"Hancock","ME_611 HtC","HtC","None","A"]
[null,null,null,null,null,"Hancock","ME_611 HtE","HtE","None","B"]
[null,null,null,null,null,"Hancock",{"$f":"$C$17&\" \"&H1519","v":"ME_611 KW"},"KW","None","A/D"]
[null,null,null,null,null,"Hancock","ME_611 Kn","Kn","None","A/D"]
[null,null,null,null,null,"Hancock","ME_611 LCB","LCB","None","C/D"]
[null,null,null,null,null,"Hancock","ME_611 LHC","LHC","None","D"]
[null,null,null,null,null,"Hancock","ME_611 LTE","LTE","None","D"]
[null,null,null,null,null,"Hancock","ME_611 LWC","LWC","None","D"]
[null,null,null,null,null,"Hancock","ME_611 LaB","LaB","None","C/D"]
[null,null,null,null,null,"Hancock","ME_611 LbB","LbB","None","C/D"]
[null,null,null,null,null,"Hancock","ME_611 LgB","LgB","None","D"]
[null,null,null,null,null,"Hancock","ME_611 LsE","LsE","None","D"]
[null,null,null,null,null,"Hancock","ME_611 LuC","LuC","None","D"]
[null,null,null,null,null,"Hancock","ME_611 MDC","MDC","None","C"]
[null,null,null,null,null,"Hancock","ME_611 MDE","MDE","None","C"]
[null,null,null,null,null,"Hancock","ME_611 MGC","MGC","None","C"]
[null,null,null,null,null,"Hancock","ME_611 MGE","MGE","None","C"]
[null,null,null,null,null,"Hancock","ME_611 MXC","MXC","None","B"]
[null,null,null,null,null,"Hancock","ME_611 MXE","MXE","None","B"]
[null,null,null,null,null,"Hancock","ME_611 MaC","MaC","None","C"]
[null,null,null,null,null,"Hancock","ME_611 MaD","MaD","None","C"]
[null,null,null,null,null,"Hancock","ME_611 MbC","MbC","None","C"]
[null,null,null,null,null,"Hancock","ME_611 MbE","MbE","None","C"]
[null,null,null,null,null,"Hancock","ME_611 McC","McC","None","C"]
[null,null,null,null,null,"Hancock","ME_611 McE","McE","None","C"]
[null,null,null,null,null,"Hancock","ME_611 MhC","MhC","None","B"]
[null,null,null,null,null,"Hancock","ME_611 MhE","MhE","None","B"]
[null,null,null,null,null,"Hancock","ME_611 NBB","NBB","None","D"]
[null,null,null,null,null,"Hancock","ME_611 NaB","NaB","None","D"]
[null,null,null,null,null,"Hancock","ME_611 NcB","NcB","None","C"]
[null,null,null,null,null,"Hancock","ME_611 NcC","NcC","None","C"]
[null,null,null,null,null,"Hancock","ME_611 Ps","Ps","None"]
[null,null,null,null,null,"Hancock","ME_611 SB","SB","None","D"]
[null,null,null,null,null,"Hancock","ME_611 SEB","SEB","None","C/D"]
[null,null,null,null,null,"Hancock",{"$f":"$C$17&\" \"&H1551","v":"ME_611 SGE"},"SGE","None","D"]
[null,null,null,null,null,"Hancock","ME_611 SKC","SKC","None","D"]
[null,null,null,null,null,"Hancock","ME_611 Sa","Sa","None","D"]
[null,null,null,null,null,"Hancock","ME_611 SdB","SdB","None","D"]
[null,null,null,null,null,"Hancock","ME_611 SfC","SfC","None","D"]
[null,null,null,null,null,"Hancock","ME_611 SfE","SfE","None","D"]
[null,null,null,null,null,"Hancock","ME_611 SmB","SmB","None","B"]
[null,null,null,null,null,"Hancock","ME_611 SoB","SoB","None","B"]
[null,null,null,null,null,"Hancock","ME_611 SoC","SoC","None","B"]
[null,null,null,null,null,"Hancock","ME_611 SrB","SrB","None","B"]
[null,null,null,null,null,"Hancock","ME_611 TWC","TWC","None","C"]
[null,null,null,null,null,"Hancock","ME_611 ThC","ThC","None","D"]
[null,null,null,null,null,"Hancock","ME_611 TuB","TuB","None","C"]
[null,null,null,null,null,"Hancock","ME_611 TuC","TuC","None","C"]
[null,null,null,null,null,"Hancock","ME_611 Ud","Ud","None","A"]
[null,null,null,null,null,"Hancock","ME_611 WA","WA","None","A/D"]
[null,null,null,null,null,"Hancock","ME_611 WT","WT","None","B/D"]
[null,null,null,null,null,"Hancock","ME_611 WkC","WkC","None","B"]
[null,null,null,null,null,"Hancock","ME_611 Wo","Wo","Frequent","B/D"]
[null,null,null,null,null,"Hancock","ME_611 Ws","Ws","None","B/D"]
[null,null,null,null,null,"Hancock","ME_611 Be","Be","Frequent"]
[null,null,null,null,null,"Southern Penobscot",{"$f":"$C$18&\" \"&H1572","v":"ME_612 AdB"},"AdB","None","A"]
[null,null,null,null,null,"Southern Penobscot","ME_612 PbB","PbB","None","C/D"]
[null,null,null,null,null,"Southern Penobscot","ME_612 BoC","BoC","None","C/D"]
[null,null,null,null,null,"Southern Penobscot","ME_612 BoD","BoD","None","C/D"]
[null,null,null,null,null,"Southern Penobscot","ME_612 BoE","BoE","None","C/D"]
[null,null,null,null,null,"Southern Penobscot","ME_612 LyB","LyB","None","D"]
[null,null,null,null,null,"Southern Penobscot","ME_612 LyC","LyC","None","D"]
[null,null,null,null,null,"Southern Penobscot","ME_612 MaB","MaB","None","A"]
[null,null,null,null,null,"Southern Penobscot","ME_612 MaC","MaC","None","A"]
[null,null,null,null,null,"Southern Penobscot","ME_612 SvA","SvA","None","D"]
[null,null,null,null,null,"Southern Penobscot","ME_612 TwC","TwC","None","D"]
[null,null,null,null,null,"Southern Penobscot","ME_612 TlB","TlB","None","C"]
[null,null,null,null,null,"Southern Penobscot","ME_612 UrB","UrB","None"]
[null,null,null,null,null,"Southern Penobscot","ME_612 ChB","ChB","None","C/D"]
[null,null,null,null,null,"Southern Penobscot","ME_612 ChC","ChC","None","C/D"]
[null,null,null,null,null,"Southern Penobscot","ME_612 CoB","CoB","None","D"]
[null,null,null,null,null,"Southern Penobscot","ME_612 LcA","LcA","Occasional","B/D"]
[null,null,null,null,null,"Southern Penobscot","ME_612 DaB","DaB","None","A"]
[null,null,null,null,null,"Southern Penobscot","ME_612 EcB","EcB","None","C"]
[null,null,null,null,null,"Southern Penobscot","ME_612 Pg","Pg","None"]
[null,null,null,null,null,"Southern Penobscot","ME_612 TeB","TeB","None","D"]
[null,null,null,null,null,"Southern Penobscot","ME_612 PeB","PeB","None","C/D"]
[null,null,null,null,null,"Southern Penobscot","ME_612 KnA","KnA","None","A/D"]
[null,null,null,null,null,"Southern Penobscot","ME_612 LsB","LsB","None","C/D"]
[null,null,null,null,null,"Southern Penobscot","ME_612 TlC","TlC","None","C"]
[null,null,null,null,null,"Southern Penobscot","ME_612 NiB","NiB","None","B"]
[null,null,null,null,null,"Southern Penobscot","ME_612 NiC","NiC","None","B"]
[null,null,null,null,null,"Southern Penobscot","ME_612 MoA","MoA","None","D"]
[null,null,null,null,null,"Southern Penobscot","ME_612 MbA","MbA","None","D"]
[null,null,null,null,null,"Southern Penobscot","ME_612 ScA","ScA","None","D"]
[null,null,null,null,null,"Southern Penobscot","ME_612 BWF","BWF","Frequent","A/D"]
[null,null,null,null,null,"Southern Penobscot","ME_612 BW","BW","None","A/D"]
[null,null,null,null,null,"Southern Penobscot",{"$f":"$C$18&\" \"&H1604","v":"ME_612 KWA"},"KWA","None","A/D"]
[null,null,null,null,null,"Southern Penobscot","ME_612 LAB","LAB","None","C/D"]
[null,null,null,null,null,"Southern Penobscot","ME_612 SBA","SBA","None","D"]
[null,null,null,null,null,"Southern Penobscot","ME_612 SLB","SLB","None","D"]
[null,null,null,null,null,"Southern Penobscot","ME_612 ANC","ANC","None","A"]
[null,null,null,null,null,"Southern Penobscot","ME_612 SWB","SWB","None","C/D"]
[null,null,null,null,null,"Southern Penobscot","ME_612 BPA","BPA","None","D"]
[null,null,null,null,null,"Southern Penobscot","ME_612 CC","CC","Occasional","B/D"]
[null,null,null,null,null,"Southern Penobscot","ME_612 CED","CED","None","C/D"]
[null,null,null,null,null,"Southern Penobscot","ME_612 CDB","CDB","None","D"]
[null,null,null,null,null,"Southern Penobscot","ME_612 BYB","BYB","None","D"]
[null,null,null,null,null,"Southern Penobscot","ME_612 DFC","DFC","None","A"]
[null,null,null,null,null,"Southern Penobscot","ME_612 DMC","DMC","None","A"]
[null,null,null,null,null,"Southern Penobscot","ME_612 PCC","PCC","None","C/D"]
[null,null,null,null,null,"Southern Penobscot","ME_612 EXC","EXC","None","C"]
[null,null,null,null,null,"Southern Penobscot","ME_612 LXD","LXD","None","D"]
[null,null,null,null,null,"Southern Penobscot","ME_612 LKE","LKE","None","D"]
[null,null,null,null,null,"Southern Penobscot","ME_612 LTD","LTD","None","D"]
[null,null,null,null,null,"Southern Penobscot","ME_612 TLE","TLE","None","C"]
[null,null,null,null,null,"Southern Penobscot","ME_612 TPD","TPD","None","C"]
[null,null,null,null,null,"Southern Penobscot","ME_612 MSE","MSE","None","A"]
[null,null,null,null,null,"Southern Penobscot","ME_612 MXA","MXA","None","D"]
[null,null,null,null,null,"Southern Penobscot","ME_612 MVD","MVD","None","D"]
[null,null,null,null,null,"Southern Penobscot","ME_612 MVE","MVE","None","D"]
[null,null,null,null,null,"Southern Penobscot","ME_612 SQA","SQA","None","D"]
[null,null,null,null,null,"Southern Penobscot","ME_612 MOB","MOB","None","D"]
[null,null,null,null,null,"Southern Penobscot","ME_612 MMB","MMB","None","D"]
[null,null,null,null,null,"Southern Penobscot","ME_612 WTC","WTC","None","B"]
[null,null,null,null,null,"Southern Penobscot","ME_612 BRB","BRB","None","D"]
[null,null,null,null,null,"Southern Penobscot","ME_612 EaB","EaB","None","D"]
[null,null,null,null,null,"Southern Penobscot","ME_612 PsB","PsB","None","C/D"]
[null,null,null,null,null,"Southern Penobscot","ME_612 CcA","CcA","Occasional","B/D"]
[null,null,null,null,null,"Southern Penobscot",{"$f":"$C$18&\" \"&H1636","v":"ME_612 TcC"},"TcC","None","C/D"]
[null,null,null,null,null,"Southern Penobscot","ME_612 CpB","CpB","None","D"]
[null,null,null,null,null,"Southern Penobscot","ME_612 DaC","DaC","None","A"]
[null,null,null,null,null,"Southern Penobscot","ME_612 WpB","WpB","None","C"]
[null,null,null,null,null,"Southern Penobscot","ME_612 EcC","EcC","None","C"]
[null,null,null,null,null,"Southern Penobscot","ME_612 TmB","TmB","None","D"]
[null,null,null,null,null,"Southern Penobscot","ME_612 CrC","CrC","None","D"]
[null,null,null,null,null,"Southern Penobscot","ME_612 CrB","CrB","None","D"]
[null,null,null,null,null,"Southern Penobscot","ME_612 KeB","KeB","None","C/D"]
[null,null,null,null,null,"Southern Penobscot","ME_612 TuB","TuB","None","D"]
[null,null,null,null,null,"Southern Penobscot","ME_612 PuB","PuB","None","C/D"]
[null,null,null,null,null,"Southern Penobscot","ME_612 SpC","SpC","None","B"]
[null,null,null,null,null,"Southern Penobscot","ME_612 SpB","SpB","None","B"]
[null,null,null,null,null,"Southern Penobscot","ME_612 EmC","EmC","None","C"]
[null,null,null,null,null,"Southern Penobscot","ME_612 EmB","EmB","None","C"]
[null,null,null,null,null,"Southern Penobscot","ME_612 EaC","EaC","None","D"]
[null,null,null,null,null,"Southern Penobscot","ME_612 DWC","DWC","None","A"]
[null,null,null,null,null,"Southern Penobscot","ME_612 CEC","CEC","None","C/D"]
[null,null,null,null,null,"Southern Penobscot","ME_612 NAB","NAB","None","A/D"]
[null,null,null,null,null,"Southern Penobscot","ME_612 MSC","MSC","None","A"]
[null,null,null,null,null,"Southern Penobscot","ME_612 MCB","MCB","None","D"]
[null,null,null,null,null,"Southern Penobscot","ME_612 ROB","ROB","None","B/D"]
[null,null,null,null,null,"Southern Penobscot","ME_612 CTB","CTB","None","D"]
[null,null,null,null,null,"Southern Penobscot","ME_612 TRB","TRB","None","C/D"]
[null,null,null,null,null,"Southern Penobscot","ME_612 WKB","WKB","None","C"]
[null,null,null,null,null,"Southern Penobscot","ME_612 KMB","KMB","None","C/D"]
[null,null,null,null,null,"Southern Penobscot","ME_612 PWB","PWB","None","C"]
[null,null,null,null,null,"Southern Penobscot","ME_612 LTC","LTC","None","D"]
[null,null,null,null,null,"Southern Penobscot","ME_612 CPC","CPC","None","D"]
[null,null,null,null,null,"Southern Penobscot","ME_612 SEC","SEC","None","B"]
[null,null,null,null,null,"Southern Penobscot","ME_612 NcB","NcB","None","A/D"]
[null,null,null,null,null,"Southern Penobscot","ME_612 BcB","BcB","None","D"]
[null,null,null,null,null,"Southern Penobscot",{"$f":"$C$18&\" \"&H1668","v":"ME_612 ElC"},"ElC","None","C"]
[null,null,null,null,null,"Southern Penobscot","ME_612 ElB","ElB","None","C"]
[null,null,null,null,null,"Southern Penobscot","ME_612 RnB","RnB","None","B/D"]
[null,null,null,null,null,"Southern Penobscot","ME_612 PtC","PtC","None","C/D"]
[null,null,null,null,null,"Southern Penobscot","ME_612 MeC","MeC","None","D"]
[null,null,null,null,null,"Southern Penobscot","ME_612 EvB","EvB","None","C"]
[null,null,null,null,null,"Southern Penobscot","ME_612 PYB","PYB","None","C/D"]
[null,null,null,null,null,"Southern Penobscot","ME_612 MeD","MeD","None","D"]
[null,null,null,null,null,"Southern Penobscot","ME_612 BuB","BuB","None","C/D"]
[null,null,null,null,null,"Southern Penobscot","ME_612 ElD","ElD","None","C"]
[null,null,null,null,null,"Southern Penobscot","ME_612 MwA","MwA","Frequent","C/D"]
[null,null,null,null,null,"Southern Penobscot","ME_612 AKF","AKF","None","D"]
[null,null,null,null,null,"Southern Penobscot","ME_612 AKD","AKD","None","D"]
[null,null,null,null,null,"Southern Penobscot","ME_612 MND","MND","None","B"]
[null,null,null,null,null,"Southern Penobscot","ME_612 MNC","MNC","None","B"]
[null,null,null,null,null,"Southern Penobscot","ME_612 HMC","HMC","None","B"]
[null,null,null,null,null,"Southern Penobscot","ME_612 TBD","TBD","None","C"]
[null,null,null,null,null,"Southern Penobscot","ME_612 TBC","TBC","None","C"]
[null,null,null,null,null,"Southern Penobscot","ME_612 BSC","BSC","None","C"]
[null,null,null,null,null,"Southern Penobscot","ME_612 SKB","SKB","None","C"]
[null,null,null,null,null,"Southern Penobscot","ME_612 PtB","PtB","None","C/D"]
[null,null,null,null,null,"Southern Penobscot","ME_612 TpB","TpB","None","C"]
[null,null,null,null,null,"Southern Penobscot","ME_612 MaE","MaE","None","A"]
[null,null,null,null,null,"Southern Penobscot","ME_612 TcB","TcB","None","D"]
[null,null,null,null,null,"Southern Penobscot","ME_612 MtC","MtC","None","B"]
[null,null,null,null,null,"Southern Penobscot","ME_612 SbC","SbC","None","C"]
[null,null,null,null,null,"Southern Penobscot","ME_612 SbB","SbB","None","C"]
[null,null,null,null,null,"Southern Penobscot","ME_612 CuB","CuB","None","C/D"]
[null,null,null,null,null,"Southern Penobscot","ME_612 MuB","MuB","None","D"]
[null,null,null,null,null,"Southern Penobscot","ME_612 EuC","EuC","None","C"]
[null,null,null,null,null,"Southern Penobscot","ME_612 CTC","CTC","None","C/D"]
[null,null,null,null,null,"Southern Penobscot","ME_612 SM","SM","None","A/D"]
[null,null,null,null,null,"Southern Penobscot",{"$f":"$C$18&\" \"&H1700","v":"ME_612 SwA"},"SwA","None","D"]
[null,null,null,null,null,"Oxford",{"$f":"$C$19&\" \"&H1701","v":"ME_613 WS"},"WS","None","A/D"]
[null,null,null,null,null,"Oxford","ME_613 Wk","Wk","None","B/D"]
[null,null,null,null,null,"Oxford","ME_613 Vb","Vb","None","A/D"]
[null,null,null,null,null,"Oxford","ME_613 Va","Va","Rare","A/D"]
[null,null,null,null,null,"Oxford","ME_613 VW","VW","None","A/D"]
[null,null,null,null,null,"Oxford","ME_613 UhC","UhC","None"]
[null,null,null,null,null,"Oxford","ME_613 UaC","UaC","None"]
[null,null,null,null,null,"Oxford","ME_613 TyD","TyD","None","C"]
[null,null,null,null,null,"Oxford","ME_613 TyC","TyC","None","C"]
[null,null,null,null,null,"Oxford","ME_613 TyB","TyB","None","C"]
[null,null,null,null,null,"Oxford","ME_613 Sy","Sy","Frequent","A"]
[null,null,null,null,null,"Oxford","ME_613 Su","Su","Occasional","A"]
[null,null,null,null,null,"Oxford","ME_613 SnD","SnD","None","C/D"]
[null,null,null,null,null,"Oxford","ME_613 SnC","SnC","None","C/D"]
[null,null,null,null,null,"Oxford","ME_613 SnB","SnB","None","C/D"]
[null,null,null,null,null,"Oxford","ME_613 SkC","SkC","None","C/D"]
[null,null,null,null,null,"Oxford","ME_613 SkB","SkB","None","C/D"]
[null,null,null,null,null,"Oxford","ME_613 Se","Se","None","A/D"]
[null,null,null,null,null,"Oxford","ME_613 STD","STD","None","C/D"]
[null,null,null,null,null,"Oxford","ME_613 STC","STC","None","C/D"]
[null,null,null,null,null,"Oxford","ME_613 SSC","SSC","None","C/D"]
[null,null,null,null,null,"Oxford","ME_613 SRD","SRD","None","C/D"]
[null,null,null,null,null,"Oxford","ME_613 SRC","SRC","None","C/D"]
[null,null,null,null,null,"Oxford","ME_613 SOD","SOD","None","C/D"]
[null,null,null,null,null,"Oxford","ME_613 SOC","SOC","None","C/D"]
[null,null,null,null,null,"Oxford","ME_613 SAE","SAE","None","D"]
[null,null,null,null,null,"Oxford","ME_613 SAD","SAD","None","D"]
[null,null,null,null,null,"Oxford","ME_613 Ry","Ry","Frequent","B/D"]
[null,null,null,null,null,"Oxford","ME_613 Ru","Ru","Occasional","B/D"]
[null,null,null,null,null,"Oxford","ME_613 Ro","Ro","None","B/D"]
[null,null,null,null,null,"Oxford","ME_613 Rm","Rm","None"]
[null,null,null,null,null,"Oxford","ME_613 RZ","RZ","Frequent","B/D"]
[null,null,null,null,null,"Oxford",{"$f":"$C$19&\" \"&H1733","v":"ME_613 RNE"},"RNE","None"]
[null,null,null,null,null,"Oxford","ME_613 RCE","RCE","None","D"]
[null,null,null,null,null,"Oxford","ME_613 Pw","Pw","Frequent","B/D"]
[null,null,null,null,null,"Oxford","ME_613 Pt","Pt","Occasional","B/D"]
[null,null,null,null,null,"Oxford","ME_613 Ps","Ps","None"]
[null,null,null,null,null,"Oxford","ME_613 Pg","Pg","None"]
[null,null,null,null,null,"Oxford","ME_613 On","On","Frequent","B"]
[null,null,null,null,null,"Oxford","ME_613 Od","Od","Occasional","B"]
[null,null,null,null,null,"Oxford","ME_613 NvB","NvB","None","C"]
[null,null,null,null,null,"Oxford","ME_613 Nb","Nb","None","A/D"]
[null,null,null,null,null,"Oxford","ME_613 NCB","NCB","None","A/D"]
[null,null,null,null,null,"Oxford","ME_613 MvD","MvD","None","B"]
[null,null,null,null,null,"Oxford","ME_613 MvC","MvC","None","B"]
[null,null,null,null,null,"Oxford","ME_613 MnD","MnD","None","B"]
[null,null,null,null,null,"Oxford","ME_613 MnC","MnC","None","B"]
[null,null,null,null,null,"Oxford","ME_613 MnB","MnB","None","B"]
[null,null,null,null,null,"Oxford","ME_613 Mk","Mk","Frequent","B/D"]
[null,null,null,null,null,"Oxford","ME_613 MeD","MeD","None","C"]
[null,null,null,null,null,"Oxford","ME_613 MeC","MeC","None","C"]
[null,null,null,null,null,"Oxford","ME_613 MaD","MaD","None","C"]
[null,null,null,null,null,"Oxford","ME_613 MaC","MaC","None","C"]
[null,null,null,null,null,"Oxford","ME_613 MaB","MaB","None","C"]
[null,null,null,null,null,"Oxford","ME_613 MXC","MXC","None","B"]
[null,null,null,null,null,"Oxford","ME_613 MWC","MWC","None","B"]
[null,null,null,null,null,"Oxford","ME_613 ML","ML","Frequent","B/D"]
[null,null,null,null,null,"Oxford","ME_613 LtD","LtD","None","D"]
[null,null,null,null,null,"Oxford","ME_613 LtC","LtC","None","D"]
[null,null,null,null,null,"Oxford","ME_613 LtB","LtB","None","D"]
[null,null,null,null,null,"Oxford","ME_613 Lo","Lo","Occasional","B"]
[null,null,null,null,null,"Oxford","ME_613 LXC","LXC","None","D"]
[null,null,null,null,null,"Oxford","ME_613 LWE","LWE","None","D"]
[null,null,null,null,null,"Oxford","ME_613 LWD","LWD","None","D"]
[null,null,null,null,null,"Oxford",{"$f":"$C$19&\" \"&H1765","v":"ME_613 LWC"},"LWC","None","D"]
[null,null,null,null,null,"Oxford","ME_613 LUE","LUE","None","C"]
[null,null,null,null,null,"Oxford","ME_613 LUD","LUD","None","C"]
[null,null,null,null,null,"Oxford","ME_613 HsD","HsD","None","A"]
[null,null,null,null,null,"Oxford","ME_613 HsC","HsC","None","A"]
[null,null,null,null,null,"Oxford","ME_613 HmD","HmD","None","A"]
[null,null,null,null,null,"Oxford","ME_613 HmC","HmC","None","A"]
[null,null,null,null,null,"Oxford","ME_613 HmB","HmB","None","A"]
[null,null,null,null,null,"Oxford","ME_613 HeD","HeD","None","A"]
[null,null,null,null,null,"Oxford","ME_613 HeC","HeC","None","A"]
[null,null,null,null,null,"Oxford","ME_613 HeB","HeB","None","A"]
[null,null,null,null,null,"Oxford","ME_613 HVC","HVC","None","A"]
[null,null,null,null,null,"Oxford","ME_613 HTE","HTE","None","B"]
[null,null,null,null,null,"Oxford","ME_613 HTD","HTD","None","B"]
[null,null,null,null,null,"Oxford","ME_613 Fr","Fr","Rare","B"]
[null,null,null,null,null,"Oxford","ME_613 DsC","DsC","None","C/D"]
[null,null,null,null,null,"Oxford","ME_613 DsB","DsB","None","C/D"]
[null,null,null,null,null,"Oxford","ME_613 DfC","DfC","None","C/D"]
[null,null,null,null,null,"Oxford","ME_613 DfB","DfB","None","C/D"]
[null,null,null,null,null,"Oxford","ME_613 DXD","DXD","None","C/D"]
[null,null,null,null,null,"Oxford","ME_613 DXC","DXC","None","C/D"]
[null,null,null,null,null,"Oxford","ME_613 DWC","DWC","None","C/D"]
[null,null,null,null,null,"Oxford","ME_613 DUD","DUD","None","C/D"]
[null,null,null,null,null,"Oxford","ME_613 DUC","DUC","None","C/D"]
[null,null,null,null,null,"Oxford","ME_613 DTC","DTC","None","C/D"]
[null,null,null,null,null,"Oxford","ME_613 CrB","CrB","None","A"]
[null,null,null,null,null,"Oxford","ME_613 CrA","CrA","None","A"]
[null,null,null,null,null,"Oxford","ME_613 Cp","Cp","Frequent","B/D"]
[null,null,null,null,null,"Oxford","ME_613 Co","Co","Frequent","B/D"]
[null,null,null,null,null,"Oxford","ME_613 CgD","CgD","None","A"]
[null,null,null,null,null,"Oxford","ME_613 CgC","CgC","None","A"]
[null,null,null,null,null,"Oxford","ME_613 CgB","CgB","None","A"]
[null,null,null,null,null,"Oxford",{"$f":"$C$19&\" \"&H1797","v":"ME_613 CfC"},"CfC","None","D"]
[null,null,null,null,null,"Oxford","ME_613 CfB","CfB","None","D"]
[null,null,null,null,null,"Oxford","ME_613 CeC","CeC","None","D"]
[null,null,null,null,null,"Oxford","ME_613 CeB","CeB","None","D"]
[null,null,null,null,null,"Oxford","ME_613 Cb","Cb","Frequent","B/D"]
[null,null,null,null,null,"Oxford","ME_613 Ca","Ca","Occasional","B/D"]
[null,null,null,null,null,"Oxford","ME_613 CHD","CHD","None","A"]
[null,null,null,null,null,"Oxford","ME_613 CHC","CHC","None","A"]
[null,null,null,null,null,"Oxford","ME_613 Bp","Bp","None","D"]
[null,null,null,null,null,"Oxford","ME_613 BkD","BkD","None","C"]
[null,null,null,null,null,"Oxford","ME_613 BkC","BkC","None","C"]
[null,null,null,null,null,"Oxford","ME_613 BkB","BkB","None","C"]
[null,null,null,null,null,"Oxford","ME_613 BeD","BeD","None","C"]
[null,null,null,null,null,"Oxford","ME_613 BeC","BeC","None","C"]
[null,null,null,null,null,"Oxford","ME_613 BeB","BeB","None","C"]
[null,null,null,null,null,"Oxford","ME_613 BRB","BRB","None","D"]
[null,null,null,null,null,"Oxford","ME_613 AdD","AdD","None","A"]
[null,null,null,null,null,"Oxford","ME_613 AdC","AdC","None","A"]
[null,null,null,null,null,"Oxford","ME_613 AdB","AdB","None","A"]
[null,null,null,null,null,"Oxford","ME_613 AdA","AdA","None","A"]
[null,null,null,null,null,"Oxford","ME_613 AbE","AbE","None","D"]
[null,null,null,null,null,"Oxford","ME_613 AHD","AHD","None","A"]
[null,null,null,null,null,"Oxford","ME_613 AHC","AHC","None","A"]
[null,null,null,null,null,"Oxford","ME_613 AGC","AGC","None","A"]
[null,null,null,null,null,"Oxford","ME_613 AED","AED","None","A"]
[null,null,null,null,null,"Oxford","ME_613 ACE","ACE","None","D"]
[null,null,null,null,null,"Oxford","ME_613 ACC","ACC","None","D"]
[null,null,null,null,null,"Penobscot",{"$f":"$C$20&\" \"&H1824","v":"ME_614 AaB"},"AaB","None","A"]
[null,null,null,null,null,"Penobscot","ME_614 AaC","AaC","None","A"]
[null,null,null,null,null,"Penobscot","ME_614 AaE","AaE","None","A"]
[null,null,null,null,null,"Penobscot","ME_614 AgA","AgA","None","B"]
[null,null,null,null,null,"Penobscot","ME_614 AgB","AgB","None","B"]
[null,null,null,null,null,"Penobscot","ME_614 AgC","AgC","None","B"]
[null,null,null,null,null,"Penobscot","ME_614 AgD","AgD","None","B"]
[null,null,null,null,null,"Penobscot","ME_614 BaA","BaA","None","B"]
[null,null,null,null,null,"Penobscot","ME_614 BaB","BaB","None","B"]
[null,null,null,null,null,"Penobscot","ME_614 BaC","BaC","None","B"]
[null,null,null,null,null,"Penobscot","ME_614 BaD","BaD","None","B"]
[null,null,null,null,null,"Penobscot","ME_614 BmB","BmB","None","B"]
[null,null,null,null,null,"Penobscot","ME_614 BmC","BmC","None","B"]
[null,null,null,null,null,"Penobscot","ME_614 BmD","BmD","None","B"]
[null,null,null,null,null,"Penobscot","ME_614 BnB","BnB","None","B"]
[null,null,null,null,null,"Penobscot","ME_614 BnC","BnC","None","B"]
[null,null,null,null,null,"Penobscot","ME_614 BnD","BnD","None","B"]
[null,null,null,null,null,"Penobscot","ME_614 BoA","BoA","None","D"]
[null,null,null,null,null,"Penobscot","ME_614 BrA","BrA","None","D"]
[null,null,null,null,null,"Penobscot","ME_614 BuA","BuA","None","C/D"]
[null,null,null,null,null,"Penobscot","ME_614 BuB","BuB","None","C/D"]
[null,null,null,null,null,"Penobscot","ME_614 BuC","BuC","None","C/D"]
[null,null,null,null,null,"Penobscot","ME_614 BxB","BxB","None","D"]
[null,null,null,null,null,"Penobscot","ME_614 CaC","CaC","None","D"]
[null,null,null,null,null,"Penobscot","ME_614 CaE","CaE","None","D"]
[null,null,null,null,null,"Penobscot","ME_614 CcB","CcB","None","A"]
[null,null,null,null,null,"Penobscot","ME_614 CnA","CnA","None","A"]
[null,null,null,null,null,"Penobscot","ME_614 CnB","CnB","None","A"]
[null,null,null,null,null,"Penobscot","ME_614 CnC","CnC","None","A"]
[null,null,null,null,null,"Penobscot","ME_614 CnD","CnD","None","A"]
[null,null,null,null,null,"Penobscot","ME_614 CnE","CnE","None","A"]
[null,null,null,null,null,"Penobscot","ME_614 DaA","DaA","None","D"]
[null,null,null,null,null,"Penobscot",{"$f":"$C$20&\" \"&H1856","v":"ME_614 DaB"},"DaB","None","D"]
[null,null,null,null,null,"Penobscot","ME_614 DaC","DaC","None","D"]
[null,null,null,null,null,"Penobscot","ME_614 DgA","DgA","None","D"]
[null,null,null,null,null,"Penobscot","ME_614 DgB","DgB","None","D"]
[null,null,null,null,null,"Penobscot","ME_614 DgC","DgC","None","D"]
[null,null,null,null,null,"Penobscot","ME_614 DxA","DxA","None","C/D"]
[null,null,null,null,null,"Penobscot","ME_614 DxB","DxB","None","C/D"]
[null,null,null,null,null,"Penobscot","ME_614 DxC","DxC","None","C/D"]
[null,null,null,null,null,"Penobscot","ME_614 DyA","DyA","None","C/D"]
[null,null,null,null,null,"Penobscot","ME_614 DyB","DyB","None","C/D"]
[null,null,null,null,null,"Penobscot","ME_614 DyC","DyC","None","C/D"]
[null,null,null,null,null,"Penobscot","ME_614 EwB","EwB","None","B"]
[null,null,null,null,null,"Penobscot","ME_614 Ha","Ha","Occasional","B"]
[null,null,null,null,null,"Penobscot","ME_614 HbB","HbB","None","A"]
[null,null,null,null,null,"Penobscot","ME_614 HbC","HbC","None","A"]
[null,null,null,null,null,"Penobscot","ME_614 HdB","HdB","None","A"]
[null,null,null,null,null,"Penobscot","ME_614 HdC","HdC","None","A"]
[null,null,null,null,null,"Penobscot","ME_614 HeB","HeB","None","A"]
[null,null,null,null,null,"Penobscot","ME_614 HeC","HeC","None","A"]
[null,null,null,null,null,"Penobscot","ME_614 HeE","HeE","None","A"]
[null,null,null,null,null,"Penobscot","ME_614 HhC","HhC","None","A"]
[null,null,null,null,null,"Penobscot","ME_614 HoB","HoB","None","C/D"]
[null,null,null,null,null,"Penobscot","ME_614 HoC","HoC","None","C/D"]
[null,null,null,null,null,"Penobscot","ME_614 HvB","HvB","None","C/D"]
[null,null,null,null,null,"Penobscot","ME_614 HvC","HvC","None","C/D"]
[null,null,null,null,null,"Penobscot","ME_614 HvD","HvD","None","C/D"]
[null,null,null,null,null,"Penobscot","ME_614 Lk","Lk","Frequent","B/D"]
[null,null,null,null,null,"Penobscot","ME_614 MaB","MaB","None","B"]
[null,null,null,null,null,"Penobscot","ME_614 MbB","MbB","None","B"]
[null,null,null,null,null,"Penobscot","ME_614 Md","Md","None"]
[null,null,null,null,null,"Penobscot","ME_614 MeB","MeB","None","B"]
[null,null,null,null,null,"Penobscot","ME_614 MeC","MeC","None","B"]
[null,null,null,null,null,"Penobscot",{"$f":"$C$20&\" \"&H1888","v":"ME_614 Mn"},"Mn","None"]
[null,null,null,null,null,"Penobscot","ME_614 MoB","MoB","None","D"]
[null,null,null,null,null,"Penobscot","ME_614 MrB","MrB","None","D"]
[null,null,null,null,null,"Penobscot","ME_614 MsC","MsC","None","D"]
[null,null,null,null,null,"Penobscot","ME_614 Mu","Mu","None","A/D"]
[null,null,null,null,null,"Penobscot","ME_614 On","On","Occasional","B"]
[null,null,null,null,null,"Penobscot","ME_614 Pa","Pa","None","A/D"]
[null,null,null,null,null,"Penobscot","ME_614 Pc","Pc","None","A/D"]
[null,null,null,null,null,"Penobscot","ME_614 Pf","Pf","None","A/D"]
[null,null,null,null,null,"Penobscot","ME_614 PgB","PgB","None","C"]
[null,null,null,null,null,"Penobscot","ME_614 PgC","PgC","None","C"]
[null,null,null,null,null,"Penobscot","ME_614 PgD","PgD","None","C"]
[null,null,null,null,null,"Penobscot","ME_614 PgE","PgE","None","C"]
[null,null,null,null,null,"Penobscot","ME_614 PhB","PhB","None","C"]
[null,null,null,null,null,"Penobscot","ME_614 PhC","PhC","None","C"]
[null,null,null,null,null,"Penobscot","ME_614 PmB","PmB","None","C"]
[null,null,null,null,null,"Penobscot","ME_614 PmC","PmC","None","C"]
[null,null,null,null,null,"Penobscot","ME_614 PrC","PrC","None","C"]
[null,null,null,null,null,"Penobscot","ME_614 PrE","PrE","None","C"]
[null,null,null,null,null,"Penobscot","ME_614 Ps","Ps","None","A/D"]
[null,null,null,null,null,"Penobscot","ME_614 Py","Py","Occasional","B/D"]
[null,null,null,null,null,"Penobscot","ME_614 RaB","RaB","None","B/D"]
[null,null,null,null,null,"Penobscot","ME_614 RdB","RdB","None","B/D"]
[null,null,null,null,null,"Penobscot","ME_614 Re","Re","None"]
[null,null,null,null,null,"Penobscot","ME_614 RkC","RkC","None"]
[null,null,null,null,null,"Penobscot","ME_614 RkD","RkD","None"]
[null,null,null,null,null,"Penobscot","ME_614 RmC","RmC","None"]
[null,null,null,null,null,"Penobscot","ME_614 RmD","RmD","None"]
[null,null,null,null,null,"Penobscot","ME_614 Ro","Ro","None"]
[null,null,null,null,null,"Penobscot","ME_614 Sa","Sa","Frequent","B/D"]
[null,null,null,null,null,"Penobscot","ME_614 ScB","ScB","None","D"]
[null,null,null,null,null,"Penobscot","ME_614 SeA","SeA","None","A"]
[null,null,null,null,null,"Penobscot",{"$f":"$C$20&\" \"&H1920","v":"ME_614 SeB"},"SeB","None","A"]
[null,null,null,null,null,"Penobscot","ME_614 SeC","SeC","None","A"]
[null,null,null,null,null,"Penobscot","ME_614 SeD","SeD","None","A"]
[null,null,null,null,null,"Penobscot","ME_614 SfC","SfC","None","A"]
[null,null,null,null,null,"Penobscot","ME_614 SfE","SfE","None","A"]
[null,null,null,null,null,"Penobscot","ME_614 ShD","ShD","None","A"]
[null,null,null,null,null,"Penobscot","ME_614 SpD","SpD","None","C"]
[null,null,null,null,null,"Penobscot","ME_614 SuA","SuA","None","C/D"]
[null,null,null,null,null,"Penobscot","ME_614 SuB","SuB","None","D"]
[null,null,null,null,null,"Penobscot","ME_614 SuC","SuC","None","D"]
[null,null,null,null,null,"Penobscot","ME_614 SuD","SuD","None","D"]
[null,null,null,null,null,"Penobscot","ME_614 SuE","SuE","None","D"]
[null,null,null,null,null,"Penobscot","ME_614 SvA","SvA","None","C/D"]
[null,null,null,null,null,"Penobscot","ME_614 SvB","SvB","None","D"]
[null,null,null,null,null,"Penobscot","ME_614 SvC","SvC","None","D"]
[null,null,null,null,null,"Penobscot","ME_614 SvD","SvD","None","D"]
[null,null,null,null,null,"Penobscot","ME_614 ThB","ThB","None","D"]
[null,null,null,null,null,"Penobscot","ME_614 ThC","ThC","None","D"]
[null,null,null,null,null,"Penobscot","ME_614 ThD","ThD","None","D"]
[null,null,null,null,null,"Penobscot","ME_614 ThE","ThE","None","D"]
[null,null,null,null,null,"Penobscot","ME_614 TkB","TkB","None","D"]
[null,null,null,null,null,"Penobscot","ME_614 TkC","TkC","None","D"]
[null,null,null,null,null,"Penobscot","ME_614 TvB","TvB","None","D"]
[null,null,null,null,null,"Penobscot","ME_614 TvC","TvC","None","D"]
[null,null,null,null,null,"Penobscot","ME_614 TvD","TvD","None","D"]
[null,null,null,null,null,"Penobscot","ME_614 Wn","Wn","Occasional","C"]
[null,null,null,null,null,"Penobscot","ME_614 GP","GP","None"]
[null,null,null,null,null,"Penobscot","ME_614 BP","BP","None"]
[null,null,null,null,null,"Penobscot","ME_614 DU","DU","None"]
[null,null,null,null,null,"Southern Piscataquis",{"$f":"$C$21&\" \"&H1949","v":"ME_615 AEC"},"AEC","None","A"]
[null,null,null,null,null,"Southern Piscataquis","ME_615 AFD","AFD","None","A"]
[null,null,null,null,null,"Southern Piscataquis","ME_615 AHC","AHC","None","B"]
[null,null,null,null,null,"Southern Piscataquis","ME_615 Ps","Ps","None"]
[null,null,null,null,null,"Southern Piscataquis","ME_615 PtB","PtB","None","C"]
[null,null,null,null,null,"Southern Piscataquis","ME_615 PtC","PtC","None","C"]
[null,null,null,null,null,"Southern Piscataquis","ME_615 ROD","ROD","None","D"]
[null,null,null,null,null,"Southern Piscataquis","ME_615 SRD","SRD","None","D"]
[null,null,null,null,null,"Southern Piscataquis","ME_615 SRE","SRE","None","D"]
[null,null,null,null,null,"Southern Piscataquis","ME_615 SUD","SUD","None","C/D"]
[null,null,null,null,null,"Southern Piscataquis","ME_615 SW","SW","None","C/D"]
[null,null,null,null,null,"Southern Piscataquis","ME_615 Sv","Sv","None","C/D"]
[null,null,null,null,null,"Southern Piscataquis","ME_615 THC","THC","None","D"]
[null,null,null,null,null,"Southern Piscataquis","ME_615 TLC","TLC","None","D"]
[null,null,null,null,null,"Southern Piscataquis","ME_615 TMB","TMB","None","D"]
[null,null,null,null,null,"Southern Piscataquis","ME_615 TNB","TNB","None","D"]
[null,null,null,null,null,"Southern Piscataquis","ME_615 TRC","TRC","None","D"]
[null,null,null,null,null,"Southern Piscataquis","ME_615 TSC","TSC","None","D"]
[null,null,null,null,null,"Southern Piscataquis","ME_615 TeB","TeB","None","D"]
[null,null,null,null,null,"Southern Piscataquis","ME_615 ToC","ToC","None","D"]
[null,null,null,null,null,"Southern Piscataquis","ME_615 TtB","TtB","None","D"]
[null,null,null,null,null,"Southern Piscataquis","ME_615 UpB","UpB","None","C"]
[null,null,null,null,null,"Southern Piscataquis","ME_615 WB","WB","None","B/D"]
[null,null,null,null,null,"Southern Piscataquis","ME_615 PhC","PhC","None","C"]
[null,null,null,null,null,"Southern Piscataquis","ME_615 PhB","PhB","None","C"]
[null,null,null,null,null,"Southern Piscataquis","ME_615 PeC","PeC","None","C"]
[null,null,null,null,null,"Southern Piscataquis","ME_615 PeB","PeB","None","C"]
[null,null,null,null,null,"Southern Piscataquis","ME_615 PWD","PWD","None","C"]
[null,null,null,null,null,"Southern Piscataquis","ME_615 PWC","PWC","None","C"]
[null,null,null,null,null,"Southern Piscataquis","ME_615 PFC","PFC","None","C"]
[null,null,null,null,null,"Southern Piscataquis","ME_615 MvB","MvB","None","D"]
[null,null,null,null,null,"Southern Piscataquis","ME_615 MrB","MrB","None","A"]
[null,null,null,null,null,"Southern Piscataquis",{"$f":"$C$21&\" \"&H1981","v":"ME_615 MaC"},"MaC","None","C"]
[null,null,null,null,null,"Southern Piscataquis","ME_615 MYE","MYE","None","D"]
[null,null,null,null,null,"Southern Piscataquis","ME_615 MYD","MYD","None","D"]
[null,null,null,null,null,"Southern Piscataquis","ME_615 MXB","MXB","None","D"]
[null,null,null,null,null,"Southern Piscataquis","ME_615 MW","MW","None","D"]
[null,null,null,null,null,"Southern Piscataquis","ME_615 MTE","MTE","None","A"]
[null,null,null,null,null,"Southern Piscataquis","ME_615 MSC","MSC","None","A"]
[null,null,null,null,null,"Southern Piscataquis","ME_615 MND","MND","None","C"]
[null,null,null,null,null,"Southern Piscataquis","ME_615 MLE","MLE","None","C"]
[null,null,null,null,null,"Southern Piscataquis","ME_615 MDD","MDD","None","C"]
[null,null,null,null,null,"Southern Piscataquis","ME_615 LTE","LTE","None","D"]
[null,null,null,null,null,"Southern Piscataquis","ME_615 LTD","LTD","None","D"]
[null,null,null,null,null,"Southern Piscataquis","ME_615 LAE","LAE","None","D"]
[null,null,null,null,null,"Southern Piscataquis","ME_615 LAD","LAD","None","D"]
[null,null,null,null,null,"Southern Piscataquis","ME_615 HoB","HoB","None","C/D"]
[null,null,null,null,null,"Southern Piscataquis","ME_615 HRB","HRB","None","C/D"]
[null,null,null,null,null,"Southern Piscataquis","ME_615 Fr","Fr","Occasional","B"]
[null,null,null,null,null,"Southern Piscataquis","ME_615 EcB","EcB","None","C"]
[null,null,null,null,null,"Southern Piscataquis","ME_615 ENE","ENE","None","B"]
[null,null,null,null,null,"Southern Piscataquis","ME_615 END","END","None","B"]
[null,null,null,null,null,"Southern Piscataquis","ME_615 DaB","DaB","None","A"]
[null,null,null,null,null,"Southern Piscataquis","ME_615 CsB","CsB","Occasional","D"]
[null,null,null,null,null,"Southern Piscataquis","ME_615 CeB","CeB","None","C/D"]
[null,null,null,null,null,"Southern Piscataquis","ME_615 BhB","BhB","None","D"]
[null,null,null,null,null,"Washington",{"$f":"$C$22&\" \"&H2030","v":"ME_617 ACE"},"ACE","None","D"]
[null,null,null,null,null,"Washington","ME_617 AdA","AdA","None","A"]
[null,null,null,null,null,"Washington","ME_617 BZC","BZC","None","C"]
[null,null,null,null,null,"Washington","ME_617 BxC","BxC","None","C/D"]
[null,null,null,null,null,"Washington","ME_617 CVC","CVC","None","D"]
[null,null,null,null,null,"Washington","ME_617 CpC","CpC","None","A"]
[null,null,null,null,null,"Washington",{"$f":"$C$22&\" \"&H2062","v":"ME_617 CzB"},"CzB","None","A"]
[null,null,null,null,null,"Washington","ME_617 DfC","DfC","None","C/D"]
[null,null,null,null,null,"Washington","ME_617 HSC","HSC","None","A"]
[null,null,null,null,null,"Washington","ME_617 HeC","HeC","None","A"]
[null,null,null,null,null,"Washington","ME_617 LHB","LHB","None","C/D"]
[null,null,null,null,null,"Washington","ME_617 LYC","LYC","None","D"]
[null,null,null,null,null,"Washington","ME_617 MRE","MRE","None","A"]
[null,null,null,null,null,"Washington","ME_617 MmC","MmC","None","A"]
[null,null,null,null,null,"Washington","ME_617 NAC","NAC","None","D"]
[null,null,null,null,null,"Washington","ME_617 SF","SF","None","D"]
[null,null,null,null,null,"Washington",{"$f":"$C$22&\" \"&H2126","v":"ME_617 SmB"},"SmB","None","C/D"]
[null,null,null,null,null,"Washington","ME_617 TCB","TCB","None","D"]
[null,null,null,null,null,"Washington","ME_617 AaE","AaE","None","D"]
[null,null,null,null,null,"Washington","ME_617 HWE","HWE","None","D"]
[null,null,null,null,null,"Washington","ME_617 RmC","RmC","None","D"]
[null,null,null,null,null,"Somerset, Parts of Franklin and Oxford","ME_619 RTF","RTF","None"]
[null,null,null,null,null,"Somerset, Parts of Franklin and Oxford","ME_619 CHC","CHC","None","C/D"]
[null,null,null,null,null,"Somerset, Parts of Franklin and Oxford","ME_619 CVC","CVC","None","A"]
[null,null,null,null,null,"Somerset, Parts of Franklin and Oxford","ME_619 BSE","BSE","None","C/D"]
[null,null,null,null,null,"Somerset, Parts of Franklin and Oxford","ME_619 CG","CG","Frequent","B/D"]
[null,null,null,null,null,"Somerset, Parts of Franklin and Oxford","ME_619 CPB","CPB","None","D"]
[null,null,null,null,null,"Somerset, Parts of Franklin and Oxford","ME_619 SUC","SUC","None","C/D"]
[null,null,null,null,null,"Somerset, Parts of Franklin and Oxford","ME_619 CHD","CHD","None","C/D"]
[null,null,null,null,null,"Somerset, Parts of Franklin and Oxford","ME_619 LAC","LAC","None","D"]
[null,null,null,null,null,"Somerset, Parts of Franklin and Oxford","ME_619 MVE","MVE","None","D"]
[null,null,null,null,null,"Somerset, Parts of Franklin and Oxford","ME_619 TPB","TPB","None","C"]
[null,null,null,null,null,"Northern Piscataquis and Northern Somerset","ME_620 RW","RW","None","B/D"]
[null,null,null,null,null,"Northern Piscataquis and Northern Somerset","ME_620 MSB","MSB","None","A"]
[null,null,null,null,null,"Northern Piscataquis and Northern Somerset","ME_620 BSC","BSC","None","C"]
[null,null,null,null,null,"Northern Piscataquis and Northern Somerset","ME_620 BRC","BRC","None","C"]
[null,null,null,null,null,"Northern Piscataquis and Northern Somerset","ME_620 DAE","DAE","None","C"]
[null,null,null,null,null,"Northern Piscataquis and Northern Somerset","ME_620 TMB","TMB","None","D"]
[null,null,null,null,null,"Northern Piscataquis and Northern Somerset","ME_620 KS","KS","None","D"]
[null,null,null,null,null,"Northern Piscataquis and Northern Somerset","ME_620 AHE","AHE","None","D"]
[null,null,null,null,null,"Northern Piscataquis and Northern Somerset","ME_620 KRF","KRF","None","D"]
[null,null,null,null,null,"Northern Piscataquis and Northern Somerset","ME_620 SRE","SRE","None","C"]
[null,null,null,null,null,"Northern Piscataquis and Northern Somerset","ME_620 CHE","CHE","None","A"]
[null,null,null,null,null,"Northern Piscataquis and Northern Somerset","ME_620 HAC","HAC","None","D"]
[null,null,null,null,null,"Western Aroostook",{"$f":"$C$25&\" \"&H2291","v":"ME_621 CC"},"CC","Frequent","B/D"]
[null,null,null,null,null,"Western Aroostook","ME_621 AME","AME","None","A"]
[null,null,null,null,null,"Western Aroostook","ME_621 DOC","DOC","None","C"]
[null,null,null,null,null,"Western Aroostook","ME_621 BPA","BPA","None","D"]
[null,null,null,null,null,"Western Aroostook","ME_621 MRC","MRC","None","D"]
[null,null,null,null,null,"Western Aroostook","ME_621 MKE","MKE","None","D"]
[null,null,null,null,null,"Western Aroostook","ME_621 ABA","ABA","None","D"]
[null,null,null,null,null,"Northern Hancock, Western Washington",{"$f":"$C$26&\" \"&H2336","v":"ME_622 PSA"},"PSA","None","D"]
[null,null,null,null,null,"Northern Hancock, Western Washington","ME_622 CSE","CSE","None","A"]
[null,null,null,null,null,"Northern Hancock, Western Washington","ME_622 LCB","LCB","None","C/D"]
[null,null,null,null,null,"Northern Hancock, Western Washington","ME_622 LUC","LUC","None","D"]
[null,null,null,null,null,"Northern Hancock, Western Washington","ME_622 DNB","DNB","None","C/D"]
[null,null,null,null,null,"Northern Hancock, Western Washington","ME_622 ARE","ARE","None","D"]
[null,null,null,null,null,"Northern Hancock, Western Washington",{"$f":"$C$26&\" \"&H2368","v":"ME_622 HVD"},"HVD","None","D"]
[null,null,null,null,null,"Northern Hancock, Western Washington","ME_622 MTC","MTC","None","B"]
[null,null,null,null,null,"Northern Hancock, Western Washington","ME_622 DOC","DOC","None","C/D"]
[null,null,null,null,null,"Northern Hancock, Western Washington","ME_622 CNC","CNC","None","C/D"]
[null,null,null,null,null,"Northern Hancock, Western Washington","ME_622 CHD","CHD","None","C/D"]
[null,null,null,null,null,"Northern Hancock, Western Washington","ME_622 MXF","MXF","None","D"]
[null,null,null,null,null,"Northern Hancock, Western Washington","ME_622 KRE","KRE","None","D"]
[null,null,null,null,null,"Barnstable","MA_001 488C","488C","None","A"]
[null,null,null,null,null,"Barnstable","MA_001 489C","489C","None","A"]
[null,null,null,null,null,"Barnstable","MA_001 252A","252A","None","A"]
[null,null,null,null,null,"Barnstable","MA_001 263C","263C","None","A"]
[null,null,null,null,null,"Barnstable","MA_001 611",611,"Rare"]
[null,null,null,null,null,"Barnstable","MA_001 55A","55A","Frequent","B/D"]
[null,null,null,null,null,"Barnstable","MA_001 226C","226C","None","C/D"]
[null,null,null,null,null,"Barnstable","MA_001 613C","613C","Rare","A"]
[null,null,null,null,null,"Barnstable","MA_001 254D","254D","None","A"]
[null,null,null,null,null,"Barnstable","MA_001 380C","380C","None","B"]
[null,null,null,null,null,"Barnstable","MA_001 436C","436C","None","A"]
[null,null,null,null,null,"Barnstable","MA_001 14A","14A","None","C/D"]
[null,null,null,null,null,"Barnstable","MA_001 23A","23A","Frequent","A/D"]
[null,null,null,null,null,"Berkshire","MA_003 267D","267D","None","A"]
[null,null,null,null,null,"Berkshire","MA_003 930C","930C","None","C"]
[null,null,null,null,null,"Berkshire","MA_003 269C","269C","None","A"]
[null,null,null,null,null,"Berkshire","MA_003 271A","271A","None","B"]
[null,null,null,null,null,"Berkshire","MA_003 242B","242B","None","A"]
[null,null,null,null,null,"Berkshire","MA_003 78A","78A","None","C/D"]
[null,null,null,null,null,"Berkshire","MA_003 86A","86A","None","C/D"]
[null,null,null,null,null,"Berkshire","MA_003 254C","254C","None","A"]
[null,null,null,null,null,"Berkshire","MA_003 507C","507C","None","B"]
[null,null,null,null,null,"Berkshire","MA_003 75B","75B","None","D"]
[null,null,null,null,null,"Berkshire",{"$f":"$C$28&\" \"&H2550","v":"MA_003 510D"},"510D","None","A"]
[null,null,null,null,null,"Berkshire","MA_003 514E","514E","None","A"]
[null,null,null,null,null,"Berkshire","MA_003 515B","515B","None","C"]
[null,null,null,null,null,"Berkshire","MA_003 32A","32A","None","A/D"]
[null,null,null,null,null,"Dukes","MA_007 609",609,"Frequent"]
[null,null,null,null,null,"Dukes","MA_007 460C","460C","None","A"]
[null,null,null,null,null,"Dukes","MA_007 180C","180C","None","C"]
[null,null,null,null,null,"Dukes","MA_007 285C","285C","None","A"]
[null,null,null,null,null,"Dukes","MA_007 456C","456C","None","A"]
[null,null,null,null,null,"Dukes","MA_007 811",811,"Frequent","D"]
[null,null,null,null,null,"Dukes","MA_007 308B","308B","None","D"]
[null,null,null,null,null,"Dukes","MA_007 380C","380C","None","B"]
[null,null,null,null,null,"Dukes","MA_007 809",809,"Frequent","D"]
[null,null,null,null,null,"Dukes","MA_007 813",813,"Frequent","D"]
[null,null,null,null,null,"Dukes",{"$f":"$C$29&\" \"&H2635","v":"MA_007 88A"},"88A","None","C/D"]
[null,null,null,null,null,"Franklin",{"$f":"$C$30&\" \"&H2644","v":"MA_011 275A"},"275A","None","B"]
[null,null,null,null,null,"Franklin","MA_011 375C","375C","None","D"]
[null,null,null,null,null,"Franklin","MA_011 459C","459C","None","B"]
[null,null,null,null,null,"Franklin","MA_011 330C","330C","None","D"]
[null,null,null,null,null,"Franklin","MA_011 850A","850A","None","B/D"]
[null,null,null,null,null,"Franklin","MA_011 421C","421C","None","B"]
[null,null,null,null,null,"Franklin","MA_011 142B","142B","None","C"]
[null,null,null,null,null,"Franklin","MA_011 405B","405B","None","B"]
[null,null,null,null,null,"Franklin","MA_011 109D","109D","None","B"]
[null,null,null,null,null,"Franklin","MA_011 462C","462C","None","A"]
[null,null,null,null,null,"Franklin","MA_011 445D","445D","None","A"]
[null,null,null,null,null,"Franklin","MA_011 118C","118C","None","A"]
[null,null,null,null,null,"Franklin","MA_011 283C","283C","None","A"]
[null,null,null,null,null,"Franklin","MA_011 141D","141D","None","B"]
[null,null,null,null,null,"Franklin","MA_011 470D","470D","None","B"]
[null,null,null,null,null,"Franklin","MA_011 386D","386D","None","B/D"]
[null,null,null,null,null,"Franklin","MA_011 441C","441C","None","C"]
[null,null,null,null,null,"Franklin","MA_011 90A","90A","Rare","B"]
[null,null,null,null,null,"Franklin","MA_011 349D","349D","None","B"]
[null,null,null,null,null,"Franklin","MA_011 245C","245C","None","A"]
[null,null,null,null,null,"Franklin","MA_011 521D","521D","None","D"]
[null,null,null,null,null,"Franklin","MA_011 152D","152D","None","C"]
[null,null,null,null,null,"Franklin",{"$f":"$C$30&\" \"&H2772","v":"MA_011 355B"},"355B","None","C"]
[null,null,null,null,null,"Franklin","MA_011 254B","254B","None","A"]
[null,null,null,null,null,"Franklin","MA_011 116C","116C","None","B"]
[null,null,null,null,null,"Franklin","MA_011 116D","116D","None","B"]
[null,null,null,null,null,"Franklin","MA_011 129D","129D","None","B"]
[null,null,null,null,null,"Franklin","MA_011 300B","300B","None","C"]
[null,null,null,null,null,"Franklin","MA_011 276A","276A","None","C"]
[null,null,null,null,null,"Franklin","MA_011 306F","306F","None","C"]
[null,null,null,null,null,"Franklin","MA_011 360C","360C","None","C/D"]
[null,null,null,null,null,"Franklin","MA_011 345C","345C","None","C/D"]
[null,null,null,null,null,"Franklin",{"$f":"$C$30&\" \"&H2836","v":"MA_011 30A"},"30A","None","C/D"]
[null,null,null,null,null,"Franklin","MA_011 70B","70B","None","D"]
[null,null,null,null,null,"Franklin","MA_011 315B","315B","None","C/D"]
[null,null,null,null,null,"Franklin","MA_011 316C","316C","None","C/D"]
[null,null,null,null,null,"Franklin","MA_011 371F","371F","None","B/D"]
[null,null,null,null,null,"Franklin","MA_011 138C","138C","None","D"]
[null,null,null,null,null,"Franklin","MA_011 652",652,"None","B"]
[null,null,null,null,null,"Franklin","MA_011 230B","230B","None","B"]
[null,null,null,null,null,"Franklin","MA_011 397C","397C","None","C"]
[null,null,null,null,null,"Franklin","MA_011 397D","397D","None","C"]
[null,null,null,null,null,"Franklin","MA_011 98A","98A","Occasional","B/D"]
[null,null,null,null,null,"Franklin","MA_011 310C","310C","None","C/D"]
[null,null,null,null,null,"Franklin","MA_011 131F","131F","None","B"]
[null,null,null,null,null,"Middlesex","MA_017 341B","341B","None","D"]
[null,null,null,null,null,"Middlesex","MA_017 422C","422C","None","B"]
[null,null,null,null,null,"Middlesex","MA_017 424C","424C","None","A"]
[null,null,null,null,null,"Middlesex","MA_017 405B","405B","None","B"]
[null,null,null,null,null,"Middlesex","MA_017 405C","405C","None","B"]
[null,null,null,null,null,"Middlesex","MA_017 251A","251A","None","A"]
[null,null,null,null,null,"Middlesex","MA_017 253A","253A","None","A"]
[null,null,null,null,null,"Middlesex","MA_017 8A","8A","Frequent","B/D"]
[null,null,null,null,null,"Middlesex","MA_017 302C","302C","None","C"]
[null,null,null,null,null,"Middlesex","MA_017 416B","416B","None","A"]
[null,null,null,null,null,"Middlesex","MA_017 325D","325D","None","D"]
[null,null,null,null,null,"Middlesex","MA_017 307D","307D","None","C"]
[null,null,null,null,null,"Middlesex","MA_017 307E","307E","None","C"]
[null,null,null,null,null,"Middlesex","MA_017 262D","262D","None","A"]
[null,null,null,null,null,"Middlesex","MA_017 4A","4A","Frequent","A/D"]
[null,null,null,null,null,"Middlesex","MA_017 223A","223A","None","B/D"]
[null,null,null,null,null,"Middlesex","MA_017 51A","51A","Rare","B/D"]
[null,null,null,null,null,"Middlesex","MA_017 656",656,"None"]
[null,null,null,null,null,"Middlesex","MA_017 32B","32B","None","A/D"]
[null,null,null,null,null,"Middlesex","MA_017 311B","311B","None","C/D"]
[null,null,null,null,null,"Middlesex","MA_017 311C","311C","None","C/D"]
[null,null,null,null,null,"Nantucket","MA_019 291B","291B","None","A"]
[null,null,null,null,null,"Nantucket","MA_019 287A","287A","None","A"]
[null,null,null,null,null,"Nantucket","MA_019 63A","63A","Frequent","A/D"]
[null,null,null,null,null,"Nantucket","MA_019 313A","313A","None","C"]
[null,null,null,null,null,"Plymouth","MA_023 431C","431C","None","B"]
[null,null,null,null,null,"Plymouth","MA_023 483C","483C","None","B"]
[null,null,null,null,null,"Plymouth","MA_023 752",752,"Frequent"]
[null,null,null,null,null,"Plymouth","MA_023 320A","320A","None","B/D"]
[null,null,null,null,null,"Plymouth","MA_023 340B","340B","None","C"]
[null,null,null,null,null,"Plymouth","MA_023 110C","110C","None","B"]
[null,null,null,null,null,"Plymouth","MA_023 420B","420B","None","B"]
[null,null,null,null,null,"Plymouth","MA_023 252A","252A","None","A"]
[null,null,null,null,null,"Plymouth","MA_023 278A","278A","None","A"]
[null,null,null,null,null,"Plymouth","MA_023 637B","637B","None","A"]
[null,null,null,null,null,"Plymouth","MA_023 221A","221A","None","C/D"]
[null,null,null,null,null,"Plymouth","MA_023 52A","52A","Rare","B/D"]
[null,null,null,null,null,"Plymouth","MA_023 453E","453E","None","A"]
[null,null,null,null,null,"Plymouth","MA_023 289B","289B","None","A"]
[null,null,null,null,null,"Plymouth","MA_023 226C","226C","None","C"]
[null,null,null,null,null,"Plymouth","MA_023 69A","69A","None","D"]
[null,null,null,null,null,"Plymouth","MA_023 300C","300C","None","C"]
[null,null,null,null,null,"Plymouth","MA_023 301C","301C","None","C"]
[null,null,null,null,null,"Plymouth","MA_023 427A","427A","None","B"]
[null,null,null,null,null,"Plymouth","MA_023 325C","325C","None","B/D"]
[null,null,null,null,null,"Plymouth","MA_023 49B","49B","None","D"]
[null,null,null,null,null,"Plymouth","MA_023 345A","345A","None","D"]
[null,null,null,null,null,"Plymouth","MA_023 346B","346B","None","D"]
[null,null,null,null,null,"Plymouth","MA_023 437E","437E","None","A"]
[null,null,null,null,null,"Plymouth","MA_023 480E","480E","None","A"]
[null,null,null,null,null,"Plymouth","MA_023 481E","481E","None","A"]
[null,null,null,null,null,"Plymouth","MA_023 262B","262B","None","A"]
[null,null,null,null,null,"Plymouth","MA_023 11A","11A","None","A/D"]
[null,null,null,null,null,"Plymouth","MA_023 6A","6A","None","A/D"]
[null,null,null,null,null,"Plymouth","MA_023 316A","316A","None","C/D"]
[null,null,null,null,null,"Plymouth","MA_023 200A","200A","None","A/D"]
[null,null,null,null,null,"Plymouth","MA_023 665B","665B","None","A"]
[null,null,null,null,null,"Plymouth","MA_023 622C","622C",null,"D"]
[null,null,null,null,null,"Plymouth","MA_023 227B","227B","None","A"]
[null,null,null,null,null,"Plymouth","MA_023 255B","255B","None","A"]
[null,null,null,null,null,"Plymouth","MA_023 98A","98A","Occasional","C"]
[null,null,null,null,null,"Bristol Northern","MA_602 258A","258A","None","B"]
[null,null,null,null,null,"Bristol Northern","MA_602 706C","706C","None","B"]
[null,null,null,null,null,"Bristol Northern","MA_602 902C","902C","None","B"]
[null,null,null,null,null,"Bristol Northern","MA_602 245C","245C","None","A"]
[null,null,null,null,null,"Bristol Northern","MA_602 305B","305B","None","C"]
[null,null,null,null,null,"Bristol Northern","MA_602 306C","306C","None","C"]
[null,null,null,null,null,"Bristol Northern","MA_602 70A","70A","None","D"]
[null,null,null,null,null,"Bristol Northern","MA_602 71B","71B","None","D"]
[null,null,null,null,null,"Bristol Northern","MA_602 651",651,"None","A"]
[null,null,null,null,null,"Bristol Northern","MA_602 255A","255A","None","A"]
[null,null,null,null,null,"Bristol Northern","MA_602 255D","255D","None","A"]
[null,null,null,null,null,"Bristol Southern","MA_603 610",610,"Frequent"]
[null,null,null,null,null,"Bristol Southern","MA_603 53A","53A","Rare","B/D"]
[null,null,null,null,null,"Bristol Southern","MA_603 449B","449B","None","A"]
[null,null,null,null,null,"Bristol Southern","MA_603 612C","612C","Rare","A"]
[null,null,null,null,null,"Bristol Southern","MA_603 613C","613C","Rare","A"]
[null,null,null,null,null,"Bristol Southern","MA_603 61A","61A","Frequent","A/D"]
[null,null,null,null,null,"Bristol Southern","MA_603 307D","307D","None","C"]
[null,null,null,null,null,"Bristol Southern","MA_603 345B","345B","None","C"]
[null,null,null,null,null,"Bristol Southern","MA_603 614A","614A","Rare","A"]
[null,null,null,null,null,"Bristol Southern","MA_603 73A","73A","None","D"]
[null,null,null,null,null,"Bristol Southern","MA_603 255C","255C","None","A"]
[null,null,null,null,null,"Essex Northern","MA_605 258B","258B","None","C/D"]
[null,null,null,null,null,"Essex Northern","MA_605 225B","225B","None","C"]
[null,null,null,null,null,"Essex Northern","MA_605 709C","709C","None","D"]
[null,null,null,null,null,"Essex Northern","MA_605 422C","422C","None","B"]
[null,null,null,null,null,"Essex Northern","MA_605 405C","405C","None","B"]
[null,null,null,null,null,"Essex Northern",{"$f":"$C$36&\" \"&H3442","v":"MA_605 711B"},"711B","None","A"]
[null,null,null,null,null,"Essex Northern","MA_605 253B","253B","None","A"]
[null,null,null,null,null,"Essex Northern","MA_605 253C","253C","None","A"]
[null,null,null,null,null,"Essex Northern","MA_605 67B","67B","None","A/D"]
[null,null,null,null,null,"Essex Northern","MA_605 714B","714B","None","C"]
[null,null,null,null,null,"Essex Northern","MA_605 300D","300D","None","C"]
[null,null,null,null,null,"Essex Northern","MA_605 305D","305D","None","C"]
[null,null,null,null,null,"Essex Northern","MA_605 306D","306D","None","C"]
[null,null,null,null,null,"Essex Northern","MA_605 70B","70B","None","D"]
[null,null,null,null,null,"Essex Northern","MA_605 16A","16A","None","C/D"]
[null,null,null,null,null,"Essex Northern","MA_605 16B","16B","None","C/D"]
[null,null,null,null,null,"Essex Northern","MA_605 719B","719B","None","C"]
[null,null,null,null,null,"Essex Northern","MA_605 410B","410B","None","B/D"]
[null,null,null,null,null,"Essex Northern","MA_605 651",651,"None","A"]
[null,null,null,null,null,"Essex Northern","MA_605 32B","32B","None","A/D"]
[null,null,null,null,null,"Essex Northern","MA_605 255D","255D","None","A"]
[null,null,null,null,null,"Essex Northern",{"$f":"$C$36&\" \"&H3538","v":"MA_605 98A"},"98A","Occasional","B"]
[null,null,null,null,null,"Essex Southern",{"$f":"$C$37&\" \"&H3547","v":"MA_606 722B"},"722B","None","B"]
[null,null,null,null,null,"Essex Southern","MA_606 722C","722C","None","B"]
[null,null,null,null,null,"Essex Southern","MA_606 420B","420B","None","B"]
[null,null,null,null,null,"Essex Southern","MA_606 421C","421C","None","B"]
[null,null,null,null,null,"Essex Southern","MA_606 102E","102E","None","D"]
[null,null,null,null,null,"Essex Southern","MA_606 242C","242C","None","A"]
[null,null,null,null,null,"Essex Southern","MA_606 613B","613B","Rare","A"]
[null,null,null,null,null,"Essex Southern","MA_606 712A","712A","Frequent","A/D"]
[null,null,null,null,null,"Essex Southern","MA_606 300B","300B","None","C"]
[null,null,null,null,null,"Essex Southern","MA_606 300C","300C","None","C"]
[null,null,null,null,null,"Essex Southern","MA_606 305C","305C","None","C"]
[null,null,null,null,null,"Essex Southern","MA_606 306C","306C","None","C"]
[null,null,null,null,null,"Essex Southern","MA_606 323C","323C","None","A"]
[null,null,null,null,null,"Essex Southern","MA_606 315B","315B","None","C"]
[null,null,null,null,null,"Essex Southern","MA_606 725B","725B","None","C/D"]
[null,null,null,null,null,"Essex Southern","MA_606 260B","260B","None","B"]
[null,null,null,null,null,"Essex Southern",{"$f":"$C$37&\" \"&H3643","v":"MA_606 255B"},"255B","None","A"]
[null,null,null,null,null,"Essex Southern","MA_606 255C","255C","None","A"]
[null,null,null,null,null,"Hampden Central","MA_607 225B","225B","None","C"]
[null,null,null,null,null,"Hampden Central","MA_607 726C","726C","None","C"]
[null,null,null,null,null,"Hampden Central","MA_607 401D","401D","None","A"]
[null,null,null,null,null,"Hampden Central","MA_607 103B","103B","None","A"]
[null,null,null,null,null,"Hampden Central","MA_607 407B","407B","None","A"]
[null,null,null,null,null,"Hampden Central","MA_607 711C","711C","None","A"]
[null,null,null,null,null,"Hampden Central","MA_607 265A","265A","None","B"]
[null,null,null,null,null,"Hampden Central","MA_607 265B","265B","None","B"]
[null,null,null,null,null,"Hampden Central","MA_607 442C","442C","None","A"]
[null,null,null,null,null,"Hampden Central","MA_607 253B","253B","None","A"]
[null,null,null,null,null,"Hampden Central","MA_607 253E","253E","None","A"]
[null,null,null,null,null,"Hampden Central","MA_607 8A","8A","Frequent","B/D"]
[null,null,null,null,null,"Hampden Central","MA_607 328B","328B","None","D"]
[null,null,null,null,null,"Hampden Central","MA_607 329B","329B","None","D"]
[null,null,null,null,null,"Hampden Central","MA_607 300B","300B","None","C"]
[null,null,null,null,null,"Hampden Central","MA_607 302C","302C","None","C"]
[null,null,null,null,null,"Hampden Central","MA_607 305B","305B","None","C"]
[null,null,null,null,null,"Hampden Central","MA_607 307D","307D","None","C"]
[null,null,null,null,null,"Hampden Central","MA_607 250B","250B","None","C"]
[null,null,null,null,null,"Hampden Central","MA_607 18A","18A","Frequent","A/D"]
[null,null,null,null,null,"Hampden Central","MA_607 317B","317B","None","C"]
[null,null,null,null,null,"Hampden Central",{"$f":"$C$38&\" \"&H3779","v":"MA_607 51A"},"51A","Rare","B/D"]
[null,null,null,null,null,"Hampden Central","MA_607 739C","739C","None","D"]
[null,null,null,null,null,"Hampden Central","MA_607 32A","32A","None","A/D"]
[null,null,null,null,null,"Hampden Central","MA_607 399D","399D","None","C"]
[null,null,null,null,null,"Hampden Central","MA_607 255D","255D","None","A"]
[null,null,null,null,null,"Hampden Central","MA_607 310A","310A","None","C/D"]
[null,null,null,null,null,"Hampden and Hampshire Western","MA_608 911C","911C","None","D"]
[null,null,null,null,null,"Hampden and Hampshire Western","MA_608 57A","57A","None","A/D"]
[null,null,null,null,null,"Hampden and Hampshire Western","MA_608 355C","355C","None","C"]
[null,null,null,null,null,"Hampden and Hampshire Western","MA_608 300B","300B","None","C"]
[null,null,null,null,null,"Hampden and Hampshire Western","MA_608 360A","360A","None","C/D"]
[null,null,null,null,null,"Hampden and Hampshire Western","MA_608 919C","919C","None","C/D"]
[null,null,null,null,null,"Hampden and Hampshire Western","MA_608 122C","122C","None","C"]
[null,null,null,null,null,"Hampden and Hampshire Western","MA_608 921C","921C","None","D"]
[null,null,null,null,null,"Hampshire Central","MA_609 258B","258B","None","B"]
[null,null,null,null,null,"Hampshire Central","MA_609 103D","103D","None","A"]
[null,null,null,null,null,"Hampshire Central","MA_609 406B","406B","None","B"]
[null,null,null,null,null,"Hampshire Central","MA_609 903C","903C","None","B"]
[null,null,null,null,null,"Hampshire Central","MA_609 727A","727A","None","C/D"]
[null,null,null,null,null,"Hampshire Central","MA_609 534B","534B","None","A"]
[null,null,null,null,null,"Hampshire Central","MA_609 253B","253B","None","A"]
[null,null,null,null,null,"Hampshire Central","MA_609 253E","253E","None","A"]
[null,null,null,null,null,"Hampshire Central","MA_609 914E","914E","None","C"]
[null,null,null,null,null,"Hampshire Central","MA_609 301C","301C","None","C"]
[null,null,null,null,null,"Hampshire Central","MA_609 746D","746D","None"]
[null,null,null,null,null,"Hampshire Central","MA_609 306C","306C","None","C"]
[null,null,null,null,null,"Hampshire Central","MA_609 307C","307C","None","C"]
[null,null,null,null,null,"Hampshire Central","MA_609 250A","250A","None","C"]
[null,null,null,null,null,"Hampshire Central","MA_609 70B","70B","None","D"]
[null,null,null,null,null,"Hampshire Central","MA_609 4A","4A","Frequent","A/D"]
[null,null,null,null,null,"Hampshire Central","MA_609 315B","315B","None","C"]
[null,null,null,null,null,"Hampshire Central","MA_609 909E","909E","None","C"]
[null,null,null,null,null,"Hampshire Central","MA_609 921E","921E","None","D"]
[null,null,null,null,null,"Hampshire Central","MA_609 73A","73A","None","D"]
[null,null,null,null,null,"Hampshire Central","MA_609 255C","255C","None","A"]
[null,null,null,null,null,"Hampshire Central","MA_609 310A","310A","None","C/D"]
[null,null,null,null,null,"Hampden and Hampshire Eastern","MA_610 100E","100E","None"]
[null,null,null,null,null,"Hampden and Hampshire Eastern","MA_610 401D","401D","None","A"]
[null,null,null,null,null,"Hampden and Hampshire Eastern","MA_610 103E","103E","None","A"]
[null,null,null,null,null,"Hampden and Hampshire Eastern","MA_610 387C","387C","None","A"]
[null,null,null,null,null,"Hampden and Hampshire Eastern","MA_610 440B","440B","None","A"]
[null,null,null,null,null,"Hampden and Hampshire Eastern","MA_610 253A","253A","None","A"]
[null,null,null,null,null,"Hampden and Hampshire Eastern","MA_610 253D","253D","None","A"]
[null,null,null,null,null,"Hampden and Hampshire Eastern","MA_610 301C","301C","None","C"]
[null,null,null,null,null,"Hampden and Hampshire Eastern","MA_610 307B","307B","None","C"]
[null,null,null,null,null,"Hampden and Hampshire Eastern","MA_610 392E","392E","None","C"]
[null,null,null,null,null,"Hampden and Hampshire Eastern","MA_610 315B","315B","None","C/D"]
[null,null,null,null,null,"Hampden and Hampshire Eastern","MA_610 51A","51A","Rare","B/D"]
[null,null,null,null,null,"Hampden and Hampshire Eastern","MA_610 31A","31A","None","B/D"]
[null,null,null,null,null,"Worcester Northeastern",{"$f":"$C$42&\" \"&H4075","v":"MA_613 275A"},"275A","None","B"]
[null,null,null,null,null,"Worcester Northeastern","MA_613 420C","420C","None","B"]
[null,null,null,null,null,"Worcester Northeastern","MA_613 102D","102D","None","D"]
[null,null,null,null,null,"Worcester Northeastern","MA_613 245E","245E","None","A"]
[null,null,null,null,null,"Worcester Northeastern","MA_613 625C","625C","None","A"]
[null,null,null,null,null,"Worcester Northeastern","MA_613 276A","276A","None","C"]
[null,null,null,null,null,"Worcester Northeastern","MA_613 307D","307D","None","C"]
[null,null,null,null,null,"Worcester Northeastern","MA_613 307E","307E","None","C"]
[null,null,null,null,null,"Worcester Northeastern","MA_613 262C","262C","None","A"]
[null,null,null,null,null,"Worcester Northeastern","MA_613 70A","70A","None","D"]
[null,null,null,null,null,"Worcester Northeastern","MA_613 260B","260B","None","B"]
[null,null,null,null,null,"Worcester Northeastern","MA_613 255B","255B","None","A"]
[null,null,null,null,null,"Worcester Northeastern","MA_613 98A","98A","Occasional","B"]
[null,null,null,null,null,"Worcester Northeastern","MA_613 312C","312C","None","C/D"]
[null,null,null,null,null,"Worcester Northwestern","MA_614 59A","59A","None","B/D"]
[null,null,null,null,null,"Worcester Northwestern","MA_614 420B","420B","None","B"]
[null,null,null,null,null,"Worcester Northwestern","MA_614 282D","282D","None","A"]
[null,null,null,null,null,"Worcester Northwestern","MA_614 284B","284B","None","A/D"]
[null,null,null,null,null,"Worcester Northwestern","MA_614 253E","253E","None","A"]
[null,null,null,null,null,"Worcester Northwestern","MA_614 927C","927C","None","C"]
[null,null,null,null,null,"Worcester Northwestern","MA_614 917B","917B","None","C/D"]
[null,null,null,null,null,"Worcester Northwestern","MA_614 36A","36A","Frequent","B/D"]
[null,null,null,null,null,"Worcester Northwestern","MA_614 31A","31A","None","B/D"]
[null,null,null,null,null,"Worcester Northwestern","MA_614 255B","255B","None","A"]
[null,null,null,null,null,"Worcester Southern","MA_615 401E","401E","None","A"]
[null,null,null,null,null,"Worcester Southern","MA_615 420D","420D","None","A"]
[null,null,null,null,null,"Worcester Southern","MA_615 407C","407C","None","A"]
[null,null,null,null,null,"Worcester Southern","MA_615 245E","245E","None","A"]
[null,null,null,null,null,"Worcester Southern","MA_615 300C","300C","None","C"]
[null,null,null,null,null,"Worcester Southern","MA_615 302C","302C","None","C"]
[null,null,null,null,null,"Worcester Southern","MA_615 600",600,"None"]
[null,null,null,null,null,"Worcester Southern","MA_615 2A","2A","Occasional","B"]
[null,null,null,null,null,"Worcester Southern","MA_615 315A","315A","None","C"]
[null,null,null,null,null,"Worcester Southern","MA_615 72A","72A","None","D"]
[null,null,null,null,null,"Worcester Southern","MA_615 255B","255B","None","A"]
[null,null,null,null,null,"Norfolk and Suffolk","MA_616 420B","420B","None","B"]
[null,null,null,null,null,"Norfolk and Suffolk","MA_616 422C","422C","None","B"]
[null,null,null,null,null,"Norfolk and Suffolk","MA_616 103C","103C","None","B"]
[null,null,null,null,null,"Norfolk and Suffolk","MA_616 245B","245B","None","A"]
[null,null,null,null,null,"Norfolk and Suffolk","MA_616 245C","245C","None","A"]
[null,null,null,null,null,"Norfolk and Suffolk","MA_616 300B","300B","None","C"]
[null,null,null,null,null,"Norfolk and Suffolk","MA_616 627C","627C","None","B"]
[null,null,null,null,null,"Norfolk and Suffolk","MA_616 305D","305D","None","C"]
[null,null,null,null,null,"Norfolk and Suffolk","MA_616 105D","105D","None"]
[null,null,null,null,null,"Norfolk and Suffolk","MA_616 51",51,"Rare","B/D"]
[null,null,null,null,null,"Norfolk and Suffolk","MA_616 654",654,"None","A"]
[null,null,null,null,null,"Norfolk and Suffolk","MA_616 310B","310B","None","C/D"]
[null,null,null,null,null,"Norfolk and Suffolk","MA_616 312B","312B","None","C/D"]
[null,null,null,null,null,"Cheshire","NH_005 143B","143B","None","B"]
[null,null,null,null,null,"Cheshire","NH_005 169B","169B","None","C"]
[null,null,null,null,null,"Cheshire","NH_005 2",2,"Occasional","A"]
[null,null,null,null,null,"Cheshire","NH_005 24B","24B","None","B"]
[null,null,null,null,null,"Cheshire","NH_005 298",298,"None"]
[null,null,null,null,null,"Cheshire","NH_005 30B","30B","None","B"]
[null,null,null,null,null,"Cheshire","NH_005 331E","331E","None","C"]
[null,null,null,null,null,"Cheshire","NH_005 336B","336B","None","D"]
[null,null,null,null,null,"Cheshire","NH_005 361D","361D","None","C"]
[null,null,null,null,null,"Cheshire","NH_005 366D","366D","None","B"]
[null,null,null,null,null,"Cheshire","NH_005 367E","367E","None","B"]
[null,null,null,null,null,"Cheshire","NH_005 410A","410A","None","B"]
[null,null,null,null,null,"Cheshire","NH_005 510C","510C","None","A"]
[null,null,null,null,null,"Cheshire","NH_005 513B","513B","None","C"]
[null,null,null,null,null,"Cheshire","NH_005 533",533,"None","C/D"]
[null,null,null,null,null,"Cheshire","NH_005 559C","559C","None","C/D"]
[null,null,null,null,null,"Cheshire","NH_005 60D","60D","None","C"]
[null,null,null,null,null,"Cheshire","NH_005 72B","72B","None","B"]
[null,null,null,null,null,"Cheshire","NH_005 73B","73B","None","B"]
[null,null,null,null,null,"Cheshire","NH_005 77C","77C","None","C"]
[null,null,null,null,null,"Cheshire","NH_005 79D","79D","None","C/D"]
[null,null,null,null,null,"Grafton","NH_009 101",101,"Frequent","B"]
[null,null,null,null,null,"Grafton","NH_009 130A","130A","None","C"]
[null,null,null,null,null,"Grafton","NH_009 130E","130E","None","C"]
[null,null,null,null,null,"Grafton","NH_009 22B","22B","None","A"]
[null,null,null,null,null,"Grafton","NH_009 254D","254D","None","A"]
[null,null,null,null,null,"Grafton","NH_009 255D","255D","None","A"]
[null,null,null,null,null,"Grafton","NH_009 27B","27B","None","B"]
[null,null,null,null,null,"Grafton","NH_009 310B","310B","None","A"]
[null,null,null,null,null,"Grafton","NH_009 313",313,"None","A"]
[null,null,null,null,null,"Grafton","NH_009 331E","331E","None","D"]
[null,null,null,null,null,"Grafton","NH_009 336B","336B","None","C"]
[null,null,null,null,null,"Grafton","NH_009 360B","360B","None","C"]
[null,null,null,null,null,"Grafton","NH_009 36A","36A","None","A"]
[null,null,null,null,null,"Grafton","NH_009 36E","36E","None","A"]
[null,null,null,null,null,"Grafton","NH_009 534",534,"None","C/D"]
[null,null,null,null,null,"Grafton","NH_009 56D","56D","None","C"]
[null,null,null,null,null,"Grafton","NH_009 59C","59C","None","B"]
[null,null,null,null,null,"Grafton","NH_009 62B","62B","None","B"]
[null,null,null,null,null,"Grafton","NH_009 632A","632A","None","C"]
[null,null,null,null,null,"Grafton","NH_009 647B","647B","None","D"]
[null,null,null,null,null,"Grafton","NH_009 711D","711D","None","B"]
[null,null,null,null,null,"Grafton","NH_009 712D","712D","None","B"]
[null,null,null,null,null,"Grafton","NH_009 720D","720D","None","C"]
[null,null,null,null,null,"Grafton","NH_009 729B","729B","None","B"]
[null,null,null,null,null,"Grafton","NH_009 72D","72D","None","B"]
[null,null,null,null,null,"Grafton","NH_009 73D","73D","None","B"]
[null,null,null,null,null,"Grafton","NH_009 741D","741D","None","A"]
[null,null,null,null,null,"Grafton","NH_009 77D","77D","None","C"]
[null,null,null,null,null,"Grafton","NH_009 9",9,"None","B"]
[null,null,null,null,null,"Grafton","NH_009 90D","90D","None","C"]
[null,null,null,null,null,"Rockingham","NH_015 12C","12C","None","A"]
[null,null,null,null,null,"Rockingham","NH_015 26C","26C","None","A"]
[null,null,null,null,null,"Rockingham","NH_015 298",298,"None"]
[null,null,null,null,null,"Rockingham","NH_015 313A","313A","None","A"]
[null,null,null,null,null,"Rockingham","NH_015 32A","32A","None","D"]
[null,null,null,null,null,"Rockingham","NH_015 38B","38B","None","C/D"]
[null,null,null,null,null,"Rockingham","NH_015 43E","43E","None","A"]
[null,null,null,null,null,"Rockingham","NH_015 447A","447A","None","C"]
[null,null,null,null,null,"Rockingham","NH_015 45D","45D","None","C"]
[null,null,null,null,null,"Rockingham","NH_015 531B","531B","None","B/D"]
[null,null,null,null,null,"Rockingham",{"$f":"$C$48&\" \"&H4728","v":"NH_015 533"},533,"None","C/D"]
[null,null,null,null,null,"Rockingham","NH_015 63B","63B","None","B"]
[null,null,null,null,null,"Rockingham","NH_015 656A","656A","None","D"]
[null,null,null,null,null,"Rockingham","NH_015 67C","67C","None","C"]
[null,null,null,null,null,"Rockingham","NH_015 638",638,"Frequent","D"]
[null,null,null,null,null,"Rockingham","NH_015 618",618,"Frequent","D"]
[null,null,null,null,null,"Strafford","NH_017 BzA","BzA","None","C/D"]
[null,null,null,null,null,"Strafford","NH_017 DeA","DeA","None","A"]
[null,null,null,null,null,"Strafford","NH_017 DeB","DeB","None","A"]
[null,null,null,null,null,"Strafford","NH_017 GsE","GsE","None","A"]
[null,null,null,null,null,"Strafford","NH_017 Gv","Gv","None"]
[null,null,null,null,null,"Strafford","NH_017 HcD","HcD","None","D"]
[null,null,null,null,null,"Strafford","NH_017 HgC","HgC","None","D"]
[null,null,null,null,null,"Strafford","NH_017 HlE","HlE","None","D"]
[null,null,null,null,null,"Strafford","NH_017 Mp","Mp","None","B/D"]
[null,null,null,null,null,"Strafford","NH_017 Po","Po","None","A/D"]
[null,null,null,null,null,"Strafford","NH_017 RgA","RgA","None","D"]
[null,null,null,null,null,"Strafford","NH_017 SfC","SfC","None","C"]
[null,null,null,null,null,"Strafford","NH_017 SnB","SnB","None","B/D"]
[null,null,null,null,null,"Strafford","NH_017 WdB","WdB","None","A"]
[null,null,null,null,null,"Strafford","NH_017 637",637,"Frequent","D"]
[null,null,null,null,null,"Sullivan","NH_019 AdB","AdB","None","A"]
[null,null,null,null,null,"Sullivan","NH_019 AgA","AgA","None","B"]
[null,null,null,null,null,"Sullivan","NH_019 BeE","BeE","None","C/D"]
[null,null,null,null,null,"Sullivan","NH_019 CaC","CaC","None","C"]
[null,null,null,null,null,"Sullivan","NH_019 CyA","CyA","None","A"]
[null,null,null,null,null,"Sullivan","NH_019 DtD","DtD","None","B"]
[null,null,null,null,null,"Sullivan","NH_019 HcA","HcA","None","B"]
[null,null,null,null,null,"Sullivan","NH_019 KeE","KeE","None","D"]
[null,null,null,null,null,"Sullivan","NH_019 MaC","MaC","None","C"]
[null,null,null,null,null,"Sullivan","NH_019 MbC","MbC","None","C"]
[null,null,null,null,null,"Sullivan","NH_019 MrC","MrC","None","B"]
[null,null,null,null,null,"Sullivan","NH_019 MrD","MrD","None","B"]
[null,null,null,null,null,"Sullivan","NH_019 Na","Na","None","A/D"]
[null,null,null,null,null,"Sullivan","NH_019 PeB","PeB","None","C/D"]
[null,null,null,null,null,"Sullivan","NH_019 PgA","PgA","None","D"]
[null,null,null,null,null,"Sullivan","NH_019 QsC","QsC","None","A"]
[null,null,null,null,null,"Sullivan","NH_019 SdA","SdA","None","B/D"]
[null,null,null,null,null,"Sullivan","NH_019 ShA","ShA","None","D"]
[null,null,null,null,null,"Sullivan","NH_019 UnC","UnC","None","C"]
[null,null,null,null,null,"Sullivan","NH_019 UnE","UnE","None","C"]
[null,null,null,null,null,"Hillsborough, Eastern Part","NH_601 AgB","AgB","None","B"]
[null,null,null,null,null,"Hillsborough, Eastern Part","NH_601 BeD","BeD","None","D"]
[null,null,null,null,null,"Hillsborough, Eastern Part","NH_601 BpA","BpA","None","A/D"]
[null,null,null,null,null,"Hillsborough, Eastern Part","NH_601 CoC","CoC","None","A"]
[null,null,null,null,null,"Hillsborough, Eastern Part","NH_601 Cu","Cu","None","B/D"]
[null,null,null,null,null,"Hillsborough, Eastern Part","NH_601 Dp","Dp","None"]
[null,null,null,null,null,"Hillsborough, Eastern Part","NH_601 LtB","LtB","None","A/D"]
[null,null,null,null,null,"Hillsborough, Eastern Part","NH_601 LvA","LvA","None","A/D"]
[null,null,null,null,null,"Hillsborough, Eastern Part","NH_601 NnB","NnB","None","C"]
[null,null,null,null,null,"Hillsborough, Eastern Part","NH_601 PfC","PfC","None","C"]
[null,null,null,null,null,"Hillsborough, Eastern Part","NH_601 PhB","PhB","None","C"]
[null,null,null,null,null,"Hillsborough, Eastern Part","NH_601 Qr","Qr","None"]
[null,null,null,null,null,"Hillsborough, Eastern Part","NH_601 So","So","None","A/D"]
[null,null,null,null,null,"Hillsborough, Eastern Part","NH_601 SsB","SsB","None","C"]
[null,null,null,null,null,"Hillsborough, Eastern Part","NH_601 Ur","Ur","None"]
[null,null,null,null,null,"Hillsborough, Eastern Part","NH_601 WdC","WdC","None","A"]
[null,null,null,null,null,"Hillsborough, Western Part","NH_602 105",105,"Frequent","B/D"]
[null,null,null,null,null,"Hillsborough, Western Part","NH_602 145D","145D","None","B"]
[null,null,null,null,null,"Hillsborough, Western Part","NH_602 160C","160C","None","B"]
[null,null,null,null,null,"Hillsborough, Western Part","NH_602 22C","22C","None","A"]
[null,null,null,null,null,"Hillsborough, Western Part","NH_602 298",298,"None"]
[null,null,null,null,null,"Hillsborough, Western Part","NH_602 36B","36B","None","A"]
[null,null,null,null,null,"Hillsborough, Western Part","NH_602 558B","558B","None","C/D"]
[null,null,null,null,null,"Hillsborough, Western Part","NH_602 56B","56B","None","C"]
[null,null,null,null,null,"Hillsborough, Western Part","NH_602 76B","76B","None","C"]
[null,null,null,null,null,"Hillsborough, Western Part","NH_602 79B","79B","None","C/D"]
[null,null,null,null,null,"Carroll Area",{"$f":"$C$53&\" \"&H5132","v":"NH_603 977B"},"977B","None","A"]
[null,null,null,null,null,"Carroll Area","NH_603 57B","57B","None","C"]
[null,null,null,null,null,"Carroll Area","NH_603 73E","73E","None","B"]
[null,null,null,null,null,"Carroll Area","NH_603 841E","841E","None","D"]
[null,null,null,null,null,"Carroll Area","NH_603 395A","395A","None","A/D"]
[null,null,null,null,null,"Carroll Area","NH_603 21C","21C","None","A"]
[null,null,null,null,null,"Carroll Area","NH_603 242D","242D","None","B"]
[null,null,null,null,null,"Carroll Area","NH_603 982D","982D","None","B"]
[null,null,null,null,null,"Carroll Area","NH_603 985E","985E","None","B"]
[null,null,null,null,null,"Carroll Area","NH_603 220E","220E","None","A"]
[null,null,null,null,null,"Carroll Area","NH_603 978B","978B","None","A/D"]
[null,null,null,null,null,"Carroll Area","NH_603 170C","170C","None","D"]
[null,null,null,null,null,"Carroll Area","NH_603 780F","780F","None","D"]
[null,null,null,null,null,"Carroll Area","NH_603 77B","77B","None","C"]
[null,null,null,null,null,"Carroll Area","NH_603 47B","47B","None","C"]
[null,null,null,null,null,"Carroll Area","NH_603 166B","166B","None","D"]
[null,null,null,null,null,"Carroll Area","NH_603 167C","167C","None","D"]
[null,null,null,null,null,"Carroll Area","NH_603 646B","646B","None","D"]
[null,null,null,null,null,"Carroll Area","NH_603 559B","559B","None","C/D"]
[null,null,null,null,null,"Carroll Area","NH_603 268B","268B","None","B/D"]
[null,null,null,null,null,"Carroll Area","NH_603 35B","35B","None","A"]
[null,null,null,null,null,"Carroll Area","NH_603 307A","307A","None","C"]
[null,null,null,null,null,"Carroll Area","NH_603 748F","748F","None","A"]
[null,null,null,null,null,"Coos Area","NH_607 142D","142D","None","B"]
[null,null,null,null,null,"Coos Area","NH_607 143D","143D","None","B"]
[null,null,null,null,null,"Coos Area","NH_607 156C","156C","None","B"]
[null,null,null,null,null,"Coos Area","NH_607 214A","214A","None","A/D"]
[null,null,null,null,null,"Coos Area","NH_607 22B","22B","None","A"]
[null,null,null,null,null,"Coos Area","NH_607 246B","246B","None","B/D"]
[null,null,null,null,null,"Coos Area","NH_607 260B","260B","None","B"]
[null,null,null,null,null,"Coos Area","NH_607 27C","27C","None","B"]
[null,null,null,null,null,"Coos Area","NH_607 399",399,"None"]
[null,null,null,null,null,"Coos Area","NH_607 414A","414A","None","A/D"]
[null,null,null,null,null,"Coos Area","NH_607 500",500,"None","B"]
[null,null,null,null,null,"Coos Area","NH_607 54B","54B","None","A"]
[null,null,null,null,null,"Coos Area","NH_607 558B","558B","None","C/D"]
[null,null,null,null,null,"Coos Area","NH_607 55C","55C","None","A"]
[null,null,null,null,null,"Coos Area","NH_607 560C","560C","None","B"]
[null,null,null,null,null,"Coos Area","NH_607 563D","563D","None","C"]
[null,null,null,null,null,"Coos Area","NH_607 567C","567C","None","C/D"]
[null,null,null,null,null,"Coos Area","NH_607 56C","56C","None","C"]
[null,null,null,null,null,"Coos Area","NH_607 573D","573D","None","B"]
[null,null,null,null,null,"Coos Area","NH_607 57D","57D","None","C"]
[null,null,null,null,null,"Coos Area","NH_607 57E","57E","None","C"]
[null,null,null,null,null,"Coos Area","NH_607 61C","61C","None","C"]
[null,null,null,null,null,"Coos Area","NH_607 630A","630A","None","B"]
[null,null,null,null,null,"Coos Area","NH_607 633A","633A","None","C/D"]
[null,null,null,null,null,"Coos Area","NH_607 711B","711B","None","B"]
[null,null,null,null,null,"Coos Area","NH_607 719E","719E","None","D"]
[null,null,null,null,null,"Coos Area","NH_607 72D","72D","None","B"]
[null,null,null,null,null,"Coos Area","NH_607 73D","73D","None","B"]
[null,null,null,null,null,"Coos Area","NH_607 750D","750D","None","D"]
[null,null,null,null,null,"Coos Area","NH_607 76D","76D","None","C"]
[null,null,null,null,null,"Coos Area","NH_607 779B","779B","None","B/D"]
[null,null,null,null,null,"Coos Area","NH_607 78C","78C","None","C/D"]
[null,null,null,null,null,"Coos Area","NH_607 804D","804D","None","B"]
[null,null,null,null,null,"Coos Area","NH_607 820D","820D","None","D"]
[null,null,null,null,null,"Coos Area","NH_607 821D","821D","None","C"]
[null,null,null,null,null,"Coos Area","NH_607 835F","835F","None","D"]
[null,null,null,null,null,"Coos Area","NH_607 860E","860E","None","B"]
[null,null,null,null,null,"Coos Area","NH_607 912D","912D","None","B"]
[null,null,null,null,null,"Coos Area","NH_607 919E","919E","None","C"]
[null,null,null,null,null,"Coos Area","NH_607 895A","895A","None","B/D"]
[null,null,null,null,null,"Coos Area","NH_607 667D","667D","None","C"]
[null,null,null,null,null,"Coos Area","NH_607 759B","759B","None","C/D"]
[null,null,null,null,null,"Coos Area","NH_607 782B","782B","None","D"]
[null,null,null,null,null,"Coos Area","NH_607 307A","307A","None","C"]
[null,null,null,null,null,"Coos Area","NH_607 882D","882D","None","C"]
[null,null,null,null,null,"Coos Area","NH_607 992A","992A","None","B/D"]
[null,null,null,null,null,"Merrimack and Belknap","NH_609 102A","102A","Occasional","A"]
[null,null,null,null,null,"Merrimack and Belknap","NH_609 12E","12E","None","A"]
[null,null,null,null,null,"Merrimack and Belknap","NH_609 161D","161D","None","D"]
[null,null,null,null,null,"Merrimack and Belknap","NH_609 2A","2A","Occasional","A"]
[null,null,null,null,null,"Merrimack and Belknap","NH_609 214A","214A","None","A/D"]
[null,null,null,null,null,"Merrimack and Belknap","NH_609 26A","26A","None","A"]
[null,null,null,null,null,"Merrimack and Belknap","NH_609 26B","26B","None","A"]
[null,null,null,null,null,"Merrimack and Belknap","NH_609 380B","380B","None","C"]
[null,null,null,null,null,"Merrimack and Belknap","NH_609 406A","406A","None","B/D"]
[null,null,null,null,null,"Merrimack and Belknap","NH_609 43C","43C","None","B"]
[null,null,null,null,null,"Merrimack and Belknap","NH_609 49A","49A","None","D"]
[null,null,null,null,null,"Merrimack and Belknap","NH_609 559C","559C","None","C/D"]
[null,null,null,null,null,"Merrimack and Belknap","NH_609 56B","56B","None","C"]
[null,null,null,null,null,"Merrimack and Belknap","NH_609 613A","613A","None","A"]
[null,null,null,null,null,"Merrimack and Belknap","NH_609 647B","647B","None","D"]
[null,null,null,null,null,"Merrimack and Belknap","NH_609 67E","67E","None","C"]
[null,null,null,null,null,"Merrimack and Belknap","NH_609 77C","77C","None","C"]
[null,null,null,null,null,"Merrimack and Belknap","NH_609 799C","799C","None"]
[null,null,null,null,null,"Merrimack and Belknap","NH_609 46B","46B","None","C"]
[null,null,null,null,null,"Merrimack and Belknap","NH_609 167E","167E","None","C"]
[null,null,null,null,null,"Merrimack and Belknap","NH_609 167B","167B","None","C"]
[null,null,null,null,null,"Merrimack and Belknap","NH_609 443D","443D","None","B"]
[null,null,null,null,null,"Merrimack and Belknap","NH_609 443C","443C","None","B"]
[null,null,null,null,null,"Merrimack and Belknap","NH_609 480E","480E","None","B"]
[null,null,null,null,null,"Merrimack and Belknap","NH_609 443E","443E","None","B"]
[null,null,null,null,null,"Merrimack and Belknap","NH_609 478A","478A","None","C/D"]
[null,null,null,null,null,"Merrimack and Belknap","NH_609 478C","478C","None","C/D"]
[null,null,null,null,null,"Merrimack and Belknap","NH_609 315A","315A","None","A/D"]
[null,null,null,null,null,"Merrimack and Belknap","NH_609 894A","894A","None","A/D"]
[null,null,null,null,null,"Merrimack and Belknap","NH_609 449B","449B","None","C"]
[null,null,null,null,null,"Merrimack and Belknap","NH_609 244D","244D","None","A"]
[null,null,null,null,null,"Rhode Island",{"$f":"$C$56&\" \"&H5737","v":"RI_600 AfA"},"AfA","None","B"]
[null,null,null,null,null,"Rhode Island","RI_600 BhA","BhA","None","B"]
[null,null,null,null,null,"Rhode Island","RI_600 BmA","BmA","None","B"]
[null,null,null,null,null,"Rhode Island","RI_600 CB","CB","None","B"]
[null,null,null,null,null,"Rhode Island","RI_600 CeC","CeC","None","B"]
[null,null,null,null,null,"Rhode Island","RI_600 ChD","ChD","None","B"]
[null,null,null,null,null,"Rhode Island","RI_600 Du","Du","None"]
[null,null,null,null,null,"Rhode Island","RI_600 FeA","FeA","Rare","B/D"]
[null,null,null,null,null,"Rhode Island","RI_600 HkD","HkD","None","A"]
[null,null,null,null,null,"Rhode Island","RI_600 Ma","Ma","None","D"]
[null,null,null,null,null,"Rhode Island","RI_600 MkS","MkS","Frequent","A/D"]
[null,null,null,null,null,"Rhode Island","RI_600 NbC","NbC","None","B"]
[null,null,null,null,null,"Rhode Island","RI_600 PaA","PaA","None","C"]
[null,null,null,null,null,"Rhode Island","RI_600 PaS","PaS","Frequent","A/D"]
[null,null,null,null,null,"Rhode Island","RI_600 PnB","PnB","None","C"]
[null,null,null,null,null,"Rhode Island","RI_600 PsB","PsB","None","B"]
[null,null,null,null,null,"Rhode Island",{"$f":"$C$56&\" \"&H5833","v":"RI_600 Rf"},"Rf","None","D"]
[null,null,null,null,null,"Rhode Island","RI_600 ScA","ScA","None","C"]
[null,null,null,null,null,"Rhode Island","RI_600 Sf","Sf","None","D"]
[null,null,null,null,null,"Rhode Island","RI_600 SvB","SvB","None","B/D"]
[null,null,null,null,null,"Rhode Island","RI_600 WBn0","WBn0","Frequent","D"]
[null,null,null,null,null,"Rhode Island","RI_600 WFn2","WFn2","Frequent","D"]
[null,null,null,null,null,"Rhode Island","RI_600 WNd","WNd","Frequent","D"]
[null,null,null,null,null,"Rhode Island","RI_600 WNs1","WNs1","Frequent","D"]
[null,null,null,null,null,"Rhode Island","RI_600 WWe1","WWe1","Frequent","D"]
[null,null,null,null,null,"Rhode Island","RI_600 WgB","WgB","None","A"]
[null,null,null,null,null,"Rhode Island","RI_600 Wk","Wk","None","D"]
[null,null,null,null,null,"Albany","NY_001 ArC","ArC","None","D"]
[null,null,null,null,null,"Albany","NY_001 BxB","BxB","None","C/D"]
[null,null,null,null,null,"Albany","NY_001 CeB","CeB","None","A/D"]
[null,null,null,null,null,"Albany","NY_001 CkB","CkB","None","A"]
[null,null,null,null,null,"Albany","NY_001 CoA","CoA","None","A"]
[null,null,null,null,null,"Albany","NY_001 ElA","ElA","None","B"]
[null,null,null,null,null,"Albany","NY_001 Fx","Fx","Frequent","A/D"]
[null,null,null,null,null,"Albany","NY_001 HnA","HnA","None","D"]
[null,null,null,null,null,"Albany","NY_001 HuC","HuC","None","C/D"]
[null,null,null,null,null,"Albany","NY_001 LoB","LoB","None","C"]
[null,null,null,null,null,"Albany",{"$f":"$C$57&\" \"&H5958","v":"NY_001 LrE"},"LrE","None","C"]
[null,null,null,null,null,"Albany","NY_001 Mk","Mk","Occasional","B/D"]
[null,null,null,null,null,"Albany","NY_001 MrB","MrB","None","D"]
[null,null,null,null,null,"Albany","NY_001 NuD","NuD","None","C/D"]
[null,null,null,null,null,"Albany","NY_001 RhA","RhA","None","C/D"]
[null,null,null,null,null,"Albany","NY_001 RkB","RkB","None","A"]
[null,null,null,null,null,"Albany","NY_001 SuB","SuB","None","B"]
[null,null,null,null,null,"Albany","NY_001 Uh","Uh","None","C/D"]
[null,null,null,null,null,"Albany","NY_001 Uk","Uk","None","A"]
[null,null,null,null,null,"Albany","NY_001 VaD","VaD","None","B"]
[null,null,null,null,null,"Albany","NY_001 WcC","WcC","None","C"]
[null,null,null,null,null,"Allegany Area",{"$f":"$C$58&\" \"&H6024","v":"NY_003 100D"},"100D","None","A"]
[null,null,null,null,null,"Allegany Area","NY_003 114E","114E","None","C"]
[null,null,null,null,null,"Allegany Area","NY_003 115D","115D","None","D"]
[null,null,null,null,null,"Allegany Area","NY_003 118C","118C","None","D"]
[null,null,null,null,null,"Allegany Area","NY_003 122B","122B","None","C"]
[null,null,null,null,null,"Allegany Area","NY_003 122C","122C","None","C"]
[null,null,null,null,null,"Allegany Area","NY_003 125B","125B","None","A"]
[null,null,null,null,null,"Allegany Area","NY_003 125E","125E","None","A"]
[null,null,null,null,null,"Allegany Area","NY_003 12D","12D","None","B"]
[null,null,null,null,null,"Allegany Area","NY_003 135B","135B","None","C/D"]
[null,null,null,null,null,"Allegany Area","NY_003 135E","135E","None","C/D"]
[null,null,null,null,null,"Allegany Area","NY_003 14E","14E","None","D"]
[null,null,null,null,null,"Allegany Area","NY_003 16B","16B","None","D"]
[null,null,null,null,null,"Allegany Area","NY_003 16C","16C","None","D"]
[null,null,null,null,null,"Allegany Area","NY_003 179D","179D","None","C"]
[null,null,null,null,null,"Allegany Area","NY_003 17B","17B","None","C/D"]
[null,null,null,null,null,"Allegany Area","NY_003 187B","187B","None","C/D"]
[null,null,null,null,null,"Allegany Area","NY_003 19A","19A","None","B/D"]
[null,null,null,null,null,"Allegany Area","NY_003 20D","20D","None","B"]
[null,null,null,null,null,"Allegany Area","NY_003 216C","216C","None","D"]
[null,null,null,null,null,"Allegany Area","NY_003 25C","25C","None","A"]
[null,null,null,null,null,"Allegany Area","NY_003 25D","25D","None","A"]
[null,null,null,null,null,"Allegany Area","NY_003 289D","289D","None","B"]
[null,null,null,null,null,"Allegany Area","NY_003 28A","28A","None","B/D"]
[null,null,null,null,null,"Allegany Area","NY_003 29F","29F","None","A"]
[null,null,null,null,null,"Allegany Area","NY_003 34A","34A","None","B/D"]
[null,null,null,null,null,"Allegany Area","NY_003 38A","38A","None","C/D"]
[null,null,null,null,null,"Allegany Area","NY_003 39A","39A","None","B/D"]
[null,null,null,null,null,"Allegany Area","NY_003 497D","497D","None","B"]
[null,null,null,null,null,"Allegany Area","NY_003 497E","497E","None","B"]
[null,null,null,null,null,"Allegany Area","NY_003 52A","52A","None","B"]
[null,null,null,null,null,"Allegany Area","NY_003 52D","52D","None","B"]
[null,null,null,null,null,"Allegany Area",{"$f":"$C$58&\" \"&H6216","v":"NY_003 58D"},"58D","None","D"]
[null,null,null,null,null,"Allegany Area","NY_003 60D","60D","None","D"]
[null,null,null,null,null,"Allegany Area","NY_003 62C","62C","None","D"]
[null,null,null,null,null,"Allegany Area","NY_003 64C","64C","None","D"]
[null,null,null,null,null,"Allegany Area","NY_003 68C","68C","None","D"]
[null,null,null,null,null,"Allegany Area","NY_003 68D","68D","None","D"]
[null,null,null,null,null,"Allegany Area","NY_003 71F","71F","None","C"]
[null,null,null,null,null,"Allegany Area","NY_003 73B","73B","None","C/D"]
[null,null,null,null,null,"Allegany Area","NY_003 76A","76A","None","C/D"]
[null,null,null,null,null,"Allegany Area","NY_003 78E","78E","None","D"]
[null,null,null,null,null,"Allegany Area",{"$f":"$C$58&\" \"&H6280","v":"NY_003 80A"},"80A","None","D"]
[null,null,null,null,null,"Allegany Area","NY_003 80D","80D","None","D"]
[null,null,null,null,null,"Allegany Area","NY_003 85C","85C","None","C/D"]
[null,null,null,null,null,"Allegany Area","NY_003 85D","85D","None","C/D"]
[null,null,null,null,null,"Allegany Area","NY_003 89C","89C","None","C/D"]
[null,null,null,null,null,"Allegany Area","NY_003 95D","95D","None","C"]
[null,null,null,null,null,"Allegany Area","NY_003 96B","96B","None","C"]
[null,null,null,null,null,"Allegany Area","NY_003 98E","98E","None","B"]
[null,null,null,null,null,"Bronx","NY_005 BiAn","BiAn","None","A"]
[null,null,null,null,null,"Bronx","NY_005 CCD","CCD","None","A"]
[null,null,null,null,null,"Bronx","NY_005 CGRD","CGRD","None","A"]
[null,null,null,null,null,"Bronx","NY_005 ChC","ChC","None","A"]
[null,null,null,null,null,"Bronx","NY_005 GbA","GbA","None","B"]
[null,null,null,null,null,"Bronx","NY_005 GCE","GCE","None","B"]
[null,null,null,null,null,"Bronx","NY_005 GrA","GrA","None","B"]
[null,null,null,null,null,"Bronx","NY_005 GUEw","GUEw","None","B"]
[null,null,null,null,null,"Bronx","NY_005 LaBs","LaBs","None","C"]
[null,null,null,null,null,"Bronx","NY_005 LaD","LaD","None","C"]
[null,null,null,null,null,"Bronx","NY_005 LOA","LOA","Occasional","C/D"]
[null,null,null,null,null,"Bronx","NY_005 MuA","MuA","None","C"]
[null,null,null,null,null,"Bronx","NY_005 PSOA","PSOA","Occasional","A/D"]
[null,null,null,null,null,"Bronx","NY_005 RvB","RvB","None","A"]
[null,null,null,null,null,"Bronx","NY_005 RvF","RvF","None","A"]
[null,null,null,null,null,"Bronx","NY_005 ToB","ToB","None","B/D"]
[null,null,null,null,null,"Bronx","NY_005 UGA","UGA","None"]
[null,null,null,null,null,"Bronx","NY_005 UGBl","UGBl","None","B"]
[null,null,null,null,null,"Bronx","NY_005 ULA","ULA","None"]
[null,null,null,null,null,"Bronx","NY_005 UoA","UoA","None"]
[null,null,null,null,null,"Bronx","NY_005 WbA","WbA","Very frequent","A/D"]
[null,null,null,null,null,"Broome","NY_007 Ad","Ad","Frequent","B/D"]
[null,null,null,null,null,"Broome","NY_007 CaB","CaB","None","D"]
[null,null,null,null,null,"Broome","NY_007 ChD","ChD","None","A"]
[null,null,null,null,null,"Broome","NY_007 DaB","DaB","None","D"]
[null,null,null,null,null,"Broome","NY_007 LdC","LdC","None","C"]
[null,null,null,null,null,"Broome","NY_007 MhC","MhC","None","D"]
[null,null,null,null,null,"Broome","NY_007 MmB","MmB","None","D"]
[null,null,null,null,null,"Broome","NY_007 OuD","OuD","None","C"]
[null,null,null,null,null,"Broome","NY_007 UnC","UnC","None","B"]
[null,null,null,null,null,"Broome","NY_007 VoC","VoC","None","D"]
[null,null,null,null,null,"Cattaraugus","NY_009 10","10","Frequent","B/D"]
[null,null,null,null,null,"Cattaraugus","NY_009 108D","108D","None","B"]
[null,null,null,null,null,"Cattaraugus","NY_009 11B","11B","None","C/D"]
[null,null,null,null,null,"Cattaraugus","NY_009 12D","12D","None","B"]
[null,null,null,null,null,"Cattaraugus","NY_009 132B","132B","None","D"]
[null,null,null,null,null,"Cattaraugus","NY_009 14B","14B","None","D"]
[null,null,null,null,null,"Cattaraugus","NY_009 17C","17C","None","C/D"]
[null,null,null,null,null,"Cattaraugus","NY_009 185C","185C","None","C/D"]
[null,null,null,null,null,"Cattaraugus","NY_009 189B","189B","None","C/D"]
[null,null,null,null,null,"Cattaraugus","NY_009 19B","19B","None","B/D"]
[null,null,null,null,null,"Cattaraugus","NY_009 20B","20B","None","B"]
[null,null,null,null,null,"Cattaraugus","NY_009 25C","25C","None","A"]
[null,null,null,null,null,"Cattaraugus","NY_009 27B","27B","None","A/D"]
[null,null,null,null,null,"Cattaraugus","NY_009 289E","289E","None","B"]
[null,null,null,null,null,"Cattaraugus","NY_009 31B","31B","None","C/D"]
[null,null,null,null,null,"Cattaraugus","NY_009 32B","32B","None","C/D"]
[null,null,null,null,null,"Cattaraugus","NY_009 37A","37A","None","C/D"]
[null,null,null,null,null,"Cattaraugus","NY_009 40C","40C","None","D"]
[null,null,null,null,null,"Cattaraugus","NY_009 42A","42A","None","A/D"]
[null,null,null,null,null,"Cattaraugus","NY_009 48A","48A","None","A"]
[null,null,null,null,null,"Cattaraugus","NY_009 496B","496B","None","C"]
[null,null,null,null,null,"Cattaraugus","NY_009 497F","497F","None","B"]
[null,null,null,null,null,"Cattaraugus","NY_009 51D","51D","None","B"]
[null,null,null,null,null,"Cattaraugus","NY_009 52B","52B","None","B"]
[null,null,null,null,null,"Cattaraugus","NY_009 55B","55B","None","C/D"]
[null,null,null,null,null,"Cattaraugus","NY_009 58C","58C","None","D"]
[null,null,null,null,null,"Cattaraugus","NY_009 59B","59B","None","D"]
[null,null,null,null,null,"Cattaraugus","NY_009 61D","61D","None","C/D"]
[null,null,null,null,null,"Cattaraugus","NY_009 62B","62B","None","D"]
[null,null,null,null,null,"Cattaraugus","NY_009 66B","66B","None","D"]
[null,null,null,null,null,"Cattaraugus","NY_009 6A","6A","Frequent","B/D"]
[null,null,null,null,null,"Cattaraugus","NY_009 72B","72B","None","C/D"]
[null,null,null,null,null,"Cattaraugus","NY_009 74","74","None","C/D"]
[null,null,null,null,null,"Cattaraugus","NY_009 78D","78D","None","D"]
[null,null,null,null,null,"Cattaraugus","NY_009 78F","78F","None","D"]
[null,null,null,null,null,"Cattaraugus","NY_009 80A","80A","None","D"]
[null,null,null,null,null,"Cattaraugus","NY_009 81B","81B","None","B"]
[null,null,null,null,null,"Cattaraugus","NY_009 85B","85B","None","C/D"]
[null,null,null,null,null,"Cattaraugus","NY_009 88B","88B","None","C/D"]
[null,null,null,null,null,"Cattaraugus","NY_009 89B","89B","None","C/D"]
[null,null,null,null,null,"Cattaraugus","NY_009 93","93","None","B/D"]
[null,null,null,null,null,"Cattaraugus","NY_009 96C","96C","None","C"]
[null,null,null,null,null,"Cattaraugus","NY_009 96D","96D","None","C"]
[null,null,null,null,null,"Cattaraugus","NY_009 98E","98E","None","B"]
[null,null,null,null,null,"Cattaraugus","NY_009 99D","99D","None","C/D"]
[null,null,null,null,null,"Cayuga","NY_011 AnB","AnB","None","A"]
[null,null,null,null,null,"Cayuga","NY_011 AuD","AuD","None","D"]
[null,null,null,null,null,"Cayuga","NY_011 AxB","AxB","None","D"]
[null,null,null,null,null,"Cayuga","NY_011 AzF","AzF","None","D"]
[null,null,null,null,null,"Cayuga","NY_011 CeC3","CeC3","None","C"]
[null,null,null,null,null,"Cayuga","NY_011 CeCK","CeCK","None","C"]
[null,null,null,null,null,"Cayuga","NY_011 CsA","CsA","None","B/D"]
[null,null,null,null,null,"Cayuga","NY_011 DuC3","DuC3","None","C"]
[null,null,null,null,null,"Cayuga","NY_011 ErA","ErA","None","D"]
[null,null,null,null,null,"Cayuga","NY_011 GaB","GaB","None","A/D"]
[null,null,null,null,null,"Cayuga","NY_011 HnC","HnC","None","B"]
[null,null,null,null,null,"Cayuga","NY_011 HwB","HwB","None","A"]
[null,null,null,null,null,"Cayuga","NY_011 Lf","Lf","None","A/D"]
[null,null,null,null,null,"Cayuga","NY_011 LgB","LgB","None","D"]
[null,null,null,null,null,"Cayuga","NY_011 LsB","LsB","None","B"]
[null,null,null,null,null,"Cayuga","NY_011 LwC","LwC","None","C"]
[null,null,null,null,null,"Cayuga","NY_011 Mr","Mr","None","A/D"]
[null,null,null,null,null,"Cayuga","NY_011 OnC","OnC","None","B"]
[null,null,null,null,null,"Cayuga","NY_011 OvA","OvA","None","C/D"]
[null,null,null,null,null,"Cayuga","NY_011 PaC","PaC","None","A"]
[null,null,null,null,null,"Cayuga","NY_011 RgB","RgB","None","D"]
[null,null,null,null,null,"Cayuga","NY_011 RlC3","RlC3","None","D"]
[null,null,null,null,null,"Cayuga","NY_011 SoC","SoC","None","D"]
[null,null,null,null,null,"Cayuga","NY_011 Uc","Uc","None","C"]
[null,null,null,null,null,"Cayuga","NY_011 WaB","WaB","None","B"]
[null,null,null,null,null,"Chautauqua","NY_013 AlB","AlB","None","B"]
[null,null,null,null,null,"Chautauqua","NY_013 Ca","Ca","None","D"]
[null,null,null,null,null,"Chautauqua","NY_013 CdB","CdB","None","C"]
[null,null,null,null,null,"Chautauqua","NY_013 ChF","ChF","None","B"]
[null,null,null,null,null,"Chautauqua","NY_013 CkB","CkB","None","C/D"]
[null,null,null,null,null,"Chautauqua","NY_013 CnE","CnE","None","A"]
[null,null,null,null,null,"Chautauqua","NY_013 CsC","CsC","None","C/D"]
[null,null,null,null,null,"Chautauqua","NY_013 DaA","DaA","None","D"]
[null,null,null,null,null,"Chautauqua","NY_013 ErA","ErA","None","D"]
[null,null,null,null,null,"Chautauqua","NY_013 FmD","FmD","None","D"]
[null,null,null,null,null,"Chautauqua","NY_013 Ge","Ge","None","B/D"]
[null,null,null,null,null,"Chautauqua","NY_013 Ho","Ho","Occasional","B/D"]
[null,null,null,null,null,"Chautauqua","NY_013 HrC","HrC","None","D"]
[null,null,null,null,null,"Chautauqua","NY_013 MdD","MdD","None","D"]
[null,null,null,null,null,"Chautauqua","NY_013 OrB","OrB","None","C/D"]
[null,null,null,null,null,"Chautauqua","NY_013 Pa","Pa","None","B/D"]
[null,null,null,null,null,"Chautauqua","NY_013 ShB","ShB","None","C/D"]
[null,null,null,null,null,"Chautauqua","NY_013 Sw","Sw","None","C/D"]
[null,null,null,null,null,"Chautauqua","NY_013 ToB","ToB","None","C/D"]
[null,null,null,null,null,"Chautauqua","NY_013 UnA","UnA","None","B"]
[null,null,null,null,null,"Chautauqua","NY_013 VaB","VaB","None","B"]
[null,null,null,null,null,"Chautauqua","NY_013 Wa","Wa","Occasional","B/D"]
[null,null,null,null,null,"Chemung","NY_015 ChB","ChB","None","D"]
[null,null,null,null,null,"Chemung","NY_015 CoB","CoB","None","C/D"]
[null,null,null,null,null,"Chemung","NY_015 HtE3","HtE3","None","C/D"]
[null,null,null,null,null,"Chemung","NY_015 LoE","LoE","None","C"]
[null,null,null,null,null,"Chemung","NY_015 MdB","MdB","None","D"]
[null,null,null,null,null,"Chemung","NY_015 RhA","RhA","None","C/D"]
[null,null,null,null,null,"Chemung","NY_015 Tg","Tg","Occasional","A"]
[null,null,null,null,null,"Chemung","NY_015 VoC","VoC","None","D"]
[null,null,null,null,null,"Chenango","NY_017 ArB","ArB","None","A"]
[null,null,null,null,null,"Chenango","NY_017 At","At","None","B/D"]
[null,null,null,null,null,"Chenango","NY_017 Ca","Ca","None","C/D"]
[null,null,null,null,null,"Chenango","NY_017 ChD","ChD","None","A"]
[null,null,null,null,null,"Chenango","NY_017 CkB","CkB","None","A"]
[null,null,null,null,null,"Chenango","NY_017 HoA","HoA","None","A"]
[null,null,null,null,null,"Chenango","NY_017 HoD","HoD","None","A"]
[null,null,null,null,null,"Chenango","NY_017 LnB","LnB","None","B"]
[null,null,null,null,null,"Chenango","NY_017 LrF","LrF","None","C"]
[null,null,null,null,null,"Chenango","NY_017 McB","McB","None","D"]
[null,null,null,null,null,"Chenango","NY_017 OlB","OlB","None","C"]
[null,null,null,null,null,"Chenango","NY_017 Sa","Sa","None","A/D"]
[null,null,null,null,null,"Chenango","NY_017 Te","Te","Occasional","B/D"]
[null,null,null,null,null,"Chenango","NY_017 UnB","UnB","None","B"]
[null,null,null,null,null,"Chenango","NY_017 VaD","VaD","None","B"]
[null,null,null,null,null,"Chenango","NY_017 Wa","Wa","Frequent","B/D"]
[null,null,null,null,null,"Clinton","NY_019 375F","375F","None","A"]
[null,null,null,null,null,"Clinton","NY_019 651C","651C","None","A"]
[null,null,null,null,null,"Clinton","NY_019 708B","708B","None","C/D"]
[null,null,null,null,null,"Clinton","NY_019 831D","831D","None","B"]
[null,null,null,null,null,"Clinton","NY_019 931C","931C","None","B"]
[null,null,null,null,null,"Clinton","NY_019 944F","944F","None","D"]
[null,null,null,null,null,"Clinton","NY_019 949F","949F","None","D"]
[null,null,null,null,null,"Clinton","NY_019 AgB","AgB","None","D"]
[null,null,null,null,null,"Clinton","NY_019 BcC","BcC","None","B"]
[null,null,null,null,null,"Clinton","NY_019 BgC","BgC","None","C"]
[null,null,null,null,null,"Clinton",{"$f":"$C$66&\" \"&H7271","v":"NY_019 BsC"},"BsC","None","B"]
[null,null,null,null,null,"Clinton","NY_019 ClC","ClC","None","A"]
[null,null,null,null,null,"Clinton","NY_019 CnC","CnC","None","A"]
[null,null,null,null,null,"Clinton","NY_019 Crk","Crk","None","C/D"]
[null,null,null,null,null,"Clinton","NY_019 CtsA","CtsA","None","B/D"]
[null,null,null,null,null,"Clinton","NY_019 CxB","CxB","None","A/D"]
[null,null,null,null,null,"Clinton","NY_019 FlD","FlD","None","A"]
[null,null,null,null,null,"Clinton","NY_019 Fn","Fn","Frequent","A/D"]
[null,null,null,null,null,"Clinton","NY_019 Ha","Ha","None","C/D"]
[null,null,null,null,null,"Clinton","NY_019 HoB","HoB","None","B/D"]
[null,null,null,null,null,"Clinton","NY_019 HrB","HrB","None","B/D"]
[null,null,null,null,null,"Clinton","NY_019 Lv","Lv","None","B/D"]
[null,null,null,null,null,"Clinton","NY_019 MaC","MaC","None","B"]
[null,null,null,null,null,"Clinton","NY_019 Ms","Ms","None","B/D"]
[null,null,null,null,null,"Clinton","NY_019 MwB","MwB","None","D"]
[null,null,null,null,null,"Clinton","NY_019 NrA","NrA","None","B/D"]
[null,null,null,null,null,"Clinton","NY_019 PfB","PfB","None","B/D"]
[null,null,null,null,null,"Clinton","NY_019 Ry","Ry","None","A/D"]
[null,null,null,null,null,"Clinton","NY_019 Sb","Sb","None","C/D"]
[null,null,null,null,null,"Clinton","NY_019 SsB","SsB","None","B/D"]
[null,null,null,null,null,"Clinton","NY_019 SwB","SwB","None","C"]
[null,null,null,null,null,"Clinton","NY_019 Ue","Ue","None","A"]
[null,null,null,null,null,"Clinton","NY_019 WsC","WsC","None","D"]
[null,null,null,null,null,"Columbia","NY_021 BeD","BeD","None","D"]
[null,null,null,null,null,"Columbia","NY_021 BlA","BlA","None","A"]
[null,null,null,null,null,"Columbia","NY_021 CnB","CnB","None","C"]
[null,null,null,null,null,"Columbia","NY_021 CnC","CnC","None","C"]
[null,null,null,null,null,"Columbia","NY_021 FaC","FaC","None","D"]
[null,null,null,null,null,"Columbia","NY_021 Fn","Fn","Frequent","A/D"]
[null,null,null,null,null,"Columbia","NY_021 HoD","HoD","None","A"]
[null,null,null,null,null,"Columbia","NY_021 KnB","KnB","None","D"]
[null,null,null,null,null,"Columbia","NY_021 LmC","LmC","None","C"]
[null,null,null,null,null,"Columbia","NY_021 Lt","Lt","None","C/D"]
[null,null,null,null,null,"Columbia","NY_021 NaB","NaB","None","D"]
[null,null,null,null,null,"Columbia","NY_021 NbC","NbC","None","D"]
[null,null,null,null,null,"Columbia","NY_021 PtB","PtB","None","C"]
[null,null,null,null,null,"Columbia","NY_021 PuA","PuA","None","D"]
[null,null,null,null,null,"Columbia","NY_021 Sh","Sh","None","C/D"]
[null,null,null,null,null,"Columbia","NY_021 TmF","TmF","None","D"]
[null,null,null,null,null,"Columbia","NY_021 UrB","UrB","None","D"]
[null,null,null,null,null,"Cortland","NY_023 108B","108B","None","B"]
[null,null,null,null,null,"Cortland","NY_023 124B","124B","None","C"]
[null,null,null,null,null,"Cortland","NY_023 124C","124C","None","C"]
[null,null,null,null,null,"Cortland","NY_023 133E","133E","None","C"]
[null,null,null,null,null,"Cortland","NY_023 162D","162D","None","D"]
[null,null,null,null,null,"Cortland","NY_023 177A","177A","None","D"]
[null,null,null,null,null,"Cortland","NY_023 25C","25C","None","A"]
[null,null,null,null,null,"Cortland","NY_023 35A","35A","None","C/D"]
[null,null,null,null,null,"Cortland","NY_023 43A","43A","None","C/D"]
[null,null,null,null,null,"Cortland","NY_023 53D","53D","None","B"]
[null,null,null,null,null,"Cortland","NY_023 53E","53E","None","B"]
[null,null,null,null,null,"Cortland","NY_023 68D","68D","None","D"]
[null,null,null,null,null,"Cortland","NY_023 75A","75A","None","C/D"]
[null,null,null,null,null,"Cortland","NY_023 77B","77B","None","D"]
[null,null,null,null,null,"Delaware","NY_025 BtB","BtB","None","C"]
[null,null,null,null,null,"Delaware","NY_025 Ce","Ce","None","A/D"]
[null,null,null,null,null,"Delaware","NY_025 ChC","ChC","None","A"]
[null,null,null,null,null,"Delaware","NY_025 EkC","EkC","None","B"]
[null,null,null,null,null,"Delaware","NY_025 EkD","EkD","None","B"]
[null,null,null,null,null,"Delaware",{"$f":"$C$69&\" \"&H7627","v":"NY_025 LaC"},"LaC","None","C"]
[null,null,null,null,null,"Delaware","NY_025 LeB","LeB","None","C"]
[null,null,null,null,null,"Delaware","NY_025 LeE","LeE","None","C"]
[null,null,null,null,null,"Delaware","NY_025 LoC","LoC","None","C"]
[null,null,null,null,null,"Delaware","NY_025 MdB","MdB","None","D"]
[null,null,null,null,null,"Delaware","NY_025 MkB","MkB","None","C/D"]
[null,null,null,null,null,"Delaware","NY_025 MrC","MrC","None","D"]
[null,null,null,null,null,"Delaware","NY_025 Nr","Nr","None","D"]
[null,null,null,null,null,"Delaware","NY_025 OpC","OpC","None","C"]
[null,null,null,null,null,"Delaware","NY_025 Pc","Pc","Occasional","B/D"]
[null,null,null,null,null,"Delaware","NY_025 RhA","RhA","None","A"]
[null,null,null,null,null,"Delaware","NY_025 TkB","TkB","None","A"]
[null,null,null,null,null,"Delaware","NY_025 Uf","Uf","None","A"]
[null,null,null,null,null,"Delaware","NY_025 VaC","VaC","None","B"]
[null,null,null,null,null,"Delaware","NY_025 VoA","VoA","None","D"]
[null,null,null,null,null,"Delaware","NY_025 WeB","WeB","None","D"]
[null,null,null,null,null,"Delaware",{"$f":"$C$69&\" \"&H7723","v":"NY_025 WmB"},"WmB","None","D"]
[null,null,null,null,null,"Dutchess","NY_027 BeE","BeE","None","C/D"]
[null,null,null,null,null,"Dutchess","NY_027 ChD","ChD","None","B"]
[null,null,null,null,null,"Dutchess","NY_027 CrB","CrB","None","B"]
[null,null,null,null,null,"Dutchess","NY_027 CuC","CuC","None","A"]
[null,null,null,null,null,"Dutchess","NY_027 CwA","CwA","Rare","A"]
[null,null,null,null,null,"Dutchess","NY_027 DwC","DwC","None","B"]
[null,null,null,null,null,"Dutchess","NY_027 DxC","DxC","None","B"]
[null,null,null,null,null,"Dutchess","NY_027 GfD","GfD","None","C"]
[null,null,null,null,null,"Dutchess","NY_027 HeA","HeA","None","B"]
[null,null,null,null,null,"Dutchess","NY_027 HoC","HoC","None","D"]
[null,null,null,null,null,"Dutchess","NY_027 HsD","HsD","None","A"]
[null,null,null,null,null,"Dutchess","NY_027 HvE","HvE","None","C/D"]
[null,null,null,null,null,"Dutchess","NY_027 KrA","KrA","None","A"]
[null,null,null,null,null,"Dutchess","NY_027 Lv","Lv","None","C/D"]
[null,null,null,null,null,"Dutchess","NY_027 MnB","MnB","None","C/D"]
[null,null,null,null,null,"Dutchess","NY_027 PwC","PwC","None","C"]
[null,null,null,null,null,"Dutchess","NY_027 SkD","SkD","None","C"]
[null,null,null,null,null,"Dutchess","NY_027 SmC","SmC","None","C"]
[null,null,null,null,null,"Dutchess","NY_027 Ud","Ud","None","A"]
[null,null,null,null,null,"Erie","NY_029 AmC","AmC","None","A"]
[null,null,null,null,null,"Erie","NY_029 AoA","AoA","None","D"]
[null,null,null,null,null,"Erie","NY_029 ArE","ArE","None","A"]
[null,null,null,null,null,"Erie","NY_029 BfB","BfB","None","D"]
[null,null,null,null,null,"Erie","NY_029 BrA","BrA","None","D"]
[null,null,null,null,null,"Erie","NY_029 CfC","CfC","None","D"]
[null,null,null,null,null,"Erie","NY_029 Ch","Ch","None","C/D"]
[null,null,null,null,null,"Erie","NY_029 CmE","CmE","None","A"]
[null,null,null,null,null,"Erie","NY_029 CtB","CtB","None","C/D"]
[null,null,null,null,null,"Erie","NY_029 Cv","Cv","None","C/D"]
[null,null,null,null,null,"Erie","NY_029 DcB","DcB","None","C/D"]
[null,null,null,null,null,"Erie","NY_029 DdC","DdC","None","C/D"]
[null,null,null,null,null,"Erie","NY_029 FaA","FaA","None","D"]
[null,null,null,null,null,"Erie","NY_029 GbB","GbB","None","A/D"]
[null,null,null,null,null,"Erie","NY_029 Hm","Hm","Occasional","B"]
[null,null,null,null,null,"Erie","NY_029 HuB","HuB","None","C/D"]
[null,null,null,null,null,"Erie","NY_029 Lc","Lc","None","A/D"]
[null,null,null,null,null,"Erie","NY_029 Ld","Ld","None","A/D"]
[null,null,null,null,null,"Erie","NY_029 Lz","Lz","None","C/D"]
[null,null,null,null,null,"Erie","NY_029 MaC","MaC","None","C"]
[null,null,null,null,null,"Erie","NY_029 MdC","MdC","None","D"]
[null,null,null,null,null,"Erie","NY_029 NfA","NfA","None","C/D"]
[null,null,null,null,null,"Erie","NY_029 Nh","Nh","None","C/D"]
[null,null,null,null,null,"Erie","NY_029 OvB","OvB","None","C/D"]
[null,null,null,null,null,"Erie","NY_029 Re","Re","None","B/D"]
[null,null,null,null,null,"Erie","NY_029 RfA","RfA","None","D"]
[null,null,null,null,null,"Erie","NY_029 RmB","RmB","None","C/D"]
[null,null,null,null,null,"Erie","NY_029 SbC3","SbC3","None","D"]
[null,null,null,null,null,"Erie","NY_029 Uc","Uc","None"]
[null,null,null,null,null,"Erie","NY_029 UrA","UrA","None","B/D"]
[null,null,null,null,null,"Erie","NY_029 Uv","Uv","None","C/D"]
[null,null,null,null,null,"Erie","NY_029 VbB","VbB","None","C"]
[null,null,null,null,null,"Erie","NY_029 WaB","WaB","None","C"]
[null,null,null,null,null,"Erie","NY_029 WbB","WbB","None","C"]
[null,null,null,null,null,"Essex","NY_031 211A","211A","None","B/D"]
[null,null,null,null,null,"Essex","NY_031 363A","363A","None","A"]
[null,null,null,null,null,"Essex","NY_031 375C","375C","None","A"]
[null,null,null,null,null,"Essex","NY_031 655B","655B","None","B"]
[null,null,null,null,null,"Essex","NY_031 721C","721C","None","C"]
[null,null,null,null,null,"Essex","NY_031 723C","723C","None","C"]
[null,null,null,null,null,"Essex","NY_031 851D","851D","None","D"]
[null,null,null,null,null,"Essex","NY_031 851F","851F","None","D"]
[null,null,null,null,null,"Essex","NY_031 941D","941D","None","B"]
[null,null,null,null,null,"Essex","NY_031 944F","944F","None","D"]
[null,null,null,null,null,"Essex","NY_031 995D","995D","None","D"]
[null,null,null,null,null,"Essex","NY_031 AkB","AkB","None","C/D"]
[null,null,null,null,null,"Essex","NY_031 BeD","BeD","None","C"]
[null,null,null,null,null,"Essex","NY_031 BkD","BkD","None","C"]
[null,null,null,null,null,"Essex","NY_031 CgB","CgB","None","C/D"]
[null,null,null,null,null,"Essex","NY_031 CgC","CgC","None","C/D"]
[null,null,null,null,null,"Essex","NY_031 CnC","CnC","None","B"]
[null,null,null,null,null,"Essex","NY_031 CoC","CoC","None","B"]
[null,null,null,null,null,"Essex","NY_031 CsA","CsA","None","A"]
[null,null,null,null,null,"Essex","NY_031 CwA","CwA","None","A/D"]
[null,null,null,null,null,"Essex","NY_031 DuD","DuD","None","C"]
[null,null,null,null,null,"Essex","NY_031 ElB","ElB","None","C/D"]
[null,null,null,null,null,"Essex","NY_031 FnC","FnC","None","A"]
[null,null,null,null,null,"Essex","NY_031 FnD","FnD","None","A"]
[null,null,null,null,null,"Essex","NY_031 HcC","HcC","None","A"]
[null,null,null,null,null,"Essex","NY_031 HnC","HnC","None","A"]
[null,null,null,null,null,"Essex","NY_031 HsD","HsD","None","D"]
[null,null,null,null,null,"Essex","NY_031 LvA","LvA","Occasional","B/D"]
[null,null,null,null,null,"Essex","NY_031 MdA","MdA","Frequent","B/D"]
[null,null,null,null,null,"Essex","NY_031 MkB","MkB","None","A"]
[null,null,null,null,null,"Essex","NY_031 MuC","MuC","None","B"]
[null,null,null,null,null,"Essex","NY_031 MuD","MuD","None","B"]
[null,null,null,null,null,"Essex","NY_031 NvB","NvB","None","A/D"]
[null,null,null,null,null,"Essex","NY_031 PkA","PkA","None","B/D"]
[null,null,null,null,null,"Essex","NY_031 PlD","PlD","None","B"]
[null,null,null,null,null,"Essex","NY_031 PwC","PwC","None","B"]
[null,null,null,null,null,"Essex","NY_031 RmA","RmA","Frequent","A/D"]
[null,null,null,null,null,"Essex","NY_031 RuA","RuA","Frequent","B/D"]
[null,null,null,null,null,"Essex","NY_031 SrC","SrC","None","B/D"]
[null,null,null,null,null,"Essex","NY_031 TaA","TaA","None","B/D"]
[null,null,null,null,null,"Essex","NY_031 VeC","VeC","None","D"]
[null,null,null,null,null,"Essex","NY_031 WnC","WnC","None","A"]
[null,null,null,null,null,"Essex","NY_031 WoA","WoA","None","B/D"]
[null,null,null,null,null,"Franklin","NY_033 3100B","3100B","None","B/D"]
[null,null,null,null,null,"Franklin","NY_033 363D","363D","None","A"]
[null,null,null,null,null,"Franklin","NY_033 365A","365A","None","A/D"]
[null,null,null,null,null,"Franklin","NY_033 376C","376C","None","A"]
[null,null,null,null,null,"Franklin","NY_033 390B","390B","None","A"]
[null,null,null,null,null,"Franklin","NY_033 649C","649C","None","A"]
[null,null,null,null,null,"Franklin","NY_033 653D","653D","None","A"]
[null,null,null,null,null,"Franklin","NY_033 657C","657C","None","A"]
[null,null,null,null,null,"Franklin","NY_033 721C","721C","None","C"]
[null,null,null,null,null,"Franklin",{"$f":"$C$73&\" \"&H8364","v":"NY_033 727B"},"727B","None","B/D"]
[null,null,null,null,null,"Franklin","NY_033 743C","743C","None","B"]
[null,null,null,null,null,"Franklin","NY_033 835C","835C","None","B"]
[null,null,null,null,null,"Franklin","NY_033 881F","881F","None","D"]
[null,null,null,null,null,"Franklin","NY_033 941C","941C","None","B"]
[null,null,null,null,null,"Franklin","NY_033 992D","992D","None","B"]
[null,null,null,null,null,"Franklin","NY_033 Aaa","Aaa","None","A"]
[null,null,null,null,null,"Franklin","NY_033 AgB","AgB","None","B/D"]
[null,null,null,null,null,"Franklin","NY_033 Bbd","Bbd","None","C"]
[null,null,null,null,null,"Franklin","NY_033 Bce","Bce","None","C"]
[null,null,null,null,null,"Franklin","NY_033 Bfb","Bfb","None","C/D"]
[null,null,null,null,null,"Franklin","NY_033 BtD","BtD","None","C"]
[null,null,null,null,null,"Franklin","NY_033 Cfa","Cfa","None","B/D"]
[null,null,null,null,null,"Franklin","NY_033 Coa","Coa","None","B"]
[null,null,null,null,null,"Franklin","NY_033 Cqb","Cqb","None","C/D"]
[null,null,null,null,null,"Franklin","NY_033 CzC","CzC","None","B/D"]
[null,null,null,null,null,"Franklin","NY_033 Eac","Eac","None","B/D"]
[null,null,null,null,null,"Franklin","NY_033 Edc","Edc","None","B/D"]
[null,null,null,null,null,"Franklin","NY_033 FnA","FnA","Frequent","A/D"]
[null,null,null,null,null,"Franklin","NY_033 Gbb","Gbb","None","B/D"]
[null,null,null,null,null,"Franklin","NY_033 Lba","Lba","None","C/D"]
[null,null,null,null,null,"Franklin","NY_033 Mea","Mea","None","C/D"]
[null,null,null,null,null,"Franklin",{"$f":"$C$73&\" \"&H8492","v":"NY_033 Mfb"},"Mfb","None","C/D"]
[null,null,null,null,null,"Franklin","NY_033 MoB","MoB","None","A"]
[null,null,null,null,null,"Franklin","NY_033 Nbb","Nbb","None","C/D"]
[null,null,null,null,null,"Franklin","NY_033 NmA","NmA","None","A/D"]
[null,null,null,null,null,"Franklin","NY_033 Pbb","Pbb","None","C"]
[null,null,null,null,null,"Franklin","NY_033 Pea","Pea","Occasional","B"]
[null,null,null,null,null,"Franklin","NY_033 Raa","Raa","None","C/D"]
[null,null,null,null,null,"Franklin","NY_033 SaC","SaC","None","B"]
[null,null,null,null,null,"Franklin","NY_033 Sbc","Sbc","None","B"]
[null,null,null,null,null,"Franklin","NY_033 Sfa","Sfa","None","A/D"]
[null,null,null,null,null,"Franklin",{"$f":"$C$73&\" \"&H8556","v":"NY_033 SrB"},"SrB","None","B"]
[null,null,null,null,null,"Franklin","NY_033 StD","StD","None","D"]
[null,null,null,null,null,"Franklin","NY_033 Tab","Tab","None","A"]
[null,null,null,null,null,"Franklin","NY_033 Tca","Tca","None","C/D"]
[null,null,null,null,null,"Franklin","NY_033 Waa","Waa","None","D"]
[null,null,null,null,null,"Franklin","NY_033 Wka","Wka","None","A/D"]
[null,null,null,null,null,"Franklin","NY_033 Wna","Wna","None","D"]
[null,null,null,null,null,"Franklin","NY_033 WrD","WrD","None","D"]
[null,null,null,null,null,"Fulton","NY_035 1024A","1024A","None","A/D"]
[null,null,null,null,null,"Fulton","NY_035 1025A","1025A","None","A"]
[null,null,null,null,null,"Fulton","NY_035 1070C","1070C","None","B"]
[null,null,null,null,null,"Fulton","NY_035 1075C","1075C","None","C"]
[null,null,null,null,null,"Fulton","NY_035 109A","109A","None","B/D"]
[null,null,null,null,null,"Fulton","NY_035 115B","115B","None","A"]
[null,null,null,null,null,"Fulton","NY_035 1170E","1170E","None","C"]
[null,null,null,null,null,"Fulton","NY_035 117C","117C","None","C"]
[null,null,null,null,null,"Fulton","NY_035 11E","11E","None","A"]
[null,null,null,null,null,"Fulton","NY_035 1291C","1291C","None","C"]
[null,null,null,null,null,"Fulton","NY_035 134B","134B","None","C/D"]
[null,null,null,null,null,"Fulton","NY_035 137A","137A","None","C/D"]
[null,null,null,null,null,"Fulton","NY_035 152B","152B","None","B/D"]
[null,null,null,null,null,"Fulton","NY_035 165A","165A","None","A/D"]
[null,null,null,null,null,"Fulton","NY_035 170C","170C","None","A"]
[null,null,null,null,null,"Fulton","NY_035 189A","189A","None","D"]
[null,null,null,null,null,"Fulton","NY_035 197A","197A","None","B/D"]
[null,null,null,null,null,"Fulton","NY_035 201B","201B","None","A"]
[null,null,null,null,null,"Fulton","NY_035 212B","212B","None","A"]
[null,null,null,null,null,"Fulton","NY_035 2170C","2170C","None","C"]
[null,null,null,null,null,"Fulton","NY_035 22B","22B","None","B/D"]
[null,null,null,null,null,"Fulton","NY_035 32C","32C","None","B"]
[null,null,null,null,null,"Fulton","NY_035 363D","363D","None","A"]
[null,null,null,null,null,"Fulton","NY_035 368A","368A","None","A/D"]
[null,null,null,null,null,"Fulton","NY_035 44A","44A","None","B/D"]
[null,null,null,null,null,"Fulton","NY_035 44B","44B","None","B/D"]
[null,null,null,null,null,"Fulton","NY_035 651D","651D","None","A"]
[null,null,null,null,null,"Fulton","NY_035 653D","653D","None","A"]
[null,null,null,null,null,"Fulton","NY_035 721D","721D","None","C"]
[null,null,null,null,null,"Fulton","NY_035 741C","741C","None","C"]
[null,null,null,null,null,"Fulton","NY_035 74B","74B","None","D"]
[null,null,null,null,null,"Fulton","NY_035 81B","81B","None","B"]
[null,null,null,null,null,"Fulton","NY_035 851D","851D","None","D"]
[null,null,null,null,null,"Fulton","NY_035 851F","851F","None","D"]
[null,null,null,null,null,"Fulton","NY_035 941D","941D","None","B"]
[null,null,null,null,null,"Fulton","NY_035 99A","99A","None","B/D"]
[null,null,null,null,null,"Genesee","NY_037 AnA","AnA","None","D"]
[null,null,null,null,null,"Genesee","NY_037 AuB","AuB","None","D"]
[null,null,null,null,null,"Genesee","NY_037 CaA","CaA","None","C/D"]
[null,null,null,null,null,"Genesee","NY_037 CeA","CeA","None","C/D"]
[null,null,null,null,null,"Genesee","NY_037 CmB","CmB","None","A"]
[null,null,null,null,null,"Genesee","NY_037 CmC","CmC","None","A"]
[null,null,null,null,null,"Genesee","NY_037 DuC","DuC","None","C"]
[null,null,null,null,null,"Genesee","NY_037 FrC","FrC","None","D"]
[null,null,null,null,null,"Genesee","NY_037 HaA","HaA","None","B/D"]
[null,null,null,null,null,"Genesee","NY_037 KnA","KnA","None","B/D"]
[null,null,null,null,null,"Genesee","NY_037 LgC","LgC","None","B"]
[null,null,null,null,null,"Genesee","NY_037 MhA","MhA","None","C/D"]
[null,null,null,null,null,"Genesee","NY_037 Mn","Mn","Occasional","B/D"]
[null,null,null,null,null,"Genesee","NY_037 MnA","MnA","None","B/D"]
[null,null,null,null,null,"Genesee","NY_037 Oa","Oa","Frequent","C/D"]
[null,null,null,null,null,"Genesee","NY_037 OrE","OrE","None","B"]
[null,null,null,null,null,"Genesee","NY_037 OvA","OvA","None","C/D"]
[null,null,null,null,null,"Genesee","NY_037 PkD","PkD","None","A"]
[null,null,null,null,null,"Genesee","NY_037 PsB","PsB","None","B/D"]
[null,null,null,null,null,"Genesee","NY_037 ReC","ReC","None","D"]
[null,null,null,null,null,"Genesee","NY_037 RoA","RoA","None","C/D"]
[null,null,null,null,null,"Genesee","NY_037 SeB","SeB","None","D"]
[null,null,null,null,null,"Genesee","NY_037 Um","Um","None","A"]
[null,null,null,null,null,"Greene","NY_039 ArA","ArA","None","D"]
[null,null,null,null,null,"Greene","NY_039 AsC","AsC","None","D"]
[null,null,null,null,null,"Greene","NY_039 Ba","Ba","Occasional","B"]
[null,null,null,null,null,"Greene","NY_039 Ca","Ca","None","C/D"]
[null,null,null,null,null,"Greene","NY_039 ChC","ChC","None","C/D"]
[null,null,null,null,null,"Greene","NY_039 ElD","ElD","None","B"]
[null,null,null,null,null,"Greene","NY_039 EmF","EmF","None","B"]
[null,null,null,null,null,"Greene","NY_039 GfD","GfD","None","C"]
[null,null,null,null,null,"Greene","NY_039 HvC","HvC","None","C/D"]
[null,null,null,null,null,"Greene","NY_039 HwD3","HwD3","None","C/D"]
[null,null,null,null,null,"Greene","NY_039 LeB","LeB","None","C"]
[null,null,null,null,null,"Greene","NY_039 LlD","LlD","None","C"]
[null,null,null,null,null,"Greene","NY_039 LoA","LoA","None","C"]
[null,null,null,null,null,"Greene","NY_039 MaC","MaC","None","B"]
[null,null,null,null,null,"Greene","NY_039 MdB","MdB","None","D"]
[null,null,null,null,null,"Greene","NY_039 MoC","MoC","None","D"]
[null,null,null,null,null,"Greene","NY_039 NuC","NuC","None","C/D"]
[null,null,null,null,null,"Greene","NY_039 NvC","NvC","None","C/D"]
[null,null,null,null,null,"Greene","NY_039 OrB","OrB","None","C"]
[null,null,null,null,null,"Greene","NY_039 RhD","RhD","None","A"]
[null,null,null,null,null,"Greene","NY_039 Ta","Ta","Occasional","A"]
[null,null,null,null,null,"Greene","NY_039 TuC","TuC","None","A"]
[null,null,null,null,null,"Greene","NY_039 TwE","TwE","None","A"]
[null,null,null,null,null,"Greene","NY_039 VdB","VdB","None","B"]
[null,null,null,null,null,"Greene","NY_039 VhF","VhF","None","C"]
[null,null,null,null,null,"Greene","NY_039 VoC","VoC","None","D"]
[null,null,null,null,null,"Greene","NY_039 WmC","WmC","None","D"]
[null,null,null,null,null,"Hamilton","NY_041 26A","26A","Occasional","A/D"]
[null,null,null,null,null,"Hamilton","NY_041 365A","365A","None","A/D"]
[null,null,null,null,null,"Hamilton","NY_041 651C","651C","None","A"]
[null,null,null,null,null,"Hamilton","NY_041 653C","653C","None","A"]
[null,null,null,null,null,"Hamilton","NY_041 708B","708B","None","C/D"]
[null,null,null,null,null,"Hamilton","NY_041 741C","741C","None","C"]
[null,null,null,null,null,"Hamilton","NY_041 743D","743D","None","C"]
[null,null,null,null,null,"Hamilton","NY_041 835C","835C","None","B"]
[null,null,null,null,null,"Hamilton","NY_041 933C","933C","None","B"]
[null,null,null,null,null,"Hamilton","NY_041 941C","941C","None","B"]
[null,null,null,null,null,"Hamilton","NY_041 945C","945C","None","D"]
[null,null,null,null,null,"Hamilton","NY_041 949F","949F","None","D"]
[null,null,null,null,null,"Herkimer","NY_043 1027C","1027C","None","B"]
[null,null,null,null,null,"Herkimer","NY_043 13","13","Frequent","C/D"]
[null,null,null,null,null,"Herkimer","NY_043 211A","211A","None","B/D"]
[null,null,null,null,null,"Herkimer","NY_043 350B","350B","None","A"]
[null,null,null,null,null,"Herkimer","NY_043 375C","375C","None","A"]
[null,null,null,null,null,"Herkimer","NY_043 376A","376A","None","A"]
[null,null,null,null,null,"Herkimer","NY_043 394A","394A","None","C/D"]
[null,null,null,null,null,"Herkimer","NY_043 398","398","None","A/D"]
[null,null,null,null,null,"Herkimer","NY_043 56B","56B","None","C"]
[null,null,null,null,null,"Herkimer","NY_043 651C","651C","None","A"]
[null,null,null,null,null,"Herkimer","NY_043 653C","653C","None","A"]
[null,null,null,null,null,"Herkimer","NY_043 705B","705B","None","B/D"]
[null,null,null,null,null,"Herkimer","NY_043 723F","723F","None","C"]
[null,null,null,null,null,"Herkimer","NY_043 725B","725B","None","B/D"]
[null,null,null,null,null,"Herkimer","NY_043 831C","831C","None","B"]
[null,null,null,null,null,"Herkimer","NY_043 833C","833C","None","B"]
[null,null,null,null,null,"Herkimer","NY_043 932C","932C","None","B"]
[null,null,null,null,null,"Herkimer","NY_043 942C","942C","None","B"]
[null,null,null,null,null,"Herkimer","NY_043 944F","944F","None","D"]
[null,null,null,null,null,"Herkimer","NY_043 ApB","ApB","None","B/D"]
[null,null,null,null,null,"Herkimer","NY_043 BuB","BuB","None","C/D"]
[null,null,null,null,null,"Herkimer","NY_043 BuC","BuC","None","C/D"]
[null,null,null,null,null,"Herkimer","NY_043 FkE","FkE","None","D"]
[null,null,null,null,null,"Herkimer","NY_043 Ha","Ha","None","B/D"]
[null,null,null,null,null,"Herkimer","NY_043 HhB","HhB","None","B"]
[null,null,null,null,null,"Herkimer","NY_043 HoB","HoB","None","B"]
[null,null,null,null,null,"Herkimer","NY_043 HrE","HrE","None","B"]
[null,null,null,null,null,"Herkimer","NY_043 HuC","HuC","None","A"]
[null,null,null,null,null,"Herkimer","NY_043 Is","Is","None","C/D"]
[null,null,null,null,null,"Herkimer","NY_043 LaB","LaB","None","C/D"]
[null,null,null,null,null,"Herkimer","NY_043 LpB","LpB","None","C/D"]
[null,null,null,null,null,"Herkimer","NY_043 McB","McB","None","C/D"]
[null,null,null,null,null,"Herkimer","NY_043 MoC","MoC","None","C"]
[null,null,null,null,null,"Herkimer","NY_043 PaB","PaB","None","C"]
[null,null,null,null,null,"Herkimer","NY_043 PmC","PmC","None","A"]
[null,null,null,null,null,"Herkimer","NY_043 RaB","RaB","None","B/D"]
[null,null,null,null,null,"Herkimer","NY_043 WaA","WaA","None","C"]
[null,null,null,null,null,"Herkimer","NY_043 WaB","WaB","None","C"]
[null,null,null,null,null,"Jefferson",{"$f":"$C$79&\" \"&H9421","v":"NY_045 3007A"},"3007A","None","B/D"]
[null,null,null,null,null,"Jefferson","NY_045 9023C","9023C","None","C"]
[null,null,null,null,null,"Jefferson","NY_045 9215B","9215B","None","D"]
[null,null,null,null,null,"Jefferson","NY_045 AlA","AlA","None","A"]
[null,null,null,null,null,"Jefferson","NY_045 AnA","AnA","None","D"]
[null,null,null,null,null,"Jefferson","NY_045 ArC","ArC","None","A"]
[null,null,null,null,null,"Jefferson","NY_045 BlB","BlB","None","B"]
[null,null,null,null,null,"Jefferson","NY_045 BmB","BmB","None","B"]
[null,null,null,null,null,"Jefferson","NY_045 BpC","BpC","None","A"]
[null,null,null,null,null,"Jefferson","NY_045 CkC","CkC","None","B"]
[null,null,null,null,null,"Jefferson","NY_045 ClB","ClB","None","D"]
[null,null,null,null,null,"Jefferson","NY_045 DcC","DcC","None","C/D"]
[null,null,null,null,null,"Jefferson","NY_045 ElB","ElB","None","C/D"]
[null,null,null,null,null,"Jefferson","NY_045 FaB","FaB","None","D"]
[null,null,null,null,null,"Jefferson","NY_045 GmC","GmC","None","C/D"]
[null,null,null,null,null,"Jefferson","NY_045 Gr","Gr","None","A/D"]
[null,null,null,null,null,"Jefferson","NY_045 HaB","HaB","None","C"]
[null,null,null,null,null,"Jefferson","NY_045 HoB","HoB","None","A"]
[null,null,null,null,null,"Jefferson","NY_045 HrB","HrB","None","D"]
[null,null,null,null,null,"Jefferson","NY_045 Ju","Ju","None","A/D"]
[null,null,null,null,null,"Jefferson","NY_045 Lc","Lc","None","C/D"]
[null,null,null,null,null,"Jefferson","NY_045 LoB","LoB","None","B"]
[null,null,null,null,null,"Jefferson","NY_045 MnC","MnC","None","C"]
[null,null,null,null,null,"Jefferson","NY_045 MoA","MoA","None","C/D"]
[null,null,null,null,null,"Jefferson","NY_045 MxC","MxC","None","D"]
[null,null,null,null,null,"Jefferson","NY_045 NmE","NmE","None","B"]
[null,null,null,null,null,"Jefferson","NY_045 NoB","NoB","None","C/D"]
[null,null,null,null,null,"Jefferson","NY_045 PrB","PrB","None","A"]
[null,null,null,null,null,"Jefferson","NY_045 Rn","Rn","Occasional","C/D"]
[null,null,null,null,null,"Jefferson","NY_045 Sc","Sc","None","A/D"]
[null,null,null,null,null,"Jefferson","NY_045 Su","Su","None","C/D"]
[null,null,null,null,null,"Jefferson","NY_045 ToA","ToA","None","C/D"]
[null,null,null,null,null,"Jefferson","NY_045 Wk","Wk","None","A/D"]
[null,null,null,null,null,"Kings","NY_047 BBA","BBA","None","A"]
[null,null,null,null,null,"Kings","NY_047 BiB","BiB","None","A"]
[null,null,null,null,null,"Kings","NY_047 ChBs","ChBs","None","A"]
[null,null,null,null,null,"Kings","NY_047 CwE","CwE","None","A"]
[null,null,null,null,null,"Kings","NY_047 FGC","FGC","None","B"]
[null,null,null,null,null,"Kings","NY_047 GbA","GbA","None","B"]
[null,null,null,null,null,"Kings","NY_047 GbD","GbD","None","B"]
[null,null,null,null,null,"Kings","NY_047 GUCw","GUCw","None","B"]
[null,null,null,null,null,"Kings","NY_047 HkB","HkB","Rare","A"]
[null,null,null,null,null,"Kings","NY_047 IwA","IwA","Very frequent","A/D"]
[null,null,null,null,null,"Kings","NY_047 LUA","LUA","None","C"]
[null,null,null,null,null,"Kings","NY_047 NoA","NoA","None","C"]
[null,null,null,null,null,"Kings","NY_047 Psa2","Psa2","Very frequent","D"]
[null,null,null,null,null,"Kings","NY_047 RvC","RvC","None","A"]
[null,null,null,null,null,"Kings","NY_047 TkA","TkA","Frequent","B/D"]
[null,null,null,null,null,"Kings","NY_047 UGB","UGB","None"]
[null,null,null,null,null,"Kings","NY_047 ULA","ULA","None"]
[null,null,null,null,null,"Kings","NY_047 UoA","UoA","None"]
[null,null,null,null,null,"Kings","NY_047 UVBl","UVBl","None","B"]
[null,null,null,null,null,"Lewis","NY_049 211A","211A","None","B/D"]
[null,null,null,null,null,"Lewis","NY_049 3111B","3111B","None","B/D"]
[null,null,null,null,null,"Lewis","NY_049 3300D","3300D","None","A"]
[null,null,null,null,null,"Lewis","NY_049 363B","363B","None","A"]
[null,null,null,null,null,"Lewis","NY_049 375F","375F","None","A"]
[null,null,null,null,null,"Lewis","NY_049 55A","55A","None","A"]
[null,null,null,null,null,"Lewis","NY_049 56C","56C","None","C"]
[null,null,null,null,null,"Lewis","NY_049 651D","651D","None","A"]
[null,null,null,null,null,"Lewis","NY_049 721C","721C","None","C"]
[null,null,null,null,null,"Lewis","NY_049 723C","723C","None","C"]
[null,null,null,null,null,"Lewis","NY_049 831D","831D","None","B"]
[null,null,null,null,null,"Lewis",{"$f":"$C$81&\" \"&H9798","v":"NY_049 835C"},"835C","None","B"]
[null,null,null,null,null,"Lewis","NY_049 99","99","None","A/D"]
[null,null,null,null,null,"Lewis","NY_049 AdA","AdA","Frequent","A/D"]
[null,null,null,null,null,"Lewis","NY_049 AfB","AfB","None","C"]
[null,null,null,null,null,"Lewis","NY_049 AoC","AoC","None","A"]
[null,null,null,null,null,"Lewis","NY_049 BeB","BeB","None","C"]
[null,null,null,null,null,"Lewis","NY_049 CaA","CaA","None","D"]
[null,null,null,null,null,"Lewis","NY_049 CcC","CcC","None","A"]
[null,null,null,null,null,"Lewis","NY_049 CdC","CdC","None","A"]
[null,null,null,null,null,"Lewis","NY_049 ChC","ChC","None","A"]
[null,null,null,null,null,"Lewis",{"$f":"$C$81&\" \"&H9862","v":"NY_049 DbB"},"DbB","None","B"]
[null,null,null,null,null,"Lewis","NY_049 EaA","EaA","Occasional","B/D"]
[null,null,null,null,null,"Lewis","NY_049 FaA","FaA","None","C/D"]
[null,null,null,null,null,"Lewis","NY_049 GgA","GgA","None","B/D"]
[null,null,null,null,null,"Lewis","NY_049 GkB","GkB","None","B"]
[null,null,null,null,null,"Lewis","NY_049 GoD","GoD","None","B"]
[null,null,null,null,null,"Lewis","NY_049 GsA","GsA","None","A"]
[null,null,null,null,null,"Lewis","NY_049 HbD","HbD","None","B"]
[null,null,null,null,null,"Lewis","NY_049 HfA","HfA","None","C"]
[null,null,null,null,null,"Lewis","NY_049 HgB","HgB","None","B"]
[null,null,null,null,null,"Lewis","NY_049 JaA","JaA","None","B/D"]
[null,null,null,null,null,"Lewis","NY_049 KfB","KfB","None","D"]
[null,null,null,null,null,"Lewis","NY_049 LaA","LaA","Occasional","C"]
[null,null,null,null,null,"Lewis","NY_049 McA","McA","None","C/D"]
[null,null,null,null,null,"Lewis","NY_049 MdC","MdC","None","C"]
[null,null,null,null,null,"Lewis","NY_049 MgC","MgC","None","C"]
[null,null,null,null,null,"Lewis","NY_049 NcB","NcB","None","C"]
[null,null,null,null,null,"Lewis","NY_049 NeB","NeB","None","C"]
[null,null,null,null,null,"Lewis","NY_049 NlB","NlB","None","A/D"]
[null,null,null,null,null,"Lewis","NY_049 Pc","Pc","None"]
[null,null,null,null,null,"Lewis","NY_049 PcA","PcA","None","A"]
[null,null,null,null,null,"Lewis","NY_049 PfE","PfE","None","C"]
[null,null,null,null,null,"Lewis",{"$f":"$C$81&\" \"&H9990","v":"NY_049 PhC"},"PhC","None","B"]
[null,null,null,null,null,"Lewis","NY_049 RaC","RaC","None","C/D"]
[null,null,null,null,null,"Lewis","NY_049 SaA","SaA","Frequent","B/D"]
[null,null,null,null,null,"Lewis","NY_049 ShC","ShC","None","D"]
[null,null,null,null,null,"Lewis","NY_049 SmB","SmB","None","C"]
[null,null,null,null,null,"Lewis","NY_049 TuD","TuD","None","B"]
[null,null,null,null,null,"Lewis","NY_049 WbA","WbA","None","A/D"]
[null,null,null,null,null,"Lewis","NY_049 WhB","WhB","None","D"]
[null,null,null,null,null,"Lewis","NY_049 WmD","WmD","None","B"]
[null,null,null,null,null,"Livingston","NY_051 122A","122A","None","B"]
[null,null,null,null,null,"Livingston","NY_051 134A","134A","None","D"]
[null,null,null,null,null,"Livingston","NY_051 150C","150C","None","B"]
[null,null,null,null,null,"Livingston","NY_051 151C","151C","None","C"]
[null,null,null,null,null,"Livingston","NY_051 162B","162B","None","D"]
[null,null,null,null,null,"Livingston","NY_051 162C","162C","None","D"]
[null,null,null,null,null,"Livingston","NY_051 168C","168C","None","D"]
[null,null,null,null,null,"Livingston","NY_051 173B","173B","None","D"]
[null,null,null,null,null,"Livingston","NY_051 181E","181E","None","C"]
[null,null,null,null,null,"Livingston","NY_051 22B","22B","None","B"]
[null,null,null,null,null,"Livingston","NY_051 23C","23C","None","B"]
[null,null,null,null,null,"Livingston","NY_051 24A","24A","None","A"]
[null,null,null,null,null,"Livingston","NY_051 25B","25B","None","A"]
[null,null,null,null,null,"Livingston","NY_051 25C","25C","None","A"]
[null,null,null,null,null,"Livingston","NY_051 28A","28A","None","B/D"]
[null,null,null,null,null,"Livingston","NY_051 336B","336B","None","D"]
[null,null,null,null,null,"Livingston","NY_051 34A","34A","None","D"]
[null,null,null,null,null,"Livingston","NY_051 38A","38A","None","C/D"]
[null,null,null,null,null,"Livingston","NY_051 45B","45B","None","B"]
[null,null,null,null,null,"Livingston","NY_051 47C","47C","None","A"]
[null,null,null,null,null,"Livingston","NY_051 50C","50C","None","B"]
[null,null,null,null,null,"Livingston",{"$f":"$C$82&\" \"&H10171","v":"NY_051 50D"},"50D","None","B"]
[null,null,null,null,null,"Livingston","NY_051 53B","53B","None","C/D"]
[null,null,null,null,null,"Livingston","NY_051 55D","55D","None","C/D"]
[null,null,null,null,null,"Livingston","NY_051 56C","56C","None","C/D"]
[null,null,null,null,null,"Livingston","NY_051 62C","62C","None","D"]
[null,null,null,null,null,"Livingston","NY_051 64D","64D","None","B"]
[null,null,null,null,null,"Livingston","NY_051 65B","65B","None","B/D"]
[null,null,null,null,null,"Livingston","NY_051 68B","68B","None","D"]
[null,null,null,null,null,"Livingston","NY_051 69A","69A","None","D"]
[null,null,null,null,null,"Livingston","NY_051 76C","76C","None","C/D"]
[null,null,null,null,null,"Livingston",{"$f":"$C$82&\" \"&H10235","v":"NY_051 78D"},"78D","None","D"]
[null,null,null,null,null,"Livingston","NY_051 7A","7A","Frequent","B/D"]
[null,null,null,null,null,"Livingston","NY_051 81F","81F","None","C"]
[null,null,null,null,null,"Livingston","NY_051 86B","86B","None","D"]
[null,null,null,null,null,"Livingston","NY_051 87D","87D","None","C/D"]
[null,null,null,null,null,"Livingston","NY_051 96C","96C","None","C/D"]
[null,null,null,null,null,"Madison","NY_053 An","An","None","D"]
[null,null,null,null,null,"Madison","NY_053 AuB","AuB","None","D"]
[null,null,null,null,null,"Madison","NY_053 CaB","CaB","None","C"]
[null,null,null,null,null,"Madison","NY_053 Ce","Ce","None","A/D"]
[null,null,null,null,null,"Madison","NY_053 CkB","CkB","None","C/D"]
[null,null,null,null,null,"Madison","NY_053 Ed","Ed","None","D"]
[null,null,null,null,null,"Madison","NY_053 En","En","None","A/D"]
[null,null,null,null,null,"Madison","NY_053 GaB","GaB","None","A/D"]
[null,null,null,null,null,"Madison","NY_053 HlA","HlA","None","B/D"]
[null,null,null,null,null,"Madison","NY_053 HxA","HxA","None","B"]
[null,null,null,null,null,"Madison","NY_053 LbE3","LbE3","None","D"]
[null,null,null,null,null,"Madison","NY_053 LsB","LsB","None","B"]
[null,null,null,null,null,"Madison","NY_053 LvA","LvA","None","D"]
[null,null,null,null,null,"Madison","NY_053 MaD","MaD","None","D"]
[null,null,null,null,null,"Madison","NY_053 Mo","Mo","Frequent","C/D"]
[null,null,null,null,null,"Madison",{"$f":"$C$83&\" \"&H10361","v":"NY_053 OnB"},"OnB","None","B"]
[null,null,null,null,null,"Madison","NY_053 OvB","OvB","None","C/D"]
[null,null,null,null,null,"Madison","NY_053 PKE","PKE","None","A"]
[null,null,null,null,null,"Madison","NY_053 SdC","SdC","None","D"]
[null,null,null,null,null,"Madison","NY_053 SgB","SgB","None","C"]
[null,null,null,null,null,"Madison","NY_053 Te","Te","Occasional","B/D"]
[null,null,null,null,null,"Madison","NY_053 WeC","WeC","None","B"]
[null,null,null,null,null,"Madison","NY_053 Wk","Wk","Frequent","D"]
[null,null,null,null,null,"Monroe",{"$f":"$C$84&\" \"&H10409","v":"NY_055 Al"},"Al","Frequent","B/D"]
[null,null,null,null,null,"Monroe","NY_055 AoB","AoB","None","A"]
[null,null,null,null,null,"Monroe","NY_055 BcB","BcB","None","D"]
[null,null,null,null,null,"Monroe","NY_055 ChA","ChA","None","C/D"]
[null,null,null,null,null,"Monroe","NY_055 CkB","CkB","None","C/D"]
[null,null,null,null,null,"Monroe","NY_055 CoB","CoB","None","A"]
[null,null,null,null,null,"Monroe","NY_055 Ee","Ee","Occasional","B/D"]
[null,null,null,null,null,"Monroe","NY_055 Fw","Fw","None","A/D"]
[null,null,null,null,null,"Monroe","NY_055 HfB","HfB","None","B/D"]
[null,null,null,null,null,"Monroe","NY_055 HmA","HmA","None","B/D"]
[null,null,null,null,null,"Monroe","NY_055 IgB","IgB","None","D"]
[null,null,null,null,null,"Monroe","NY_055 Ly","Ly","None","C/D"]
[null,null,null,null,null,"Monroe","NY_055 MdA","MdA","None","B"]
[null,null,null,null,null,"Monroe","NY_055 Ms","Ms","None","C/D"]
[null,null,null,null,null,"Monroe","NY_055 OnD3","OnD3","None","B"]
[null,null,null,null,null,"Monroe","NY_055 OpD","OpD","None","A"]
[null,null,null,null,null,"Monroe",{"$f":"$C$84&\" \"&H10505","v":"NY_055 PaD"},"PaD","None","A"]
[null,null,null,null,null,"Monroe","NY_055 PhA","PhA","None","B/D"]
[null,null,null,null,null,"Monroe","NY_055 ShD3","ShD3","None","D"]
[null,null,null,null,null,"Monroe","NY_055 WfA","WfA","None","C"]
[null,null,null,null,null,"Montgomery","NY_057 AmA","AmA","None","C/D"]
[null,null,null,null,null,"Montgomery","NY_057 AtC","AtC","None","D"]
[null,null,null,null,null,"Montgomery","NY_057 BuB","BuB","None","C/D"]
[null,null,null,null,null,"Montgomery","NY_057 BuC","BuC","None","C/D"]
[null,null,null,null,null,"Montgomery","NY_057 ChB","ChB","None","C/D"]
[null,null,null,null,null,"Montgomery","NY_057 Cr","Cr","None","A"]
[null,null,null,null,null,"Montgomery","NY_057 Fo","Fo","None","C/D"]
[null,null,null,null,null,"Montgomery","NY_057 HrA","HrA","None","A"]
[null,null,null,null,null,"Montgomery","NY_057 HrD","HrD","None","A"]
[null,null,null,null,null,"Montgomery","NY_057 IlB","IlB","None","C/D"]
[null,null,null,null,null,"Montgomery","NY_057 LoD","LoD","None","C"]
[null,null,null,null,null,"Montgomery","NY_057 Ma","Ma","None","C/D"]
[null,null,null,null,null,"Montgomery","NY_057 MsB","MsB","None","B"]
[null,null,null,null,null,"Montgomery","NY_057 MtA","MtA","None","D"]
[null,null,null,null,null,"Montgomery","NY_057 NuC","NuC","None","C/D"]
[null,null,null,null,null,"Montgomery","NY_057 PmB","PmB","None","A"]
[null,null,null,null,null,"Montgomery","NY_057 PpB","PpB","None","B/D"]
[null,null,null,null,null,"Montgomery","NY_057 RLF","RLF","None","D"]
[null,null,null,null,null,"Montgomery","NY_057 UnB","UnB","None","B"]
[null,null,null,null,null,"Montgomery","NY_057 UnC","UnC","None","B"]
[null,null,null,null,null,"Nassau","NY_059 At","At","None","A/D"]
[null,null,null,null,null,"Nassau","NY_059 Bd","Bd","None","A/D"]
[null,null,null,null,null,"Nassau","NY_059 HDB","HDB","Rare","A"]
[null,null,null,null,null,"Nassau","NY_059 Mc","Mc","Very frequent","A/D"]
[null,null,null,null,null,"Nassau","NY_059 Pa","Pa","Very frequent","A/D"]
[null,null,null,null,null,"Nassau","NY_059 PrD","PrD","None","A"]
[null,null,null,null,null,"Nassau","NY_059 Su","Su","None","B"]
[null,null,null,null,null,"Nassau","NY_059 SwA","SwA","Rare","B/D"]
[null,null,null,null,null,"Nassau","NY_059 UnC","UnC","None","D"]
[null,null,null,null,null,"Nassau","NY_059 UpC","UpC","None","A"]
[null,null,null,null,null,"Nassau","NY_059 Uw","Uw","None","A"]
[null,null,null,null,null,"New York","NY_061 ChC","ChC","None","A"]
[null,null,null,null,null,"New York","NY_061 CwE","CwE","None","A"]
[null,null,null,null,null,"New York","NY_061 FGA","FGA","None","B"]
[null,null,null,null,null,"New York","NY_061 GUCw","GUCw","None","B"]
[null,null,null,null,null,"New York","NY_061 GUDw","GUDw","None","B"]
[null,null,null,null,null,"New York","NY_061 LUB","LUB","None","C"]
[null,null,null,null,null,"New York","NY_061 NoA","NoA","None","C"]
[null,null,null,null,null,"New York","NY_061 UGA","UGA","None"]
[null,null,null,null,null,"New York","NY_061 UGRB","UGRB","None"]
[null,null,null,null,null,"New York","NY_061 UrA","UrA","None"]
[null,null,null,null,null,"New York",{"$f":"$C$87&\" \"&H10775","v":"NY_061 UtB"},"UtB","None"]
[null,null,null,null,null,"Oneida","NY_065 103B","103B","None","B"]
[null,null,null,null,null,"Oneida","NY_065 104E","104E","None","C/D"]
[null,null,null,null,null,"Oneida","NY_065 113A","113A","None","D"]
[null,null,null,null,null,"Oneida","NY_065 115C","115C","None","B"]
[null,null,null,null,null,"Oneida","NY_065 117A","117A","None","B"]
[null,null,null,null,null,"Oneida","NY_065 120C","120C","None","C"]
[null,null,null,null,null,"Oneida","NY_065 126C","126C","None","B/D"]
[null,null,null,null,null,"Oneida","NY_065 13","13","Frequent","C/D"]
[null,null,null,null,null,"Oneida","NY_065 151","151","None","D"]
[null,null,null,null,null,"Oneida","NY_065 152B","152B","None","D"]
[null,null,null,null,null,"Oneida","NY_065 162D","162D","None","D"]
[null,null,null,null,null,"Oneida","NY_065 173E","173E","None","C"]
[null,null,null,null,null,"Oneida","NY_065 176D","176D","None","B"]
[null,null,null,null,null,"Oneida","NY_065 22","22","None","A"]
[null,null,null,null,null,"Oneida","NY_065 223C","223C","None","B/D"]
[null,null,null,null,null,"Oneida","NY_065 24C","24C","None","A"]
[null,null,null,null,null,"Oneida","NY_065 27A","27A","None","B/D"]
[null,null,null,null,null,"Oneida","NY_065 28B","28B","None","B/D"]
[null,null,null,null,null,"Oneida","NY_065 33A","33A","None","A"]
[null,null,null,null,null,"Oneida","NY_065 350B","350B","None","A"]
[null,null,null,null,null,"Oneida","NY_065 35A","35A","None","B"]
[null,null,null,null,null,"Oneida","NY_065 372A","372A","None","B/D"]
[null,null,null,null,null,"Oneida","NY_065 38C","38C","None","A"]
[null,null,null,null,null,"Oneida","NY_065 395","395","None","C/D"]
[null,null,null,null,null,"Oneida","NY_065 41","41","None","B/D"]
[null,null,null,null,null,"Oneida","NY_065 414B","414B","None","C/D"]
[null,null,null,null,null,"Oneida","NY_065 46C","46C","None","A"]
[null,null,null,null,null,"Oneida","NY_065 515C","515C","None","C"]
[null,null,null,null,null,"Oneida","NY_065 55B","55B","None","A"]
[null,null,null,null,null,"Oneida","NY_065 56C","56C","None","C"]
[null,null,null,null,null,"Oneida","NY_065 61B","61B","None","D"]
[null,null,null,null,null,"Oneida","NY_065 62C","62C","None","C"]
[null,null,null,null,null,"Oneida","NY_065 68","68","Rare","B/D"]
[null,null,null,null,null,"Oneida","NY_065 710B","710B","None","B/D"]
[null,null,null,null,null,"Oneida","NY_065 747C","747C","None","C/D"]
[null,null,null,null,null,"Oneida","NY_065 77B","77B","None","C/D"]
[null,null,null,null,null,"Oneida","NY_065 78A","78A","None","A"]
[null,null,null,null,null,"Oneida","NY_065 79B","79B","None","C/D"]
[null,null,null,null,null,"Oneida","NY_065 811B","811B","None","B/D"]
[null,null,null,null,null,"Oneida","NY_065 813C","813C","None","C/D"]
[null,null,null,null,null,"Oneida","NY_065 819A","819A","None","B/D"]
[null,null,null,null,null,"Oneida","NY_065 81B","81B","None","A"]
[null,null,null,null,null,"Oneida",{"$f":"$C$88&\" \"&H11035","v":"NY_065 833B"},"833B","None","D"]
[null,null,null,null,null,"Oneida","NY_065 845A","845A","None","C"]
[null,null,null,null,null,"Oneida","NY_065 858A","858A","None","A"]
[null,null,null,null,null,"Oneida","NY_065 90B","90B","None","A"]
[null,null,null,null,null,"Onondaga",{"$f":"$C$89&\" \"&H11061","v":"NY_067 AlA"},"AlA","None","A"]
[null,null,null,null,null,"Onondaga","NY_067 AnB","AnB","None","D"]
[null,null,null,null,null,"Onondaga","NY_067 ArD","ArD","None","A"]
[null,null,null,null,null,"Onondaga","NY_067 AwB","AwB","None","D"]
[null,null,null,null,null,"Onondaga","NY_067 BNC","BNC","None","D"]
[null,null,null,null,null,"Onondaga","NY_067 Ce","Ce","None","A/D"]
[null,null,null,null,null,"Onondaga",{"$f":"$C$89&\" \"&H11093","v":"NY_067 CfC2"},"CfC2","None","C"]
[null,null,null,null,null,"Onondaga","NY_067 CoA","CoA","None","B/D"]
[null,null,null,null,null,"Onondaga","NY_067 Fr","Fr","None","B/D"]
[null,null,null,null,null,"Onondaga","NY_067 Ha","Ha","None","B/D"]
[null,null,null,null,null,"Onondaga","NY_067 HnC","HnC","None","B"]
[null,null,null,null,null,"Onondaga","NY_067 HTE","HTE","None","B"]
[null,null,null,null,null,"Onondaga","NY_067 HxC","HxC","None","A"]
[null,null,null,null,null,"Onondaga","NY_067 LsB","LsB","None","B"]
[null,null,null,null,null,"Onondaga","NY_067 LtB","LtB","None","B/D"]
[null,null,null,null,null,"Onondaga","NY_067 MdC2","MdC2","None","B"]
[null,null,null,null,null,"Onondaga",{"$f":"$C$89&\" \"&H11157","v":"NY_067 MnD"},"MnD","None","C"]
[null,null,null,null,null,"Onondaga","NY_067 MoD","MoD","None","D"]
[null,null,null,null,null,"Onondaga","NY_067 MwB","MwB","None","C"]
[null,null,null,null,null,"Onondaga","NY_067 OnC","OnC","None","B"]
[null,null,null,null,null,"Onondaga","NY_067 OtC","OtC","None","A"]
[null,null,null,null,null,"Onondaga","NY_067 PHD","PHD","None","A"]
[null,null,null,null,null,"Onondaga","NY_067 PpA","PpA","None","B/D"]
[null,null,null,null,null,"Onondaga","NY_067 SEE","SEE","None","D"]
[null,null,null,null,null,"Onondaga","NY_067 Wb","Wb","None","A/D"]
[null,null,null,null,null,"Onondaga","NY_067 WcB","WcB","None","C"]
[null,null,null,null,null,"Ontario",{"$f":"$C$90&\" \"&H11216","v":"NY_069 101A"},"101A","None","B"]
[null,null,null,null,null,"Ontario","NY_069 101D","101D","None","B"]
[null,null,null,null,null,"Ontario","NY_069 108C","108C","None","B"]
[null,null,null,null,null,"Ontario","NY_069 114D","114D","None","B"]
[null,null,null,null,null,"Ontario","NY_069 116D","116D","None","B"]
[null,null,null,null,null,"Ontario","NY_069 126A","126A","None","B"]
[null,null,null,null,null,"Ontario","NY_069 130B","130B","None","D"]
[null,null,null,null,null,"Ontario","NY_069 132A","132A","None","D"]
[null,null,null,null,null,"Ontario","NY_069 152D","152D","None","B"]
[null,null,null,null,null,"Ontario","NY_069 153C","153C","None","B"]
[null,null,null,null,null,"Ontario","NY_069 162D","162D","None","D"]
[null,null,null,null,null,"Ontario","NY_069 171D","171D","None","C"]
[null,null,null,null,null,"Ontario","NY_069 177A","177A","None","D"]
[null,null,null,null,null,"Ontario","NY_069 182C","182C","None","C"]
[null,null,null,null,null,"Ontario","NY_069 20A","20A","None","B/D"]
[null,null,null,null,null,"Ontario","NY_069 210A","210A","None","B/D"]
[null,null,null,null,null,"Ontario","NY_069 24A","24A","None","A"]
[null,null,null,null,null,"Ontario","NY_069 24D","24D","None","A"]
[null,null,null,null,null,"Ontario","NY_069 25D","25D","None","A"]
[null,null,null,null,null,"Ontario","NY_069 304B","304B","None","B/D"]
[null,null,null,null,null,"Ontario","NY_069 33A","33A","None","C"]
[null,null,null,null,null,"Ontario","NY_069 33D","33D","None","C"]
[null,null,null,null,null,"Ontario","NY_069 35B","35B","None","D"]
[null,null,null,null,null,"Ontario","NY_069 36A","36A","None","D"]
[null,null,null,null,null,"Ontario","NY_069 39A","39A","None","C/D"]
[null,null,null,null,null,"Ontario","NY_069 401D","401D","None"]
[null,null,null,null,null,"Ontario","NY_069 48A","48A","None","A"]
[null,null,null,null,null,"Ontario","NY_069 50B","50B","None","C"]
[null,null,null,null,null,"Ontario","NY_069 58C","58C","None","A"]
[null,null,null,null,null,"Ontario","NY_069 62C","62C","None","D"]
[null,null,null,null,null,"Ontario","NY_069 68B","68B","None","D"]
[null,null,null,null,null,"Ontario","NY_069 68C","68C","None","D"]
[null,null,null,null,null,"Ontario",{"$f":"$C$90&\" \"&H11408","v":"NY_069 72B"},"72B","None","C/D"]
[null,null,null,null,null,"Ontario","NY_069 77A","77A","None","D"]
[null,null,null,null,null,"Ontario","NY_069 82C","82C","None","C"]
[null,null,null,null,null,"Orange ","NY_071 AC","AC","None","C/D"]
[null,null,null,null,null,"Orange ","NY_071 Be","Be","Occasional","B/D"]
[null,null,null,null,null,"Orange ","NY_071 Ca","Ca","None","B/D"]
[null,null,null,null,null,"Orange ","NY_071 CLD","CLD","None","B"]
[null,null,null,null,null,"Orange ","NY_071 CnA","CnA","None","A"]
[null,null,null,null,null,"Orange ","NY_071 FAC","FAC","None","D"]
[null,null,null,null,null,"Orange ","NY_071 HoA","HoA","None","A"]
[null,null,null,null,null,"Orange ","NY_071 LdC","LdC","None","C"]
[null,null,null,null,null,"Orange ","NY_071 NaD","NaD","None","D"]
[null,null,null,null,null,"Orange ","NY_071 OtC","OtC","None","A"]
[null,null,null,null,null,"Orange ","NY_071 Pn","Pn","None","A/D"]
[null,null,null,null,null,"Orange ","NY_071 RhC","RhC","None","A"]
[null,null,null,null,null,"Orange ","NY_071 RhD","RhD","None","A"]
[null,null,null,null,null,"Orange ","NY_071 RSB","RSB","None","D"]
[null,null,null,null,null,"Orange ","NY_071 SwB","SwB","None","C"]
[null,null,null,null,null,"Orange ","NY_071 SXC","SXC","None","C"]
[null,null,null,null,null,"Orange ","NY_071 Wd","Wd","Frequent","B/D"]
[null,null,null,null,null,"Orleans","NY_073 ArB","ArB","None","A"]
[null,null,null,null,null,"Orleans","NY_073 Ba","Ba","None","C/D"]
[null,null,null,null,null,"Orleans","NY_073 Ca","Ca","None","C/D"]
[null,null,null,null,null,"Orleans","NY_073 CeA","CeA","None","C"]
[null,null,null,null,null,"Orleans","NY_073 CmA","CmA","None","C/D"]
[null,null,null,null,null,"Orleans",{"$f":"$C$92&\" \"&H11560","v":"NY_073 ElB"},"ElB","None","A/D"]
[null,null,null,null,null,"Orleans","NY_073 FH","FH","Frequent","A/D"]
[null,null,null,null,null,"Orleans","NY_073 HcB","HcB","None","B/D"]
[null,null,null,null,null,"Orleans","NY_073 Lk","Lk","None","D"]
[null,null,null,null,null,"Orleans","NY_073 Lo","Lo","None","D"]
[null,null,null,null,null,"Orleans","NY_073 ML","ML","None","A"]
[null,null,null,null,null,"Orleans",{"$f":"$C$92&\" \"&H11592","v":"NY_073 Ne"},"Ne","None","C/D"]
[null,null,null,null,null,"Orleans","NY_073 OtB","OtB","None","B"]
[null,null,null,null,null,"Orleans","NY_073 RhA","RhA","None","C/D"]
[null,null,null,null,null,"Orleans","NY_073 Su","Su","None","C/D"]
[null,null,null,null,null,"Oswego","NY_075 3050A","3050A","None","B/D"]
[null,null,null,null,null,"Oswego","NY_075 AAD","AAD","None","A"]
[null,null,null,null,null,"Oswego","NY_075 AgC","AgC","None","A"]
[null,null,null,null,null,"Oswego","NY_075 AyE3","AyE3","None","C/D"]
[null,null,null,null,null,"Oswego","NY_075 Cd","Cd","None","C/D"]
[null,null,null,null,null,"Oswego","NY_075 EpC","EpC","None","B/D"]
[null,null,null,null,null,"Oswego","NY_075 HeC","HeC","None","C"]
[null,null,null,null,null,"Oswego","NY_075 HuB","HuB","None","C/D"]
[null,null,null,null,null,"Oswego","NY_075 IsC","IsC","None","D"]
[null,null,null,null,null,"Oswego","NY_075 NDB","NDB","None","A/D"]
[null,null,null,null,null,"Oswego","NY_075 Pa","Pa","None","B/D"]
[null,null,null,null,null,"Oswego","NY_075 ScC","ScC","None","D"]
[null,null,null,null,null,"Oswego","NY_075 SgC","SgC","None","C"]
[null,null,null,null,null,"Oswego","NY_075 WlA","WlA","None","D"]
[null,null,null,null,null,"Oswego","NY_075 WRE","WRE","None","B"]
[null,null,null,null,null,"Oswego","NY_075 WYD","WYD","None","B"]
[null,null,null,null,null,"Oswego","NY_077 BhC","BhC","None","C"]
[null,null,null,null,null,"Oswego","NY_077 ChB","ChB","None","A"]
[null,null,null,null,null,"Oswego","NY_077 ClE","ClE","None","A"]
[null,null,null,null,null,"Oswego","NY_077 DaB","DaB","None","C/D"]
[null,null,null,null,null,"Oswego","NY_077 DeB","DeB","None","C/D"]
[null,null,null,null,null,"Oswego","NY_077 FeF","FeF","None","D"]
[null,null,null,null,null,"Oswego","NY_077 HnC","HnC","None","B"]
[null,null,null,null,null,"Oswego","NY_077 HrC","HrC","None","A"]
[null,null,null,null,null,"Oswego","NY_077 LeC","LeC","None","B"]
[null,null,null,null,null,"Oswego",{"$f":"$C$94&\" \"&H11772","v":"NY_077 LoB"},"LoB","None","C"]
[null,null,null,null,null,"Oswego","NY_077 LrE","LrE","None","C"]
[null,null,null,null,null,"Oswego","NY_077 McD","McD","None","C"]
[null,null,null,null,null,"Oswego","NY_077 MeD","MeD","None","D"]
[null,null,null,null,null,"Oswego","NY_077 MpC","MpC","None","D"]
[null,null,null,null,null,"Oswego","NY_077 OgE","OgE","None","C"]
[null,null,null,null,null,"Oswego",{"$f":"$C$94&\" \"&H11804","v":"NY_077 OpD"},"OpD","None","C"]
[null,null,null,null,null,"Oswego","NY_077 RhB","RhB","None","C/D"]
[null,null,null,null,null,"Oswego","NY_077 TkC","TkC","None","C/D"]
[null,null,null,null,null,"Oswego","NY_077 TpB","TpB","None","A"]
[null,null,null,null,null,"Oswego","NY_077 VaC","VaC","None","B"]
[null,null,null,null,null,"Oswego","NY_077 VaF","VaF","None","B"]
[null,null,null,null,null,"Oswego","NY_077 VoB","VoB","None","D"]
[null,null,null,null,null,"Oswego","NY_077 WlC","WlC","None","D"]
[null,null,null,null,null,"Oswego","NY_077 WpB","WpB","None","D"]
[null,null,null,null,null,"Putnam","NY_079 ChC","ChC","None","B"]
[null,null,null,null,null,"Putnam","NY_079 CsD","CsD","None","B"]
[null,null,null,null,null,"Putnam","NY_079 CtC","CtC","None","D"]
[null,null,null,null,null,"Putnam","NY_079 KnB","KnB","None","A"]
[null,null,null,null,null,"Putnam","NY_079 LcB","LcB","None","A/D"]
[null,null,null,null,null,"Putnam","NY_079 PoB","PoB","None","C"]
[null,null,null,null,null,"Putnam","NY_079 RhB","RhB","None","A"]
[null,null,null,null,null,"Putnam","NY_079 RhE","RhE","None","A"]
[null,null,null,null,null,"Putnam","NY_079 SuA","SuA","None","B/D"]
[null,null,null,null,null,"Putnam","NY_079 UpB","UpB","None","D"]
[null,null,null,null,null,"Putnam","NY_079 UpC","UpC","None","D"]
[null,null,null,null,null,"Queens",{"$f":"$C$96&\" \"&H11926","v":"NY_081 Ang1"},"Ang1","Very frequent","D"]
[null,null,null,null,null,"Queens","NY_081 BgA","BgA","None","A"]
[null,null,null,null,null,"Queens","NY_081 BzA","BzA","None","A"]
[null,null,null,null,null,"Queens","NY_081 ChCs","ChCs","None","A"]
[null,null,null,null,null,"Queens","NY_081 FGA","FGA","None","B"]
[null,null,null,null,null,"Queens","NY_081 FkB","FkB","None","D"]
[null,null,null,null,null,"Queens","NY_081 GCE","GCE","None","B"]
[null,null,null,null,null,"Queens","NY_081 GOB","GOB","None","A"]
[null,null,null,null,null,"Queens","NY_081 GUDw","GUDw","None","B"]
[null,null,null,null,null,"Queens","NY_081 HDB","HDB","Rare","A"]
[null,null,null,null,null,"Queens","NY_081 JaA","JaA","None","A/D"]
[null,null,null,null,null,"Queens","NY_081 LGB","LGB","None","C"]
[null,null,null,null,null,"Queens","NY_081 MoA","MoA","None","C"]
[null,null,null,null,null,"Queens","NY_081 MoD","MoD","None","C"]
[null,null,null,null,null,"Queens","NY_081 Nagd5","Nagd5","Very frequent","D"]
[null,null,null,null,null,"Queens","NY_081 NoA","NoA","None","C"]
[null,null,null,null,null,"Queens",{"$f":"$C$96&\" \"&H12022","v":"NY_081 RFB"},"RFB","None","A"]
[null,null,null,null,null,"Queens","NY_081 RvB","RvB","None","A"]
[null,null,null,null,null,"Queens","NY_081 UBAl","UBAl","None","A"]
[null,null,null,null,null,"Queens","NY_081 UGA","UGA","None"]
[null,null,null,null,null,"Queens","NY_081 UGDl","UGDl","None","B"]
[null,null,null,null,null,"Queens","NY_081 UmA","UmA","None"]
[null,null,null,null,null,"Queens","NY_081 UtC","UtC","None"]
[null,null,null,null,null,"Queens","NY_081 UVA","UVA","None"]
[null,null,null,null,null,"Rensselaer","NY_083 AmC","AmC","None","D"]
[null,null,null,null,null,"Rensselaer","NY_083 BeE","BeE","None","C/D"]
[null,null,null,null,null,"Rensselaer","NY_083 BnB","BnB","None","C/D"]
[null,null,null,null,null,"Rensselaer","NY_083 CbA","CbA","None","A/D"]
[null,null,null,null,null,"Rensselaer","NY_083 GlC","GlC","None","D"]
[null,null,null,null,null,"Rensselaer",{"$f":"$C$97&\" \"&H12100","v":"NY_083 HaA"},"HaA","Occasional","B"]
[null,null,null,null,null,"Rensselaer","NY_083 HuC","HuC","None","C/D"]
[null,null,null,null,null,"Rensselaer","NY_083 HuD","HuD","None","C/D"]
[null,null,null,null,null,"Rensselaer","NY_083 NaC","NaC","None","D"]
[null,null,null,null,null,"Rensselaer","NY_083 PuC","PuC","None","C"]
[null,null,null,null,null,"Rensselaer","NY_083 RhB","RhB","None","C/D"]
[null,null,null,null,null,"Rensselaer","NY_083 StB","StB","None","D"]
[null,null,null,null,null,"Rensselaer","NY_083 UnB","UnB","None","B"]
[null,null,null,null,null,"Rensselaer","NY_083 WnB","WnB","None","A"]
[null,null,null,null,null,"Richmond","NY_085 BiAn","BiAn","None","A"]
[null,null,null,null,null,"Richmond","NY_085 BiB","BiB","None","A"]
[null,null,null,null,null,"Richmond","NY_085 BtC","BtC","None","C"]
[null,null,null,null,null,"Richmond","NY_085 CeA","CeA","None","A"]
[null,null,null,null,null,"Richmond","NY_085 CeD","CeD","None","A"]
[null,null,null,null,null,"Richmond","NY_085 FkE","FkE","None","D"]
[null,null,null,null,null,"Richmond","NY_085 GbE","GbE","None","B"]
[null,null,null,null,null,"Richmond","NY_085 GOB","GOB","None","A"]
[null,null,null,null,null,"Richmond","NY_085 GUC","GUC","None","B"]
[null,null,null,null,null,"Richmond","NY_085 GUDw","GUDw","None","B"]
[null,null,null,null,null,"Richmond",{"$f":"$C$98&\" \"&H12215","v":"NY_085 IwA"},"IwA","Very frequent","A/D"]
[null,null,null,null,null,"Richmond","NY_085 LGA","LGA","None","C"]
[null,null,null,null,null,"Richmond","NY_085 MaA","MaA","Very frequent","A/D"]
[null,null,null,null,null,"Richmond","NY_085 PnA","PnA","None","A/D"]
[null,null,null,null,null,"Richmond","NY_085 TkA","TkA","Frequent","B/D"]
[null,null,null,null,null,"Richmond","NY_085 UFA","UFA","None"]
[null,null,null,null,null,"Richmond","NY_085 UGB","UGB","None"]
[null,null,null,null,null,"Richmond","NY_085 UGCAl","UGCAl","None","D"]
[null,null,null,null,null,"Richmond","NY_085 UoA","UoA","None"]
[null,null,null,null,null,"Richmond","NY_085 UtD","UtD","None"]
[null,null,null,null,null,"Richmond","NY_085 UVBl","UVBl","None","B"]
[null,null,null,null,null,"Richmond","NY_085 WeD","WeD","None","B"]
[null,null,null,null,null,"Rockland","NY_087 CeC","CeC","None","B"]
[null,null,null,null,null,"Rockland","NY_087 ChE","ChE","None","B"]
[null,null,null,null,null,"Rockland","NY_087 CrB","CrB","None","B"]
[null,null,null,null,null,"Rockland","NY_087 CuC","CuC","None","B"]
[null,null,null,null,null,"Rockland","NY_087 HcD","HcD","None","A"]
[null,null,null,null,null,"Rockland",{"$f":"$C$99&\" \"&H12318","v":"NY_087 Ip"},"Ip","Very frequent","A/D"]
[null,null,null,null,null,"Rockland","NY_087 ReA","ReA","None","A"]
[null,null,null,null,null,"Rockland","NY_087 RuB","RuB","None","A"]
[null,null,null,null,null,"Rockland","NY_087 Wc","Wc","None","C"]
[null,null,null,null,null,"Rockland","NY_087 WeC","WeC","None","C"]
[null,null,null,null,null,"Rockland","NY_087 YaD","YaD","None","B"]
[null,null,null,null,null,"Rockland","NY_087 YuD","YuD","None","B"]
[null,null,null,null,null,"St. Lawrence","NY_089 365","365","None","A/D"]
[null,null,null,null,null,"St. Lawrence","NY_089 380D","380D","None","A"]
[null,null,null,null,null,"St. Lawrence","NY_089 643D","643D","None","B"]
[null,null,null,null,null,"St. Lawrence","NY_089 657C","657C","None","A"]
[null,null,null,null,null,"St. Lawrence","NY_089 727B","727B","None","B/D"]
[null,null,null,null,null,"St. Lawrence","NY_089 743C","743C","None","C"]
[null,null,null,null,null,"St. Lawrence","NY_089 831F","831F","None","B"]
[null,null,null,null,null,"St. Lawrence","NY_089 861C","861C","None","D"]
[null,null,null,null,null,"St. Lawrence","NY_089 AaC","AaC","None","A"]
[null,null,null,null,null,"St. Lawrence","NY_089 BeB","BeB","None","B"]
[null,null,null,null,null,"St. Lawrence","NY_089 Bo","Bo","None","A/D"]
[null,null,null,null,null,"St. Lawrence","NY_089 Cp","Cp","None","B/D"]
[null,null,null,null,null,"St. Lawrence","NY_089 Df","Df","None","A/D"]
[null,null,null,null,null,"St. Lawrence","NY_089 DpC","DpC","None","C/D"]
[null,null,null,null,null,"St. Lawrence","NY_089 FkB","FkB","None","C/D"]
[null,null,null,null,null,"St. Lawrence","NY_089 GrC","GrC","None","B"]
[null,null,null,null,null,"St. Lawrence","NY_089 HeC","HeC","None","D"]
[null,null,null,null,null,"St. Lawrence","NY_089 KaA","KaA","None","C/D"]
[null,null,null,null,null,"St. Lawrence","NY_089 Lc","Lc","Occasional","C"]
[null,null,null,null,null,"St. Lawrence","NY_089 MbB","MbB","None","B/D"]
[null,null,null,null,null,"St. Lawrence","NY_089 MuB","MuB","None","D"]
[null,null,null,null,null,"St. Lawrence","NY_089 MwB","MwB","None","D"]
[null,null,null,null,null,"St. Lawrence","NY_089 OgA","OgA","None","B/D"]
[null,null,null,null,null,"St. Lawrence","NY_089 PoC","PoC","None","C"]
[null,null,null,null,null,"St. Lawrence","NY_089 PyB","PyB","None","B"]
[null,null,null,null,null,"St. Lawrence","NY_089 RoB","RoB","None","C/D"]
[null,null,null,null,null,"St. Lawrence","NY_089 SaB","SaB","None","B"]
[null,null,null,null,null,"St. Lawrence","NY_089 SmC","SmC","None","D"]
[null,null,null,null,null,"St. Lawrence","NY_089 Ua","Ua","None","A"]
[null,null,null,null,null,"St. Lawrence","NY_089 Ue","Ue","None","C"]
[null,null,null,null,null,"St. Lawrence","NY_089 WdB","WdB","None","B"]
[null,null,null,null,null,"Saratoga","NY_091 ALC","ALC","None","B"]
[null,null,null,null,null,"Saratoga","NY_091 BHC","BHC","None","B"]
[null,null,null,null,null,"Saratoga","NY_091 BnD","BnD","None","C/D"]
[null,null,null,null,null,"Saratoga","NY_091 BPC","BPC","None","B"]
[null,null,null,null,null,"Saratoga","NY_091 BvD","BvD","None","C/D"]
[null,null,null,null,null,"Saratoga","NY_091 ChB","ChB","None","A"]
[null,null,null,null,null,"Saratoga","NY_091 ChC","ChC","None","A"]
[null,null,null,null,null,"Saratoga","NY_091 FaB","FaB","None","D"]
[null,null,null,null,null,"Saratoga","NY_091 FU","FU","Frequent","A/D"]
[null,null,null,null,null,"Saratoga","NY_091 HoA","HoA","None","A"]
[null,null,null,null,null,"Saratoga","NY_091 Ma","Ma","None","C/D"]
[null,null,null,null,null,"Saratoga","NY_091 MxB","MxB","None","D"]
[null,null,null,null,null,"Saratoga","NY_091 NcA","NcA","None","B/D"]
[null,null,null,null,null,"Saratoga","NY_091 OeE","OeE","None","A"]
[null,null,null,null,null,"Saratoga","NY_091 PtB","PtB","None","C"]
[null,null,null,null,null,"Saratoga","NY_091 SeA","SeA","None","B/D"]
[null,null,null,null,null,"Saratoga","NY_091 SKB","SKB","None","B/D"]
[null,null,null,null,null,"Saratoga","NY_091 TNE","TNE","None","B"]
[null,null,null,null,null,"Saratoga","NY_091 WnC","WnC","None","A"]
[null,null,null,null,null,"Schenectady","NY_093 ApA","ApA","None","B/D"]
[null,null,null,null,null,"Schenectady","NY_093 AZF","AZF","None","D"]
[null,null,null,null,null,"Schenectady","NY_093 BXB","BXB","None","C/D"]
[null,null,null,null,null,"Schenectady","NY_093 Ca","Ca","None","A/D"]
[null,null,null,null,null,"Schenectady","NY_093 En","En","None","A/D"]
[null,null,null,null,null,"Schenectady","NY_093 FL","FL","Frequent","B/D"]
[null,null,null,null,null,"Schenectady","NY_093 HoC","HoC","None","D"]
[null,null,null,null,null,"Schenectady","NY_093 HVF","HVF","None","C/D"]
[null,null,null,null,null,"Schenectady","NY_093 LaD","LaD","None","B"]
[null,null,null,null,null,"Schenectady","NY_093 LoB","LoB","None","C"]
[null,null,null,null,null,"Schenectady","NY_093 MoD","MoD","None","C"]
[null,null,null,null,null,"Schenectady",{"$f":"$C$102&\" \"&H12724","v":"NY_093 MPE"},"MPE","None","C"]
[null,null,null,null,null,"Schenectady","NY_093 NuB","NuB","None","C/D"]
[null,null,null,null,null,"Schenectady","NY_093 PaC","PaC","None","C"]
[null,null,null,null,null,"Schenectady","NY_093 PpA","PpA","None","B/D"]
[null,null,null,null,null,"Schenectady","NY_093 SA","SA","None","A/D"]
[null,null,null,null,null,"Schenectady","NY_093 UnB","UnB","None","B"]
[null,null,null,null,null,"Schenectady","NY_093 VaA","VaA","None","D"]
[null,null,null,null,null,"Schoharie","NY_095 Ba","Ba","Frequent","B"]
[null,null,null,null,null,"Schoharie","NY_095 BbB","BbB","Occasional","B"]
[null,null,null,null,null,"Schoharie","NY_095 CnC","CnC","None","D"]
[null,null,null,null,null,"Schoharie","NY_095 DaC","DaC","None","C/D"]
[null,null,null,null,null,"Schoharie","NY_095 DdC","DdC","None","C/D"]
[null,null,null,null,null,"Schoharie",{"$f":"$C$103&\" \"&H12800","v":"NY_095 Ha"},"Ha","Frequent","C/D"]
[null,null,null,null,null,"Schoharie","NY_095 IlC","IlC","None","C/D"]
[null,null,null,null,null,"Schoharie","NY_095 LhB","LhB","None","B"]
[null,null,null,null,null,"Schoharie","NY_095 LoE","LoE","None","C"]
[null,null,null,null,null,"Schoharie","NY_095 LyB","LyB","None","C/D"]
[null,null,null,null,null,"Schoharie","NY_095 MhC","MhC","None","B"]
[null,null,null,null,null,"Schoharie","NY_095 MoC","MoC","None","D"]
[null,null,null,null,null,"Schoharie","NY_095 NaC","NaC","None","C"]
[null,null,null,null,null,"Schoharie","NY_095 NlC3","NlC3","None","C/D"]
[null,null,null,null,null,"Schoharie","NY_095 OsE","OsE","None","C"]
[null,null,null,null,null,"Schoharie","NY_095 Rh","Rh","None","B/D"]
[null,null,null,null,null,"Schoharie","NY_095 SoE","SoE","None","D"]
[null,null,null,null,null,"Schoharie","NY_095 TcA","TcA","None","A"]
[null,null,null,null,null,"Schoharie","NY_095 TuA","TuA","None","A"]
[null,null,null,null,null,"Schuyler","NY_097 AnA","AnA","None","D"]
[null,null,null,null,null,"Schuyler","NY_097 ApA","ApA","None","B/D"]
[null,null,null,null,null,"Schuyler","NY_097 BaD","BaD","None","C"]
[null,null,null,null,null,"Schuyler","NY_097 Cc","Cc","None","A/D"]
[null,null,null,null,null,"Schuyler","NY_097 CnA","CnA","None","A"]
[null,null,null,null,null,"Schuyler","NY_097 CsB","CsB","None","B/D"]
[null,null,null,null,null,"Schuyler","NY_097 DkC","DkC","None","C"]
[null,null,null,null,null,"Schuyler","NY_097 Ha","Ha","None","B/D"]
[null,null,null,null,null,"Schuyler","NY_097 HrCK","HrCK","None","A"]
[null,null,null,null,null,"Schuyler","NY_097 HuB","HuB","None","C/D"]
[null,null,null,null,null,"Schuyler","NY_097 LoD","LoD","None","C"]
[null,null,null,null,null,"Schuyler","NY_097 OdB","OdB","None","D"]
[null,null,null,null,null,"Schuyler","NY_097 Rh","Rh","None","B/D"]
[null,null,null,null,null,"Schuyler","NY_097 ShC3","ShC3","None","D"]
[null,null,null,null,null,"Schuyler","NY_097 SyD","SyD","None","C/D"]
[null,null,null,null,null,"Schuyler","NY_097 VEE","VEE","None","B"]
[null,null,null,null,null,"Schuyler","NY_097 Wy","Wy","Frequent","B/D"]
[null,null,null,null,null,"Seneca","NY_099 Al","Al","Frequent","A/D"]
[null,null,null,null,null,"Seneca","NY_099 ArB","ArB","None","A"]
[null,null,null,null,null,"Seneca","NY_099 CeB","CeB","None","C"]
[null,null,null,null,null,"Seneca","NY_099 CeC3","CeC3","None","C"]
[null,null,null,null,null,"Seneca","NY_099 ClC","ClC","None","C/D"]
[null,null,null,null,null,"Seneca","NY_099 CsA","CsA","None","B/D"]
[null,null,null,null,null,"Seneca","NY_099 Ed","Ed","None","D"]
[null,null,null,null,null,"Seneca","NY_099 EsB","EsB","None","D"]
[null,null,null,null,null,"Seneca","NY_099 HnB","HnB","None","B"]
[null,null,null,null,null,"Seneca","NY_099 LcA","LcA","None","D"]
[null,null,null,null,null,"Seneca","NY_099 LsC","LsC","None","B"]
[null,null,null,null,null,"Seneca","NY_099 LtB","LtB","None","B/D"]
[null,null,null,null,null,"Seneca","NY_099 OdA","OdA","None","D"]
[null,null,null,null,null,"Seneca","NY_099 OfC3","OfC3","None","B"]
[null,null,null,null,null,"Seneca","NY_099 PgA","PgA","None","A"]
[null,null,null,null,null,"Seneca","NY_099 ShD3","ShD3","None","D"]
[null,null,null,null,null,"Seneca","NY_099 Vc","Vc","None","D"]
[null,null,null,null,null,"Steuben","NY_101 BaB","BaB","None","C"]
[null,null,null,null,null,"Steuben","NY_101 Cc","Cc","Frequent","A/D"]
[null,null,null,null,null,"Steuben","NY_101 Ck","Ck","None","D"]
[null,null,null,null,null,"Steuben","NY_101 HfB","HfB","None","D"]
[null,null,null,null,null,"Steuben","NY_101 HHE","HHE","None","D"]
[null,null,null,null,null,"Steuben","NY_101 HrC","HrC","None","A"]
[null,null,null,null,null,"Steuben","NY_101 LC","LC","None","C"]
[null,null,null,null,null,"Steuben","NY_101 LRE","LRE","None","C"]
[null,null,null,null,null,"Steuben","NY_101 MdD3","MdD3","None","D"]
[null,null,null,null,null,"Steuben","NY_101 OC","OC","None","A"]
[null,null,null,null,null,"Steuben","NY_101 OgB","OgB","None","C"]
[null,null,null,null,null,"Steuben","NY_101 TuB","TuB","None","D"]
[null,null,null,null,null,"Steuben","NY_101 Un","Un","None","B"]
[null,null,null,null,null,"Steuben","NY_101 WoB","WoB","None","D"]
[null,null,null,null,null,"Suffolk","NY_103 BH","BH","Very frequent","A"]
[null,null,null,null,null,"Suffolk","NY_103 Bm","Bm","None","B"]
[null,null,null,null,null,"Suffolk","NY_103 HaB","HaB","None","B"]
[null,null,null,null,null,"Suffolk","NY_103 HkH","HkH","Rare","A"]
[null,null,null,null,null,"Suffolk","NY_103 HkR","HkR","Rare","A"]
[null,null,null,null,null,"Suffolk","NY_103 MnB","MnB","None","A"]
[null,null,null,null,null,"Suffolk","NY_103 PlA","PlA","None","A"]
[null,null,null,null,null,"Suffolk","NY_103 Ra","Ra","None","B/D"]
[null,null,null,null,null,"Suffolk","NY_103 ScB","ScB","None","B/D"]
[null,null,null,null,null,"Suffolk","NY_103 Su","Su","None","B"]
[null,null,null,null,null,"Suffolk","NY_103 We","We","None","A/D"]
[null,null,null,null,null,"Sullivan","NY_105 ArF","ArF","None","D"]
[null,null,null,null,null,"Sullivan","NY_105 Bb","Bb","Rare","B"]
[null,null,null,null,null,"Sullivan","NY_105 CsC","CsC","None","B"]
[null,null,null,null,null,"Sullivan","NY_105 CsF","CsF","None","B"]
[null,null,null,null,null,"Sullivan","NY_105 Gn","Gn","None","A/D"]
[null,null,null,null,null,"Sullivan","NY_105 LeD","LeD","None","C"]
[null,null,null,null,null,"Sullivan","NY_105 MaD","MaD","None","C"]
[null,null,null,null,null,"Sullivan","NY_105 MnB","MnB","None","C"]
[null,null,null,null,null,"Sullivan","NY_105 OaB","OaB","None","D"]
[null,null,null,null,null,"Sullivan","NY_105 OaC","OaC","None","D"]
[null,null,null,null,null,"Sullivan","NY_105 OtD","OtD","None","A"]
[null,null,null,null,null,"Sullivan","NY_105 PmA","PmA","None","A/D"]
[null,null,null,null,null,"Sullivan","NY_105 RhB","RhB","None","A"]
[null,null,null,null,null,"Sullivan","NY_105 SrB","SrB","None","C/D"]
[null,null,null,null,null,"Sullivan","NY_105 TeB","TeB","None","D"]
[null,null,null,null,null,"Sullivan","NY_105 TkC","TkC","None","A"]
[null,null,null,null,null,"Sullivan","NY_105 VaD","VaD","None","B"]
[null,null,null,null,null,"Sullivan","NY_105 VaE","VaE","None","B"]
[null,null,null,null,null,"Sullivan","NY_105 WmB","WmB","None","C/D"]
[null,null,null,null,null,"Tioga","NY_107 Acl","Acl","None","D"]
[null,null,null,null,null,"Tioga","NY_107 Bcs","Bcs","None","C"]
[null,null,null,null,null,"Tioga","NY_107 Cgt","Cgt","None","A"]
[null,null,null,null,null,"Tioga","NY_107 Hgn","Hgn","None","A"]
[null,null,null,null,null,"Tioga","NY_107 Hl","Hl","Frequent","C/D"]
[null,null,null,null,null,"Tioga",{"$f":"$C$109&\" \"&H13385","v":"NY_107 Mcm"},"Mcm","None","D"]
[null,null,null,null,null,"Tioga","NY_107 Mco","Mco","None","D"]
[null,null,null,null,null,"Tioga","NY_107 Tf","Tf","Frequent","A"]
[null,null,null,null,null,"Tioga","NY_107 Uns","Uns","None","B"]
[null,null,null,null,null,"Tioga","NY_107 Vcm","Vcm","None","D"]
[null,null,null,null,null,"Tompkins","NY_109 ArC","ArC","None","A"]
[null,null,null,null,null,"Tompkins","NY_109 BgD","BgD","None","C"]
[null,null,null,null,null,"Tompkins","NY_109 BvA","BvA","None","C/D"]
[null,null,null,null,null,"Tompkins","NY_109 Dp","Dp","None"]
[null,null,null,null,null,"Tompkins","NY_109 EbB","EbB","None","D"]
[null,null,null,null,null,"Tompkins","NY_109 Gn","Gn","Occasional","B"]
[null,null,null,null,null,"Tompkins","NY_109 Hk","Hk","Frequent","C/D"]
[null,null,null,null,null,"Tompkins","NY_109 HpE","HpE","None","A"]
[null,null,null,null,null,"Tompkins","NY_109 HuC3","HuC3","None","C/D"]
[null,null,null,null,null,"Tompkins","NY_109 KaB","KaB","None","B/D"]
[null,null,null,null,null,"Tompkins","NY_109 LaC3","LaC3","None","D"]
[null,null,null,null,null,"Tompkins","NY_109 LnD","LnD","None","C"]
[null,null,null,null,null,"Tompkins","NY_109 LtB","LtB","None","D"]
[null,null,null,null,null,"Tompkins","NY_109 Mn","Mn","None","C/D"]
[null,null,null,null,null,"Tompkins","NY_109 OrB","OrB","None","C/D"]
[null,null,null,null,null,"Tompkins","NY_109 PaC","PaC","None","A"]
[null,null,null,null,null,"Tompkins","NY_109 TeA","TeA","None","C/D"]
[null,null,null,null,null,"Tompkins","NY_109 WrB","WrB","None","D"]
[null,null,null,null,null,"Ulster","NY_111 AcB","AcB","None","D"]
[null,null,null,null,null,"Ulster","NY_111 BgD","BgD","None","C"]
[null,null,null,null,null,"Ulster","NY_111 BOD","BOD","None","C"]
[null,null,null,null,null,"Ulster","NY_111 CgB","CgB","None","A/D"]
[null,null,null,null,null,"Ulster","NY_111 CvB","CvB","None","C/D"]
[null,null,null,null,null,"Ulster","NY_111 Ha","Ha","Occasional","B"]
[null,null,null,null,null,"Ulster","NY_111 HuC","HuC","None","C/D"]
[null,null,null,null,null,"Ulster","NY_111 LCF","LCF","None","C"]
[null,null,null,null,null,"Ulster","NY_111 LnB","LnB","None","C"]
[null,null,null,null,null,"Ulster","NY_111 Mn","Mn","None","D"]
[null,null,null,null,null,"Ulster","NY_111 MTB","MTB","None","D"]
[null,null,null,null,null,"Ulster","NY_111 ORC","ORC","None","C"]
[null,null,null,null,null,"Ulster","NY_111 PmF","PmF","None","A"]
[null,null,null,null,null,"Ulster","NY_111 Ra","Ra","None","C/D"]
[null,null,null,null,null,"Ulster","NY_111 RXC","RXC","None","D"]
[null,null,null,null,null,"Ulster","NY_111 SmB","SmB","None","C"]
[null,null,null,null,null,"Ulster","NY_111 Su","Su","Occasional","A"]
[null,null,null,null,null,"Ulster","NY_111 TkC","TkC","None","A"]
[null,null,null,null,null,"Ulster","NY_111 TuD","TuD","None","B"]
[null,null,null,null,null,"Ulster","NY_111 Wb","Wb","Frequent","B/D"]
[null,null,null,null,null,"Ulster","NY_111 WsB","WsB","None","D"]
[null,null,null,null,null,"Warren","NY_113 BaA","BaA","None","B/D"]
[null,null,null,null,null,"Warren","NY_113 BeC","BeC","None","B"]
[null,null,null,null,null,"Warren","NY_113 En","En","None","A/D"]
[null,null,null,null,null,"Warren","NY_113 Fu","Fu","Frequent","C/D"]
[null,null,null,null,null,"Warren","NY_113 HmE","HmE","None","A"]
[null,null,null,null,null,"Warren","NY_113 HnC","HnC","None","A"]
[null,null,null,null,null,"Warren","NY_113 LmE","LmE","None","D"]
[null,null,null,null,null,"Warren","NY_113 OaA","OaA","None","A"]
[null,null,null,null,null,"Warren","NY_113 PbB","PbB","None","C"]
[null,null,null,null,null,"Warren","NY_113 Ra","Ra","None","C/D"]
[null,null,null,null,null,"Warren","NY_113 SoC","SoC","None","B/D"]
[null,null,null,null,null,"Warren","NY_113 StE","StE","None","B/D"]
[null,null,null,null,null,"Warren","NY_113 WoE","WoE","None","D"]
[null,null,null,null,null,"Washington","NY_115 BeB","BeB","None","B/D"]
[null,null,null,null,null,"Washington","NY_115 BTC","BTC","None","C"]
[null,null,null,null,null,"Washington","NY_115 FaB","FaB","None","D"]
[null,null,null,null,null,"Washington","NY_115 FL","FL","Frequent","A/D"]
[null,null,null,null,null,"Washington","NY_115 HcD","HcD","None","B"]
[null,null,null,null,null,"Washington","NY_115 HTF","HTF","None","A"]
[null,null,null,null,null,"Washington","NY_115 HWE","HWE","None","C/D"]
[null,null,null,null,null,"Washington","NY_115 NBC","NBC","None","D"]
[null,null,null,null,null,"Washington","NY_115 OaB","OaB","None","A"]
[null,null,null,null,null,"Washington","NY_115 PaB","PaB","None","C"]
[null,null,null,null,null,"Washington","NY_115 RPF","RPF","None","D"]
[null,null,null,null,null,"Washington","NY_115 ScA","ScA","None","D"]
[null,null,null,null,null,"Washington","NY_115 VeC","VeC","None","D"]
[null,null,null,null,null,"Wayne","NY_117 AlA","AlA","None","A"]
[null,null,null,null,null,"Wayne","NY_117 AlB","AlB","None","A"]
[null,null,null,null,null,"Wayne","NY_117 CFL","CFL","None","C"]
[null,null,null,null,null,"Wayne","NY_117 Cp","Cp","None","D"]
[null,null,null,null,null,"Wayne","NY_117 DkB","DkB","None","C"]
[null,null,null,null,null,"Wayne","NY_117 Ha","Ha","None","B/D"]
[null,null,null,null,null,"Wayne","NY_117 HnB","HnB","None","B/D"]
[null,null,null,null,null,"Wayne","NY_117 Jo","Jo","None","D"]
[null,null,null,null,null,"Wayne","NY_117 Ls","Ls","None","C/D"]
[null,null,null,null,null,"Wayne","NY_117 Ly","Ly","None","C/D"]
[null,null,null,null,null,"Wayne",{"$f":"$C$114&\" \"&H13865","v":"NY_117 ML"},"ML","None","A"]
[null,null,null,null,null,"Wayne","NY_117 Ng","Ng","None","C/D"]
[null,null,null,null,null,"Wayne","NY_117 OvB","OvB","None","C/D"]
[null,null,null,null,null,"Wayne","NY_117 PoA","PoA","None","B/D"]
[null,null,null,null,null,"Wayne","NY_117 SdD","SdD","None","C"]
[null,null,null,null,null,"Wayne","NY_117 Wa","Wa","None","D"]
[null,null,null,null,null,"Westchester","NY_119 ChC","ChC","None","B"]
[null,null,null,null,null,"Westchester","NY_119 ChD","ChD","None","B"]
[null,null,null,null,null,"Westchester","NY_119 CtC","CtC","None","D"]
[null,null,null,null,null,"Westchester","NY_119 Fr","Fr","None","B/D"]
[null,null,null,null,null,"Westchester","NY_119 KnC","KnC","None","A"]
[null,null,null,null,null,"Westchester","NY_119 PoB","PoB","None","C"]
[null,null,null,null,null,"Westchester","NY_119 RgB","RgB","None","D"]
[null,null,null,null,null,"Westchester","NY_119 RhC","RhC","None","A"]
[null,null,null,null,null,"Westchester","NY_119 Uc","Uc","None","A/D"]
[null,null,null,null,null,"Westchester","NY_119 UdB","UdB","None","B"]
[null,null,null,null,null,"Westchester","NY_119 UpD","UpD","None","D"]
[null,null,null,null,null,"Westchester","NY_119 UvC","UvC","None","A"]
[null,null,null,null,null,"Wyoming","NY_121 AlB","AlB","None","B"]
[null,null,null,null,null,"Wyoming","NY_121 ArD","ArD","None","A"]
[null,null,null,null,null,"Wyoming","NY_121 BaC","BaC","None","C"]
[null,null,null,null,null,"Wyoming","NY_121 BlA","BlA","None","C"]
[null,null,null,null,null,"Wyoming","NY_121 CcC","CcC","None","C"]
[null,null,null,null,null,"Wyoming","NY_121 CdA","CdA","None","D"]
[null,null,null,null,null,"Wyoming","NY_121 ClB","ClB","None","A"]
[null,null,null,null,null,"Wyoming","NY_121 CoC","CoC","None","C/D"]
[null,null,null,null,null,"Wyoming","NY_121 CrB","CrB","None","B/D"]
[null,null,null,null,null,"Wyoming","NY_121 DnB","DnB","None","C/D"]
[null,null,null,null,null,"Wyoming","NY_121 FrB","FrB","None","D"]
[null,null,null,null,null,"Wyoming","NY_121 HeA","HeA","None","B"]
[null,null,null,null,null,"Wyoming","NY_121 Hg","Hg","None","B/D"]
[null,null,null,null,null,"Wyoming","NY_121 Hh","Hh","None","B/D"]
[null,null,null,null,null,"Wyoming","NY_121 HlA","HlA","None","D"]
[null,null,null,null,null,"Wyoming","NY_121 HlB","HlB","None","D"]
[null,null,null,null,null,"Wyoming","NY_121 HlC","HlC","None","D"]
[null,null,null,null,null,"Wyoming","NY_121 HmA","HmA","None","A"]
[null,null,null,null,null,"Wyoming","NY_121 HmB","HmB","None","A"]
[null,null,null,null,null,"Wyoming","NY_121 HmC","HmC","None","A"]
[null,null,null,null,null,"Wyoming","NY_121 HmD","HmD","None","A"]
[null,null,null,null,null,"Wyoming","NY_121 HnA","HnA","None","A"]
[null,null,null,null,null,"Wyoming","NY_121 HnB","HnB","None","A"]
[null,null,null,null,null,"Wyoming","NY_121 HnC","HnC","None","A"]
[null,null,null,null,null,"Wyoming","NY_121 HoB","HoB","None","A"]
[null,null,null,null,null,"Wyoming","NY_121 HoC","HoC","None","A"]
[null,null,null,null,null,"Wyoming","NY_121 HoD","HoD","None","A"]
[null,null,null,null,null,"Wyoming","NY_121 HrB","HrB","None","A"]
[null,null,null,null,null,"Wyoming","NY_121 HrC","HrC","None","A"]
[null,null,null,null,null,"Wyoming","NY_121 HrD","HrD","None","A"]
[null,null,null,null,null,"Wyoming","NY_121 HsE","HsE","None","A"]
[null,null,null,null,null,"Wyoming","NY_121 In","In","None","C/D"]
[null,null,null,null,null,"Wyoming","NY_121 LaA","LaA","None","D"]
[null,null,null,null,null,"Wyoming","NY_121 LaB","LaB","None","D"]
[null,null,null,null,null,"Wyoming",{"$f":"$C$116&\" \"&H14065","v":"NY_121 LaC"},"LaC","None","D"]
[null,null,null,null,null,"Wyoming","NY_121 LaD","LaD","None","D"]
[null,null,null,null,null,"Wyoming","NY_121 LgB","LgB","None","B"]
[null,null,null,null,null,"Wyoming","NY_121 LgC","LgC","None","B"]
[null,null,null,null,null,"Wyoming","NY_121 LgD","LgD","None","B"]
[null,null,null,null,null,"Wyoming","NY_121 LgE","LgE","None","B"]
[null,null,null,null,null,"Wyoming","NY_121 LoB","LoB","None","C"]
[null,null,null,null,null,"Wyoming","NY_121 LoC","LoC","None","C"]
[null,null,null,null,null,"Wyoming","NY_121 LoD","LoD","None","C"]
[null,null,null,null,null,"Wyoming","NY_121 LoE","LoE","None","C"]
[null,null,null,null,null,"Wyoming","NY_121 Ly","Ly","None","C/D"]
[null,null,null,null,null,"Wyoming","NY_121 MaB","MaB","None","B"]
[null,null,null,null,null,"Wyoming","NY_121 MaC","MaC","None","B"]
[null,null,null,null,null,"Wyoming","NY_121 MdB","MdB","None","B"]
[null,null,null,null,null,"Wyoming","NY_121 MdC","MdC","None","B"]
[null,null,null,null,null,"Wyoming","NY_121 MlB","MlB","None","C"]
[null,null,null,null,null,"Wyoming","NY_121 MlC","MlC","None","C"]
[null,null,null,null,null,"Wyoming","NY_121 MlD","MlD","None","C"]
[null,null,null,null,null,"Wyoming","NY_121 MlE","MlE","None","C"]
[null,null,null,null,null,"Wyoming","NY_121 MnF","MnF","None","C"]
[null,null,null,null,null,"Wyoming","NY_121 MrA","MrA","None","D"]
[null,null,null,null,null,"Wyoming","NY_121 MrB","MrB","None","D"]
[null,null,null,null,null,"Wyoming","NY_121 MrC","MrC","None","D"]
[null,null,null,null,null,"Wyoming","NY_121 MrD","MrD","None","D"]
[null,null,null,null,null,"Wyoming","NY_121 MsB","MsB","None","D"]
[null,null,null,null,null,"Wyoming","NY_121 MsC","MsC","None","D"]
[null,null,null,null,null,"Wyoming","NY_121 Ng","Ng","None","C/D"]
[null,null,null,null,null,"Wyoming","NY_121 NuB","NuB","None","C/D"]
[null,null,null,null,null,"Wyoming","NY_121 NuC","NuC","None","C/D"]
[null,null,null,null,null,"Wyoming","NY_121 NuD","NuD","None","C/D"]
[null,null,null,null,null,"Wyoming","NY_121 Pa","Pa","None","A/D"]
[null,null,null,null,null,"Wyoming","NY_121 PgA","PgA","None","A"]
[null,null,null,null,null,"Wyoming",{"$f":"$C$116&\" \"&H14097","v":"NY_121 PgB"},"PgB","None","A"]
[null,null,null,null,null,"Wyoming","NY_121 Pk","Pk","Frequent","C/D"]
[null,null,null,null,null,"Wyoming","NY_121 Pm","Pm","Frequent","C/D"]
[null,null,null,null,null,"Wyoming","NY_121 PpA","PpA","None","B/D"]
[null,null,null,null,null,"Wyoming","NY_121 PpB","PpB","None","B/D"]
[null,null,null,null,null,"Wyoming","NY_121 Rh","Rh","None","B/D"]
[null,null,null,null,null,"Wyoming","NY_121 ScA","ScA","None","B/D"]
[null,null,null,null,null,"Wyoming","NY_121 ScB","ScB","None","B/D"]
[null,null,null,null,null,"Wyoming","NY_121 Su","Su","None","C/D"]
[null,null,null,null,null,"Wyoming","NY_121 Te","Te","Occasional","B/D"]
[null,null,null,null,null,"Wyoming","NY_121 Tg","Tg","Occasional","B"]
[null,null,null,null,null,"Wyoming","NY_121 TuA","TuA","None","D"]
[null,null,null,null,null,"Wyoming","NY_121 TuB","TuB","None","D"]
[null,null,null,null,null,"Wyoming","NY_121 UD","UD","None","A"]
[null,null,null,null,null,"Wyoming","NY_121 VaB","VaB","None","B/D"]
[null,null,null,null,null,"Wyoming","NY_121 VaC","VaC","None","B/D"]
[null,null,null,null,null,"Wyoming","NY_121 VaD","VaD","None","B/D"]
[null,null,null,null,null,"Wyoming","NY_121 VoA","VoA","None","D"]
[null,null,null,null,null,"Wyoming","NY_121 VoB","VoB","None","D"]
[null,null,null,null,null,"Wyoming","NY_121 VoC","VoC","None","D"]
[null,null,null,null,null,"Wyoming","NY_121 Wa","Wa","None","D"]
[null,null,null,null,null,"Wyoming","NY_121 Wk","Wk","Frequent","B/D"]
[null,null,null,null,null,"Wyoming","NY_121 Wn","Wn","Frequent","B/D"]
[null,null,null,null,null,"Wyoming","NY_121 WoB","WoB","None","D"]
[null,null,null,null,null,"Wyoming","NY_121 WoC","WoC","None","D"]
[null,null,null,null,null,"Wyoming","NY_121 WsB","WsB","None","D"]
[null,null,null,null,null,"Wyoming","NY_121 WsC","WsC","None","D"]
[null,null,null,null,null,"Yates",{"$f":"$C$117&\" \"&H14124","v":"NY_123 101A"},"101A","None","B"]
[null,null,null,null,null,"Yates","NY_123 101B","101B","None","B"]
[null,null,null,null,null,"Yates","NY_123 101C","101C","None","B"]
[null,null,null,null,null,"Yates","NY_123 101D","101D","None","B"]
[null,null,null,null,null,"Yates","NY_123 101E","101E","None","B"]
[null,null,null,null,null,"Yates","NY_123 104A","104A","None","B"]
[null,null,null,null,null,"Yates","NY_123 104B","104B","None","B"]
[null,null,null,null,null,"Yates","NY_123 104C","104C","None","B"]
[null,null,null,null,null,"Yates","NY_123 107B","107B","None","B/D"]
[null,null,null,null,null,"Yates","NY_123 108C","108C","None","B"]
[null,null,null,null,null,"Yates","NY_123 108D","108D","None","B"]
[null,null,null,null,null,"Yates","NY_123 108E","108E","None","B"]
[null,null,null,null,null,"Yates","NY_123 112E","112E","None","B"]
[null,null,null,null,null,"Yates","NY_123 114B","114B","None","B"]
[null,null,null,null,null,"Yates","NY_123 114C","114C","None","B"]
[null,null,null,null,null,"Yates","NY_123 114D","114D","None","B"]
[null,null,null,null,null,"Yates","NY_123 116B","116B","None","B"]
[null,null,null,null,null,"Yates","NY_123 116C","116C","None","B"]
[null,null,null,null,null,"Yates","NY_123 118F","118F","None","B"]
[null,null,null,null,null,"Yates","NY_123 120E","120E","None","B"]
[null,null,null,null,null,"Yates","NY_123 126A","126A","None","B"]
[null,null,null,null,null,"Yates","NY_123 126B","126B","None","B"]
[null,null,null,null,null,"Yates","NY_123 126C","126C","None","B"]
[null,null,null,null,null,"Yates","NY_123 126D","126D","None","B"]
[null,null,null,null,null,"Yates","NY_123 12D","12D","None","B"]
[null,null,null,null,null,"Yates","NY_123 13F","13F","None","D"]
[null,null,null,null,null,"Yates","NY_123 151C","151C","None","D"]
[null,null,null,null,null,"Yates","NY_123 152B","152B","None","B"]
[null,null,null,null,null,"Yates","NY_123 152C","152C","None","B"]
[null,null,null,null,null,"Yates","NY_123 152D","152D","None","B"]
[null,null,null,null,null,"Yates","NY_123 152E","152E","None","B"]
[null,null,null,null,null,"Yates","NY_123 153B","153B","None","B"]
[null,null,null,null,null,"Yates",{"$f":"$C$117&\" \"&H14156","v":"NY_123 153C"},"153C","None","B"]
[null,null,null,null,null,"Yates","NY_123 153D","153D","None","B"]
[null,null,null,null,null,"Yates","NY_123 153E","153E","None","B"]
[null,null,null,null,null,"Yates","NY_123 15A","15A","Rare","B"]
[null,null,null,null,null,"Yates","NY_123 15B","15B","Rare","B"]
[null,null,null,null,null,"Yates","NY_123 162B","162B","None","D"]
[null,null,null,null,null,"Yates","NY_123 162C","162C","None","D"]
[null,null,null,null,null,"Yates","NY_123 162D","162D","None","D"]
[null,null,null,null,null,"Yates","NY_123 168A","168A","None","D"]
[null,null,null,null,null,"Yates","NY_123 168B","168B","None","D"]
[null,null,null,null,null,"Yates","NY_123 168C","168C","None","D"]
[null,null,null,null,null,"Yates","NY_123 168D","168D","None","D"]
[null,null,null,null,null,"Yates","NY_123 16A","16A","None","D"]
[null,null,null,null,null,"Yates","NY_123 16B","16B","None","D"]
[null,null,null,null,null,"Yates","NY_123 16C","16C","None","D"]
[null,null,null,null,null,"Yates","NY_123 171C","171C","None","C"]
[null,null,null,null,null,"Yates","NY_123 171D","171D","None","C"]
[null,null,null,null,null,"Yates","NY_123 171E","171E","None","C"]
[null,null,null,null,null,"Yates","NY_123 171F","171F","None","C"]
[null,null,null,null,null,"Yates","NY_123 177A","177A","None","D"]
[null,null,null,null,null,"Yates","NY_123 177B","177B","None","D"]
[null,null,null,null,null,"Yates","NY_123 181B","181B","None","C"]
[null,null,null,null,null,"Yates","NY_123 181C","181C","None","C"]
[null,null,null,null,null,"Yates","NY_123 181D","181D","None","C"]
[null,null,null,null,null,"Yates","NY_123 181E","181E","None","C"]
[null,null,null,null,null,"Yates","NY_123 18A","18A","None","B/D"]
[null,null,null,null,null,"Yates","NY_123 19A","19A","None","B/D"]
[null,null,null,null,null,"Yates","NY_123 1A","1A","Frequent","A/D"]
[null,null,null,null,null,"Yates","NY_123 201A","201A","None","B/D"]
[null,null,null,null,null,"Yates","NY_123 201B","201B","None","B/D"]
[null,null,null,null,null,"Yates","NY_123 201C","201C","None","B/D"]
[null,null,null,null,null,"Yates","NY_123 204A","204A","None","B/D"]
[null,null,null,null,null,"Yates",{"$f":"$C$117&\" \"&H14188","v":"NY_123 204B"},"204B","None","B/D"]
[null,null,null,null,null,"Yates","NY_123 20A","20A","None","B/D"]
[null,null,null,null,null,"Yates","NY_123 210A","210A","None","B/D"]
[null,null,null,null,null,"Yates","NY_123 210B","210B","None","B/D"]
[null,null,null,null,null,"Yates","NY_123 240A","240A","None","D"]
[null,null,null,null,null,"Yates","NY_123 240B","240B","None","D"]
[null,null,null,null,null,"Yates","NY_123 240C","240C","None","D"]
[null,null,null,null,null,"Yates","NY_123 240D","240D","None","D"]
[null,null,null,null,null,"Yates","NY_123 241B","241B","None","D"]
[null,null,null,null,null,"Yates","NY_123 241C","241C","None","D"]
[null,null,null,null,null,"Yates","NY_123 241D","241D","None","D"]
[null,null,null,null,null,"Yates","NY_123 24A","24A","None","A"]
[null,null,null,null,null,"Yates","NY_123 24B","24B","None","A"]
[null,null,null,null,null,"Yates","NY_123 24C","24C","None","A"]
[null,null,null,null,null,"Yates","NY_123 24D","24D","None","A"]
[null,null,null,null,null,"Yates","NY_123 25A","25A","None","A"]
[null,null,null,null,null,"Yates","NY_123 25B","25B","None","A"]
[null,null,null,null,null,"Yates","NY_123 25C","25C","None","A"]
[null,null,null,null,null,"Yates","NY_123 25D","25D","None","A"]
[null,null,null,null,null,"Yates","NY_123 25E","25E","None","A"]
[null,null,null,null,null,"Yates","NY_123 260B","260B","None","C/D"]
[null,null,null,null,null,"Yates","NY_123 260C","260C","None","C/D"]
[null,null,null,null,null,"Yates","NY_123 260D","260D","None","C/D"]
[null,null,null,null,null,"Yates","NY_123 26A","26A","Rare","A"]
[null,null,null,null,null,"Yates","NY_123 26B","26B","Rare","A"]
[null,null,null,null,null,"Yates","NY_123 27A","27A","None","A/D"]
[null,null,null,null,null,"Yates","NY_123 27B","27B","None","A/D"]
[null,null,null,null,null,"Yates","NY_123 2A","2A","Occasional","C"]
[null,null,null,null,null,"Yates","NY_123 304A","304A","None","B/D"]
[null,null,null,null,null,"Yates","NY_123 304B","304B","None","B/D"]
[null,null,null,null,null,"Yates","NY_123 33B","33B","None","C"]
[null,null,null,null,null,"Yates","NY_123 33C","33C","None","C"]
[null,null,null,null,null,"Yates",{"$f":"$C$117&\" \"&H14220","v":"NY_123 33D"},"33D","None","C"]
[null,null,null,null,null,"Yates","NY_123 33E","33E","None","C"]
[null,null,null,null,null,"Yates","NY_123 342A","342A","None","D"]
[null,null,null,null,null,"Yates","NY_123 34A","34A","None","D"]
[null,null,null,null,null,"Yates","NY_123 356A","356A","None","C/D"]
[null,null,null,null,null,"Yates","NY_123 356B","356B","None","C/D"]
[null,null,null,null,null,"Yates","NY_123 357B","357B","None","C/D"]
[null,null,null,null,null,"Yates","NY_123 357C","357C","None","C/D"]
[null,null,null,null,null,"Yates","NY_123 35B","35B","None","D"]
[null,null,null,null,null,"Yates","NY_123 36B","36B","None","D"]
[null,null,null,null,null,"Yates","NY_123 36C","36C","None","D"]
[null,null,null,null,null,"Yates","NY_123 36D","36D","None","D"]
[null,null,null,null,null,"Yates","NY_123 38B","38B","None","C/D"]
[null,null,null,null,null,"Yates","NY_123 39A","39A","None","C/D"]
[null,null,null,null,null,"Yates","NY_123 3A","3A","Occasional","C/D"]
[null,null,null,null,null,"Yates","NY_123 400A","400A","None","A"]
[null,null,null,null,null,"Yates","NY_123 401D","401D","None"]
[null,null,null,null,null,"Yates","NY_123 48B","48B","None","A"]
[null,null,null,null,null,"Yates","NY_123 48C","48C","None","A"]
[null,null,null,null,null,"Yates","NY_123 48D","48D","None","A"]
[null,null,null,null,null,"Yates","NY_123 49F","49F","None","A"]
[null,null,null,null,null,"Yates","NY_123 4A","4A","Occasional","B/D"]
[null,null,null,null,null,"Yates","NY_123 53A","53A","None","B/D"]
[null,null,null,null,null,"Yates","NY_123 56A","56A","None","B"]
[null,null,null,null,null,"Yates","NY_123 5A","5A","Frequent","B/D"]
[null,null,null,null,null,"Yates","NY_123 62B","62B","None","D"]
[null,null,null,null,null,"Yates","NY_123 62C","62C","None","D"]
[null,null,null,null,null,"Yates","NY_123 62D","62D","None","D"]
[null,null,null,null,null,"Yates","NY_123 62E","62E","None","D"]
[null,null,null,null,null,"Yates","NY_123 63B","63B","None","D"]
[null,null,null,null,null,"Yates","NY_123 63C","63C","None","D"]
[null,null,null,null,null,"Yates","NY_123 63D","63D","None","D"]
[null,null,null,null,null,"Yates",{"$f":"$C$117&\" \"&H14252","v":"NY_123 64B"},"64B","None","D"]
[null,null,null,null,null,"Yates","NY_123 66A","66A","None","C/D"]
[null,null,null,null,null,"Yates","NY_123 68A","68A","None","D"]
[null,null,null,null,null,"Yates","NY_123 68B","68B","None","D"]
[null,null,null,null,null,"Yates","NY_123 68C","68C","None","D"]
[null,null,null,null,null,"Yates","NY_123 68D","68D","None","D"]
[null,null,null,null,null,"Yates","NY_123 69A","69A","None","D"]
[null,null,null,null,null,"Yates","NY_123 69B","69B","None","D"]
[null,null,null,null,null,"Yates","NY_123 69C","69C","None","D"]
[null,null,null,null,null,"Yates","NY_123 71B","71B","None","C/D"]
[null,null,null,null,null,"Yates","NY_123 73B","73B","None","C/D"]
[null,null,null,null,null,"Yates","NY_123 73C","73C","None","C/D"]
[null,null,null,null,null,"Yates","NY_123 73D","73D","None","C/D"]
[null,null,null,null,null,"Yates","NY_123 76B","76B","None","D"]
[null,null,null,null,null,"Yates","NY_123 76C","76C","None","D"]
[null,null,null,null,null,"Yates","NY_123 76D","76D","None","D"]
[null,null,null,null,null,"Yates","NY_123 77A","77A","None","D"]
[null,null,null,null,null,"Yates","NY_123 77B","77B","None","D"]
[null,null,null,null,null,"Yates","NY_123 7A","7A","None","B/D"]
[null,null,null,null,null,"Yates","NY_123 80A","80A","None","D"]
[null,null,null,null,null,"Yates","NY_123 80B","80B","None","D"]
[null,null,null,null,null,"Yates","NY_123 80C","80C","None","D"]
[null,null,null,null,null,"Yates","NY_123 82B","82B","None","C"]
[null,null,null,null,null,"Yates","NY_123 82C","82C","None","C"]
[null,null,null,null,null,"Yates","NY_123 82D","82D","None","C"]
[null,null,null,null,null,"Yates","NY_123 91A","91A","None","A/D"]
[null,null,null,null,null,"Yates","NY_123 92A","92A","None","A/D"]
[null,null,null,null,null,"Yates","NY_123 93A","93A","None","C/D"]
[null,null,null,null,null,"Yates","NY_123 94A","94A","None","C/D"]
[null,null,null,null,null,"Yates","NY_123 95A","95A","None","A/D"]
[null,null,null,null,null,"Seneca Nation of Indians",{"$f":"$C$118&\" \"&H14282","v":"NY_605 AkA"},"AkA","None","B"]
[null,null,null,null,null,"Seneca Nation of Indians","NY_605 AkB","AkB","None","B"]
[null,null,null,null,null,"Seneca Nation of Indians","NY_605 AlA","AlA","None","C"]
[null,null,null,null,null,"Seneca Nation of Indians","NY_605 AlB","AlB","None","C"]
[null,null,null,null,null,"Seneca Nation of Indians","NY_605 AmA","AmA","None","A"]
[null,null,null,null,null,"Seneca Nation of Indians","NY_605 AmB","AmB","None","A"]
[null,null,null,null,null,"Seneca Nation of Indians","NY_605 AmC","AmC","None","A"]
[null,null,null,null,null,"Seneca Nation of Indians","NY_605 AoA","AoA","None","D"]
[null,null,null,null,null,"Seneca Nation of Indians","NY_605 ArC","ArC","None","A"]
[null,null,null,null,null,"Seneca Nation of Indians","NY_605 ArE","ArE","None","A"]
[null,null,null,null,null,"Seneca Nation of Indians","NY_605 BlB","BlB","None","A"]
[null,null,null,null,null,"Seneca Nation of Indians","NY_605 BrB","BrB","None","C/D"]
[null,null,null,null,null,"Seneca Nation of Indians","NY_605 BrC","BrC","None","C/D"]
[null,null,null,null,null,"Seneca Nation of Indians","NY_605 BrD","BrD","None","C/D"]
[null,null,null,null,null,"Seneca Nation of Indians","NY_605 Ca","Ca","None","D"]
[null,null,null,null,null,"Seneca Nation of Indians","NY_605 Cb","Cb","None","D"]
[null,null,null,null,null,"Seneca Nation of Indians","NY_605 Cc","Cc","None","C/D"]
[null,null,null,null,null,"Seneca Nation of Indians","NY_605 Cd","Cd","None","C/D"]
[null,null,null,null,null,"Seneca Nation of Indians","NY_605 Ce","Ce","None","C/D"]
[null,null,null,null,null,"Seneca Nation of Indians","NY_605 CfA","CfA","None","D"]
[null,null,null,null,null,"Seneca Nation of Indians","NY_605 CfB","CfB","None","D"]
[null,null,null,null,null,"Seneca Nation of Indians","NY_605 CgA","CgA","None","A/D"]
[null,null,null,null,null,"Seneca Nation of Indians","NY_605 Ch","Ch","None","A"]
[null,null,null,null,null,"Seneca Nation of Indians","NY_605 CkA","CkA","None","A"]
[null,null,null,null,null,"Seneca Nation of Indians","NY_605 CkB","CkB","None","A"]
[null,null,null,null,null,"Seneca Nation of Indians","NY_605 CkC","CkC","None","A"]
[null,null,null,null,null,"Seneca Nation of Indians","NY_605 CkD","CkD","None","A"]
[null,null,null,null,null,"Seneca Nation of Indians","NY_605 CkE","CkE","None","A"]
[null,null,null,null,null,"Seneca Nation of Indians","NY_605 ClA","ClA","None","A"]
[null,null,null,null,null,"Seneca Nation of Indians","NY_605 ClB","ClB","None","A"]
[null,null,null,null,null,"Seneca Nation of Indians","NY_605 Cn","Cn","None","D"]
[null,null,null,null,null,"Seneca Nation of Indians","NY_605 CoA","CoA","None","C/D"]
[null,null,null,null,null,"Seneca Nation of Indians",{"$f":"$C$118&\" \"&H14314","v":"NY_605 CoB"},"CoB","None","C/D"]
[null,null,null,null,null,"Seneca Nation of Indians","NY_605 CsB","CsB","None","C/D"]
[null,null,null,null,null,"Seneca Nation of Indians","NY_605 CsC","CsC","None","C/D"]
[null,null,null,null,null,"Seneca Nation of Indians","NY_605 CtB","CtB","None","C/D"]
[null,null,null,null,null,"Seneca Nation of Indians","NY_605 CuB","CuB","None","A"]
[null,null,null,null,null,"Seneca Nation of Indians","NY_605 CuC","CuC","None","A"]
[null,null,null,null,null,"Seneca Nation of Indians","NY_605 Cv","Cv","None","C/D"]
[null,null,null,null,null,"Seneca Nation of Indians","NY_605 DdA","DdA","None","C/D"]
[null,null,null,null,null,"Seneca Nation of Indians","NY_605 DdB","DdB","None","C/D"]
[null,null,null,null,null,"Seneca Nation of Indians","NY_605 DdC","DdC","None","C/D"]
[null,null,null,null,null,"Seneca Nation of Indians","NY_605 ElA","ElA","None","A/D"]
[null,null,null,null,null,"Seneca Nation of Indians","NY_605 ElB","ElB","None","A/D"]
[null,null,null,null,null,"Seneca Nation of Indians","NY_605 ErB","ErB","None","C"]
[null,null,null,null,null,"Seneca Nation of Indians","NY_605 ErC","ErC","None","C"]
[null,null,null,null,null,"Seneca Nation of Indians","NY_605 ErD","ErD","None","C"]
[null,null,null,null,null,"Seneca Nation of Indians","NY_605 FbB","FbB","None","A/D"]
[null,null,null,null,null,"Seneca Nation of Indians","NY_605 Fu","Fu","Frequent","A/D"]
[null,null,null,null,null,"Seneca Nation of Indians","NY_605 FxB","FxB","None","D"]
[null,null,null,null,null,"Seneca Nation of Indians","NY_605 GaA","GaA","None","A/D"]
[null,null,null,null,null,"Seneca Nation of Indians","NY_605 GaB","GaB","None","A/D"]
[null,null,null,null,null,"Seneca Nation of Indians","NY_605 GlB","GlB","None","C"]
[null,null,null,null,null,"Seneca Nation of Indians","NY_605 GlC","GlC","None","C"]
[null,null,null,null,null,"Seneca Nation of Indians","NY_605 GlD","GlD","None","C"]
[null,null,null,null,null,"Seneca Nation of Indians","NY_605 GlE","GlE","None","C"]
[null,null,null,null,null,"Seneca Nation of Indians","NY_605 GlF","GlF","None","C"]
[null,null,null,null,null,"Seneca Nation of Indians","NY_605 Ha","Ha","None","B/D"]
[null,null,null,null,null,"Seneca Nation of Indians","NY_605 Hn","Hn","None","B/D"]
[null,null,null,null,null,"Seneca Nation of Indians","NY_605 HuB","HuB","None","C/D"]
[null,null,null,null,null,"Seneca Nation of Indians","NY_605 HvE","HvE","None","C/D"]
[null,null,null,null,null,"Seneca Nation of Indians","NY_605 Lc","Lc","None","A/D"]
[null,null,null,null,null,"Seneca Nation of Indians","NY_605 Ld","Ld","None","A/D"]
[null,null,null,null,null,"Seneca Nation of Indians","NY_605 LoC","LoC","None","C"]
[null,null,null,null,null,"Seneca Nation of Indians",{"$f":"$C$118&\" \"&H14346","v":"NY_605 LoF"},"LoF","None","C"]
[null,null,null,null,null,"Seneca Nation of Indians","NY_605 Ly","Ly","None","C/D"]
[null,null,null,null,null,"Seneca Nation of Indians","NY_605 MaA","MaA","None","C"]
[null,null,null,null,null,"Seneca Nation of Indians","NY_605 MaB","MaB","None","C"]
[null,null,null,null,null,"Seneca Nation of Indians","NY_605 MaD","MaD","None","C"]
[null,null,null,null,null,"Seneca Nation of Indians","NY_605 MbE","MbE","None","C"]
[null,null,null,null,null,"Seneca Nation of Indians","NY_605 MbF","MbF","None","C"]
[null,null,null,null,null,"Seneca Nation of Indians","NY_605 MdB","MdB","None","D"]
[null,null,null,null,null,"Seneca Nation of Indians","NY_605 MdC","MdC","None","D"]
[null,null,null,null,null,"Seneca Nation of Indians","NY_605 MdD","MdD","None","D"]
[null,null,null,null,null,"Seneca Nation of Indians","NY_605 MfB","MfB","None","D"]
[null,null,null,null,null,"Seneca Nation of Indians","NY_605 MfC","MfC","None","D"]
[null,null,null,null,null,"Seneca Nation of Indians","NY_605 Mg","Mg","Occasional","B/D"]
[null,null,null,null,null,"Seneca Nation of Indians","NY_605 Mh","Mh","None","B/D"]
[null,null,null,null,null,"Seneca Nation of Indians","NY_605 NfA","NfA","None","C/D"]
[null,null,null,null,null,"Seneca Nation of Indians","NY_605 NfB","NfB","None","C/D"]
[null,null,null,null,null,"Seneca Nation of Indians","NY_605 Nh","Nh","None","C/D"]
[null,null,null,null,null,"Seneca Nation of Indians","NY_605 OrA","OrA","None","C/D"]
[null,null,null,null,null,"Seneca Nation of Indians","NY_605 OrB","OrB","None","C/D"]
[null,null,null,null,null,"Seneca Nation of Indians","NY_605 OrC","OrC","None","C/D"]
[null,null,null,null,null,"Seneca Nation of Indians","NY_605 Pa","Pa","Frequent","B/D"]
[null,null,null,null,null,"Seneca Nation of Indians","NY_605 Pc","Pc","None","D"]
[null,null,null,null,null,"Seneca Nation of Indians","NY_605 PhA","PhA","None","B/D"]
[null,null,null,null,null,"Seneca Nation of Indians","NY_605 RaB","RaB","None","B"]
[null,null,null,null,null,"Seneca Nation of Indians","NY_605 RaC","RaC","None","B"]
[null,null,null,null,null,"Seneca Nation of Indians","NY_605 RaD","RaD","None","B"]
[null,null,null,null,null,"Seneca Nation of Indians","NY_605 RaE","RaE","None","B"]
[null,null,null,null,null,"Seneca Nation of Indians","NY_605 RaF","RaF","None","B"]
[null,null,null,null,null,"Seneca Nation of Indians","NY_605 RbC","RbC","None","B"]
[null,null,null,null,null,"Seneca Nation of Indians","NY_605 RbD","RbD","None","B"]
[null,null,null,null,null,"Seneca Nation of Indians","NY_605 RbE","RbE","None","B"]
[null,null,null,null,null,"Seneca Nation of Indians","NY_605 RbF","RbF","None","B"]
[null,null,null,null,null,"Seneca Nation of Indians",{"$f":"$C$118&\" \"&H14378","v":"NY_605 RcA"},"RcA","None","C/D"]
[null,null,null,null,null,"Seneca Nation of Indians","NY_605 RcB","RcB","None","C/D"]
[null,null,null,null,null,"Seneca Nation of Indians","NY_605 Re","Re","None","B/D"]
[null,null,null,null,null,"Seneca Nation of Indians","NY_605 RgA","RgA","None","C/D"]
[null,null,null,null,null,"Seneca Nation of Indians","NY_605 RkA","RkA","None","C/D"]
[null,null,null,null,null,"Seneca Nation of Indians","NY_605 ScB","ScB","None","B/D"]
[null,null,null,null,null,"Seneca Nation of Indians","NY_605 ScD","ScD","None","B/D"]
[null,null,null,null,null,"Seneca Nation of Indians","NY_605 Sd","Sd","None","B/D"]
[null,null,null,null,null,"Seneca Nation of Indians","NY_605 To","To","Occasional","A"]
[null,null,null,null,null,"Seneca Nation of Indians","NY_605 Ua","Ua","None","B"]
[null,null,null,null,null,"Seneca Nation of Indians","NY_605 VaB","VaB","None","B"]
[null,null,null,null,null,"Seneca Nation of Indians","NY_605 VpA","VpA","None","D"]
[null,null,null,null,null,"Seneca Nation of Indians","NY_605 VpB","VpB","None","D"]
[null,null,null,null,null,"Seneca Nation of Indians","NY_605 VpC","VpC","None","D"]
[null,null,null,null,null,"Seneca Nation of Indians","NY_605 Wa","Wa","None","D"]
[null,null,null,null,null,"Seneca Nation of Indians","NY_605 Wd","Wd","Frequent","B/D"]
[null,null,null,null,null,"Seneca Nation of Indians","NY_605 WhC","WhC","None","C/D"]
[null,null,null,null,null,"Seneca Nation of Indians","NY_605 WhD","WhD","None","C/D"]
[null,null,null,null,null,"Seneca Nation of Indians","NY_605 WmB","WmB","None","D"]
[null,null,null,null,null,"Niagara Area",{"$f":"$C$119&\" \"&H14397","v":"NY_664 Ad"},"Ad","Frequent","A/D"]
[null,null,null,null,null,"Niagara Area","NY_664 Af","Af","None","A/D"]
[null,null,null,null,null,"Niagara Area","NY_664 Am","Am","None","A/D"]
[null,null,null,null,null,"Niagara Area","NY_664 AnA","AnA","None","B/D"]
[null,null,null,null,null,"Niagara Area","NY_664 ApA","ApA","None","B/D"]
[null,null,null,null,null,"Niagara Area","NY_664 ArB","ArB","None","A"]
[null,null,null,null,null,"Niagara Area","NY_664 ArC","ArC","None","A"]
[null,null,null,null,null,"Niagara Area","NY_664 AsA","AsA","None","A"]
[null,null,null,null,null,"Niagara Area","NY_664 AsB","AsB","None","A"]
[null,null,null,null,null,"Niagara Area","NY_664 BoA","BoA","None","C"]
[null,null,null,null,null,"Niagara Area","NY_664 BoB","BoB","None","C"]
[null,null,null,null,null,"Niagara Area","NY_664 BrA","BrA","None","D"]
[null,null,null,null,null,"Niagara Area","NY_664 Ca","Ca","None","C/D"]
[null,null,null,null,null,"Niagara Area","NY_664 Cb","Cb","None","C/D"]
[null,null,null,null,null,"Niagara Area","NY_664 CcA","CcA","None","D"]
[null,null,null,null,null,"Niagara Area","NY_664 CcB","CcB","None","D"]
[null,null,null,null,null,"Niagara Area","NY_664 CcC","CcC","None","D"]
[null,null,null,null,null,"Niagara Area","NY_664 CeA","CeA","None","C"]
[null,null,null,null,null,"Niagara Area","NY_664 CeB","CeB","None","C"]
[null,null,null,null,null,"Niagara Area","NY_664 CgA","CgA","None","C"]
[null,null,null,null,null,"Niagara Area","NY_664 CgB","CgB","None","C"]
[null,null,null,null,null,"Niagara Area","NY_664 Ch","Ch","None","C/D"]
[null,null,null,null,null,"Niagara Area","NY_664 ClA","ClA","None","C/D"]
[null,null,null,null,null,"Niagara Area","NY_664 ClB","ClB","None","C/D"]
[null,null,null,null,null,"Niagara Area","NY_664 CmA","CmA","None","C/D"]
[null,null,null,null,null,"Niagara Area","NY_664 CmB","CmB","None","C/D"]
[null,null,null,null,null,"Niagara Area","NY_664 CnA","CnA","None","C/D"]
[null,null,null,null,null,"Niagara Area","NY_664 CnB","CnB","None","C/D"]
[null,null,null,null,null,"Niagara Area","NY_664 CoB","CoB","None","A"]
[null,null,null,null,null,"Niagara Area","NY_664 Cs","Cs","None","C/D"]
[null,null,null,null,null,"Niagara Area","NY_664 Cu","Cu","None","A"]
[null,null,null,null,null,"Niagara Area","NY_664 DuB","DuB","None","C"]
[null,null,null,null,null,"Niagara Area",{"$f":"$C$119&\" \"&H14429","v":"NY_664 DuC3"},"DuC3","None","C"]
[null,null,null,null,null,"Niagara Area","NY_664 DvD3","DvD3","None","C"]
[null,null,null,null,null,"Niagara Area","NY_664 ElA","ElA","None","A/D"]
[null,null,null,null,null,"Niagara Area","NY_664 ElB","ElB","None","A/D"]
[null,null,null,null,null,"Niagara Area","NY_664 FaA","FaA","None","D"]
[null,null,null,null,null,"Niagara Area","NY_664 Fo","Fo","None","C/D"]
[null,null,null,null,null,"Niagara Area","NY_664 Fr","Fr","None","B/D"]
[null,null,null,null,null,"Niagara Area","NY_664 GnA","GnA","None","A/D"]
[null,null,null,null,null,"Niagara Area","NY_664 GnB","GnB","None","A/D"]
[null,null,null,null,null,"Niagara Area","NY_664 Ha","Ha","Occasional","B"]
[null,null,null,null,null,"Niagara Area","NY_664 HgA","HgA","None","B/D"]
[null,null,null,null,null,"Niagara Area","NY_664 HgB","HgB","None","B/D"]
[null,null,null,null,null,"Niagara Area","NY_664 HlA","HlA","None","B/D"]
[null,null,null,null,null,"Niagara Area","NY_664 HlB","HlB","None","B/D"]
[null,null,null,null,null,"Niagara Area","NY_664 HmA","HmA","None","D"]
[null,null,null,null,null,"Niagara Area","NY_664 HmB","HmB","None","D"]
[null,null,null,null,null,"Niagara Area","NY_664 HoA","HoA","None","A"]
[null,null,null,null,null,"Niagara Area","NY_664 HoB","HoB","None","A"]
[null,null,null,null,null,"Niagara Area","NY_664 HoC","HoC","None","A"]
[null,null,null,null,null,"Niagara Area","NY_664 HsB","HsB","None","C/D"]
[null,null,null,null,null,"Niagara Area","NY_664 HtC3","HtC3","None","C/D"]
[null,null,null,null,null,"Niagara Area","NY_664 HuF3","HuF3","None","C/D"]
[null,null,null,null,null,"Niagara Area","NY_664 LaB","LaB","None","D"]
[null,null,null,null,null,"Niagara Area","NY_664 Lc","Lc","None","D"]
[null,null,null,null,null,"Niagara Area","NY_664 Ld","Ld","None","A/D"]
[null,null,null,null,null,"Niagara Area","NY_664 Lg","Lg","None","A/D"]
[null,null,null,null,null,"Niagara Area","NY_664 Lo","Lo","None","D"]
[null,null,null,null,null,"Niagara Area","NY_664 Ma","Ma","None","C/D"]
[null,null,null,null,null,"Niagara Area","NY_664 Md","Md","None","C/D"]
[null,null,null,null,null,"Niagara Area","NY_664 Me","Me","None","A"]
[null,null,null,null,null,"Niagara Area","NY_664 Mf","Mf","None","C/D"]
[null,null,null,null,null,"Niagara Area","NY_664 Mn","Mn","None","B/D"]
[null,null,null,null,null,"Niagara Area",{"$f":"$C$119&\" \"&H14461","v":"NY_664 Ms"},"Ms","None","A/D"]
[null,null,null,null,null,"Niagara Area","NY_664 NaA","NaA","None","C/D"]
[null,null,null,null,null,"Niagara Area","NY_664 NaB","NaB","None","C/D"]
[null,null,null,null,null,"Niagara Area","NY_664 OdA","OdA","None","D"]
[null,null,null,null,null,"Niagara Area","NY_664 OdB","OdB","None","D"]
[null,null,null,null,null,"Niagara Area","NY_664 OnB","OnB","None","B"]
[null,null,null,null,null,"Niagara Area","NY_664 OnC","OnC","None","B"]
[null,null,null,null,null,"Niagara Area","NY_664 OnD3","OnD3","None","B"]
[null,null,null,null,null,"Niagara Area","NY_664 OoA","OoA","None","B"]
[null,null,null,null,null,"Niagara Area","NY_664 OoB","OoB","None","B"]
[null,null,null,null,null,"Niagara Area","NY_664 OsA","OsA","None","A"]
[null,null,null,null,null,"Niagara Area","NY_664 OsB","OsB","None","A"]
[null,null,null,null,null,"Niagara Area","NY_664 OvA","OvA","None","C/D"]
[null,null,null,null,null,"Niagara Area","NY_664 OvB","OvB","None","C/D"]
[null,null,null,null,null,"Niagara Area","NY_664 OwA","OwA","None","C/D"]
[null,null,null,null,null,"Niagara Area","NY_664 OwB","OwB","None","C/D"]
[null,null,null,null,null,"Niagara Area","NY_664 PsA","PsA","None","B/D"]
[null,null,null,null,null,"Niagara Area","NY_664 RaA","RaA","None","C/D"]
[null,null,null,null,null,"Niagara Area","NY_664 RaB","RaB","None","C/D"]
[null,null,null,null,null,"Niagara Area","NY_664 RbA","RbA","None","C/D"]
[null,null,null,null,null,"Niagara Area","NY_664 RbB","RbB","None","C/D"]
[null,null,null,null,null,"Niagara Area","NY_664 RhA","RhA","None","C/D"]
[null,null,null,null,null,"Niagara Area","NY_664 RhB","RhB","None","C/D"]
[null,null,null,null,null,"Niagara Area","NY_664 Rk","Rk","None","C/D"]
[null,null,null,null,null,"Niagara Area","NY_664 ShB","ShB","None","D"]
[null,null,null,null,null,"Niagara Area","NY_664 St","St","None","A/D"]
[null,null,null,null,null,"Niagara Area","NY_664 Su","Su","None","A/D"]
[null,null,null,null,null,"Niagara Area","NY_664 Sw","Sw","None","D"]
[null,null,null,null,null,"Niagara Area","NY_664 Uw","Uw","None","D"]
[null,null,null,null,null,"Niagara Area","NY_664 Wa","Wa","Frequent","B/D"]
[null,null,null,null,null,"Akwesasne Territory: St. Regis Mohawk Reservation",{"$f":"$C$120&\" \"&H14491","v":"NY_689 101"},"101","None","B/D"]
[null,null,null,null,null,"Akwesasne Territory: St. Regis Mohawk Reservation","NY_689 104","104","None","B"]
[null,null,null,null,null,"Akwesasne Territory: St. Regis Mohawk Reservation","NY_689 105","105","None","B"]
[null,null,null,null,null,"Akwesasne Territory: St. Regis Mohawk Reservation","NY_689 107","107","None","B"]
[null,null,null,null,null,"Akwesasne Territory: St. Regis Mohawk Reservation","NY_689 110","110","Frequent","A/D"]
[null,null,null,null,null,"Akwesasne Territory: St. Regis Mohawk Reservation","NY_689 144","144","None","C/D"]
[null,null,null,null,null,"Akwesasne Territory: St. Regis Mohawk Reservation","NY_689 147A","147A","None","C/D"]
[null,null,null,null,null,"Akwesasne Territory: St. Regis Mohawk Reservation","NY_689 147B","147B","None","C/D"]
[null,null,null,null,null,"Akwesasne Territory: St. Regis Mohawk Reservation","NY_689 148","148","None","D"]
[null,null,null,null,null,"Akwesasne Territory: St. Regis Mohawk Reservation","NY_689 149","149","None","C/D"]
[null,null,null,null,null,"Akwesasne Territory: St. Regis Mohawk Reservation","NY_689 15B","15B","None","B"]
[null,null,null,null,null,"Akwesasne Territory: St. Regis Mohawk Reservation","NY_689 181","181","None","D"]
[null,null,null,null,null,"Akwesasne Territory: St. Regis Mohawk Reservation","NY_689 18A","18A","None","A"]
[null,null,null,null,null,"Akwesasne Territory: St. Regis Mohawk Reservation","NY_689 18B","18B","None","A"]
[null,null,null,null,null,"Akwesasne Territory: St. Regis Mohawk Reservation","NY_689 2","2","Occasional","B/D"]
[null,null,null,null,null,"Akwesasne Territory: St. Regis Mohawk Reservation","NY_689 20A","20A","None","A/D"]
[null,null,null,null,null,"Akwesasne Territory: St. Regis Mohawk Reservation","NY_689 260C","260C","None","B"]
[null,null,null,null,null,"Akwesasne Territory: St. Regis Mohawk Reservation","NY_689 261B","261B","None","B/D"]
[null,null,null,null,null,"Akwesasne Territory: St. Regis Mohawk Reservation","NY_689 263B","263B","None","B/D"]
[null,null,null,null,null,"Akwesasne Territory: St. Regis Mohawk Reservation","NY_689 264","264","None","A/D"]
[null,null,null,null,null,"Akwesasne Territory: St. Regis Mohawk Reservation","NY_689 270B","270B","None","B/D"]
[null,null,null,null,null,"Akwesasne Territory: St. Regis Mohawk Reservation","NY_689 33","33","None","A/D"]
[null,null,null,null,null,"Akwesasne Territory: St. Regis Mohawk Reservation","NY_689 39A","39A","None","C/D"]
[null,null,null,null,null,"Akwesasne Territory: St. Regis Mohawk Reservation","NY_689 39B","39B","None","C/D"]
[null,null,null,null,null,"Akwesasne Territory: St. Regis Mohawk Reservation","NY_689 40B","40B","None","D"]
[null,null,null,null,null,"Akwesasne Territory: St. Regis Mohawk Reservation","NY_689 40C","40C","None","D"]
[null,null,null,null,null,"Akwesasne Territory: St. Regis Mohawk Reservation","NY_689 41A","41A","None","D"]
[null,null,null,null,null,"Akwesasne Territory: St. Regis Mohawk Reservation","NY_689 41B","41B","None","D"]
[null,null,null,null,null,"Akwesasne Territory: St. Regis Mohawk Reservation","NY_689 42","42","None","D"]
[null,null,null,null,null,"Akwesasne Territory: St. Regis Mohawk Reservation","NY_689 43","43","None","D"]
[null,null,null,null,null,"Akwesasne Territory: St. Regis Mohawk Reservation","NY_689 44","44","None","B/D"]
[null,null,null,null,null,"Akwesasne Territory: St. Regis Mohawk Reservation","NY_689 45","45","None","A/D"]
[null,null,null,null,null,"Akwesasne Territory: St. Regis Mohawk Reservation",{"$f":"$C$120&\" \"&H14523","v":"NY_689 46"},"46","None","A/D"]
[null,null,null,null,null,"Akwesasne Territory: St. Regis Mohawk Reservation","NY_689 47B","47B","None","C/D"]
[null,null,null,null,null,"Akwesasne Territory: St. Regis Mohawk Reservation","NY_689 48","48","None","C/D"]
[null,null,null,null,null,"Akwesasne Territory: St. Regis Mohawk Reservation","NY_689 49","49","None","C/D"]
[null,null,null,null,null,"Akwesasne Territory: St. Regis Mohawk Reservation","NY_689 5","5","Frequent","A/D"]
[null,null,null,null,null,"Akwesasne Territory: St. Regis Mohawk Reservation","NY_689 50","50","None","C/D"]
[null,null,null,null,null,"Akwesasne Territory: St. Regis Mohawk Reservation","NY_689 51","51","None","C/D"]
[null,null,null,null,null,"Akwesasne Territory: St. Regis Mohawk Reservation","NY_689 53B","53B","None","B/D"]
[null,null,null,null,null,"Akwesasne Territory: St. Regis Mohawk Reservation","NY_689 6","6","Frequent","B/D"]
[null,null,null,null,null,"Akwesasne Territory: St. Regis Mohawk Reservation","NY_689 60C","60C","None","B"]
[null,null,null,null,null,"Akwesasne Territory: St. Regis Mohawk Reservation","NY_689 61B","61B","None","B/D"]
[null,null,null,null,null,"Akwesasne Territory: St. Regis Mohawk Reservation","NY_689 62A","62A","None","B/D"]
[null,null,null,null,null,"Akwesasne Territory: St. Regis Mohawk Reservation","NY_689 62B","62B","None","B/D"]
[null,null,null,null,null,"Akwesasne Territory: St. Regis Mohawk Reservation","NY_689 64","64","None","A/D"]
[null,null,null,null,null,"Akwesasne Territory: St. Regis Mohawk Reservation","NY_689 66","66","None","D"]
[null,null,null,null,null,"Akwesasne Territory: St. Regis Mohawk Reservation","NY_689 68B","68B","None","A/D"]
[null,null,null,null,null,"Akwesasne Territory: St. Regis Mohawk Reservation","NY_689 69A","69A","None","B/D"]
[null,null,null,null,null,"Akwesasne Territory: St. Regis Mohawk Reservation","NY_689 70","70","None","D"]
[null,null,null,null,null,"Akwesasne Territory: St. Regis Mohawk Reservation","NY_689 94B","94B","None","C"]
[null,null,null,null,null,"Akwesasne Territory: St. Regis Mohawk Reservation","NY_689 94C","94C","None","C"]